{"text_format":"1","workbook":"xlsx","n_sheets":7,"sheets":["Guidance","Summary","Investment Assets","Hedging","Other Derivatives & Comments","Reference Data","LTIM"],"not_rendered":{"charts":0,"images":0,"macros":1,"external_links":0,"defined_names":12,"comments":2,"pivot_tables":0},"unopened":[],"bounds":{"document_bytes":16777216,"sheet_cells":100000,"rows_first":2000,"rows_last":500,"rows_between":2000,"halvings":0,"cell_chars":16384,"cell_head_chars":4096},"cells_cut":0,"cells_raw":0,"read":"whole","date_system":"1900"}

{"sheet":"Guidance","index":0,"n_rows":5,"n_cols":1,"rows_kept":5,"cut":false,"hidden":false,"merged":[]}
["LIM Asset Data Collection: Guidance and Instructions"]
[]
["Formal guidance and instructions for the 2012 LIM Asset data Collection is available via Lloyds.com"]
[]
["Link to Guidance"]

{"sheet":"Summary","index":1,"n_rows":94,"n_cols":5,"rows_kept":94,"cut":false,"hidden":false,"merged":[[64,0,64,4]]}
["Lloyd's Internal Model: Investment Information Request"]
[]
[]
["Input cells are highlighted in yellow"]
[]
["Syndicate No (same format as per QMRs) or Member No (for Funds in Syndicate only)",null,null,null,"XXXX"]
[" "]
["Reconciliation"]
[]
["Investment information provided as at 30 September 2012 is required to be validated ",null,null,null,"2012-09-30"]
["and should reconcile to the Q3 2012 QMA submission"]
[]
["Syndicate Investments"]
["Financial Investments (line 19 + line 54 from QMA 201 for Q3 2012)"]
["Cash (line 52 + 53 from QMA 201 for Q3 2012)"]
["Syndicate Total ",null,null,null,{"$f":"E14+E15","v":0}]
[]
["Do you have Funds in Syndicate (FIS)?"]
["Are FIS investments commingled with syndicate investments?"]
[{"$f":"IF(E18=\"Yes\",IF(E19=\"yes\",\"Investments do not need to be pro-rated between member and syndicate\",IF(E19=\"No\",\"Please submit a separate return for the Member on FIS investments\",\"\")),\"\")","v":""}]
[]
["FIS Investments"]
["Financial Investments (line 19 from QMA 202 for Q3 2012)"]
["Cash (line 52 from QMA 202 for Q3 2012)"]
["FIS Total ",null,null,null,{"$f":"SUM(E23:E24)","v":0}]
[]
["Validation Check (should be zero)",null,null,null,{"$f":"SUMIF('Investment Assets'!A:A,\"<>\",'Investment Assets'!K:K)+SUM(D32:D62)-E16-E25","v":0}]
[null,null,null,null,{"$f":"IF(SUM('Investment Assets'!P:P)=0,\"\",IF(SUM('Investment Assets'!P:P)=1,\"1 Security without Syndicate/Member Number\",SUM('Investment Assets'!P:P)&\" Securities without Syndicate/Member Number\"))","v":""}]
["Investment Funds"]
[]
["Overseas Trust Funds (Local Currency Valuations)","Valuation Currency",null,"Valuation (GBP)","Valuation (LC)"]
["Australian JATF(1)","AUD",{"$f":"VLOOKUP(B32,$A$67:$E$83,5,FALSE)","v":0},{"$f":"IF(C32=0,0,E32/C32)","v":0}]
["Australian JATF(2)","AUD",{"$f":"VLOOKUP(B33,$A$67:$E$83,5,FALSE)","v":0},{"$f":"IF(C33=0,0,E33/C33)","v":0}]
["Australian Trust Fund","AUD",0,0]
["Canadian Margin Fund","CAD",0,0]
["Illinois Trust Fund","USD",0,0]
["JATF Reinsurance","USD",0,0]
["JATF Surplus Lines","USD",0,0]
["Kentucky JATF","USD",0,0]
["Kentucky Trust Funds","USD",0,0]
["South Africa Transitional Fund","ZAR",0,0]
["South Africa Trust Fund","ZAR",0,0]
["ASL - Switzerland","CHF",0,0]
["ASL - Brazil","USD",0,0]
["ASL - Cayman Islands","USD",0,0]
[]
["ASL - Australia","GBP",{"$f":"VLOOKUP(B47,$A$67:$E$83,5,FALSE)","v":1},{"$f":"IF(C47=0,0,E47/C47)","v":0}]
["ASL - Bahamas","GBP",1,0]
["ASL - Grenada","GBP",1,0]
["ASL - Hong Kong","GBP",1,0]
["ASL - Namibia","GBP",1,0]
["ASL - Papua New Guinea","GBP",1,0]
["ASL - Singapore","GBP",1,0]
["ASL - St Vincent & Grenadines","GBP",1,0]
["ASL - Trinidad","GBP",1,0]
[]
["Money Market (Sweep) Funds (Local Currency Valuations)","Valuation Currency",null,"Valuation (GBP)","Valuation (LC)"]
["Western Asset Institutional Cash Reserves (WAICR) previously Citi Institutional Cash Reserve (CICR)","USD",{"$f":"VLOOKUP(B58,$A$67:$E$83,5,FALSE)","v":0},{"$f":"IF(C58=0,0,E58/C58)","v":0}]
["Western Asset (US Dollar) Liquidity Fund (WALF) previously Citi Institutional Liquidity Fund (CILF)","USD",{"$f":"VLOOKUP(B59,$A$67:$E$83,5,FALSE)","v":0},{"$f":"IF(C59=0,0,E59/C59)","v":0}]
["UBS Canadian Dollar Short Term Blended Investment Account (RBC Sweep)","CAD",{"$f":"VLOOKUP(B60,$A$67:$E$83,5,FALSE)","v":0},{"$f":"IF(C60=0,0,E60/C60)","v":0}]
["UBS US Dollar Short Term Blended Investment Account (RBC Sweep)","USD",{"$f":"VLOOKUP(B61,$A$67:$E$83,5,FALSE)","v":0},{"$f":"IF(C61=0,0,E61/C61)","v":0}]
[]
["FX Rates "]
[]
["Please provide exchange rates used for Q3 2012 financial reporting. Additional currencies may be added in rows 84 to 88."]
[null,null,null,null,"2012-09-30"]
["GBP",null,null,null,1]
["AUD"]
["CAD"]
["CHF"]
["DKK"]
["EUR"]
["HKD"]
["JPY"]
["NOK"]
["NZD"]
["PGK"]
["SGD"]
["SKK"]
["TTD"]
["USD"]
["XCD"]
["ZAR"]
[]
[]
[]
[]
[]
[]
["Contacts"]
[]
["Should you have any queries or comments relating to this collection please contact:"]
["Debbie Sallas at treasuryanalysis@lloyds.com (020 7327 5783)"]
["Gurdip Sappal at gurdip.sappal@lloyds.com (020 7327 5762)"]

{"sheet":"Investment Assets","index":2,"n_rows":4973,"n_cols":16,"rows_kept":4973,"cut":false,"hidden":false,"merged":[]}
["LIM Asset Data Collection: Investment Assets"]
[]
["Syndicate/Member No","ID Code","ID Code Type","Asset Class","Issuer Group","Maturity Date","External Rating","Issuer Country","Currency (ISO code)","Duration","Market Value (GBP)","Comments on Derivatives & Other"]
[null,null,null,null,null,null,null,null,null,null,null,null,{"$f":"IF(K4<>0,IF(B4=\"\",\"ID CODE REQUIRED\",\"\"),\"\")","v":""},{"$f":"IF(D4=\"Cash and Deposits\",IF(E4=\"\",\"BANK NAME REQUIRED\",IF(ISERROR(VLOOKUP(E4,'Reference Data'!C:C,1,FALSE)),\"PLEASE SELECT A BANK FROM DEFINED LIST PROVIDED\",\"\")),\"\")","v":""},{"$f":"IF(K4=0,\"No Entry\",\"\")","v":"No Entry"},{"$f":"IF(K4<>0,IF(A4=\"\",1,0),0)","v":0}]
[null,null,null,null,null,null,null,null,null,null,null,null,{"$f":"IF(K5<>0,IF(B5=\"\",\"ID CODE REQUIRED\",\"\"),\"\")","v":""},{"$f":"IF(D5=\"Cash and Deposits\",IF(E5=\"\",\"BANK NAME REQUIRED\",IF(ISERROR(VLOOKUP(E5,'Reference Data'!C:C,1,FALSE)),\"PLEASE SELECT A BANK FROM DEFINED LIST PROVIDED\",\"\")),\"\")","v":""},{"$f":"IF(K5=0,\"No Entry\",\"\")","v":"No Entry"},{"$f":"IF(K5<>0,IF(A5=\"\",1,0),0)","v":0}]
[null,null,null,null,null,null,null,null,null,null,null,null,"",{"$f":"IF(D6=\"Cash and Deposits\",IF(E6=\"\",\"BANK NAME REQUIRED\",IF(ISERROR(VLOOKUP(E6,'Reference Data'!C:C,1,FALSE)),\"PLEASE SELECT A BANK FROM DEFINED LIST PROVIDED\",\"\")),\"\")","v":""},"No Entry",0]
[null,null,null,null,null,null,null,null,null,null,null,null,"",{"$f":"IF(D7=\"Cash and Deposits\",IF(E7=\"\",\"BANK NAME REQUIRED\",IF(ISERROR(VLOOKUP(E7,'Reference Data'!C:C,1,FALSE)),\"PLEASE SELECT A BANK FROM DEFINED LIST PROVIDED\",\"\")),\"\")","v":""},"No Entry",0]
[null,null,null,null,null,null,null,null,null,null,null,null,"",{"$f":"IF(D8=\"Cash and Deposits\",IF(E8=\"\",\"BANK NAME REQUIRED\",IF(ISERROR(VLOOKUP(E8,'Reference Data'!C:C,1,FALSE)),\"PLEASE SELECT A BANK FROM DEFINED LIST PROVIDED\",\"\")),\"\")","v":""},"No Entry",0]
[null,null,null,null,null,null,null,null,null,null,null,null,"",{"$f":"IF(D9=\"Cash and Deposits\",IF(E9=\"\",\"BANK NAME REQUIRED\",IF(ISERROR(VLOOKUP(E9,'Reference Data'!C:C,1,FALSE)),\"PLEASE SELECT A BANK FROM DEFINED LIST PROVIDED\",\"\")),\"\")","v":""},"No Entry",{"$f":"IF(K9<>0,IF(A9=\"\",1,0),0)","v":0}]
[null,null,null,null,null,null,null,null,null,null,null,null,"",{"$f":"IF(D10=\"Cash and Deposits\",IF(E10=\"\",\"BANK NAME REQUIRED\",IF(ISERROR(VLOOKUP(E10,'Reference Data'!C:C,1,FALSE)),\"PLEASE SELECT A BANK FROM DEFINED LIST PROVIDED\",\"\")),\"\")","v":""},"No Entry",0]
[null,null,null,null,null,null,null,null,null,null,null,null,"",{"$f":"IF(D11=\"Cash and Deposits\",IF(E11=\"\",\"BANK NAME REQUIRED\",IF(ISERROR(VLOOKUP(E11,'Reference Data'!C:C,1,FALSE)),\"PLEASE SELECT A BANK FROM DEFINED LIST PROVIDED\",\"\")),\"\")","v":""},"No Entry",0]
[null,null,null,null,null,null,null,null,null,null,null,null,"",{"$f":"IF(D12=\"Cash and Deposits\",IF(E12=\"\",\"BANK NAME REQUIRED\",IF(ISERROR(VLOOKUP(E12,'Reference Data'!C:C,1,FALSE)),\"PLEASE SELECT A BANK FROM DEFINED LIST PROVIDED\",\"\")),\"\")","v":""},"No Entry",0]
[null,null,null,null,null,null,null,null,null,null,null,null,"",{"$f":"IF(D13=\"Cash and Deposits\",IF(E13=\"\",\"BANK NAME REQUIRED\",IF(ISERROR(VLOOKUP(E13,'Reference Data'!C:C,1,FALSE)),\"PLEASE SELECT A BANK FROM DEFINED LIST PROVIDED\",\"\")),\"\")","v":""},"No Entry",0]
[null,null,null,null,null,null,null,null,null,null,null,null,"",{"$f":"IF(D14=\"Cash and Deposits\",IF(E14=\"\",\"BANK NAME REQUIRED\",IF(ISERROR(VLOOKUP(E14,'Reference Data'!C:C,1,FALSE)),\"PLEASE SELECT A BANK FROM DEFINED LIST PROVIDED\",\"\")),\"\")","v":""},"No Entry",0]
[null,null,null,null,null,null,null,null,null,null,null,null,"",{"$f":"IF(D15=\"Cash and Deposits\",IF(E15=\"\",\"BANK NAME REQUIRED\",IF(ISERROR(VLOOKUP(E15,'Reference Data'!C:C,1,FALSE)),\"PLEASE SELECT A BANK FROM DEFINED LIST PROVIDED\",\"\")),\"\")","v":""},"No Entry",0]
[null,null,null,null,null,null,null,null,null,null,null,null,"",{"$f":"IF(D16=\"Cash and Deposits\",IF(E16=\"\",\"BANK NAME REQUIRED\",IF(ISERROR(VLOOKUP(E16,'Reference Data'!C:C,1,FALSE)),\"PLEASE SELECT A BANK FROM DEFINED LIST PROVIDED\",\"\")),\"\")","v":""},"No Entry",0]
[null,null,null,null,null,null,null,null,null,null,null,null,"",{"$f":"IF(D17=\"Cash and Deposits\",IF(E17=\"\",\"BANK NAME REQUIRED\",IF(ISERROR(VLOOKUP(E17,'Reference Data'!C:C,1,FALSE)),\"PLEASE SELECT A BANK FROM DEFINED LIST PROVIDED\",\"\")),\"\")","v":""},"No Entry",0]
[null,null,null,null,null,null,null,null,null,null,null,null,"",{"$f":"IF(D18=\"Cash and Deposits\",IF(E18=\"\",\"BANK NAME REQUIRED\",IF(ISERROR(VLOOKUP(E18,'Reference Data'!C:C,1,FALSE)),\"PLEASE SELECT A BANK FROM DEFINED LIST PROVIDED\",\"\")),\"\")","v":""},"No Entry",0]
[null,null,null,null,null,null,null,null,null,null,null,null,"",{"$f":"IF(D19=\"Cash and Deposits\",IF(E19=\"\",\"BANK NAME REQUIRED\",IF(ISERROR(VLOOKUP(E19,'Reference Data'!C:C,1,FALSE)),\"PLEASE SELECT A BANK FROM DEFINED LIST PROVIDED\",\"\")),\"\")","v":""},"No Entry",0]
[null,null,null,null,null,null,null,null,null,null,null,null,"",{"$f":"IF(D20=\"Cash and Deposits\",IF(E20=\"\",\"BANK NAME REQUIRED\",IF(ISERROR(VLOOKUP(E20,'Reference Data'!C:C,1,FALSE)),\"PLEASE SELECT A BANK FROM DEFINED LIST PROVIDED\",\"\")),\"\")","v":""},"No Entry",0]
[null,null,null,null,null,null,null,null,null,null,null,null,"",{"$f":"IF(D21=\"Cash and Deposits\",IF(E21=\"\",\"BANK NAME REQUIRED\",IF(ISERROR(VLOOKUP(E21,'Reference Data'!C:C,1,FALSE)),\"PLEASE SELECT A BANK FROM DEFINED LIST PROVIDED\",\"\")),\"\")","v":""},"No Entry",0]
[null,null,null,null,null,null,null,null,null,null,null,null,"",{"$f":"IF(D22=\"Cash and Deposits\",IF(E22=\"\",\"BANK NAME REQUIRED\",IF(ISERROR(VLOOKUP(E22,'Reference Data'!C:C,1,FALSE)),\"PLEASE SELECT A BANK FROM DEFINED LIST PROVIDED\",\"\")),\"\")","v":""},"No Entry",0]
[null,null,null,null,null,null,null,null,null,null,null,null,"",{"$f":"IF(D23=\"Cash and Deposits\",IF(E23=\"\",\"BANK NAME REQUIRED\",IF(ISERROR(VLOOKUP(E23,'Reference Data'!C:C,1,FALSE)),\"PLEASE SELECT A BANK FROM DEFINED LIST PROVIDED\",\"\")),\"\")","v":""},"No Entry",0]
[null,null,null,null,null,null,null,null,null,null,null,null,"",{"$f":"IF(D24=\"Cash and Deposits\",IF(E24=\"\",\"BANK NAME REQUIRED\",IF(ISERROR(VLOOKUP(E24,'Reference Data'!C:C,1,FALSE)),\"PLEASE SELECT A BANK FROM DEFINED LIST PROVIDED\",\"\")),\"\")","v":""},"No Entry",0]
[null,null,null,null,null,null,null,null,null,null,null,null,"",{"$f":"IF(D25=\"Cash and Deposits\",IF(E25=\"\",\"BANK NAME REQUIRED\",IF(ISERROR(VLOOKUP(E25,'Reference Data'!C:C,1,FALSE)),\"PLEASE SELECT A BANK FROM DEFINED LIST PROVIDED\",\"\")),\"\")","v":""},"No Entry",0]
[null,null,null,null,null,null,null,null,null,null,null,null,"",{"$f":"IF(D26=\"Cash and Deposits\",IF(E26=\"\",\"BANK NAME REQUIRED\",IF(ISERROR(VLOOKUP(E26,'Reference Data'!C:C,1,FALSE)),\"PLEASE SELECT A BANK FROM DEFINED LIST PROVIDED\",\"\")),\"\")","v":""},"No Entry",0]
[null,null,null,null,null,null,null,null,null,null,null,null,"",{"$f":"IF(D27=\"Cash and Deposits\",IF(E27=\"\",\"BANK NAME REQUIRED\",IF(ISERROR(VLOOKUP(E27,'Reference Data'!C:C,1,FALSE)),\"PLEASE SELECT A BANK FROM DEFINED LIST PROVIDED\",\"\")),\"\")","v":""},"No Entry",0]
[null,null,null,null,null,null,null,null,null,null,null,null,"",{"$f":"IF(D28=\"Cash and Deposits\",IF(E28=\"\",\"BANK NAME REQUIRED\",IF(ISERROR(VLOOKUP(E28,'Reference Data'!C:C,1,FALSE)),\"PLEASE SELECT A BANK FROM DEFINED LIST PROVIDED\",\"\")),\"\")","v":""},"No Entry",0]
[null,null,null,null,null,null,null,null,null,null,null,null,"",{"$f":"IF(D29=\"Cash and Deposits\",IF(E29=\"\",\"BANK NAME REQUIRED\",IF(ISERROR(VLOOKUP(E29,'Reference Data'!C:C,1,FALSE)),\"PLEASE SELECT A BANK FROM DEFINED LIST PROVIDED\",\"\")),\"\")","v":""},"No Entry",0]
[null,null,null,null,null,null,null,null,null,null,null,null,"",{"$f":"IF(D30=\"Cash and Deposits\",IF(E30=\"\",\"BANK NAME REQUIRED\",IF(ISERROR(VLOOKUP(E30,'Reference Data'!C:C,1,FALSE)),\"PLEASE SELECT A BANK FROM DEFINED LIST PROVIDED\",\"\")),\"\")","v":""},"No Entry",0]
[null,null,null,null,null,null,null,null,null,null,null,null,"",{"$f":"IF(D31=\"Cash and Deposits\",IF(E31=\"\",\"BANK NAME REQUIRED\",IF(ISERROR(VLOOKUP(E31,'Reference Data'!C:C,1,FALSE)),\"PLEASE SELECT A BANK FROM DEFINED LIST PROVIDED\",\"\")),\"\")","v":""},"No Entry",0]
[null,null,null,null,null,null,null,null,null,null,null,null,"",{"$f":"IF(D32=\"Cash and Deposits\",IF(E32=\"\",\"BANK NAME REQUIRED\",IF(ISERROR(VLOOKUP(E32,'Reference Data'!C:C,1,FALSE)),\"PLEASE SELECT A BANK FROM DEFINED LIST PROVIDED\",\"\")),\"\")","v":""},"No Entry",0]
[null,null,null,null,null,null,null,null,null,null,null,null,"",{"$f":"IF(D33=\"Cash and Deposits\",IF(E33=\"\",\"BANK NAME REQUIRED\",IF(ISERROR(VLOOKUP(E33,'Reference Data'!C:C,1,FALSE)),\"PLEASE SELECT A BANK FROM DEFINED LIST PROVIDED\",\"\")),\"\")","v":""},"No Entry",0]
[null,null,null,null,null,null,null,null,null,null,null,null,"",{"$f":"IF(D34=\"Cash and Deposits\",IF(E34=\"\",\"BANK NAME REQUIRED\",IF(ISERROR(VLOOKUP(E34,'Reference Data'!C:C,1,FALSE)),\"PLEASE SELECT A BANK FROM DEFINED LIST PROVIDED\",\"\")),\"\")","v":""},"No Entry",0]
[null,null,null,null,null,null,null,null,null,null,null,null,"",{"$f":"IF(D35=\"Cash and Deposits\",IF(E35=\"\",\"BANK NAME REQUIRED\",IF(ISERROR(VLOOKUP(E35,'Reference Data'!C:C,1,FALSE)),\"PLEASE SELECT A BANK FROM DEFINED LIST PROVIDED\",\"\")),\"\")","v":""},"No Entry",0]
[null,null,null,null,null,null,null,null,null,null,null,null,"",{"$f":"IF(D36=\"Cash and Deposits\",IF(E36=\"\",\"BANK NAME REQUIRED\",IF(ISERROR(VLOOKUP(E36,'Reference Data'!C:C,1,FALSE)),\"PLEASE SELECT A BANK FROM DEFINED LIST PROVIDED\",\"\")),\"\")","v":""},"No Entry",0]
[null,null,null,null,null,null,null,null,null,null,null,null,"",{"$f":"IF(D37=\"Cash and Deposits\",IF(E37=\"\",\"BANK NAME REQUIRED\",IF(ISERROR(VLOOKUP(E37,'Reference Data'!C:C,1,FALSE)),\"PLEASE SELECT A BANK FROM DEFINED LIST PROVIDED\",\"\")),\"\")","v":""},"No Entry",0]
[null,null,null,null,null,null,null,null,null,null,null,null,"",{"$f":"IF(D38=\"Cash and Deposits\",IF(E38=\"\",\"BANK NAME REQUIRED\",IF(ISERROR(VLOOKUP(E38,'Reference Data'!C:C,1,FALSE)),\"PLEASE SELECT A BANK FROM DEFINED LIST PROVIDED\",\"\")),\"\")","v":""},"No Entry",0]
[null,null,null,null,null,null,null,null,null,null,null,null,"",{"$f":"IF(D39=\"Cash and Deposits\",IF(E39=\"\",\"BANK NAME REQUIRED\",IF(ISERROR(VLOOKUP(E39,'Reference Data'!C:C,1,FALSE)),\"PLEASE SELECT A BANK FROM DEFINED LIST PROVIDED\",\"\")),\"\")","v":""},"No Entry",0]
[null,null,null,null,null,null,null,null,null,null,null,null,"",{"$f":"IF(D40=\"Cash and Deposits\",IF(E40=\"\",\"BANK NAME REQUIRED\",IF(ISERROR(VLOOKUP(E40,'Reference Data'!C:C,1,FALSE)),\"PLEASE SELECT A BANK FROM DEFINED LIST PROVIDED\",\"\")),\"\")","v":""},"No Entry",0]
[null,null,null,null,null,null,null,null,null,null,null,null,"",{"$f":"IF(D41=\"Cash and Deposits\",IF(E41=\"\",\"BANK NAME REQUIRED\",IF(ISERROR(VLOOKUP(E41,'Reference Data'!C:C,1,FALSE)),\"PLEASE SELECT A BANK FROM DEFINED LIST PROVIDED\",\"\")),\"\")","v":""},"No Entry",0]
[null,null,null,null,null,null,null,null,null,null,null,null,"",{"$f":"IF(D42=\"Cash and Deposits\",IF(E42=\"\",\"BANK NAME REQUIRED\",IF(ISERROR(VLOOKUP(E42,'Reference Data'!C:C,1,FALSE)),\"PLEASE SELECT A BANK FROM DEFINED LIST PROVIDED\",\"\")),\"\")","v":""},"No Entry",0]
[null,null,null,null,null,null,null,null,null,null,null,null,"",{"$f":"IF(D43=\"Cash and Deposits\",IF(E43=\"\",\"BANK NAME REQUIRED\",IF(ISERROR(VLOOKUP(E43,'Reference Data'!C:C,1,FALSE)),\"PLEASE SELECT A BANK FROM DEFINED LIST PROVIDED\",\"\")),\"\")","v":""},"No Entry",0]
[null,null,null,null,null,null,null,null,null,null,null,null,"",{"$f":"IF(D44=\"Cash and Deposits\",IF(E44=\"\",\"BANK NAME REQUIRED\",IF(ISERROR(VLOOKUP(E44,'Reference Data'!C:C,1,FALSE)),\"PLEASE SELECT A BANK FROM DEFINED LIST PROVIDED\",\"\")),\"\")","v":""},"No Entry",0]
[null,null,null,null,null,null,null,null,null,null,null,null,"",{"$f":"IF(D45=\"Cash and Deposits\",IF(E45=\"\",\"BANK NAME REQUIRED\",IF(ISERROR(VLOOKUP(E45,'Reference Data'!C:C,1,FALSE)),\"PLEASE SELECT A BANK FROM DEFINED LIST PROVIDED\",\"\")),\"\")","v":""},"No Entry",0]
[null,null,null,null,null,null,null,null,null,null,null,null,"",{"$f":"IF(D46=\"Cash and Deposits\",IF(E46=\"\",\"BANK NAME REQUIRED\",IF(ISERROR(VLOOKUP(E46,'Reference Data'!C:C,1,FALSE)),\"PLEASE SELECT A BANK FROM DEFINED LIST PROVIDED\",\"\")),\"\")","v":""},"No Entry",0]
[null,null,null,null,null,null,null,null,null,null,null,null,"",{"$f":"IF(D47=\"Cash and Deposits\",IF(E47=\"\",\"BANK NAME REQUIRED\",IF(ISERROR(VLOOKUP(E47,'Reference Data'!C:C,1,FALSE)),\"PLEASE SELECT A BANK FROM DEFINED LIST PROVIDED\",\"\")),\"\")","v":""},"No Entry",0]
[null,null,null,null,null,null,null,null,null,null,null,null,"",{"$f":"IF(D48=\"Cash and Deposits\",IF(E48=\"\",\"BANK NAME REQUIRED\",IF(ISERROR(VLOOKUP(E48,'Reference Data'!C:C,1,FALSE)),\"PLEASE SELECT A BANK FROM DEFINED LIST PROVIDED\",\"\")),\"\")","v":""},"No Entry",0]
[null,null,null,null,null,null,null,null,null,null,null,null,"",{"$f":"IF(D49=\"Cash and Deposits\",IF(E49=\"\",\"BANK NAME REQUIRED\",IF(ISERROR(VLOOKUP(E49,'Reference Data'!C:C,1,FALSE)),\"PLEASE SELECT A BANK FROM DEFINED LIST PROVIDED\",\"\")),\"\")","v":""},"No Entry",0]
[null,null,null,null,null,null,null,null,null,null,null,null,"",{"$f":"IF(D50=\"Cash and Deposits\",IF(E50=\"\",\"BANK NAME REQUIRED\",IF(ISERROR(VLOOKUP(E50,'Reference Data'!C:C,1,FALSE)),\"PLEASE SELECT A BANK FROM DEFINED LIST PROVIDED\",\"\")),\"\")","v":""},"No Entry",0]
[null,null,null,null,null,null,null,null,null,null,null,null,"",{"$f":"IF(D51=\"Cash and Deposits\",IF(E51=\"\",\"BANK NAME REQUIRED\",IF(ISERROR(VLOOKUP(E51,'Reference Data'!C:C,1,FALSE)),\"PLEASE SELECT A BANK FROM DEFINED LIST PROVIDED\",\"\")),\"\")","v":""},"No Entry",0]
[null,null,null,null,null,null,null,null,null,null,null,null,"",{"$f":"IF(D52=\"Cash and Deposits\",IF(E52=\"\",\"BANK NAME REQUIRED\",IF(ISERROR(VLOOKUP(E52,'Reference Data'!C:C,1,FALSE)),\"PLEASE SELECT A BANK FROM DEFINED LIST PROVIDED\",\"\")),\"\")","v":""},"No Entry",0]
[null,null,null,null,null,null,null,null,null,null,null,null,"",{"$f":"IF(D53=\"Cash and Deposits\",IF(E53=\"\",\"BANK NAME REQUIRED\",IF(ISERROR(VLOOKUP(E53,'Reference Data'!C:C,1,FALSE)),\"PLEASE SELECT A BANK FROM DEFINED LIST PROVIDED\",\"\")),\"\")","v":""},"No Entry",0]
[null,null,null,null,null,null,null,null,null,null,null,null,"",{"$f":"IF(D54=\"Cash and Deposits\",IF(E54=\"\",\"BANK NAME REQUIRED\",IF(ISERROR(VLOOKUP(E54,'Reference Data'!C:C,1,FALSE)),\"PLEASE SELECT A BANK FROM DEFINED LIST PROVIDED\",\"\")),\"\")","v":""},"No Entry",0]
[null,null,null,null,null,null,null,null,null,null,null,null,"",{"$f":"IF(D55=\"Cash and Deposits\",IF(E55=\"\",\"BANK NAME REQUIRED\",IF(ISERROR(VLOOKUP(E55,'Reference Data'!C:C,1,FALSE)),\"PLEASE SELECT A BANK FROM DEFINED LIST PROVIDED\",\"\")),\"\")","v":""},"No Entry",0]
[null,null,null,null,null,null,null,null,null,null,null,null,"",{"$f":"IF(D56=\"Cash and Deposits\",IF(E56=\"\",\"BANK NAME REQUIRED\",IF(ISERROR(VLOOKUP(E56,'Reference Data'!C:C,1,FALSE)),\"PLEASE SELECT A BANK FROM DEFINED LIST PROVIDED\",\"\")),\"\")","v":""},"No Entry",0]
[null,null,null,null,null,null,null,null,null,null,null,null,"",{"$f":"IF(D57=\"Cash and Deposits\",IF(E57=\"\",\"BANK NAME REQUIRED\",IF(ISERROR(VLOOKUP(E57,'Reference Data'!C:C,1,FALSE)),\"PLEASE SELECT A BANK FROM DEFINED LIST PROVIDED\",\"\")),\"\")","v":""},"No Entry",0]
[null,null,null,null,null,null,null,null,null,null,null,null,"",{"$f":"IF(D58=\"Cash and Deposits\",IF(E58=\"\",\"BANK NAME REQUIRED\",IF(ISERROR(VLOOKUP(E58,'Reference Data'!C:C,1,FALSE)),\"PLEASE SELECT A BANK FROM DEFINED LIST PROVIDED\",\"\")),\"\")","v":""},"No Entry",0]
[null,null,null,null,null,null,null,null,null,null,null,null,"",{"$f":"IF(D59=\"Cash and Deposits\",IF(E59=\"\",\"BANK NAME REQUIRED\",IF(ISERROR(VLOOKUP(E59,'Reference Data'!C:C,1,FALSE)),\"PLEASE SELECT A BANK FROM DEFINED LIST PROVIDED\",\"\")),\"\")","v":""},"No Entry",0]
[null,null,null,null,null,null,null,null,null,null,null,null,"",{"$f":"IF(D60=\"Cash and Deposits\",IF(E60=\"\",\"BANK NAME REQUIRED\",IF(ISERROR(VLOOKUP(E60,'Reference Data'!C:C,1,FALSE)),\"PLEASE SELECT A BANK FROM DEFINED LIST PROVIDED\",\"\")),\"\")","v":""},"No Entry",0]
[null,null,null,null,null,null,null,null,null,null,null,null,"",{"$f":"IF(D61=\"Cash and Deposits\",IF(E61=\"\",\"BANK NAME REQUIRED\",IF(ISERROR(VLOOKUP(E61,'Reference Data'!C:C,1,FALSE)),\"PLEASE SELECT A BANK FROM DEFINED LIST PROVIDED\",\"\")),\"\")","v":""},"No Entry",0]
[null,null,null,null,null,null,null,null,null,null,null,null,"",{"$f":"IF(D62=\"Cash and Deposits\",IF(E62=\"\",\"BANK NAME REQUIRED\",IF(ISERROR(VLOOKUP(E62,'Reference Data'!C:C,1,FALSE)),\"PLEASE SELECT A BANK FROM DEFINED LIST PROVIDED\",\"\")),\"\")","v":""},"No Entry",0]
[null,null,null,null,null,null,null,null,null,null,null,null,"",{"$f":"IF(D63=\"Cash and Deposits\",IF(E63=\"\",\"BANK NAME REQUIRED\",IF(ISERROR(VLOOKUP(E63,'Reference Data'!C:C,1,FALSE)),\"PLEASE SELECT A BANK FROM DEFINED LIST PROVIDED\",\"\")),\"\")","v":""},"No Entry",0]
[null,null,null,null,null,null,null,null,null,null,null,null,"",{"$f":"IF(D64=\"Cash and Deposits\",IF(E64=\"\",\"BANK NAME REQUIRED\",IF(ISERROR(VLOOKUP(E64,'Reference Data'!C:C,1,FALSE)),\"PLEASE SELECT A BANK FROM DEFINED LIST PROVIDED\",\"\")),\"\")","v":""},"No Entry",0]
[null,null,null,null,null,null,null,null,null,null,null,null,"",{"$f":"IF(D65=\"Cash and Deposits\",IF(E65=\"\",\"BANK NAME REQUIRED\",IF(ISERROR(VLOOKUP(E65,'Reference Data'!C:C,1,FALSE)),\"PLEASE SELECT A BANK FROM DEFINED LIST PROVIDED\",\"\")),\"\")","v":""},"No Entry",0]
[null,null,null,null,null,null,null,null,null,null,null,null,"",{"$f":"IF(D66=\"Cash and Deposits\",IF(E66=\"\",\"BANK NAME REQUIRED\",IF(ISERROR(VLOOKUP(E66,'Reference Data'!C:C,1,FALSE)),\"PLEASE SELECT A BANK FROM DEFINED LIST PROVIDED\",\"\")),\"\")","v":""},"No Entry",0]
[null,null,null,null,null,null,null,null,null,null,null,null,"",{"$f":"IF(D67=\"Cash and Deposits\",IF(E67=\"\",\"BANK NAME REQUIRED\",IF(ISERROR(VLOOKUP(E67,'Reference Data'!C:C,1,FALSE)),\"PLEASE SELECT A BANK FROM DEFINED LIST PROVIDED\",\"\")),\"\")","v":""},"No Entry",0]
[null,null,null,null,null,null,null,null,null,null,null,null,"",{"$f":"IF(D68=\"Cash and Deposits\",IF(E68=\"\",\"BANK NAME REQUIRED\",IF(ISERROR(VLOOKUP(E68,'Reference Data'!C:C,1,FALSE)),\"PLEASE SELECT A BANK FROM DEFINED LIST PROVIDED\",\"\")),\"\")","v":""},"No Entry",0]
[null,null,null,null,null,null,null,null,null,null,null,null,{"$f":"IF(K69<>0,IF(B69=\"\",\"ID CODE REQUIRED\",\"\"),\"\")","v":""},{"$f":"IF(D69=\"Cash and Deposits\",IF(E69=\"\",\"BANK NAME REQUIRED\",IF(ISERROR(VLOOKUP(E69,'Reference Data'!C:C,1,FALSE)),\"PLEASE SELECT A BANK FROM DEFINED LIST PROVIDED\",\"\")),\"\")","v":""},{"$f":"IF(K69=0,\"No Entry\",\"\")","v":"No Entry"},{"$f":"IF(K69<>0,IF(A69=\"\",1,0),0)","v":0}]
[null,null,null,null,null,null,null,null,null,null,null,null,"",{"$f":"IF(D70=\"Cash and Deposits\",IF(E70=\"\",\"BANK NAME REQUIRED\",IF(ISERROR(VLOOKUP(E70,'Reference Data'!C:C,1,FALSE)),\"PLEASE SELECT A BANK FROM DEFINED LIST PROVIDED\",\"\")),\"\")","v":""},"No Entry",0]
[null,null,null,null,null,null,null,null,null,null,null,null,"",{"$f":"IF(D71=\"Cash and Deposits\",IF(E71=\"\",\"BANK NAME REQUIRED\",IF(ISERROR(VLOOKUP(E71,'Reference Data'!C:C,1,FALSE)),\"PLEASE SELECT A BANK FROM DEFINED LIST PROVIDED\",\"\")),\"\")","v":""},"No Entry",0]
[null,null,null,null,null,null,null,null,null,null,null,null,"",{"$f":"IF(D72=\"Cash and Deposits\",IF(E72=\"\",\"BANK NAME REQUIRED\",IF(ISERROR(VLOOKUP(E72,'Reference Data'!C:C,1,FALSE)),\"PLEASE SELECT A BANK FROM DEFINED LIST PROVIDED\",\"\")),\"\")","v":""},"No Entry",0]
[null,null,null,null,null,null,null,null,null,null,null,null,"",{"$f":"IF(D73=\"Cash and Deposits\",IF(E73=\"\",\"BANK NAME REQUIRED\",IF(ISERROR(VLOOKUP(E73,'Reference Data'!C:C,1,FALSE)),\"PLEASE SELECT A BANK FROM DEFINED LIST PROVIDED\",\"\")),\"\")","v":""},"No Entry",0]
[null,null,null,null,null,null,null,null,null,null,null,null,"",{"$f":"IF(D74=\"Cash and Deposits\",IF(E74=\"\",\"BANK NAME REQUIRED\",IF(ISERROR(VLOOKUP(E74,'Reference Data'!C:C,1,FALSE)),\"PLEASE SELECT A BANK FROM DEFINED LIST PROVIDED\",\"\")),\"\")","v":""},"No Entry",0]
[null,null,null,null,null,null,null,null,null,null,null,null,"",{"$f":"IF(D75=\"Cash and Deposits\",IF(E75=\"\",\"BANK NAME REQUIRED\",IF(ISERROR(VLOOKUP(E75,'Reference Data'!C:C,1,FALSE)),\"PLEASE SELECT A BANK FROM DEFINED LIST PROVIDED\",\"\")),\"\")","v":""},"No Entry",0]
[null,null,null,null,null,null,null,null,null,null,null,null,"",{"$f":"IF(D76=\"Cash and Deposits\",IF(E76=\"\",\"BANK NAME REQUIRED\",IF(ISERROR(VLOOKUP(E76,'Reference Data'!C:C,1,FALSE)),\"PLEASE SELECT A BANK FROM DEFINED LIST PROVIDED\",\"\")),\"\")","v":""},"No Entry",0]
[null,null,null,null,null,null,null,null,null,null,null,null,"",{"$f":"IF(D77=\"Cash and Deposits\",IF(E77=\"\",\"BANK NAME REQUIRED\",IF(ISERROR(VLOOKUP(E77,'Reference Data'!C:C,1,FALSE)),\"PLEASE SELECT A BANK FROM DEFINED LIST PROVIDED\",\"\")),\"\")","v":""},"No Entry",0]
[null,null,null,null,null,null,null,null,null,null,null,null,"",{"$f":"IF(D78=\"Cash and Deposits\",IF(E78=\"\",\"BANK NAME REQUIRED\",IF(ISERROR(VLOOKUP(E78,'Reference Data'!C:C,1,FALSE)),\"PLEASE SELECT A BANK FROM DEFINED LIST PROVIDED\",\"\")),\"\")","v":""},"No Entry",0]
[null,null,null,null,null,null,null,null,null,null,null,null,"",{"$f":"IF(D79=\"Cash and Deposits\",IF(E79=\"\",\"BANK NAME REQUIRED\",IF(ISERROR(VLOOKUP(E79,'Reference Data'!C:C,1,FALSE)),\"PLEASE SELECT A BANK FROM DEFINED LIST PROVIDED\",\"\")),\"\")","v":""},"No Entry",0]
[null,null,null,null,null,null,null,null,null,null,null,null,"",{"$f":"IF(D80=\"Cash and Deposits\",IF(E80=\"\",\"BANK NAME REQUIRED\",IF(ISERROR(VLOOKUP(E80,'Reference Data'!C:C,1,FALSE)),\"PLEASE SELECT A BANK FROM DEFINED LIST PROVIDED\",\"\")),\"\")","v":""},"No Entry",0]
[null,null,null,null,null,null,null,null,null,null,null,null,"",{"$f":"IF(D81=\"Cash and Deposits\",IF(E81=\"\",\"BANK NAME REQUIRED\",IF(ISERROR(VLOOKUP(E81,'Reference Data'!C:C,1,FALSE)),\"PLEASE SELECT A BANK FROM DEFINED LIST PROVIDED\",\"\")),\"\")","v":""},"No Entry",0]
[null,null,null,null,null,null,null,null,null,null,null,null,"",{"$f":"IF(D82=\"Cash and Deposits\",IF(E82=\"\",\"BANK NAME REQUIRED\",IF(ISERROR(VLOOKUP(E82,'Reference Data'!C:C,1,FALSE)),\"PLEASE SELECT A BANK FROM DEFINED LIST PROVIDED\",\"\")),\"\")","v":""},"No Entry",0]
[null,null,null,null,null,null,null,null,null,null,null,null,"",{"$f":"IF(D83=\"Cash and Deposits\",IF(E83=\"\",\"BANK NAME REQUIRED\",IF(ISERROR(VLOOKUP(E83,'Reference Data'!C:C,1,FALSE)),\"PLEASE SELECT A BANK FROM DEFINED LIST PROVIDED\",\"\")),\"\")","v":""},"No Entry",0]
[null,null,null,null,null,null,null,null,null,null,null,null,"",{"$f":"IF(D84=\"Cash and Deposits\",IF(E84=\"\",\"BANK NAME REQUIRED\",IF(ISERROR(VLOOKUP(E84,'Reference Data'!C:C,1,FALSE)),\"PLEASE SELECT A BANK FROM DEFINED LIST PROVIDED\",\"\")),\"\")","v":""},"No Entry",0]
[null,null,null,null,null,null,null,null,null,null,null,null,"",{"$f":"IF(D85=\"Cash and Deposits\",IF(E85=\"\",\"BANK NAME REQUIRED\",IF(ISERROR(VLOOKUP(E85,'Reference Data'!C:C,1,FALSE)),\"PLEASE SELECT A BANK FROM DEFINED LIST PROVIDED\",\"\")),\"\")","v":""},"No Entry",0]
[null,null,null,null,null,null,null,null,null,null,null,null,"",{"$f":"IF(D86=\"Cash and Deposits\",IF(E86=\"\",\"BANK NAME REQUIRED\",IF(ISERROR(VLOOKUP(E86,'Reference Data'!C:C,1,FALSE)),\"PLEASE SELECT A BANK FROM DEFINED LIST PROVIDED\",\"\")),\"\")","v":""},"No Entry",0]
[null,null,null,null,null,null,null,null,null,null,null,null,"",{"$f":"IF(D87=\"Cash and Deposits\",IF(E87=\"\",\"BANK NAME REQUIRED\",IF(ISERROR(VLOOKUP(E87,'Reference Data'!C:C,1,FALSE)),\"PLEASE SELECT A BANK FROM DEFINED LIST PROVIDED\",\"\")),\"\")","v":""},"No Entry",0]
[null,null,null,null,null,null,null,null,null,null,null,null,"",{"$f":"IF(D88=\"Cash and Deposits\",IF(E88=\"\",\"BANK NAME REQUIRED\",IF(ISERROR(VLOOKUP(E88,'Reference Data'!C:C,1,FALSE)),\"PLEASE SELECT A BANK FROM DEFINED LIST PROVIDED\",\"\")),\"\")","v":""},"No Entry",0]
[null,null,null,null,null,null,null,null,null,null,null,null,"",{"$f":"IF(D89=\"Cash and Deposits\",IF(E89=\"\",\"BANK NAME REQUIRED\",IF(ISERROR(VLOOKUP(E89,'Reference Data'!C:C,1,FALSE)),\"PLEASE SELECT A BANK FROM DEFINED LIST PROVIDED\",\"\")),\"\")","v":""},"No Entry",0]
[null,null,null,null,null,null,null,null,null,null,null,null,"",{"$f":"IF(D90=\"Cash and Deposits\",IF(E90=\"\",\"BANK NAME REQUIRED\",IF(ISERROR(VLOOKUP(E90,'Reference Data'!C:C,1,FALSE)),\"PLEASE SELECT A BANK FROM DEFINED LIST PROVIDED\",\"\")),\"\")","v":""},"No Entry",0]
[null,null,null,null,null,null,null,null,null,null,null,null,"",{"$f":"IF(D91=\"Cash and Deposits\",IF(E91=\"\",\"BANK NAME REQUIRED\",IF(ISERROR(VLOOKUP(E91,'Reference Data'!C:C,1,FALSE)),\"PLEASE SELECT A BANK FROM DEFINED LIST PROVIDED\",\"\")),\"\")","v":""},"No Entry",0]
[null,null,null,null,null,null,null,null,null,null,null,null,"",{"$f":"IF(D92=\"Cash and Deposits\",IF(E92=\"\",\"BANK NAME REQUIRED\",IF(ISERROR(VLOOKUP(E92,'Reference Data'!C:C,1,FALSE)),\"PLEASE SELECT A BANK FROM DEFINED LIST PROVIDED\",\"\")),\"\")","v":""},"No Entry",0]
[null,null,null,null,null,null,null,null,null,null,null,null,"",{"$f":"IF(D93=\"Cash and Deposits\",IF(E93=\"\",\"BANK NAME REQUIRED\",IF(ISERROR(VLOOKUP(E93,'Reference Data'!C:C,1,FALSE)),\"PLEASE SELECT A BANK FROM DEFINED LIST PROVIDED\",\"\")),\"\")","v":""},"No Entry",0]
[null,null,null,null,null,null,null,null,null,null,null,null,"",{"$f":"IF(D94=\"Cash and Deposits\",IF(E94=\"\",\"BANK NAME REQUIRED\",IF(ISERROR(VLOOKUP(E94,'Reference Data'!C:C,1,FALSE)),\"PLEASE SELECT A BANK FROM DEFINED LIST PROVIDED\",\"\")),\"\")","v":""},"No Entry",0]
[null,null,null,null,null,null,null,null,null,null,null,null,"",{"$f":"IF(D95=\"Cash and Deposits\",IF(E95=\"\",\"BANK NAME REQUIRED\",IF(ISERROR(VLOOKUP(E95,'Reference Data'!C:C,1,FALSE)),\"PLEASE SELECT A BANK FROM DEFINED LIST PROVIDED\",\"\")),\"\")","v":""},"No Entry",0]
[null,null,null,null,null,null,null,null,null,null,null,null,"",{"$f":"IF(D96=\"Cash and Deposits\",IF(E96=\"\",\"BANK NAME REQUIRED\",IF(ISERROR(VLOOKUP(E96,'Reference Data'!C:C,1,FALSE)),\"PLEASE SELECT A BANK FROM DEFINED LIST PROVIDED\",\"\")),\"\")","v":""},"No Entry",0]
[null,null,null,null,null,null,null,null,null,null,null,null,"",{"$f":"IF(D97=\"Cash and Deposits\",IF(E97=\"\",\"BANK NAME REQUIRED\",IF(ISERROR(VLOOKUP(E97,'Reference Data'!C:C,1,FALSE)),\"PLEASE SELECT A BANK FROM DEFINED LIST PROVIDED\",\"\")),\"\")","v":""},"No Entry",0]
[null,null,null,null,null,null,null,null,null,null,null,null,"",{"$f":"IF(D98=\"Cash and Deposits\",IF(E98=\"\",\"BANK NAME REQUIRED\",IF(ISERROR(VLOOKUP(E98,'Reference Data'!C:C,1,FALSE)),\"PLEASE SELECT A BANK FROM DEFINED LIST PROVIDED\",\"\")),\"\")","v":""},"No Entry",0]
[null,null,null,null,null,null,null,null,null,null,null,null,"",{"$f":"IF(D99=\"Cash and Deposits\",IF(E99=\"\",\"BANK NAME REQUIRED\",IF(ISERROR(VLOOKUP(E99,'Reference Data'!C:C,1,FALSE)),\"PLEASE SELECT A BANK FROM DEFINED LIST PROVIDED\",\"\")),\"\")","v":""},"No Entry",0]
[null,null,null,null,null,null,null,null,null,null,null,null,"",{"$f":"IF(D100=\"Cash and Deposits\",IF(E100=\"\",\"BANK NAME REQUIRED\",IF(ISERROR(VLOOKUP(E100,'Reference Data'!C:C,1,FALSE)),\"PLEASE SELECT A BANK FROM DEFINED LIST PROVIDED\",\"\")),\"\")","v":""},"No Entry",0]
[null,null,null,null,null,null,null,null,null,null,null,null,"",{"$f":"IF(D101=\"Cash and Deposits\",IF(E101=\"\",\"BANK NAME REQUIRED\",IF(ISERROR(VLOOKUP(E101,'Reference Data'!C:C,1,FALSE)),\"PLEASE SELECT A BANK FROM DEFINED LIST PROVIDED\",\"\")),\"\")","v":""},"No Entry",0]
[null,null,null,null,null,null,null,null,null,null,null,null,"",{"$f":"IF(D102=\"Cash and Deposits\",IF(E102=\"\",\"BANK NAME REQUIRED\",IF(ISERROR(VLOOKUP(E102,'Reference Data'!C:C,1,FALSE)),\"PLEASE SELECT A BANK FROM DEFINED LIST PROVIDED\",\"\")),\"\")","v":""},"No Entry",0]
[null,null,null,null,null,null,null,null,null,null,null,null,"",{"$f":"IF(D103=\"Cash and Deposits\",IF(E103=\"\",\"BANK NAME REQUIRED\",IF(ISERROR(VLOOKUP(E103,'Reference Data'!C:C,1,FALSE)),\"PLEASE SELECT A BANK FROM DEFINED LIST PROVIDED\",\"\")),\"\")","v":""},"No Entry",0]
[null,null,null,null,null,null,null,null,null,null,null,null,"",{"$f":"IF(D104=\"Cash and Deposits\",IF(E104=\"\",\"BANK NAME REQUIRED\",IF(ISERROR(VLOOKUP(E104,'Reference Data'!C:C,1,FALSE)),\"PLEASE SELECT A BANK FROM DEFINED LIST PROVIDED\",\"\")),\"\")","v":""},"No Entry",0]
[null,null,null,null,null,null,null,null,null,null,null,null,"",{"$f":"IF(D105=\"Cash and Deposits\",IF(E105=\"\",\"BANK NAME REQUIRED\",IF(ISERROR(VLOOKUP(E105,'Reference Data'!C:C,1,FALSE)),\"PLEASE SELECT A BANK FROM DEFINED LIST PROVIDED\",\"\")),\"\")","v":""},"No Entry",0]
[null,null,null,null,null,null,null,null,null,null,null,null,"",{"$f":"IF(D106=\"Cash and Deposits\",IF(E106=\"\",\"BANK NAME REQUIRED\",IF(ISERROR(VLOOKUP(E106,'Reference Data'!C:C,1,FALSE)),\"PLEASE SELECT A BANK FROM DEFINED LIST PROVIDED\",\"\")),\"\")","v":""},"No Entry",0]
[null,null,null,null,null,null,null,null,null,null,null,null,"",{"$f":"IF(D107=\"Cash and Deposits\",IF(E107=\"\",\"BANK NAME REQUIRED\",IF(ISERROR(VLOOKUP(E107,'Reference Data'!C:C,1,FALSE)),\"PLEASE SELECT A BANK FROM DEFINED LIST PROVIDED\",\"\")),\"\")","v":""},"No Entry",0]
[null,null,null,null,null,null,null,null,null,null,null,null,"",{"$f":"IF(D108=\"Cash and Deposits\",IF(E108=\"\",\"BANK NAME REQUIRED\",IF(ISERROR(VLOOKUP(E108,'Reference Data'!C:C,1,FALSE)),\"PLEASE SELECT A BANK FROM DEFINED LIST PROVIDED\",\"\")),\"\")","v":""},"No Entry",0]
[null,null,null,null,null,null,null,null,null,null,null,null,"",{"$f":"IF(D109=\"Cash and Deposits\",IF(E109=\"\",\"BANK NAME REQUIRED\",IF(ISERROR(VLOOKUP(E109,'Reference Data'!C:C,1,FALSE)),\"PLEASE SELECT A BANK FROM DEFINED LIST PROVIDED\",\"\")),\"\")","v":""},"No Entry",0]
[null,null,null,null,null,null,null,null,null,null,null,null,"",{"$f":"IF(D110=\"Cash and Deposits\",IF(E110=\"\",\"BANK NAME REQUIRED\",IF(ISERROR(VLOOKUP(E110,'Reference Data'!C:C,1,FALSE)),\"PLEASE SELECT A BANK FROM DEFINED LIST PROVIDED\",\"\")),\"\")","v":""},"No Entry",0]
[null,null,null,null,null,null,null,null,null,null,null,null,"",{"$f":"IF(D111=\"Cash and Deposits\",IF(E111=\"\",\"BANK NAME REQUIRED\",IF(ISERROR(VLOOKUP(E111,'Reference Data'!C:C,1,FALSE)),\"PLEASE SELECT A BANK FROM DEFINED LIST PROVIDED\",\"\")),\"\")","v":""},"No Entry",0]
[null,null,null,null,null,null,null,null,null,null,null,null,"",{"$f":"IF(D112=\"Cash and Deposits\",IF(E112=\"\",\"BANK NAME REQUIRED\",IF(ISERROR(VLOOKUP(E112,'Reference Data'!C:C,1,FALSE)),\"PLEASE SELECT A BANK FROM DEFINED LIST PROVIDED\",\"\")),\"\")","v":""},"No Entry",0]
[null,null,null,null,null,null,null,null,null,null,null,null,"",{"$f":"IF(D113=\"Cash and Deposits\",IF(E113=\"\",\"BANK NAME REQUIRED\",IF(ISERROR(VLOOKUP(E113,'Reference Data'!C:C,1,FALSE)),\"PLEASE SELECT A BANK FROM DEFINED LIST PROVIDED\",\"\")),\"\")","v":""},"No Entry",0]
[null,null,null,null,null,null,null,null,null,null,null,null,"",{"$f":"IF(D114=\"Cash and Deposits\",IF(E114=\"\",\"BANK NAME REQUIRED\",IF(ISERROR(VLOOKUP(E114,'Reference Data'!C:C,1,FALSE)),\"PLEASE SELECT A BANK FROM DEFINED LIST PROVIDED\",\"\")),\"\")","v":""},"No Entry",0]
[null,null,null,null,null,null,null,null,null,null,null,null,"",{"$f":"IF(D115=\"Cash and Deposits\",IF(E115=\"\",\"BANK NAME REQUIRED\",IF(ISERROR(VLOOKUP(E115,'Reference Data'!C:C,1,FALSE)),\"PLEASE SELECT A BANK FROM DEFINED LIST PROVIDED\",\"\")),\"\")","v":""},"No Entry",0]
[null,null,null,null,null,null,null,null,null,null,null,null,"",{"$f":"IF(D116=\"Cash and Deposits\",IF(E116=\"\",\"BANK NAME REQUIRED\",IF(ISERROR(VLOOKUP(E116,'Reference Data'!C:C,1,FALSE)),\"PLEASE SELECT A BANK FROM DEFINED LIST PROVIDED\",\"\")),\"\")","v":""},"No Entry",0]
[null,null,null,null,null,null,null,null,null,null,null,null,"",{"$f":"IF(D117=\"Cash and Deposits\",IF(E117=\"\",\"BANK NAME REQUIRED\",IF(ISERROR(VLOOKUP(E117,'Reference Data'!C:C,1,FALSE)),\"PLEASE SELECT A BANK FROM DEFINED LIST PROVIDED\",\"\")),\"\")","v":""},"No Entry",0]
[null,null,null,null,null,null,null,null,null,null,null,null,"",{"$f":"IF(D118=\"Cash and Deposits\",IF(E118=\"\",\"BANK NAME REQUIRED\",IF(ISERROR(VLOOKUP(E118,'Reference Data'!C:C,1,FALSE)),\"PLEASE SELECT A BANK FROM DEFINED LIST PROVIDED\",\"\")),\"\")","v":""},"No Entry",0]
[null,null,null,null,null,null,null,null,null,null,null,null,"",{"$f":"IF(D119=\"Cash and Deposits\",IF(E119=\"\",\"BANK NAME REQUIRED\",IF(ISERROR(VLOOKUP(E119,'Reference Data'!C:C,1,FALSE)),\"PLEASE SELECT A BANK FROM DEFINED LIST PROVIDED\",\"\")),\"\")","v":""},"No Entry",0]
[null,null,null,null,null,null,null,null,null,null,null,null,"",{"$f":"IF(D120=\"Cash and Deposits\",IF(E120=\"\",\"BANK NAME REQUIRED\",IF(ISERROR(VLOOKUP(E120,'Reference Data'!C:C,1,FALSE)),\"PLEASE SELECT A BANK FROM DEFINED LIST PROVIDED\",\"\")),\"\")","v":""},"No Entry",0]
[null,null,null,null,null,null,null,null,null,null,null,null,"",{"$f":"IF(D121=\"Cash and Deposits\",IF(E121=\"\",\"BANK NAME REQUIRED\",IF(ISERROR(VLOOKUP(E121,'Reference Data'!C:C,1,FALSE)),\"PLEASE SELECT A BANK FROM DEFINED LIST PROVIDED\",\"\")),\"\")","v":""},"No Entry",0]
[null,null,null,null,null,null,null,null,null,null,null,null,"",{"$f":"IF(D122=\"Cash and Deposits\",IF(E122=\"\",\"BANK NAME REQUIRED\",IF(ISERROR(VLOOKUP(E122,'Reference Data'!C:C,1,FALSE)),\"PLEASE SELECT A BANK FROM DEFINED LIST PROVIDED\",\"\")),\"\")","v":""},"No Entry",0]
[null,null,null,null,null,null,null,null,null,null,null,null,"",{"$f":"IF(D123=\"Cash and Deposits\",IF(E123=\"\",\"BANK NAME REQUIRED\",IF(ISERROR(VLOOKUP(E123,'Reference Data'!C:C,1,FALSE)),\"PLEASE SELECT A BANK FROM DEFINED LIST PROVIDED\",\"\")),\"\")","v":""},"No Entry",0]
[null,null,null,null,null,null,null,null,null,null,null,null,"",{"$f":"IF(D124=\"Cash and Deposits\",IF(E124=\"\",\"BANK NAME REQUIRED\",IF(ISERROR(VLOOKUP(E124,'Reference Data'!C:C,1,FALSE)),\"PLEASE SELECT A BANK FROM DEFINED LIST PROVIDED\",\"\")),\"\")","v":""},"No Entry",0]
[null,null,null,null,null,null,null,null,null,null,null,null,"",{"$f":"IF(D125=\"Cash and Deposits\",IF(E125=\"\",\"BANK NAME REQUIRED\",IF(ISERROR(VLOOKUP(E125,'Reference Data'!C:C,1,FALSE)),\"PLEASE SELECT A BANK FROM DEFINED LIST PROVIDED\",\"\")),\"\")","v":""},"No Entry",0]
[null,null,null,null,null,null,null,null,null,null,null,null,"",{"$f":"IF(D126=\"Cash and Deposits\",IF(E126=\"\",\"BANK NAME REQUIRED\",IF(ISERROR(VLOOKUP(E126,'Reference Data'!C:C,1,FALSE)),\"PLEASE SELECT A BANK FROM DEFINED LIST PROVIDED\",\"\")),\"\")","v":""},"No Entry",0]
[null,null,null,null,null,null,null,null,null,null,null,null,"",{"$f":"IF(D127=\"Cash and Deposits\",IF(E127=\"\",\"BANK NAME REQUIRED\",IF(ISERROR(VLOOKUP(E127,'Reference Data'!C:C,1,FALSE)),\"PLEASE SELECT A BANK FROM DEFINED LIST PROVIDED\",\"\")),\"\")","v":""},"No Entry",0]
[null,null,null,null,null,null,null,null,null,null,null,null,"",{"$f":"IF(D128=\"Cash and Deposits\",IF(E128=\"\",\"BANK NAME REQUIRED\",IF(ISERROR(VLOOKUP(E128,'Reference Data'!C:C,1,FALSE)),\"PLEASE SELECT A BANK FROM DEFINED LIST PROVIDED\",\"\")),\"\")","v":""},"No Entry",0]
[null,null,null,null,null,null,null,null,null,null,null,null,"",{"$f":"IF(D129=\"Cash and Deposits\",IF(E129=\"\",\"BANK NAME REQUIRED\",IF(ISERROR(VLOOKUP(E129,'Reference Data'!C:C,1,FALSE)),\"PLEASE SELECT A BANK FROM DEFINED LIST PROVIDED\",\"\")),\"\")","v":""},"No Entry",0]
[null,null,null,null,null,null,null,null,null,null,null,null,"",{"$f":"IF(D130=\"Cash and Deposits\",IF(E130=\"\",\"BANK NAME REQUIRED\",IF(ISERROR(VLOOKUP(E130,'Reference Data'!C:C,1,FALSE)),\"PLEASE SELECT A BANK FROM DEFINED LIST PROVIDED\",\"\")),\"\")","v":""},"No Entry",0]
[null,null,null,null,null,null,null,null,null,null,null,null,"",{"$f":"IF(D131=\"Cash and Deposits\",IF(E131=\"\",\"BANK NAME REQUIRED\",IF(ISERROR(VLOOKUP(E131,'Reference Data'!C:C,1,FALSE)),\"PLEASE SELECT A BANK FROM DEFINED LIST PROVIDED\",\"\")),\"\")","v":""},"No Entry",0]
[null,null,null,null,null,null,null,null,null,null,null,null,"",{"$f":"IF(D132=\"Cash and Deposits\",IF(E132=\"\",\"BANK NAME REQUIRED\",IF(ISERROR(VLOOKUP(E132,'Reference Data'!C:C,1,FALSE)),\"PLEASE SELECT A BANK FROM DEFINED LIST PROVIDED\",\"\")),\"\")","v":""},"No Entry",0]
[null,null,null,null,null,null,null,null,null,null,null,null,{"$f":"IF(K133<>0,IF(B133=\"\",\"ID CODE REQUIRED\",\"\"),\"\")","v":""},{"$f":"IF(D133=\"Cash and Deposits\",IF(E133=\"\",\"BANK NAME REQUIRED\",IF(ISERROR(VLOOKUP(E133,'Reference Data'!C:C,1,FALSE)),\"PLEASE SELECT A BANK FROM DEFINED LIST PROVIDED\",\"\")),\"\")","v":""},{"$f":"IF(K133=0,\"No Entry\",\"\")","v":"No Entry"},{"$f":"IF(K133<>0,IF(A133=\"\",1,0),0)","v":0}]
[null,null,null,null,null,null,null,null,null,null,null,null,"",{"$f":"IF(D134=\"Cash and Deposits\",IF(E134=\"\",\"BANK NAME REQUIRED\",IF(ISERROR(VLOOKUP(E134,'Reference Data'!C:C,1,FALSE)),\"PLEASE SELECT A BANK FROM DEFINED LIST PROVIDED\",\"\")),\"\")","v":""},"No Entry",0]
[null,null,null,null,null,null,null,null,null,null,null,null,"",{"$f":"IF(D135=\"Cash and Deposits\",IF(E135=\"\",\"BANK NAME REQUIRED\",IF(ISERROR(VLOOKUP(E135,'Reference Data'!C:C,1,FALSE)),\"PLEASE SELECT A BANK FROM DEFINED LIST PROVIDED\",\"\")),\"\")","v":""},"No Entry",0]
[null,null,null,null,null,null,null,null,null,null,null,null,"",{"$f":"IF(D136=\"Cash and Deposits\",IF(E136=\"\",\"BANK NAME REQUIRED\",IF(ISERROR(VLOOKUP(E136,'Reference Data'!C:C,1,FALSE)),\"PLEASE SELECT A BANK FROM DEFINED LIST PROVIDED\",\"\")),\"\")","v":""},"No Entry",0]
[null,null,null,null,null,null,null,null,null,null,null,null,"",{"$f":"IF(D137=\"Cash and Deposits\",IF(E137=\"\",\"BANK NAME REQUIRED\",IF(ISERROR(VLOOKUP(E137,'Reference Data'!C:C,1,FALSE)),\"PLEASE SELECT A BANK FROM DEFINED LIST PROVIDED\",\"\")),\"\")","v":""},"No Entry",0]
[null,null,null,null,null,null,null,null,null,null,null,null,"",{"$f":"IF(D138=\"Cash and Deposits\",IF(E138=\"\",\"BANK NAME REQUIRED\",IF(ISERROR(VLOOKUP(E138,'Reference Data'!C:C,1,FALSE)),\"PLEASE SELECT A BANK FROM DEFINED LIST PROVIDED\",\"\")),\"\")","v":""},"No Entry",0]
[null,null,null,null,null,null,null,null,null,null,null,null,"",{"$f":"IF(D139=\"Cash and Deposits\",IF(E139=\"\",\"BANK NAME REQUIRED\",IF(ISERROR(VLOOKUP(E139,'Reference Data'!C:C,1,FALSE)),\"PLEASE SELECT A BANK FROM DEFINED LIST PROVIDED\",\"\")),\"\")","v":""},"No Entry",0]
[null,null,null,null,null,null,null,null,null,null,null,null,"",{"$f":"IF(D140=\"Cash and Deposits\",IF(E140=\"\",\"BANK NAME REQUIRED\",IF(ISERROR(VLOOKUP(E140,'Reference Data'!C:C,1,FALSE)),\"PLEASE SELECT A BANK FROM DEFINED LIST PROVIDED\",\"\")),\"\")","v":""},"No Entry",0]
[null,null,null,null,null,null,null,null,null,null,null,null,"",{"$f":"IF(D141=\"Cash and Deposits\",IF(E141=\"\",\"BANK NAME REQUIRED\",IF(ISERROR(VLOOKUP(E141,'Reference Data'!C:C,1,FALSE)),\"PLEASE SELECT A BANK FROM DEFINED LIST PROVIDED\",\"\")),\"\")","v":""},"No Entry",0]
[null,null,null,null,null,null,null,null,null,null,null,null,"",{"$f":"IF(D142=\"Cash and Deposits\",IF(E142=\"\",\"BANK NAME REQUIRED\",IF(ISERROR(VLOOKUP(E142,'Reference Data'!C:C,1,FALSE)),\"PLEASE SELECT A BANK FROM DEFINED LIST PROVIDED\",\"\")),\"\")","v":""},"No Entry",0]
[null,null,null,null,null,null,null,null,null,null,null,null,"",{"$f":"IF(D143=\"Cash and Deposits\",IF(E143=\"\",\"BANK NAME REQUIRED\",IF(ISERROR(VLOOKUP(E143,'Reference Data'!C:C,1,FALSE)),\"PLEASE SELECT A BANK FROM DEFINED LIST PROVIDED\",\"\")),\"\")","v":""},"No Entry",0]
[null,null,null,null,null,null,null,null,null,null,null,null,"",{"$f":"IF(D144=\"Cash and Deposits\",IF(E144=\"\",\"BANK NAME REQUIRED\",IF(ISERROR(VLOOKUP(E144,'Reference Data'!C:C,1,FALSE)),\"PLEASE SELECT A BANK FROM DEFINED LIST PROVIDED\",\"\")),\"\")","v":""},"No Entry",0]
[null,null,null,null,null,null,null,null,null,null,null,null,"",{"$f":"IF(D145=\"Cash and Deposits\",IF(E145=\"\",\"BANK NAME REQUIRED\",IF(ISERROR(VLOOKUP(E145,'Reference Data'!C:C,1,FALSE)),\"PLEASE SELECT A BANK FROM DEFINED LIST PROVIDED\",\"\")),\"\")","v":""},"No Entry",0]
[null,null,null,null,null,null,null,null,null,null,null,null,"",{"$f":"IF(D146=\"Cash and Deposits\",IF(E146=\"\",\"BANK NAME REQUIRED\",IF(ISERROR(VLOOKUP(E146,'Reference Data'!C:C,1,FALSE)),\"PLEASE SELECT A BANK FROM DEFINED LIST PROVIDED\",\"\")),\"\")","v":""},"No Entry",0]
[null,null,null,null,null,null,null,null,null,null,null,null,"",{"$f":"IF(D147=\"Cash and Deposits\",IF(E147=\"\",\"BANK NAME REQUIRED\",IF(ISERROR(VLOOKUP(E147,'Reference Data'!C:C,1,FALSE)),\"PLEASE SELECT A BANK FROM DEFINED LIST PROVIDED\",\"\")),\"\")","v":""},"No Entry",0]
[null,null,null,null,null,null,null,null,null,null,null,null,"",{"$f":"IF(D148=\"Cash and Deposits\",IF(E148=\"\",\"BANK NAME REQUIRED\",IF(ISERROR(VLOOKUP(E148,'Reference Data'!C:C,1,FALSE)),\"PLEASE SELECT A BANK FROM DEFINED LIST PROVIDED\",\"\")),\"\")","v":""},"No Entry",0]
[null,null,null,null,null,null,null,null,null,null,null,null,"",{"$f":"IF(D149=\"Cash and Deposits\",IF(E149=\"\",\"BANK NAME REQUIRED\",IF(ISERROR(VLOOKUP(E149,'Reference Data'!C:C,1,FALSE)),\"PLEASE SELECT A BANK FROM DEFINED LIST PROVIDED\",\"\")),\"\")","v":""},"No Entry",0]
[null,null,null,null,null,null,null,null,null,null,null,null,"",{"$f":"IF(D150=\"Cash and Deposits\",IF(E150=\"\",\"BANK NAME REQUIRED\",IF(ISERROR(VLOOKUP(E150,'Reference Data'!C:C,1,FALSE)),\"PLEASE SELECT A BANK FROM DEFINED LIST PROVIDED\",\"\")),\"\")","v":""},"No Entry",0]
[null,null,null,null,null,null,null,null,null,null,null,null,"",{"$f":"IF(D151=\"Cash and Deposits\",IF(E151=\"\",\"BANK NAME REQUIRED\",IF(ISERROR(VLOOKUP(E151,'Reference Data'!C:C,1,FALSE)),\"PLEASE SELECT A BANK FROM DEFINED LIST PROVIDED\",\"\")),\"\")","v":""},"No Entry",0]
[null,null,null,null,null,null,null,null,null,null,null,null,"",{"$f":"IF(D152=\"Cash and Deposits\",IF(E152=\"\",\"BANK NAME REQUIRED\",IF(ISERROR(VLOOKUP(E152,'Reference Data'!C:C,1,FALSE)),\"PLEASE SELECT A BANK FROM DEFINED LIST PROVIDED\",\"\")),\"\")","v":""},"No Entry",0]
[null,null,null,null,null,null,null,null,null,null,null,null,"",{"$f":"IF(D153=\"Cash and Deposits\",IF(E153=\"\",\"BANK NAME REQUIRED\",IF(ISERROR(VLOOKUP(E153,'Reference Data'!C:C,1,FALSE)),\"PLEASE SELECT A BANK FROM DEFINED LIST PROVIDED\",\"\")),\"\")","v":""},"No Entry",0]
[null,null,null,null,null,null,null,null,null,null,null,null,"",{"$f":"IF(D154=\"Cash and Deposits\",IF(E154=\"\",\"BANK NAME REQUIRED\",IF(ISERROR(VLOOKUP(E154,'Reference Data'!C:C,1,FALSE)),\"PLEASE SELECT A BANK FROM DEFINED LIST PROVIDED\",\"\")),\"\")","v":""},"No Entry",0]
[null,null,null,null,null,null,null,null,null,null,null,null,"",{"$f":"IF(D155=\"Cash and Deposits\",IF(E155=\"\",\"BANK NAME REQUIRED\",IF(ISERROR(VLOOKUP(E155,'Reference Data'!C:C,1,FALSE)),\"PLEASE SELECT A BANK FROM DEFINED LIST PROVIDED\",\"\")),\"\")","v":""},"No Entry",0]
[null,null,null,null,null,null,null,null,null,null,null,null,"",{"$f":"IF(D156=\"Cash and Deposits\",IF(E156=\"\",\"BANK NAME REQUIRED\",IF(ISERROR(VLOOKUP(E156,'Reference Data'!C:C,1,FALSE)),\"PLEASE SELECT A BANK FROM DEFINED LIST PROVIDED\",\"\")),\"\")","v":""},"No Entry",0]
[null,null,null,null,null,null,null,null,null,null,null,null,"",{"$f":"IF(D157=\"Cash and Deposits\",IF(E157=\"\",\"BANK NAME REQUIRED\",IF(ISERROR(VLOOKUP(E157,'Reference Data'!C:C,1,FALSE)),\"PLEASE SELECT A BANK FROM DEFINED LIST PROVIDED\",\"\")),\"\")","v":""},"No Entry",0]
[null,null,null,null,null,null,null,null,null,null,null,null,"",{"$f":"IF(D158=\"Cash and Deposits\",IF(E158=\"\",\"BANK NAME REQUIRED\",IF(ISERROR(VLOOKUP(E158,'Reference Data'!C:C,1,FALSE)),\"PLEASE SELECT A BANK FROM DEFINED LIST PROVIDED\",\"\")),\"\")","v":""},"No Entry",0]
[null,null,null,null,null,null,null,null,null,null,null,null,"",{"$f":"IF(D159=\"Cash and Deposits\",IF(E159=\"\",\"BANK NAME REQUIRED\",IF(ISERROR(VLOOKUP(E159,'Reference Data'!C:C,1,FALSE)),\"PLEASE SELECT A BANK FROM DEFINED LIST PROVIDED\",\"\")),\"\")","v":""},"No Entry",0]
[null,null,null,null,null,null,null,null,null,null,null,null,"",{"$f":"IF(D160=\"Cash and Deposits\",IF(E160=\"\",\"BANK NAME REQUIRED\",IF(ISERROR(VLOOKUP(E160,'Reference Data'!C:C,1,FALSE)),\"PLEASE SELECT A BANK FROM DEFINED LIST PROVIDED\",\"\")),\"\")","v":""},"No Entry",0]
[null,null,null,null,null,null,null,null,null,null,null,null,"",{"$f":"IF(D161=\"Cash and Deposits\",IF(E161=\"\",\"BANK NAME REQUIRED\",IF(ISERROR(VLOOKUP(E161,'Reference Data'!C:C,1,FALSE)),\"PLEASE SELECT A BANK FROM DEFINED LIST PROVIDED\",\"\")),\"\")","v":""},"No Entry",0]
[null,null,null,null,null,null,null,null,null,null,null,null,"",{"$f":"IF(D162=\"Cash and Deposits\",IF(E162=\"\",\"BANK NAME REQUIRED\",IF(ISERROR(VLOOKUP(E162,'Reference Data'!C:C,1,FALSE)),\"PLEASE SELECT A BANK FROM DEFINED LIST PROVIDED\",\"\")),\"\")","v":""},"No Entry",0]
[null,null,null,null,null,null,null,null,null,null,null,null,"",{"$f":"IF(D163=\"Cash and Deposits\",IF(E163=\"\",\"BANK NAME REQUIRED\",IF(ISERROR(VLOOKUP(E163,'Reference Data'!C:C,1,FALSE)),\"PLEASE SELECT A BANK FROM DEFINED LIST PROVIDED\",\"\")),\"\")","v":""},"No Entry",0]
[null,null,null,null,null,null,null,null,null,null,null,null,"",{"$f":"IF(D164=\"Cash and Deposits\",IF(E164=\"\",\"BANK NAME REQUIRED\",IF(ISERROR(VLOOKUP(E164,'Reference Data'!C:C,1,FALSE)),\"PLEASE SELECT A BANK FROM DEFINED LIST PROVIDED\",\"\")),\"\")","v":""},"No Entry",0]
[null,null,null,null,null,null,null,null,null,null,null,null,"",{"$f":"IF(D165=\"Cash and Deposits\",IF(E165=\"\",\"BANK NAME REQUIRED\",IF(ISERROR(VLOOKUP(E165,'Reference Data'!C:C,1,FALSE)),\"PLEASE SELECT A BANK FROM DEFINED LIST PROVIDED\",\"\")),\"\")","v":""},"No Entry",0]
[null,null,null,null,null,null,null,null,null,null,null,null,"",{"$f":"IF(D166=\"Cash and Deposits\",IF(E166=\"\",\"BANK NAME REQUIRED\",IF(ISERROR(VLOOKUP(E166,'Reference Data'!C:C,1,FALSE)),\"PLEASE SELECT A BANK FROM DEFINED LIST PROVIDED\",\"\")),\"\")","v":""},"No Entry",0]
[null,null,null,null,null,null,null,null,null,null,null,null,"",{"$f":"IF(D167=\"Cash and Deposits\",IF(E167=\"\",\"BANK NAME REQUIRED\",IF(ISERROR(VLOOKUP(E167,'Reference Data'!C:C,1,FALSE)),\"PLEASE SELECT A BANK FROM DEFINED LIST PROVIDED\",\"\")),\"\")","v":""},"No Entry",0]
[null,null,null,null,null,null,null,null,null,null,null,null,"",{"$f":"IF(D168=\"Cash and Deposits\",IF(E168=\"\",\"BANK NAME REQUIRED\",IF(ISERROR(VLOOKUP(E168,'Reference Data'!C:C,1,FALSE)),\"PLEASE SELECT A BANK FROM DEFINED LIST PROVIDED\",\"\")),\"\")","v":""},"No Entry",0]
[null,null,null,null,null,null,null,null,null,null,null,null,"",{"$f":"IF(D169=\"Cash and Deposits\",IF(E169=\"\",\"BANK NAME REQUIRED\",IF(ISERROR(VLOOKUP(E169,'Reference Data'!C:C,1,FALSE)),\"PLEASE SELECT A BANK FROM DEFINED LIST PROVIDED\",\"\")),\"\")","v":""},"No Entry",0]
[null,null,null,null,null,null,null,null,null,null,null,null,"",{"$f":"IF(D170=\"Cash and Deposits\",IF(E170=\"\",\"BANK NAME REQUIRED\",IF(ISERROR(VLOOKUP(E170,'Reference Data'!C:C,1,FALSE)),\"PLEASE SELECT A BANK FROM DEFINED LIST PROVIDED\",\"\")),\"\")","v":""},"No Entry",0]
[null,null,null,null,null,null,null,null,null,null,null,null,"",{"$f":"IF(D171=\"Cash and Deposits\",IF(E171=\"\",\"BANK NAME REQUIRED\",IF(ISERROR(VLOOKUP(E171,'Reference Data'!C:C,1,FALSE)),\"PLEASE SELECT A BANK FROM DEFINED LIST PROVIDED\",\"\")),\"\")","v":""},"No Entry",0]
[null,null,null,null,null,null,null,null,null,null,null,null,"",{"$f":"IF(D172=\"Cash and Deposits\",IF(E172=\"\",\"BANK NAME REQUIRED\",IF(ISERROR(VLOOKUP(E172,'Reference Data'!C:C,1,FALSE)),\"PLEASE SELECT A BANK FROM DEFINED LIST PROVIDED\",\"\")),\"\")","v":""},"No Entry",0]
[null,null,null,null,null,null,null,null,null,null,null,null,"",{"$f":"IF(D173=\"Cash and Deposits\",IF(E173=\"\",\"BANK NAME REQUIRED\",IF(ISERROR(VLOOKUP(E173,'Reference Data'!C:C,1,FALSE)),\"PLEASE SELECT A BANK FROM DEFINED LIST PROVIDED\",\"\")),\"\")","v":""},"No Entry",0]
[null,null,null,null,null,null,null,null,null,null,null,null,"",{"$f":"IF(D174=\"Cash and Deposits\",IF(E174=\"\",\"BANK NAME REQUIRED\",IF(ISERROR(VLOOKUP(E174,'Reference Data'!C:C,1,FALSE)),\"PLEASE SELECT A BANK FROM DEFINED LIST PROVIDED\",\"\")),\"\")","v":""},"No Entry",0]
[null,null,null,null,null,null,null,null,null,null,null,null,"",{"$f":"IF(D175=\"Cash and Deposits\",IF(E175=\"\",\"BANK NAME REQUIRED\",IF(ISERROR(VLOOKUP(E175,'Reference Data'!C:C,1,FALSE)),\"PLEASE SELECT A BANK FROM DEFINED LIST PROVIDED\",\"\")),\"\")","v":""},"No Entry",0]
[null,null,null,null,null,null,null,null,null,null,null,null,"",{"$f":"IF(D176=\"Cash and Deposits\",IF(E176=\"\",\"BANK NAME REQUIRED\",IF(ISERROR(VLOOKUP(E176,'Reference Data'!C:C,1,FALSE)),\"PLEASE SELECT A BANK FROM DEFINED LIST PROVIDED\",\"\")),\"\")","v":""},"No Entry",0]
[null,null,null,null,null,null,null,null,null,null,null,null,"",{"$f":"IF(D177=\"Cash and Deposits\",IF(E177=\"\",\"BANK NAME REQUIRED\",IF(ISERROR(VLOOKUP(E177,'Reference Data'!C:C,1,FALSE)),\"PLEASE SELECT A BANK FROM DEFINED LIST PROVIDED\",\"\")),\"\")","v":""},"No Entry",0]
[null,null,null,null,null,null,null,null,null,null,null,null,"",{"$f":"IF(D178=\"Cash and Deposits\",IF(E178=\"\",\"BANK NAME REQUIRED\",IF(ISERROR(VLOOKUP(E178,'Reference Data'!C:C,1,FALSE)),\"PLEASE SELECT A BANK FROM DEFINED LIST PROVIDED\",\"\")),\"\")","v":""},"No Entry",0]
[null,null,null,null,null,null,null,null,null,null,null,null,"",{"$f":"IF(D179=\"Cash and Deposits\",IF(E179=\"\",\"BANK NAME REQUIRED\",IF(ISERROR(VLOOKUP(E179,'Reference Data'!C:C,1,FALSE)),\"PLEASE SELECT A BANK FROM DEFINED LIST PROVIDED\",\"\")),\"\")","v":""},"No Entry",0]
[null,null,null,null,null,null,null,null,null,null,null,null,"",{"$f":"IF(D180=\"Cash and Deposits\",IF(E180=\"\",\"BANK NAME REQUIRED\",IF(ISERROR(VLOOKUP(E180,'Reference Data'!C:C,1,FALSE)),\"PLEASE SELECT A BANK FROM DEFINED LIST PROVIDED\",\"\")),\"\")","v":""},"No Entry",0]
[null,null,null,null,null,null,null,null,null,null,null,null,"",{"$f":"IF(D181=\"Cash and Deposits\",IF(E181=\"\",\"BANK NAME REQUIRED\",IF(ISERROR(VLOOKUP(E181,'Reference Data'!C:C,1,FALSE)),\"PLEASE SELECT A BANK FROM DEFINED LIST PROVIDED\",\"\")),\"\")","v":""},"No Entry",0]
[null,null,null,null,null,null,null,null,null,null,null,null,"",{"$f":"IF(D182=\"Cash and Deposits\",IF(E182=\"\",\"BANK NAME REQUIRED\",IF(ISERROR(VLOOKUP(E182,'Reference Data'!C:C,1,FALSE)),\"PLEASE SELECT A BANK FROM DEFINED LIST PROVIDED\",\"\")),\"\")","v":""},"No Entry",0]
[null,null,null,null,null,null,null,null,null,null,null,null,"",{"$f":"IF(D183=\"Cash and Deposits\",IF(E183=\"\",\"BANK NAME REQUIRED\",IF(ISERROR(VLOOKUP(E183,'Reference Data'!C:C,1,FALSE)),\"PLEASE SELECT A BANK FROM DEFINED LIST PROVIDED\",\"\")),\"\")","v":""},"No Entry",0]
[null,null,null,null,null,null,null,null,null,null,null,null,"",{"$f":"IF(D184=\"Cash and Deposits\",IF(E184=\"\",\"BANK NAME REQUIRED\",IF(ISERROR(VLOOKUP(E184,'Reference Data'!C:C,1,FALSE)),\"PLEASE SELECT A BANK FROM DEFINED LIST PROVIDED\",\"\")),\"\")","v":""},"No Entry",0]
[null,null,null,null,null,null,null,null,null,null,null,null,"",{"$f":"IF(D185=\"Cash and Deposits\",IF(E185=\"\",\"BANK NAME REQUIRED\",IF(ISERROR(VLOOKUP(E185,'Reference Data'!C:C,1,FALSE)),\"PLEASE SELECT A BANK FROM DEFINED LIST PROVIDED\",\"\")),\"\")","v":""},"No Entry",0]
[null,null,null,null,null,null,null,null,null,null,null,null,"",{"$f":"IF(D186=\"Cash and Deposits\",IF(E186=\"\",\"BANK NAME REQUIRED\",IF(ISERROR(VLOOKUP(E186,'Reference Data'!C:C,1,FALSE)),\"PLEASE SELECT A BANK FROM DEFINED LIST PROVIDED\",\"\")),\"\")","v":""},"No Entry",0]
[null,null,null,null,null,null,null,null,null,null,null,null,"",{"$f":"IF(D187=\"Cash and Deposits\",IF(E187=\"\",\"BANK NAME REQUIRED\",IF(ISERROR(VLOOKUP(E187,'Reference Data'!C:C,1,FALSE)),\"PLEASE SELECT A BANK FROM DEFINED LIST PROVIDED\",\"\")),\"\")","v":""},"No Entry",0]
[null,null,null,null,null,null,null,null,null,null,null,null,"",{"$f":"IF(D188=\"Cash and Deposits\",IF(E188=\"\",\"BANK NAME REQUIRED\",IF(ISERROR(VLOOKUP(E188,'Reference Data'!C:C,1,FALSE)),\"PLEASE SELECT A BANK FROM DEFINED LIST PROVIDED\",\"\")),\"\")","v":""},"No Entry",0]
[null,null,null,null,null,null,null,null,null,null,null,null,"",{"$f":"IF(D189=\"Cash and Deposits\",IF(E189=\"\",\"BANK NAME REQUIRED\",IF(ISERROR(VLOOKUP(E189,'Reference Data'!C:C,1,FALSE)),\"PLEASE SELECT A BANK FROM DEFINED LIST PROVIDED\",\"\")),\"\")","v":""},"No Entry",0]
[null,null,null,null,null,null,null,null,null,null,null,null,"",{"$f":"IF(D190=\"Cash and Deposits\",IF(E190=\"\",\"BANK NAME REQUIRED\",IF(ISERROR(VLOOKUP(E190,'Reference Data'!C:C,1,FALSE)),\"PLEASE SELECT A BANK FROM DEFINED LIST PROVIDED\",\"\")),\"\")","v":""},"No Entry",0]
[null,null,null,null,null,null,null,null,null,null,null,null,"",{"$f":"IF(D191=\"Cash and Deposits\",IF(E191=\"\",\"BANK NAME REQUIRED\",IF(ISERROR(VLOOKUP(E191,'Reference Data'!C:C,1,FALSE)),\"PLEASE SELECT A BANK FROM DEFINED LIST PROVIDED\",\"\")),\"\")","v":""},"No Entry",0]
[null,null,null,null,null,null,null,null,null,null,null,null,"",{"$f":"IF(D192=\"Cash and Deposits\",IF(E192=\"\",\"BANK NAME REQUIRED\",IF(ISERROR(VLOOKUP(E192,'Reference Data'!C:C,1,FALSE)),\"PLEASE SELECT A BANK FROM DEFINED LIST PROVIDED\",\"\")),\"\")","v":""},"No Entry",0]
[null,null,null,null,null,null,null,null,null,null,null,null,"",{"$f":"IF(D193=\"Cash and Deposits\",IF(E193=\"\",\"BANK NAME REQUIRED\",IF(ISERROR(VLOOKUP(E193,'Reference Data'!C:C,1,FALSE)),\"PLEASE SELECT A BANK FROM DEFINED LIST PROVIDED\",\"\")),\"\")","v":""},"No Entry",0]
[null,null,null,null,null,null,null,null,null,null,null,null,"",{"$f":"IF(D194=\"Cash and Deposits\",IF(E194=\"\",\"BANK NAME REQUIRED\",IF(ISERROR(VLOOKUP(E194,'Reference Data'!C:C,1,FALSE)),\"PLEASE SELECT A BANK FROM DEFINED LIST PROVIDED\",\"\")),\"\")","v":""},"No Entry",0]
[null,null,null,null,null,null,null,null,null,null,null,null,"",{"$f":"IF(D195=\"Cash and Deposits\",IF(E195=\"\",\"BANK NAME REQUIRED\",IF(ISERROR(VLOOKUP(E195,'Reference Data'!C:C,1,FALSE)),\"PLEASE SELECT A BANK FROM DEFINED LIST PROVIDED\",\"\")),\"\")","v":""},"No Entry",0]
[null,null,null,null,null,null,null,null,null,null,null,null,"",{"$f":"IF(D196=\"Cash and Deposits\",IF(E196=\"\",\"BANK NAME REQUIRED\",IF(ISERROR(VLOOKUP(E196,'Reference Data'!C:C,1,FALSE)),\"PLEASE SELECT A BANK FROM DEFINED LIST PROVIDED\",\"\")),\"\")","v":""},"No Entry",0]
[null,null,null,null,null,null,null,null,null,null,null,null,{"$f":"IF(K197<>0,IF(B197=\"\",\"ID CODE REQUIRED\",\"\"),\"\")","v":""},{"$f":"IF(D197=\"Cash and Deposits\",IF(E197=\"\",\"BANK NAME REQUIRED\",IF(ISERROR(VLOOKUP(E197,'Reference Data'!C:C,1,FALSE)),\"PLEASE SELECT A BANK FROM DEFINED LIST PROVIDED\",\"\")),\"\")","v":""},{"$f":"IF(K197=0,\"No Entry\",\"\")","v":"No Entry"},{"$f":"IF(K197<>0,IF(A197=\"\",1,0),0)","v":0}]
[null,null,null,null,null,null,null,null,null,null,null,null,"",{"$f":"IF(D198=\"Cash and Deposits\",IF(E198=\"\",\"BANK NAME REQUIRED\",IF(ISERROR(VLOOKUP(E198,'Reference Data'!C:C,1,FALSE)),\"PLEASE SELECT A BANK FROM DEFINED LIST PROVIDED\",\"\")),\"\")","v":""},"No Entry",0]
[null,null,null,null,null,null,null,null,null,null,null,null,"",{"$f":"IF(D199=\"Cash and Deposits\",IF(E199=\"\",\"BANK NAME REQUIRED\",IF(ISERROR(VLOOKUP(E199,'Reference Data'!C:C,1,FALSE)),\"PLEASE SELECT A BANK FROM DEFINED LIST PROVIDED\",\"\")),\"\")","v":""},"No Entry",0]
[null,null,null,null,null,null,null,null,null,null,null,null,"",{"$f":"IF(D200=\"Cash and Deposits\",IF(E200=\"\",\"BANK NAME REQUIRED\",IF(ISERROR(VLOOKUP(E200,'Reference Data'!C:C,1,FALSE)),\"PLEASE SELECT A BANK FROM DEFINED LIST PROVIDED\",\"\")),\"\")","v":""},"No Entry",0]
[null,null,null,null,null,null,null,null,null,null,null,null,"",{"$f":"IF(D201=\"Cash and Deposits\",IF(E201=\"\",\"BANK NAME REQUIRED\",IF(ISERROR(VLOOKUP(E201,'Reference Data'!C:C,1,FALSE)),\"PLEASE SELECT A BANK FROM DEFINED LIST PROVIDED\",\"\")),\"\")","v":""},"No Entry",0]
[null,null,null,null,null,null,null,null,null,null,null,null,"",{"$f":"IF(D202=\"Cash and Deposits\",IF(E202=\"\",\"BANK NAME REQUIRED\",IF(ISERROR(VLOOKUP(E202,'Reference Data'!C:C,1,FALSE)),\"PLEASE SELECT A BANK FROM DEFINED LIST PROVIDED\",\"\")),\"\")","v":""},"No Entry",0]
[null,null,null,null,null,null,null,null,null,null,null,null,"",{"$f":"IF(D203=\"Cash and Deposits\",IF(E203=\"\",\"BANK NAME REQUIRED\",IF(ISERROR(VLOOKUP(E203,'Reference Data'!C:C,1,FALSE)),\"PLEASE SELECT A BANK FROM DEFINED LIST PROVIDED\",\"\")),\"\")","v":""},"No Entry",0]
[null,null,null,null,null,null,null,null,null,null,null,null,"",{"$f":"IF(D204=\"Cash and Deposits\",IF(E204=\"\",\"BANK NAME REQUIRED\",IF(ISERROR(VLOOKUP(E204,'Reference Data'!C:C,1,FALSE)),\"PLEASE SELECT A BANK FROM DEFINED LIST PROVIDED\",\"\")),\"\")","v":""},"No Entry",0]
[null,null,null,null,null,null,null,null,null,null,null,null,"",{"$f":"IF(D205=\"Cash and Deposits\",IF(E205=\"\",\"BANK NAME REQUIRED\",IF(ISERROR(VLOOKUP(E205,'Reference Data'!C:C,1,FALSE)),\"PLEASE SELECT A BANK FROM DEFINED LIST PROVIDED\",\"\")),\"\")","v":""},"No Entry",0]
[null,null,null,null,null,null,null,null,null,null,null,null,"",{"$f":"IF(D206=\"Cash and Deposits\",IF(E206=\"\",\"BANK NAME REQUIRED\",IF(ISERROR(VLOOKUP(E206,'Reference Data'!C:C,1,FALSE)),\"PLEASE SELECT A BANK FROM DEFINED LIST PROVIDED\",\"\")),\"\")","v":""},"No Entry",0]
[null,null,null,null,null,null,null,null,null,null,null,null,"",{"$f":"IF(D207=\"Cash and Deposits\",IF(E207=\"\",\"BANK NAME REQUIRED\",IF(ISERROR(VLOOKUP(E207,'Reference Data'!C:C,1,FALSE)),\"PLEASE SELECT A BANK FROM DEFINED LIST PROVIDED\",\"\")),\"\")","v":""},"No Entry",0]
[null,null,null,null,null,null,null,null,null,null,null,null,"",{"$f":"IF(D208=\"Cash and Deposits\",IF(E208=\"\",\"BANK NAME REQUIRED\",IF(ISERROR(VLOOKUP(E208,'Reference Data'!C:C,1,FALSE)),\"PLEASE SELECT A BANK FROM DEFINED LIST PROVIDED\",\"\")),\"\")","v":""},"No Entry",0]
[null,null,null,null,null,null,null,null,null,null,null,null,"",{"$f":"IF(D209=\"Cash and Deposits\",IF(E209=\"\",\"BANK NAME REQUIRED\",IF(ISERROR(VLOOKUP(E209,'Reference Data'!C:C,1,FALSE)),\"PLEASE SELECT A BANK FROM DEFINED LIST PROVIDED\",\"\")),\"\")","v":""},"No Entry",0]
[null,null,null,null,null,null,null,null,null,null,null,null,"",{"$f":"IF(D210=\"Cash and Deposits\",IF(E210=\"\",\"BANK NAME REQUIRED\",IF(ISERROR(VLOOKUP(E210,'Reference Data'!C:C,1,FALSE)),\"PLEASE SELECT A BANK FROM DEFINED LIST PROVIDED\",\"\")),\"\")","v":""},"No Entry",0]
[null,null,null,null,null,null,null,null,null,null,null,null,"",{"$f":"IF(D211=\"Cash and Deposits\",IF(E211=\"\",\"BANK NAME REQUIRED\",IF(ISERROR(VLOOKUP(E211,'Reference Data'!C:C,1,FALSE)),\"PLEASE SELECT A BANK FROM DEFINED LIST PROVIDED\",\"\")),\"\")","v":""},"No Entry",0]
[null,null,null,null,null,null,null,null,null,null,null,null,"",{"$f":"IF(D212=\"Cash and Deposits\",IF(E212=\"\",\"BANK NAME REQUIRED\",IF(ISERROR(VLOOKUP(E212,'Reference Data'!C:C,1,FALSE)),\"PLEASE SELECT A BANK FROM DEFINED LIST PROVIDED\",\"\")),\"\")","v":""},"No Entry",0]
[null,null,null,null,null,null,null,null,null,null,null,null,"",{"$f":"IF(D213=\"Cash and Deposits\",IF(E213=\"\",\"BANK NAME REQUIRED\",IF(ISERROR(VLOOKUP(E213,'Reference Data'!C:C,1,FALSE)),\"PLEASE SELECT A BANK FROM DEFINED LIST PROVIDED\",\"\")),\"\")","v":""},"No Entry",0]
[null,null,null,null,null,null,null,null,null,null,null,null,"",{"$f":"IF(D214=\"Cash and Deposits\",IF(E214=\"\",\"BANK NAME REQUIRED\",IF(ISERROR(VLOOKUP(E214,'Reference Data'!C:C,1,FALSE)),\"PLEASE SELECT A BANK FROM DEFINED LIST PROVIDED\",\"\")),\"\")","v":""},"No Entry",0]
[null,null,null,null,null,null,null,null,null,null,null,null,"",{"$f":"IF(D215=\"Cash and Deposits\",IF(E215=\"\",\"BANK NAME REQUIRED\",IF(ISERROR(VLOOKUP(E215,'Reference Data'!C:C,1,FALSE)),\"PLEASE SELECT A BANK FROM DEFINED LIST PROVIDED\",\"\")),\"\")","v":""},"No Entry",0]
[null,null,null,null,null,null,null,null,null,null,null,null,"",{"$f":"IF(D216=\"Cash and Deposits\",IF(E216=\"\",\"BANK NAME REQUIRED\",IF(ISERROR(VLOOKUP(E216,'Reference Data'!C:C,1,FALSE)),\"PLEASE SELECT A BANK FROM DEFINED LIST PROVIDED\",\"\")),\"\")","v":""},"No Entry",0]
[null,null,null,null,null,null,null,null,null,null,null,null,"",{"$f":"IF(D217=\"Cash and Deposits\",IF(E217=\"\",\"BANK NAME REQUIRED\",IF(ISERROR(VLOOKUP(E217,'Reference Data'!C:C,1,FALSE)),\"PLEASE SELECT A BANK FROM DEFINED LIST PROVIDED\",\"\")),\"\")","v":""},"No Entry",0]
[null,null,null,null,null,null,null,null,null,null,null,null,"",{"$f":"IF(D218=\"Cash and Deposits\",IF(E218=\"\",\"BANK NAME REQUIRED\",IF(ISERROR(VLOOKUP(E218,'Reference Data'!C:C,1,FALSE)),\"PLEASE SELECT A BANK FROM DEFINED LIST PROVIDED\",\"\")),\"\")","v":""},"No Entry",0]
[null,null,null,null,null,null,null,null,null,null,null,null,"",{"$f":"IF(D219=\"Cash and Deposits\",IF(E219=\"\",\"BANK NAME REQUIRED\",IF(ISERROR(VLOOKUP(E219,'Reference Data'!C:C,1,FALSE)),\"PLEASE SELECT A BANK FROM DEFINED LIST PROVIDED\",\"\")),\"\")","v":""},"No Entry",0]
[null,null,null,null,null,null,null,null,null,null,null,null,"",{"$f":"IF(D220=\"Cash and Deposits\",IF(E220=\"\",\"BANK NAME REQUIRED\",IF(ISERROR(VLOOKUP(E220,'Reference Data'!C:C,1,FALSE)),\"PLEASE SELECT A BANK FROM DEFINED LIST PROVIDED\",\"\")),\"\")","v":""},"No Entry",0]
[null,null,null,null,null,null,null,null,null,null,null,null,"",{"$f":"IF(D221=\"Cash and Deposits\",IF(E221=\"\",\"BANK NAME REQUIRED\",IF(ISERROR(VLOOKUP(E221,'Reference Data'!C:C,1,FALSE)),\"PLEASE SELECT A BANK FROM DEFINED LIST PROVIDED\",\"\")),\"\")","v":""},"No Entry",0]
[null,null,null,null,null,null,null,null,null,null,null,null,"",{"$f":"IF(D222=\"Cash and Deposits\",IF(E222=\"\",\"BANK NAME REQUIRED\",IF(ISERROR(VLOOKUP(E222,'Reference Data'!C:C,1,FALSE)),\"PLEASE SELECT A BANK FROM DEFINED LIST PROVIDED\",\"\")),\"\")","v":""},"No Entry",0]
[null,null,null,null,null,null,null,null,null,null,null,null,"",{"$f":"IF(D223=\"Cash and Deposits\",IF(E223=\"\",\"BANK NAME REQUIRED\",IF(ISERROR(VLOOKUP(E223,'Reference Data'!C:C,1,FALSE)),\"PLEASE SELECT A BANK FROM DEFINED LIST PROVIDED\",\"\")),\"\")","v":""},"No Entry",0]
[null,null,null,null,null,null,null,null,null,null,null,null,"",{"$f":"IF(D224=\"Cash and Deposits\",IF(E224=\"\",\"BANK NAME REQUIRED\",IF(ISERROR(VLOOKUP(E224,'Reference Data'!C:C,1,FALSE)),\"PLEASE SELECT A BANK FROM DEFINED LIST PROVIDED\",\"\")),\"\")","v":""},"No Entry",0]
[null,null,null,null,null,null,null,null,null,null,null,null,"",{"$f":"IF(D225=\"Cash and Deposits\",IF(E225=\"\",\"BANK NAME REQUIRED\",IF(ISERROR(VLOOKUP(E225,'Reference Data'!C:C,1,FALSE)),\"PLEASE SELECT A BANK FROM DEFINED LIST PROVIDED\",\"\")),\"\")","v":""},"No Entry",0]
[null,null,null,null,null,null,null,null,null,null,null,null,"",{"$f":"IF(D226=\"Cash and Deposits\",IF(E226=\"\",\"BANK NAME REQUIRED\",IF(ISERROR(VLOOKUP(E226,'Reference Data'!C:C,1,FALSE)),\"PLEASE SELECT A BANK FROM DEFINED LIST PROVIDED\",\"\")),\"\")","v":""},"No Entry",0]
[null,null,null,null,null,null,null,null,null,null,null,null,"",{"$f":"IF(D227=\"Cash and Deposits\",IF(E227=\"\",\"BANK NAME REQUIRED\",IF(ISERROR(VLOOKUP(E227,'Reference Data'!C:C,1,FALSE)),\"PLEASE SELECT A BANK FROM DEFINED LIST PROVIDED\",\"\")),\"\")","v":""},"No Entry",0]
[null,null,null,null,null,null,null,null,null,null,null,null,"",{"$f":"IF(D228=\"Cash and Deposits\",IF(E228=\"\",\"BANK NAME REQUIRED\",IF(ISERROR(VLOOKUP(E228,'Reference Data'!C:C,1,FALSE)),\"PLEASE SELECT A BANK FROM DEFINED LIST PROVIDED\",\"\")),\"\")","v":""},"No Entry",0]
[null,null,null,null,null,null,null,null,null,null,null,null,"",{"$f":"IF(D229=\"Cash and Deposits\",IF(E229=\"\",\"BANK NAME REQUIRED\",IF(ISERROR(VLOOKUP(E229,'Reference Data'!C:C,1,FALSE)),\"PLEASE SELECT A BANK FROM DEFINED LIST PROVIDED\",\"\")),\"\")","v":""},"No Entry",0]
[null,null,null,null,null,null,null,null,null,null,null,null,"",{"$f":"IF(D230=\"Cash and Deposits\",IF(E230=\"\",\"BANK NAME REQUIRED\",IF(ISERROR(VLOOKUP(E230,'Reference Data'!C:C,1,FALSE)),\"PLEASE SELECT A BANK FROM DEFINED LIST PROVIDED\",\"\")),\"\")","v":""},"No Entry",0]
[null,null,null,null,null,null,null,null,null,null,null,null,"",{"$f":"IF(D231=\"Cash and Deposits\",IF(E231=\"\",\"BANK NAME REQUIRED\",IF(ISERROR(VLOOKUP(E231,'Reference Data'!C:C,1,FALSE)),\"PLEASE SELECT A BANK FROM DEFINED LIST PROVIDED\",\"\")),\"\")","v":""},"No Entry",0]
[null,null,null,null,null,null,null,null,null,null,null,null,"",{"$f":"IF(D232=\"Cash and Deposits\",IF(E232=\"\",\"BANK NAME REQUIRED\",IF(ISERROR(VLOOKUP(E232,'Reference Data'!C:C,1,FALSE)),\"PLEASE SELECT A BANK FROM DEFINED LIST PROVIDED\",\"\")),\"\")","v":""},"No Entry",0]
[null,null,null,null,null,null,null,null,null,null,null,null,"",{"$f":"IF(D233=\"Cash and Deposits\",IF(E233=\"\",\"BANK NAME REQUIRED\",IF(ISERROR(VLOOKUP(E233,'Reference Data'!C:C,1,FALSE)),\"PLEASE SELECT A BANK FROM DEFINED LIST PROVIDED\",\"\")),\"\")","v":""},"No Entry",0]
[null,null,null,null,null,null,null,null,null,null,null,null,"",{"$f":"IF(D234=\"Cash and Deposits\",IF(E234=\"\",\"BANK NAME REQUIRED\",IF(ISERROR(VLOOKUP(E234,'Reference Data'!C:C,1,FALSE)),\"PLEASE SELECT A BANK FROM DEFINED LIST PROVIDED\",\"\")),\"\")","v":""},"No Entry",0]
[null,null,null,null,null,null,null,null,null,null,null,null,"",{"$f":"IF(D235=\"Cash and Deposits\",IF(E235=\"\",\"BANK NAME REQUIRED\",IF(ISERROR(VLOOKUP(E235,'Reference Data'!C:C,1,FALSE)),\"PLEASE SELECT A BANK FROM DEFINED LIST PROVIDED\",\"\")),\"\")","v":""},"No Entry",0]
[null,null,null,null,null,null,null,null,null,null,null,null,"",{"$f":"IF(D236=\"Cash and Deposits\",IF(E236=\"\",\"BANK NAME REQUIRED\",IF(ISERROR(VLOOKUP(E236,'Reference Data'!C:C,1,FALSE)),\"PLEASE SELECT A BANK FROM DEFINED LIST PROVIDED\",\"\")),\"\")","v":""},"No Entry",0]
[null,null,null,null,null,null,null,null,null,null,null,null,"",{"$f":"IF(D237=\"Cash and Deposits\",IF(E237=\"\",\"BANK NAME REQUIRED\",IF(ISERROR(VLOOKUP(E237,'Reference Data'!C:C,1,FALSE)),\"PLEASE SELECT A BANK FROM DEFINED LIST PROVIDED\",\"\")),\"\")","v":""},"No Entry",0]
[null,null,null,null,null,null,null,null,null,null,null,null,"",{"$f":"IF(D238=\"Cash and Deposits\",IF(E238=\"\",\"BANK NAME REQUIRED\",IF(ISERROR(VLOOKUP(E238,'Reference Data'!C:C,1,FALSE)),\"PLEASE SELECT A BANK FROM DEFINED LIST PROVIDED\",\"\")),\"\")","v":""},"No Entry",0]
[null,null,null,null,null,null,null,null,null,null,null,null,"",{"$f":"IF(D239=\"Cash and Deposits\",IF(E239=\"\",\"BANK NAME REQUIRED\",IF(ISERROR(VLOOKUP(E239,'Reference Data'!C:C,1,FALSE)),\"PLEASE SELECT A BANK FROM DEFINED LIST PROVIDED\",\"\")),\"\")","v":""},"No Entry",0]
[null,null,null,null,null,null,null,null,null,null,null,null,"",{"$f":"IF(D240=\"Cash and Deposits\",IF(E240=\"\",\"BANK NAME REQUIRED\",IF(ISERROR(VLOOKUP(E240,'Reference Data'!C:C,1,FALSE)),\"PLEASE SELECT A BANK FROM DEFINED LIST PROVIDED\",\"\")),\"\")","v":""},"No Entry",0]
[null,null,null,null,null,null,null,null,null,null,null,null,"",{"$f":"IF(D241=\"Cash and Deposits\",IF(E241=\"\",\"BANK NAME REQUIRED\",IF(ISERROR(VLOOKUP(E241,'Reference Data'!C:C,1,FALSE)),\"PLEASE SELECT A BANK FROM DEFINED LIST PROVIDED\",\"\")),\"\")","v":""},"No Entry",0]
[null,null,null,null,null,null,null,null,null,null,null,null,"",{"$f":"IF(D242=\"Cash and Deposits\",IF(E242=\"\",\"BANK NAME REQUIRED\",IF(ISERROR(VLOOKUP(E242,'Reference Data'!C:C,1,FALSE)),\"PLEASE SELECT A BANK FROM DEFINED LIST PROVIDED\",\"\")),\"\")","v":""},"No Entry",0]
[null,null,null,null,null,null,null,null,null,null,null,null,"",{"$f":"IF(D243=\"Cash and Deposits\",IF(E243=\"\",\"BANK NAME REQUIRED\",IF(ISERROR(VLOOKUP(E243,'Reference Data'!C:C,1,FALSE)),\"PLEASE SELECT A BANK FROM DEFINED LIST PROVIDED\",\"\")),\"\")","v":""},"No Entry",0]
[null,null,null,null,null,null,null,null,null,null,null,null,"",{"$f":"IF(D244=\"Cash and Deposits\",IF(E244=\"\",\"BANK NAME REQUIRED\",IF(ISERROR(VLOOKUP(E244,'Reference Data'!C:C,1,FALSE)),\"PLEASE SELECT A BANK FROM DEFINED LIST PROVIDED\",\"\")),\"\")","v":""},"No Entry",0]
[null,null,null,null,null,null,null,null,null,null,null,null,"",{"$f":"IF(D245=\"Cash and Deposits\",IF(E245=\"\",\"BANK NAME REQUIRED\",IF(ISERROR(VLOOKUP(E245,'Reference Data'!C:C,1,FALSE)),\"PLEASE SELECT A BANK FROM DEFINED LIST PROVIDED\",\"\")),\"\")","v":""},"No Entry",0]
[null,null,null,null,null,null,null,null,null,null,null,null,"",{"$f":"IF(D246=\"Cash and Deposits\",IF(E246=\"\",\"BANK NAME REQUIRED\",IF(ISERROR(VLOOKUP(E246,'Reference Data'!C:C,1,FALSE)),\"PLEASE SELECT A BANK FROM DEFINED LIST PROVIDED\",\"\")),\"\")","v":""},"No Entry",0]
[null,null,null,null,null,null,null,null,null,null,null,null,"",{"$f":"IF(D247=\"Cash and Deposits\",IF(E247=\"\",\"BANK NAME REQUIRED\",IF(ISERROR(VLOOKUP(E247,'Reference Data'!C:C,1,FALSE)),\"PLEASE SELECT A BANK FROM DEFINED LIST PROVIDED\",\"\")),\"\")","v":""},"No Entry",0]
[null,null,null,null,null,null,null,null,null,null,null,null,"",{"$f":"IF(D248=\"Cash and Deposits\",IF(E248=\"\",\"BANK NAME REQUIRED\",IF(ISERROR(VLOOKUP(E248,'Reference Data'!C:C,1,FALSE)),\"PLEASE SELECT A BANK FROM DEFINED LIST PROVIDED\",\"\")),\"\")","v":""},"No Entry",0]
[null,null,null,null,null,null,null,null,null,null,null,null,"",{"$f":"IF(D249=\"Cash and Deposits\",IF(E249=\"\",\"BANK NAME REQUIRED\",IF(ISERROR(VLOOKUP(E249,'Reference Data'!C:C,1,FALSE)),\"PLEASE SELECT A BANK FROM DEFINED LIST PROVIDED\",\"\")),\"\")","v":""},"No Entry",0]
[null,null,null,null,null,null,null,null,null,null,null,null,"",{"$f":"IF(D250=\"Cash and Deposits\",IF(E250=\"\",\"BANK NAME REQUIRED\",IF(ISERROR(VLOOKUP(E250,'Reference Data'!C:C,1,FALSE)),\"PLEASE SELECT A BANK FROM DEFINED LIST PROVIDED\",\"\")),\"\")","v":""},"No Entry",0]
[null,null,null,null,null,null,null,null,null,null,null,null,"",{"$f":"IF(D251=\"Cash and Deposits\",IF(E251=\"\",\"BANK NAME REQUIRED\",IF(ISERROR(VLOOKUP(E251,'Reference Data'!C:C,1,FALSE)),\"PLEASE SELECT A BANK FROM DEFINED LIST PROVIDED\",\"\")),\"\")","v":""},"No Entry",0]
[null,null,null,null,null,null,null,null,null,null,null,null,"",{"$f":"IF(D252=\"Cash and Deposits\",IF(E252=\"\",\"BANK NAME REQUIRED\",IF(ISERROR(VLOOKUP(E252,'Reference Data'!C:C,1,FALSE)),\"PLEASE SELECT A BANK FROM DEFINED LIST PROVIDED\",\"\")),\"\")","v":""},"No Entry",0]
[null,null,null,null,null,null,null,null,null,null,null,null,"",{"$f":"IF(D253=\"Cash and Deposits\",IF(E253=\"\",\"BANK NAME REQUIRED\",IF(ISERROR(VLOOKUP(E253,'Reference Data'!C:C,1,FALSE)),\"PLEASE SELECT A BANK FROM DEFINED LIST PROVIDED\",\"\")),\"\")","v":""},"No Entry",0]
[null,null,null,null,null,null,null,null,null,null,null,null,"",{"$f":"IF(D254=\"Cash and Deposits\",IF(E254=\"\",\"BANK NAME REQUIRED\",IF(ISERROR(VLOOKUP(E254,'Reference Data'!C:C,1,FALSE)),\"PLEASE SELECT A BANK FROM DEFINED LIST PROVIDED\",\"\")),\"\")","v":""},"No Entry",0]
[null,null,null,null,null,null,null,null,null,null,null,null,"",{"$f":"IF(D255=\"Cash and Deposits\",IF(E255=\"\",\"BANK NAME REQUIRED\",IF(ISERROR(VLOOKUP(E255,'Reference Data'!C:C,1,FALSE)),\"PLEASE SELECT A BANK FROM DEFINED LIST PROVIDED\",\"\")),\"\")","v":""},"No Entry",0]
[null,null,null,null,null,null,null,null,null,null,null,null,"",{"$f":"IF(D256=\"Cash and Deposits\",IF(E256=\"\",\"BANK NAME REQUIRED\",IF(ISERROR(VLOOKUP(E256,'Reference Data'!C:C,1,FALSE)),\"PLEASE SELECT A BANK FROM DEFINED LIST PROVIDED\",\"\")),\"\")","v":""},"No Entry",0]
[null,null,null,null,null,null,null,null,null,null,null,null,"",{"$f":"IF(D257=\"Cash and Deposits\",IF(E257=\"\",\"BANK NAME REQUIRED\",IF(ISERROR(VLOOKUP(E257,'Reference Data'!C:C,1,FALSE)),\"PLEASE SELECT A BANK FROM DEFINED LIST PROVIDED\",\"\")),\"\")","v":""},"No Entry",0]
[null,null,null,null,null,null,null,null,null,null,null,null,"",{"$f":"IF(D258=\"Cash and Deposits\",IF(E258=\"\",\"BANK NAME REQUIRED\",IF(ISERROR(VLOOKUP(E258,'Reference Data'!C:C,1,FALSE)),\"PLEASE SELECT A BANK FROM DEFINED LIST PROVIDED\",\"\")),\"\")","v":""},"No Entry",0]
[null,null,null,null,null,null,null,null,null,null,null,null,"",{"$f":"IF(D259=\"Cash and Deposits\",IF(E259=\"\",\"BANK NAME REQUIRED\",IF(ISERROR(VLOOKUP(E259,'Reference Data'!C:C,1,FALSE)),\"PLEASE SELECT A BANK FROM DEFINED LIST PROVIDED\",\"\")),\"\")","v":""},"No Entry",0]
[null,null,null,null,null,null,null,null,null,null,null,null,"",{"$f":"IF(D260=\"Cash and Deposits\",IF(E260=\"\",\"BANK NAME REQUIRED\",IF(ISERROR(VLOOKUP(E260,'Reference Data'!C:C,1,FALSE)),\"PLEASE SELECT A BANK FROM DEFINED LIST PROVIDED\",\"\")),\"\")","v":""},"No Entry",0]
[null,null,null,null,null,null,null,null,null,null,null,null,{"$f":"IF(K261<>0,IF(B261=\"\",\"ID CODE REQUIRED\",\"\"),\"\")","v":""},{"$f":"IF(D261=\"Cash and Deposits\",IF(E261=\"\",\"BANK NAME REQUIRED\",IF(ISERROR(VLOOKUP(E261,'Reference Data'!C:C,1,FALSE)),\"PLEASE SELECT A BANK FROM DEFINED LIST PROVIDED\",\"\")),\"\")","v":""},{"$f":"IF(K261=0,\"No Entry\",\"\")","v":"No Entry"},{"$f":"IF(K261<>0,IF(A261=\"\",1,0),0)","v":0}]
[null,null,null,null,null,null,null,null,null,null,null,null,"",{"$f":"IF(D262=\"Cash and Deposits\",IF(E262=\"\",\"BANK NAME REQUIRED\",IF(ISERROR(VLOOKUP(E262,'Reference Data'!C:C,1,FALSE)),\"PLEASE SELECT A BANK FROM DEFINED LIST PROVIDED\",\"\")),\"\")","v":""},"No Entry",0]
[null,null,null,null,null,null,null,null,null,null,null,null,"",{"$f":"IF(D263=\"Cash and Deposits\",IF(E263=\"\",\"BANK NAME REQUIRED\",IF(ISERROR(VLOOKUP(E263,'Reference Data'!C:C,1,FALSE)),\"PLEASE SELECT A BANK FROM DEFINED LIST PROVIDED\",\"\")),\"\")","v":""},"No Entry",0]
[null,null,null,null,null,null,null,null,null,null,null,null,"",{"$f":"IF(D264=\"Cash and Deposits\",IF(E264=\"\",\"BANK NAME REQUIRED\",IF(ISERROR(VLOOKUP(E264,'Reference Data'!C:C,1,FALSE)),\"PLEASE SELECT A BANK FROM DEFINED LIST PROVIDED\",\"\")),\"\")","v":""},"No Entry",0]
[null,null,null,null,null,null,null,null,null,null,null,null,"",{"$f":"IF(D265=\"Cash and Deposits\",IF(E265=\"\",\"BANK NAME REQUIRED\",IF(ISERROR(VLOOKUP(E265,'Reference Data'!C:C,1,FALSE)),\"PLEASE SELECT A BANK FROM DEFINED LIST PROVIDED\",\"\")),\"\")","v":""},"No Entry",0]
[null,null,null,null,null,null,null,null,null,null,null,null,"",{"$f":"IF(D266=\"Cash and Deposits\",IF(E266=\"\",\"BANK NAME REQUIRED\",IF(ISERROR(VLOOKUP(E266,'Reference Data'!C:C,1,FALSE)),\"PLEASE SELECT A BANK FROM DEFINED LIST PROVIDED\",\"\")),\"\")","v":""},"No Entry",0]
[null,null,null,null,null,null,null,null,null,null,null,null,"",{"$f":"IF(D267=\"Cash and Deposits\",IF(E267=\"\",\"BANK NAME REQUIRED\",IF(ISERROR(VLOOKUP(E267,'Reference Data'!C:C,1,FALSE)),\"PLEASE SELECT A BANK FROM DEFINED LIST PROVIDED\",\"\")),\"\")","v":""},"No Entry",0]
[null,null,null,null,null,null,null,null,null,null,null,null,"",{"$f":"IF(D268=\"Cash and Deposits\",IF(E268=\"\",\"BANK NAME REQUIRED\",IF(ISERROR(VLOOKUP(E268,'Reference Data'!C:C,1,FALSE)),\"PLEASE SELECT A BANK FROM DEFINED LIST PROVIDED\",\"\")),\"\")","v":""},"No Entry",0]
[null,null,null,null,null,null,null,null,null,null,null,null,"",{"$f":"IF(D269=\"Cash and Deposits\",IF(E269=\"\",\"BANK NAME REQUIRED\",IF(ISERROR(VLOOKUP(E269,'Reference Data'!C:C,1,FALSE)),\"PLEASE SELECT A BANK FROM DEFINED LIST PROVIDED\",\"\")),\"\")","v":""},"No Entry",0]
[null,null,null,null,null,null,null,null,null,null,null,null,"",{"$f":"IF(D270=\"Cash and Deposits\",IF(E270=\"\",\"BANK NAME REQUIRED\",IF(ISERROR(VLOOKUP(E270,'Reference Data'!C:C,1,FALSE)),\"PLEASE SELECT A BANK FROM DEFINED LIST PROVIDED\",\"\")),\"\")","v":""},"No Entry",0]
[null,null,null,null,null,null,null,null,null,null,null,null,"",{"$f":"IF(D271=\"Cash and Deposits\",IF(E271=\"\",\"BANK NAME REQUIRED\",IF(ISERROR(VLOOKUP(E271,'Reference Data'!C:C,1,FALSE)),\"PLEASE SELECT A BANK FROM DEFINED LIST PROVIDED\",\"\")),\"\")","v":""},"No Entry",0]
[null,null,null,null,null,null,null,null,null,null,null,null,"",{"$f":"IF(D272=\"Cash and Deposits\",IF(E272=\"\",\"BANK NAME REQUIRED\",IF(ISERROR(VLOOKUP(E272,'Reference Data'!C:C,1,FALSE)),\"PLEASE SELECT A BANK FROM DEFINED LIST PROVIDED\",\"\")),\"\")","v":""},"No Entry",0]
[null,null,null,null,null,null,null,null,null,null,null,null,"",{"$f":"IF(D273=\"Cash and Deposits\",IF(E273=\"\",\"BANK NAME REQUIRED\",IF(ISERROR(VLOOKUP(E273,'Reference Data'!C:C,1,FALSE)),\"PLEASE SELECT A BANK FROM DEFINED LIST PROVIDED\",\"\")),\"\")","v":""},"No Entry",0]
[null,null,null,null,null,null,null,null,null,null,null,null,"",{"$f":"IF(D274=\"Cash and Deposits\",IF(E274=\"\",\"BANK NAME REQUIRED\",IF(ISERROR(VLOOKUP(E274,'Reference Data'!C:C,1,FALSE)),\"PLEASE SELECT A BANK FROM DEFINED LIST PROVIDED\",\"\")),\"\")","v":""},"No Entry",0]
[null,null,null,null,null,null,null,null,null,null,null,null,"",{"$f":"IF(D275=\"Cash and Deposits\",IF(E275=\"\",\"BANK NAME REQUIRED\",IF(ISERROR(VLOOKUP(E275,'Reference Data'!C:C,1,FALSE)),\"PLEASE SELECT A BANK FROM DEFINED LIST PROVIDED\",\"\")),\"\")","v":""},"No Entry",0]
[null,null,null,null,null,null,null,null,null,null,null,null,"",{"$f":"IF(D276=\"Cash and Deposits\",IF(E276=\"\",\"BANK NAME REQUIRED\",IF(ISERROR(VLOOKUP(E276,'Reference Data'!C:C,1,FALSE)),\"PLEASE SELECT A BANK FROM DEFINED LIST PROVIDED\",\"\")),\"\")","v":""},"No Entry",0]
[null,null,null,null,null,null,null,null,null,null,null,null,"",{"$f":"IF(D277=\"Cash and Deposits\",IF(E277=\"\",\"BANK NAME REQUIRED\",IF(ISERROR(VLOOKUP(E277,'Reference Data'!C:C,1,FALSE)),\"PLEASE SELECT A BANK FROM DEFINED LIST PROVIDED\",\"\")),\"\")","v":""},"No Entry",0]
[null,null,null,null,null,null,null,null,null,null,null,null,"",{"$f":"IF(D278=\"Cash and Deposits\",IF(E278=\"\",\"BANK NAME REQUIRED\",IF(ISERROR(VLOOKUP(E278,'Reference Data'!C:C,1,FALSE)),\"PLEASE SELECT A BANK FROM DEFINED LIST PROVIDED\",\"\")),\"\")","v":""},"No Entry",0]
[null,null,null,null,null,null,null,null,null,null,null,null,"",{"$f":"IF(D279=\"Cash and Deposits\",IF(E279=\"\",\"BANK NAME REQUIRED\",IF(ISERROR(VLOOKUP(E279,'Reference Data'!C:C,1,FALSE)),\"PLEASE SELECT A BANK FROM DEFINED LIST PROVIDED\",\"\")),\"\")","v":""},"No Entry",0]
[null,null,null,null,null,null,null,null,null,null,null,null,"",{"$f":"IF(D280=\"Cash and Deposits\",IF(E280=\"\",\"BANK NAME REQUIRED\",IF(ISERROR(VLOOKUP(E280,'Reference Data'!C:C,1,FALSE)),\"PLEASE SELECT A BANK FROM DEFINED LIST PROVIDED\",\"\")),\"\")","v":""},"No Entry",0]
[null,null,null,null,null,null,null,null,null,null,null,null,"",{"$f":"IF(D281=\"Cash and Deposits\",IF(E281=\"\",\"BANK NAME REQUIRED\",IF(ISERROR(VLOOKUP(E281,'Reference Data'!C:C,1,FALSE)),\"PLEASE SELECT A BANK FROM DEFINED LIST PROVIDED\",\"\")),\"\")","v":""},"No Entry",0]
[null,null,null,null,null,null,null,null,null,null,null,null,"",{"$f":"IF(D282=\"Cash and Deposits\",IF(E282=\"\",\"BANK NAME REQUIRED\",IF(ISERROR(VLOOKUP(E282,'Reference Data'!C:C,1,FALSE)),\"PLEASE SELECT A BANK FROM DEFINED LIST PROVIDED\",\"\")),\"\")","v":""},"No Entry",0]
[null,null,null,null,null,null,null,null,null,null,null,null,"",{"$f":"IF(D283=\"Cash and Deposits\",IF(E283=\"\",\"BANK NAME REQUIRED\",IF(ISERROR(VLOOKUP(E283,'Reference Data'!C:C,1,FALSE)),\"PLEASE SELECT A BANK FROM DEFINED LIST PROVIDED\",\"\")),\"\")","v":""},"No Entry",0]
[null,null,null,null,null,null,null,null,null,null,null,null,"",{"$f":"IF(D284=\"Cash and Deposits\",IF(E284=\"\",\"BANK NAME REQUIRED\",IF(ISERROR(VLOOKUP(E284,'Reference Data'!C:C,1,FALSE)),\"PLEASE SELECT A BANK FROM DEFINED LIST PROVIDED\",\"\")),\"\")","v":""},"No Entry",0]
[null,null,null,null,null,null,null,null,null,null,null,null,"",{"$f":"IF(D285=\"Cash and Deposits\",IF(E285=\"\",\"BANK NAME REQUIRED\",IF(ISERROR(VLOOKUP(E285,'Reference Data'!C:C,1,FALSE)),\"PLEASE SELECT A BANK FROM DEFINED LIST PROVIDED\",\"\")),\"\")","v":""},"No Entry",0]
[null,null,null,null,null,null,null,null,null,null,null,null,"",{"$f":"IF(D286=\"Cash and Deposits\",IF(E286=\"\",\"BANK NAME REQUIRED\",IF(ISERROR(VLOOKUP(E286,'Reference Data'!C:C,1,FALSE)),\"PLEASE SELECT A BANK FROM DEFINED LIST PROVIDED\",\"\")),\"\")","v":""},"No Entry",0]
[null,null,null,null,null,null,null,null,null,null,null,null,"",{"$f":"IF(D287=\"Cash and Deposits\",IF(E287=\"\",\"BANK NAME REQUIRED\",IF(ISERROR(VLOOKUP(E287,'Reference Data'!C:C,1,FALSE)),\"PLEASE SELECT A BANK FROM DEFINED LIST PROVIDED\",\"\")),\"\")","v":""},"No Entry",0]
[null,null,null,null,null,null,null,null,null,null,null,null,"",{"$f":"IF(D288=\"Cash and Deposits\",IF(E288=\"\",\"BANK NAME REQUIRED\",IF(ISERROR(VLOOKUP(E288,'Reference Data'!C:C,1,FALSE)),\"PLEASE SELECT A BANK FROM DEFINED LIST PROVIDED\",\"\")),\"\")","v":""},"No Entry",0]
[null,null,null,null,null,null,null,null,null,null,null,null,"",{"$f":"IF(D289=\"Cash and Deposits\",IF(E289=\"\",\"BANK NAME REQUIRED\",IF(ISERROR(VLOOKUP(E289,'Reference Data'!C:C,1,FALSE)),\"PLEASE SELECT A BANK FROM DEFINED LIST PROVIDED\",\"\")),\"\")","v":""},"No Entry",0]
[null,null,null,null,null,null,null,null,null,null,null,null,"",{"$f":"IF(D290=\"Cash and Deposits\",IF(E290=\"\",\"BANK NAME REQUIRED\",IF(ISERROR(VLOOKUP(E290,'Reference Data'!C:C,1,FALSE)),\"PLEASE SELECT A BANK FROM DEFINED LIST PROVIDED\",\"\")),\"\")","v":""},"No Entry",0]
[null,null,null,null,null,null,null,null,null,null,null,null,"",{"$f":"IF(D291=\"Cash and Deposits\",IF(E291=\"\",\"BANK NAME REQUIRED\",IF(ISERROR(VLOOKUP(E291,'Reference Data'!C:C,1,FALSE)),\"PLEASE SELECT A BANK FROM DEFINED LIST PROVIDED\",\"\")),\"\")","v":""},"No Entry",0]
[null,null,null,null,null,null,null,null,null,null,null,null,"",{"$f":"IF(D292=\"Cash and Deposits\",IF(E292=\"\",\"BANK NAME REQUIRED\",IF(ISERROR(VLOOKUP(E292,'Reference Data'!C:C,1,FALSE)),\"PLEASE SELECT A BANK FROM DEFINED LIST PROVIDED\",\"\")),\"\")","v":""},"No Entry",0]
[null,null,null,null,null,null,null,null,null,null,null,null,"",{"$f":"IF(D293=\"Cash and Deposits\",IF(E293=\"\",\"BANK NAME REQUIRED\",IF(ISERROR(VLOOKUP(E293,'Reference Data'!C:C,1,FALSE)),\"PLEASE SELECT A BANK FROM DEFINED LIST PROVIDED\",\"\")),\"\")","v":""},"No Entry",0]
[null,null,null,null,null,null,null,null,null,null,null,null,"",{"$f":"IF(D294=\"Cash and Deposits\",IF(E294=\"\",\"BANK NAME REQUIRED\",IF(ISERROR(VLOOKUP(E294,'Reference Data'!C:C,1,FALSE)),\"PLEASE SELECT A BANK FROM DEFINED LIST PROVIDED\",\"\")),\"\")","v":""},"No Entry",0]
[null,null,null,null,null,null,null,null,null,null,null,null,"",{"$f":"IF(D295=\"Cash and Deposits\",IF(E295=\"\",\"BANK NAME REQUIRED\",IF(ISERROR(VLOOKUP(E295,'Reference Data'!C:C,1,FALSE)),\"PLEASE SELECT A BANK FROM DEFINED LIST PROVIDED\",\"\")),\"\")","v":""},"No Entry",0]
[null,null,null,null,null,null,null,null,null,null,null,null,"",{"$f":"IF(D296=\"Cash and Deposits\",IF(E296=\"\",\"BANK NAME REQUIRED\",IF(ISERROR(VLOOKUP(E296,'Reference Data'!C:C,1,FALSE)),\"PLEASE SELECT A BANK FROM DEFINED LIST PROVIDED\",\"\")),\"\")","v":""},"No Entry",0]
[null,null,null,null,null,null,null,null,null,null,null,null,"",{"$f":"IF(D297=\"Cash and Deposits\",IF(E297=\"\",\"BANK NAME REQUIRED\",IF(ISERROR(VLOOKUP(E297,'Reference Data'!C:C,1,FALSE)),\"PLEASE SELECT A BANK FROM DEFINED LIST PROVIDED\",\"\")),\"\")","v":""},"No Entry",0]
[null,null,null,null,null,null,null,null,null,null,null,null,"",{"$f":"IF(D298=\"Cash and Deposits\",IF(E298=\"\",\"BANK NAME REQUIRED\",IF(ISERROR(VLOOKUP(E298,'Reference Data'!C:C,1,FALSE)),\"PLEASE SELECT A BANK FROM DEFINED LIST PROVIDED\",\"\")),\"\")","v":""},"No Entry",0]
[null,null,null,null,null,null,null,null,null,null,null,null,"",{"$f":"IF(D299=\"Cash and Deposits\",IF(E299=\"\",\"BANK NAME REQUIRED\",IF(ISERROR(VLOOKUP(E299,'Reference Data'!C:C,1,FALSE)),\"PLEASE SELECT A BANK FROM DEFINED LIST PROVIDED\",\"\")),\"\")","v":""},"No Entry",0]
[null,null,null,null,null,null,null,null,null,null,null,null,"",{"$f":"IF(D300=\"Cash and Deposits\",IF(E300=\"\",\"BANK NAME REQUIRED\",IF(ISERROR(VLOOKUP(E300,'Reference Data'!C:C,1,FALSE)),\"PLEASE SELECT A BANK FROM DEFINED LIST PROVIDED\",\"\")),\"\")","v":""},"No Entry",0]
[null,null,null,null,null,null,null,null,null,null,null,null,"",{"$f":"IF(D301=\"Cash and Deposits\",IF(E301=\"\",\"BANK NAME REQUIRED\",IF(ISERROR(VLOOKUP(E301,'Reference Data'!C:C,1,FALSE)),\"PLEASE SELECT A BANK FROM DEFINED LIST PROVIDED\",\"\")),\"\")","v":""},"No Entry",0]
[null,null,null,null,null,null,null,null,null,null,null,null,"",{"$f":"IF(D302=\"Cash and Deposits\",IF(E302=\"\",\"BANK NAME REQUIRED\",IF(ISERROR(VLOOKUP(E302,'Reference Data'!C:C,1,FALSE)),\"PLEASE SELECT A BANK FROM DEFINED LIST PROVIDED\",\"\")),\"\")","v":""},"No Entry",0]
[null,null,null,null,null,null,null,null,null,null,null,null,"",{"$f":"IF(D303=\"Cash and Deposits\",IF(E303=\"\",\"BANK NAME REQUIRED\",IF(ISERROR(VLOOKUP(E303,'Reference Data'!C:C,1,FALSE)),\"PLEASE SELECT A BANK FROM DEFINED LIST PROVIDED\",\"\")),\"\")","v":""},"No Entry",0]
[null,null,null,null,null,null,null,null,null,null,null,null,"",{"$f":"IF(D304=\"Cash and Deposits\",IF(E304=\"\",\"BANK NAME REQUIRED\",IF(ISERROR(VLOOKUP(E304,'Reference Data'!C:C,1,FALSE)),\"PLEASE SELECT A BANK FROM DEFINED LIST PROVIDED\",\"\")),\"\")","v":""},"No Entry",0]
[null,null,null,null,null,null,null,null,null,null,null,null,"",{"$f":"IF(D305=\"Cash and Deposits\",IF(E305=\"\",\"BANK NAME REQUIRED\",IF(ISERROR(VLOOKUP(E305,'Reference Data'!C:C,1,FALSE)),\"PLEASE SELECT A BANK FROM DEFINED LIST PROVIDED\",\"\")),\"\")","v":""},"No Entry",0]
[null,null,null,null,null,null,null,null,null,null,null,null,"",{"$f":"IF(D306=\"Cash and Deposits\",IF(E306=\"\",\"BANK NAME REQUIRED\",IF(ISERROR(VLOOKUP(E306,'Reference Data'!C:C,1,FALSE)),\"PLEASE SELECT A BANK FROM DEFINED LIST PROVIDED\",\"\")),\"\")","v":""},"No Entry",0]
[null,null,null,null,null,null,null,null,null,null,null,null,"",{"$f":"IF(D307=\"Cash and Deposits\",IF(E307=\"\",\"BANK NAME REQUIRED\",IF(ISERROR(VLOOKUP(E307,'Reference Data'!C:C,1,FALSE)),\"PLEASE SELECT A BANK FROM DEFINED LIST PROVIDED\",\"\")),\"\")","v":""},"No Entry",0]
[null,null,null,null,null,null,null,null,null,null,null,null,"",{"$f":"IF(D308=\"Cash and Deposits\",IF(E308=\"\",\"BANK NAME REQUIRED\",IF(ISERROR(VLOOKUP(E308,'Reference Data'!C:C,1,FALSE)),\"PLEASE SELECT A BANK FROM DEFINED LIST PROVIDED\",\"\")),\"\")","v":""},"No Entry",0]
[null,null,null,null,null,null,null,null,null,null,null,null,"",{"$f":"IF(D309=\"Cash and Deposits\",IF(E309=\"\",\"BANK NAME REQUIRED\",IF(ISERROR(VLOOKUP(E309,'Reference Data'!C:C,1,FALSE)),\"PLEASE SELECT A BANK FROM DEFINED LIST PROVIDED\",\"\")),\"\")","v":""},"No Entry",0]
[null,null,null,null,null,null,null,null,null,null,null,null,"",{"$f":"IF(D310=\"Cash and Deposits\",IF(E310=\"\",\"BANK NAME REQUIRED\",IF(ISERROR(VLOOKUP(E310,'Reference Data'!C:C,1,FALSE)),\"PLEASE SELECT A BANK FROM DEFINED LIST PROVIDED\",\"\")),\"\")","v":""},"No Entry",0]
[null,null,null,null,null,null,null,null,null,null,null,null,"",{"$f":"IF(D311=\"Cash and Deposits\",IF(E311=\"\",\"BANK NAME REQUIRED\",IF(ISERROR(VLOOKUP(E311,'Reference Data'!C:C,1,FALSE)),\"PLEASE SELECT A BANK FROM DEFINED LIST PROVIDED\",\"\")),\"\")","v":""},"No Entry",0]
[null,null,null,null,null,null,null,null,null,null,null,null,"",{"$f":"IF(D312=\"Cash and Deposits\",IF(E312=\"\",\"BANK NAME REQUIRED\",IF(ISERROR(VLOOKUP(E312,'Reference Data'!C:C,1,FALSE)),\"PLEASE SELECT A BANK FROM DEFINED LIST PROVIDED\",\"\")),\"\")","v":""},"No Entry",0]
[null,null,null,null,null,null,null,null,null,null,null,null,"",{"$f":"IF(D313=\"Cash and Deposits\",IF(E313=\"\",\"BANK NAME REQUIRED\",IF(ISERROR(VLOOKUP(E313,'Reference Data'!C:C,1,FALSE)),\"PLEASE SELECT A BANK FROM DEFINED LIST PROVIDED\",\"\")),\"\")","v":""},"No Entry",0]
[null,null,null,null,null,null,null,null,null,null,null,null,"",{"$f":"IF(D314=\"Cash and Deposits\",IF(E314=\"\",\"BANK NAME REQUIRED\",IF(ISERROR(VLOOKUP(E314,'Reference Data'!C:C,1,FALSE)),\"PLEASE SELECT A BANK FROM DEFINED LIST PROVIDED\",\"\")),\"\")","v":""},"No Entry",0]
[null,null,null,null,null,null,null,null,null,null,null,null,"",{"$f":"IF(D315=\"Cash and Deposits\",IF(E315=\"\",\"BANK NAME REQUIRED\",IF(ISERROR(VLOOKUP(E315,'Reference Data'!C:C,1,FALSE)),\"PLEASE SELECT A BANK FROM DEFINED LIST PROVIDED\",\"\")),\"\")","v":""},"No Entry",0]
[null,null,null,null,null,null,null,null,null,null,null,null,"",{"$f":"IF(D316=\"Cash and Deposits\",IF(E316=\"\",\"BANK NAME REQUIRED\",IF(ISERROR(VLOOKUP(E316,'Reference Data'!C:C,1,FALSE)),\"PLEASE SELECT A BANK FROM DEFINED LIST PROVIDED\",\"\")),\"\")","v":""},"No Entry",0]
[null,null,null,null,null,null,null,null,null,null,null,null,"",{"$f":"IF(D317=\"Cash and Deposits\",IF(E317=\"\",\"BANK NAME REQUIRED\",IF(ISERROR(VLOOKUP(E317,'Reference Data'!C:C,1,FALSE)),\"PLEASE SELECT A BANK FROM DEFINED LIST PROVIDED\",\"\")),\"\")","v":""},"No Entry",0]
[null,null,null,null,null,null,null,null,null,null,null,null,"",{"$f":"IF(D318=\"Cash and Deposits\",IF(E318=\"\",\"BANK NAME REQUIRED\",IF(ISERROR(VLOOKUP(E318,'Reference Data'!C:C,1,FALSE)),\"PLEASE SELECT A BANK FROM DEFINED LIST PROVIDED\",\"\")),\"\")","v":""},"No Entry",0]
[null,null,null,null,null,null,null,null,null,null,null,null,"",{"$f":"IF(D319=\"Cash and Deposits\",IF(E319=\"\",\"BANK NAME REQUIRED\",IF(ISERROR(VLOOKUP(E319,'Reference Data'!C:C,1,FALSE)),\"PLEASE SELECT A BANK FROM DEFINED LIST PROVIDED\",\"\")),\"\")","v":""},"No Entry",0]
[null,null,null,null,null,null,null,null,null,null,null,null,"",{"$f":"IF(D320=\"Cash and Deposits\",IF(E320=\"\",\"BANK NAME REQUIRED\",IF(ISERROR(VLOOKUP(E320,'Reference Data'!C:C,1,FALSE)),\"PLEASE SELECT A BANK FROM DEFINED LIST PROVIDED\",\"\")),\"\")","v":""},"No Entry",0]
[null,null,null,null,null,null,null,null,null,null,null,null,"",{"$f":"IF(D321=\"Cash and Deposits\",IF(E321=\"\",\"BANK NAME REQUIRED\",IF(ISERROR(VLOOKUP(E321,'Reference Data'!C:C,1,FALSE)),\"PLEASE SELECT A BANK FROM DEFINED LIST PROVIDED\",\"\")),\"\")","v":""},"No Entry",0]
[null,null,null,null,null,null,null,null,null,null,null,null,"",{"$f":"IF(D322=\"Cash and Deposits\",IF(E322=\"\",\"BANK NAME REQUIRED\",IF(ISERROR(VLOOKUP(E322,'Reference Data'!C:C,1,FALSE)),\"PLEASE SELECT A BANK FROM DEFINED LIST PROVIDED\",\"\")),\"\")","v":""},"No Entry",0]
[null,null,null,null,null,null,null,null,null,null,null,null,"",{"$f":"IF(D323=\"Cash and Deposits\",IF(E323=\"\",\"BANK NAME REQUIRED\",IF(ISERROR(VLOOKUP(E323,'Reference Data'!C:C,1,FALSE)),\"PLEASE SELECT A BANK FROM DEFINED LIST PROVIDED\",\"\")),\"\")","v":""},"No Entry",0]
[null,null,null,null,null,null,null,null,null,null,null,null,"",{"$f":"IF(D324=\"Cash and Deposits\",IF(E324=\"\",\"BANK NAME REQUIRED\",IF(ISERROR(VLOOKUP(E324,'Reference Data'!C:C,1,FALSE)),\"PLEASE SELECT A BANK FROM DEFINED LIST PROVIDED\",\"\")),\"\")","v":""},"No Entry",0]
[null,null,null,null,null,null,null,null,null,null,null,null,{"$f":"IF(K325<>0,IF(B325=\"\",\"ID CODE REQUIRED\",\"\"),\"\")","v":""},{"$f":"IF(D325=\"Cash and Deposits\",IF(E325=\"\",\"BANK NAME REQUIRED\",IF(ISERROR(VLOOKUP(E325,'Reference Data'!C:C,1,FALSE)),\"PLEASE SELECT A BANK FROM DEFINED LIST PROVIDED\",\"\")),\"\")","v":""},{"$f":"IF(K325=0,\"No Entry\",\"\")","v":"No Entry"},{"$f":"IF(K325<>0,IF(A325=\"\",1,0),0)","v":0}]
[null,null,null,null,null,null,null,null,null,null,null,null,"",{"$f":"IF(D326=\"Cash and Deposits\",IF(E326=\"\",\"BANK NAME REQUIRED\",IF(ISERROR(VLOOKUP(E326,'Reference Data'!C:C,1,FALSE)),\"PLEASE SELECT A BANK FROM DEFINED LIST PROVIDED\",\"\")),\"\")","v":""},"No Entry",0]
[null,null,null,null,null,null,null,null,null,null,null,null,"",{"$f":"IF(D327=\"Cash and Deposits\",IF(E327=\"\",\"BANK NAME REQUIRED\",IF(ISERROR(VLOOKUP(E327,'Reference Data'!C:C,1,FALSE)),\"PLEASE SELECT A BANK FROM DEFINED LIST PROVIDED\",\"\")),\"\")","v":""},"No Entry",0]
[null,null,null,null,null,null,null,null,null,null,null,null,"",{"$f":"IF(D328=\"Cash and Deposits\",IF(E328=\"\",\"BANK NAME REQUIRED\",IF(ISERROR(VLOOKUP(E328,'Reference Data'!C:C,1,FALSE)),\"PLEASE SELECT A BANK FROM DEFINED LIST PROVIDED\",\"\")),\"\")","v":""},"No Entry",0]
[null,null,null,null,null,null,null,null,null,null,null,null,"",{"$f":"IF(D329=\"Cash and Deposits\",IF(E329=\"\",\"BANK NAME REQUIRED\",IF(ISERROR(VLOOKUP(E329,'Reference Data'!C:C,1,FALSE)),\"PLEASE SELECT A BANK FROM DEFINED LIST PROVIDED\",\"\")),\"\")","v":""},"No Entry",0]
[null,null,null,null,null,null,null,null,null,null,null,null,"",{"$f":"IF(D330=\"Cash and Deposits\",IF(E330=\"\",\"BANK NAME REQUIRED\",IF(ISERROR(VLOOKUP(E330,'Reference Data'!C:C,1,FALSE)),\"PLEASE SELECT A BANK FROM DEFINED LIST PROVIDED\",\"\")),\"\")","v":""},"No Entry",0]
[null,null,null,null,null,null,null,null,null,null,null,null,"",{"$f":"IF(D331=\"Cash and Deposits\",IF(E331=\"\",\"BANK NAME REQUIRED\",IF(ISERROR(VLOOKUP(E331,'Reference Data'!C:C,1,FALSE)),\"PLEASE SELECT A BANK FROM DEFINED LIST PROVIDED\",\"\")),\"\")","v":""},"No Entry",0]
[null,null,null,null,null,null,null,null,null,null,null,null,"",{"$f":"IF(D332=\"Cash and Deposits\",IF(E332=\"\",\"BANK NAME REQUIRED\",IF(ISERROR(VLOOKUP(E332,'Reference Data'!C:C,1,FALSE)),\"PLEASE SELECT A BANK FROM DEFINED LIST PROVIDED\",\"\")),\"\")","v":""},"No Entry",0]
[null,null,null,null,null,null,null,null,null,null,null,null,"",{"$f":"IF(D333=\"Cash and Deposits\",IF(E333=\"\",\"BANK NAME REQUIRED\",IF(ISERROR(VLOOKUP(E333,'Reference Data'!C:C,1,FALSE)),\"PLEASE SELECT A BANK FROM DEFINED LIST PROVIDED\",\"\")),\"\")","v":""},"No Entry",0]
[null,null,null,null,null,null,null,null,null,null,null,null,"",{"$f":"IF(D334=\"Cash and Deposits\",IF(E334=\"\",\"BANK NAME REQUIRED\",IF(ISERROR(VLOOKUP(E334,'Reference Data'!C:C,1,FALSE)),\"PLEASE SELECT A BANK FROM DEFINED LIST PROVIDED\",\"\")),\"\")","v":""},"No Entry",0]
[null,null,null,null,null,null,null,null,null,null,null,null,"",{"$f":"IF(D335=\"Cash and Deposits\",IF(E335=\"\",\"BANK NAME REQUIRED\",IF(ISERROR(VLOOKUP(E335,'Reference Data'!C:C,1,FALSE)),\"PLEASE SELECT A BANK FROM DEFINED LIST PROVIDED\",\"\")),\"\")","v":""},"No Entry",0]
[null,null,null,null,null,null,null,null,null,null,null,null,"",{"$f":"IF(D336=\"Cash and Deposits\",IF(E336=\"\",\"BANK NAME REQUIRED\",IF(ISERROR(VLOOKUP(E336,'Reference Data'!C:C,1,FALSE)),\"PLEASE SELECT A BANK FROM DEFINED LIST PROVIDED\",\"\")),\"\")","v":""},"No Entry",0]
[null,null,null,null,null,null,null,null,null,null,null,null,"",{"$f":"IF(D337=\"Cash and Deposits\",IF(E337=\"\",\"BANK NAME REQUIRED\",IF(ISERROR(VLOOKUP(E337,'Reference Data'!C:C,1,FALSE)),\"PLEASE SELECT A BANK FROM DEFINED LIST PROVIDED\",\"\")),\"\")","v":""},"No Entry",0]
[null,null,null,null,null,null,null,null,null,null,null,null,"",{"$f":"IF(D338=\"Cash and Deposits\",IF(E338=\"\",\"BANK NAME REQUIRED\",IF(ISERROR(VLOOKUP(E338,'Reference Data'!C:C,1,FALSE)),\"PLEASE SELECT A BANK FROM DEFINED LIST PROVIDED\",\"\")),\"\")","v":""},"No Entry",0]
[null,null,null,null,null,null,null,null,null,null,null,null,"",{"$f":"IF(D339=\"Cash and Deposits\",IF(E339=\"\",\"BANK NAME REQUIRED\",IF(ISERROR(VLOOKUP(E339,'Reference Data'!C:C,1,FALSE)),\"PLEASE SELECT A BANK FROM DEFINED LIST PROVIDED\",\"\")),\"\")","v":""},"No Entry",0]
[null,null,null,null,null,null,null,null,null,null,null,null,"",{"$f":"IF(D340=\"Cash and Deposits\",IF(E340=\"\",\"BANK NAME REQUIRED\",IF(ISERROR(VLOOKUP(E340,'Reference Data'!C:C,1,FALSE)),\"PLEASE SELECT A BANK FROM DEFINED LIST PROVIDED\",\"\")),\"\")","v":""},"No Entry",0]
[null,null,null,null,null,null,null,null,null,null,null,null,"",{"$f":"IF(D341=\"Cash and Deposits\",IF(E341=\"\",\"BANK NAME REQUIRED\",IF(ISERROR(VLOOKUP(E341,'Reference Data'!C:C,1,FALSE)),\"PLEASE SELECT A BANK FROM DEFINED LIST PROVIDED\",\"\")),\"\")","v":""},"No Entry",0]
[null,null,null,null,null,null,null,null,null,null,null,null,"",{"$f":"IF(D342=\"Cash and Deposits\",IF(E342=\"\",\"BANK NAME REQUIRED\",IF(ISERROR(VLOOKUP(E342,'Reference Data'!C:C,1,FALSE)),\"PLEASE SELECT A BANK FROM DEFINED LIST PROVIDED\",\"\")),\"\")","v":""},"No Entry",0]
[null,null,null,null,null,null,null,null,null,null,null,null,"",{"$f":"IF(D343=\"Cash and Deposits\",IF(E343=\"\",\"BANK NAME REQUIRED\",IF(ISERROR(VLOOKUP(E343,'Reference Data'!C:C,1,FALSE)),\"PLEASE SELECT A BANK FROM DEFINED LIST PROVIDED\",\"\")),\"\")","v":""},"No Entry",0]
[null,null,null,null,null,null,null,null,null,null,null,null,"",{"$f":"IF(D344=\"Cash and Deposits\",IF(E344=\"\",\"BANK NAME REQUIRED\",IF(ISERROR(VLOOKUP(E344,'Reference Data'!C:C,1,FALSE)),\"PLEASE SELECT A BANK FROM DEFINED LIST PROVIDED\",\"\")),\"\")","v":""},"No Entry",0]
[null,null,null,null,null,null,null,null,null,null,null,null,"",{"$f":"IF(D345=\"Cash and Deposits\",IF(E345=\"\",\"BANK NAME REQUIRED\",IF(ISERROR(VLOOKUP(E345,'Reference Data'!C:C,1,FALSE)),\"PLEASE SELECT A BANK FROM DEFINED LIST PROVIDED\",\"\")),\"\")","v":""},"No Entry",0]
[null,null,null,null,null,null,null,null,null,null,null,null,"",{"$f":"IF(D346=\"Cash and Deposits\",IF(E346=\"\",\"BANK NAME REQUIRED\",IF(ISERROR(VLOOKUP(E346,'Reference Data'!C:C,1,FALSE)),\"PLEASE SELECT A BANK FROM DEFINED LIST PROVIDED\",\"\")),\"\")","v":""},"No Entry",0]
[null,null,null,null,null,null,null,null,null,null,null,null,"",{"$f":"IF(D347=\"Cash and Deposits\",IF(E347=\"\",\"BANK NAME REQUIRED\",IF(ISERROR(VLOOKUP(E347,'Reference Data'!C:C,1,FALSE)),\"PLEASE SELECT A BANK FROM DEFINED LIST PROVIDED\",\"\")),\"\")","v":""},"No Entry",0]
[null,null,null,null,null,null,null,null,null,null,null,null,"",{"$f":"IF(D348=\"Cash and Deposits\",IF(E348=\"\",\"BANK NAME REQUIRED\",IF(ISERROR(VLOOKUP(E348,'Reference Data'!C:C,1,FALSE)),\"PLEASE SELECT A BANK FROM DEFINED LIST PROVIDED\",\"\")),\"\")","v":""},"No Entry",0]
[null,null,null,null,null,null,null,null,null,null,null,null,"",{"$f":"IF(D349=\"Cash and Deposits\",IF(E349=\"\",\"BANK NAME REQUIRED\",IF(ISERROR(VLOOKUP(E349,'Reference Data'!C:C,1,FALSE)),\"PLEASE SELECT A BANK FROM DEFINED LIST PROVIDED\",\"\")),\"\")","v":""},"No Entry",0]
[null,null,null,null,null,null,null,null,null,null,null,null,"",{"$f":"IF(D350=\"Cash and Deposits\",IF(E350=\"\",\"BANK NAME REQUIRED\",IF(ISERROR(VLOOKUP(E350,'Reference Data'!C:C,1,FALSE)),\"PLEASE SELECT A BANK FROM DEFINED LIST PROVIDED\",\"\")),\"\")","v":""},"No Entry",0]
[null,null,null,null,null,null,null,null,null,null,null,null,"",{"$f":"IF(D351=\"Cash and Deposits\",IF(E351=\"\",\"BANK NAME REQUIRED\",IF(ISERROR(VLOOKUP(E351,'Reference Data'!C:C,1,FALSE)),\"PLEASE SELECT A BANK FROM DEFINED LIST PROVIDED\",\"\")),\"\")","v":""},"No Entry",0]
[null,null,null,null,null,null,null,null,null,null,null,null,"",{"$f":"IF(D352=\"Cash and Deposits\",IF(E352=\"\",\"BANK NAME REQUIRED\",IF(ISERROR(VLOOKUP(E352,'Reference Data'!C:C,1,FALSE)),\"PLEASE SELECT A BANK FROM DEFINED LIST PROVIDED\",\"\")),\"\")","v":""},"No Entry",0]
[null,null,null,null,null,null,null,null,null,null,null,null,"",{"$f":"IF(D353=\"Cash and Deposits\",IF(E353=\"\",\"BANK NAME REQUIRED\",IF(ISERROR(VLOOKUP(E353,'Reference Data'!C:C,1,FALSE)),\"PLEASE SELECT A BANK FROM DEFINED LIST PROVIDED\",\"\")),\"\")","v":""},"No Entry",0]
[null,null,null,null,null,null,null,null,null,null,null,null,"",{"$f":"IF(D354=\"Cash and Deposits\",IF(E354=\"\",\"BANK NAME REQUIRED\",IF(ISERROR(VLOOKUP(E354,'Reference Data'!C:C,1,FALSE)),\"PLEASE SELECT A BANK FROM DEFINED LIST PROVIDED\",\"\")),\"\")","v":""},"No Entry",0]
[null,null,null,null,null,null,null,null,null,null,null,null,"",{"$f":"IF(D355=\"Cash and Deposits\",IF(E355=\"\",\"BANK NAME REQUIRED\",IF(ISERROR(VLOOKUP(E355,'Reference Data'!C:C,1,FALSE)),\"PLEASE SELECT A BANK FROM DEFINED LIST PROVIDED\",\"\")),\"\")","v":""},"No Entry",0]
[null,null,null,null,null,null,null,null,null,null,null,null,"",{"$f":"IF(D356=\"Cash and Deposits\",IF(E356=\"\",\"BANK NAME REQUIRED\",IF(ISERROR(VLOOKUP(E356,'Reference Data'!C:C,1,FALSE)),\"PLEASE SELECT A BANK FROM DEFINED LIST PROVIDED\",\"\")),\"\")","v":""},"No Entry",0]
[null,null,null,null,null,null,null,null,null,null,null,null,"",{"$f":"IF(D357=\"Cash and Deposits\",IF(E357=\"\",\"BANK NAME REQUIRED\",IF(ISERROR(VLOOKUP(E357,'Reference Data'!C:C,1,FALSE)),\"PLEASE SELECT A BANK FROM DEFINED LIST PROVIDED\",\"\")),\"\")","v":""},"No Entry",0]
[null,null,null,null,null,null,null,null,null,null,null,null,"",{"$f":"IF(D358=\"Cash and Deposits\",IF(E358=\"\",\"BANK NAME REQUIRED\",IF(ISERROR(VLOOKUP(E358,'Reference Data'!C:C,1,FALSE)),\"PLEASE SELECT A BANK FROM DEFINED LIST PROVIDED\",\"\")),\"\")","v":""},"No Entry",0]
[null,null,null,null,null,null,null,null,null,null,null,null,"",{"$f":"IF(D359=\"Cash and Deposits\",IF(E359=\"\",\"BANK NAME REQUIRED\",IF(ISERROR(VLOOKUP(E359,'Reference Data'!C:C,1,FALSE)),\"PLEASE SELECT A BANK FROM DEFINED LIST PROVIDED\",\"\")),\"\")","v":""},"No Entry",0]
[null,null,null,null,null,null,null,null,null,null,null,null,"",{"$f":"IF(D360=\"Cash and Deposits\",IF(E360=\"\",\"BANK NAME REQUIRED\",IF(ISERROR(VLOOKUP(E360,'Reference Data'!C:C,1,FALSE)),\"PLEASE SELECT A BANK FROM DEFINED LIST PROVIDED\",\"\")),\"\")","v":""},"No Entry",0]
[null,null,null,null,null,null,null,null,null,null,null,null,"",{"$f":"IF(D361=\"Cash and Deposits\",IF(E361=\"\",\"BANK NAME REQUIRED\",IF(ISERROR(VLOOKUP(E361,'Reference Data'!C:C,1,FALSE)),\"PLEASE SELECT A BANK FROM DEFINED LIST PROVIDED\",\"\")),\"\")","v":""},"No Entry",0]
[null,null,null,null,null,null,null,null,null,null,null,null,"",{"$f":"IF(D362=\"Cash and Deposits\",IF(E362=\"\",\"BANK NAME REQUIRED\",IF(ISERROR(VLOOKUP(E362,'Reference Data'!C:C,1,FALSE)),\"PLEASE SELECT A BANK FROM DEFINED LIST PROVIDED\",\"\")),\"\")","v":""},"No Entry",0]
[null,null,null,null,null,null,null,null,null,null,null,null,"",{"$f":"IF(D363=\"Cash and Deposits\",IF(E363=\"\",\"BANK NAME REQUIRED\",IF(ISERROR(VLOOKUP(E363,'Reference Data'!C:C,1,FALSE)),\"PLEASE SELECT A BANK FROM DEFINED LIST PROVIDED\",\"\")),\"\")","v":""},"No Entry",0]
[null,null,null,null,null,null,null,null,null,null,null,null,"",{"$f":"IF(D364=\"Cash and Deposits\",IF(E364=\"\",\"BANK NAME REQUIRED\",IF(ISERROR(VLOOKUP(E364,'Reference Data'!C:C,1,FALSE)),\"PLEASE SELECT A BANK FROM DEFINED LIST PROVIDED\",\"\")),\"\")","v":""},"No Entry",0]
[null,null,null,null,null,null,null,null,null,null,null,null,"",{"$f":"IF(D365=\"Cash and Deposits\",IF(E365=\"\",\"BANK NAME REQUIRED\",IF(ISERROR(VLOOKUP(E365,'Reference Data'!C:C,1,FALSE)),\"PLEASE SELECT A BANK FROM DEFINED LIST PROVIDED\",\"\")),\"\")","v":""},"No Entry",0]
[null,null,null,null,null,null,null,null,null,null,null,null,"",{"$f":"IF(D366=\"Cash and Deposits\",IF(E366=\"\",\"BANK NAME REQUIRED\",IF(ISERROR(VLOOKUP(E366,'Reference Data'!C:C,1,FALSE)),\"PLEASE SELECT A BANK FROM DEFINED LIST PROVIDED\",\"\")),\"\")","v":""},"No Entry",0]
[null,null,null,null,null,null,null,null,null,null,null,null,"",{"$f":"IF(D367=\"Cash and Deposits\",IF(E367=\"\",\"BANK NAME REQUIRED\",IF(ISERROR(VLOOKUP(E367,'Reference Data'!C:C,1,FALSE)),\"PLEASE SELECT A BANK FROM DEFINED LIST PROVIDED\",\"\")),\"\")","v":""},"No Entry",0]
[null,null,null,null,null,null,null,null,null,null,null,null,"",{"$f":"IF(D368=\"Cash and Deposits\",IF(E368=\"\",\"BANK NAME REQUIRED\",IF(ISERROR(VLOOKUP(E368,'Reference Data'!C:C,1,FALSE)),\"PLEASE SELECT A BANK FROM DEFINED LIST PROVIDED\",\"\")),\"\")","v":""},"No Entry",0]
[null,null,null,null,null,null,null,null,null,null,null,null,"",{"$f":"IF(D369=\"Cash and Deposits\",IF(E369=\"\",\"BANK NAME REQUIRED\",IF(ISERROR(VLOOKUP(E369,'Reference Data'!C:C,1,FALSE)),\"PLEASE SELECT A BANK FROM DEFINED LIST PROVIDED\",\"\")),\"\")","v":""},"No Entry",0]
[null,null,null,null,null,null,null,null,null,null,null,null,"",{"$f":"IF(D370=\"Cash and Deposits\",IF(E370=\"\",\"BANK NAME REQUIRED\",IF(ISERROR(VLOOKUP(E370,'Reference Data'!C:C,1,FALSE)),\"PLEASE SELECT A BANK FROM DEFINED LIST PROVIDED\",\"\")),\"\")","v":""},"No Entry",0]
[null,null,null,null,null,null,null,null,null,null,null,null,"",{"$f":"IF(D371=\"Cash and Deposits\",IF(E371=\"\",\"BANK NAME REQUIRED\",IF(ISERROR(VLOOKUP(E371,'Reference Data'!C:C,1,FALSE)),\"PLEASE SELECT A BANK FROM DEFINED LIST PROVIDED\",\"\")),\"\")","v":""},"No Entry",0]
[null,null,null,null,null,null,null,null,null,null,null,null,"",{"$f":"IF(D372=\"Cash and Deposits\",IF(E372=\"\",\"BANK NAME REQUIRED\",IF(ISERROR(VLOOKUP(E372,'Reference Data'!C:C,1,FALSE)),\"PLEASE SELECT A BANK FROM DEFINED LIST PROVIDED\",\"\")),\"\")","v":""},"No Entry",0]
[null,null,null,null,null,null,null,null,null,null,null,null,"",{"$f":"IF(D373=\"Cash and Deposits\",IF(E373=\"\",\"BANK NAME REQUIRED\",IF(ISERROR(VLOOKUP(E373,'Reference Data'!C:C,1,FALSE)),\"PLEASE SELECT A BANK FROM DEFINED LIST PROVIDED\",\"\")),\"\")","v":""},"No Entry",0]
[null,null,null,null,null,null,null,null,null,null,null,null,"",{"$f":"IF(D374=\"Cash and Deposits\",IF(E374=\"\",\"BANK NAME REQUIRED\",IF(ISERROR(VLOOKUP(E374,'Reference Data'!C:C,1,FALSE)),\"PLEASE SELECT A BANK FROM DEFINED LIST PROVIDED\",\"\")),\"\")","v":""},"No Entry",0]
[null,null,null,null,null,null,null,null,null,null,null,null,"",{"$f":"IF(D375=\"Cash and Deposits\",IF(E375=\"\",\"BANK NAME REQUIRED\",IF(ISERROR(VLOOKUP(E375,'Reference Data'!C:C,1,FALSE)),\"PLEASE SELECT A BANK FROM DEFINED LIST PROVIDED\",\"\")),\"\")","v":""},"No Entry",0]
[null,null,null,null,null,null,null,null,null,null,null,null,"",{"$f":"IF(D376=\"Cash and Deposits\",IF(E376=\"\",\"BANK NAME REQUIRED\",IF(ISERROR(VLOOKUP(E376,'Reference Data'!C:C,1,FALSE)),\"PLEASE SELECT A BANK FROM DEFINED LIST PROVIDED\",\"\")),\"\")","v":""},"No Entry",0]
[null,null,null,null,null,null,null,null,null,null,null,null,"",{"$f":"IF(D377=\"Cash and Deposits\",IF(E377=\"\",\"BANK NAME REQUIRED\",IF(ISERROR(VLOOKUP(E377,'Reference Data'!C:C,1,FALSE)),\"PLEASE SELECT A BANK FROM DEFINED LIST PROVIDED\",\"\")),\"\")","v":""},"No Entry",0]
[null,null,null,null,null,null,null,null,null,null,null,null,"",{"$f":"IF(D378=\"Cash and Deposits\",IF(E378=\"\",\"BANK NAME REQUIRED\",IF(ISERROR(VLOOKUP(E378,'Reference Data'!C:C,1,FALSE)),\"PLEASE SELECT A BANK FROM DEFINED LIST PROVIDED\",\"\")),\"\")","v":""},"No Entry",0]
[null,null,null,null,null,null,null,null,null,null,null,null,"",{"$f":"IF(D379=\"Cash and Deposits\",IF(E379=\"\",\"BANK NAME REQUIRED\",IF(ISERROR(VLOOKUP(E379,'Reference Data'!C:C,1,FALSE)),\"PLEASE SELECT A BANK FROM DEFINED LIST PROVIDED\",\"\")),\"\")","v":""},"No Entry",0]
[null,null,null,null,null,null,null,null,null,null,null,null,"",{"$f":"IF(D380=\"Cash and Deposits\",IF(E380=\"\",\"BANK NAME REQUIRED\",IF(ISERROR(VLOOKUP(E380,'Reference Data'!C:C,1,FALSE)),\"PLEASE SELECT A BANK FROM DEFINED LIST PROVIDED\",\"\")),\"\")","v":""},"No Entry",0]
[null,null,null,null,null,null,null,null,null,null,null,null,"",{"$f":"IF(D381=\"Cash and Deposits\",IF(E381=\"\",\"BANK NAME REQUIRED\",IF(ISERROR(VLOOKUP(E381,'Reference Data'!C:C,1,FALSE)),\"PLEASE SELECT A BANK FROM DEFINED LIST PROVIDED\",\"\")),\"\")","v":""},"No Entry",0]
[null,null,null,null,null,null,null,null,null,null,null,null,"",{"$f":"IF(D382=\"Cash and Deposits\",IF(E382=\"\",\"BANK NAME REQUIRED\",IF(ISERROR(VLOOKUP(E382,'Reference Data'!C:C,1,FALSE)),\"PLEASE SELECT A BANK FROM DEFINED LIST PROVIDED\",\"\")),\"\")","v":""},"No Entry",0]
[null,null,null,null,null,null,null,null,null,null,null,null,"",{"$f":"IF(D383=\"Cash and Deposits\",IF(E383=\"\",\"BANK NAME REQUIRED\",IF(ISERROR(VLOOKUP(E383,'Reference Data'!C:C,1,FALSE)),\"PLEASE SELECT A BANK FROM DEFINED LIST PROVIDED\",\"\")),\"\")","v":""},"No Entry",0]
[null,null,null,null,null,null,null,null,null,null,null,null,"",{"$f":"IF(D384=\"Cash and Deposits\",IF(E384=\"\",\"BANK NAME REQUIRED\",IF(ISERROR(VLOOKUP(E384,'Reference Data'!C:C,1,FALSE)),\"PLEASE SELECT A BANK FROM DEFINED LIST PROVIDED\",\"\")),\"\")","v":""},"No Entry",0]
[null,null,null,null,null,null,null,null,null,null,null,null,"",{"$f":"IF(D385=\"Cash and Deposits\",IF(E385=\"\",\"BANK NAME REQUIRED\",IF(ISERROR(VLOOKUP(E385,'Reference Data'!C:C,1,FALSE)),\"PLEASE SELECT A BANK FROM DEFINED LIST PROVIDED\",\"\")),\"\")","v":""},"No Entry",0]
[null,null,null,null,null,null,null,null,null,null,null,null,"",{"$f":"IF(D386=\"Cash and Deposits\",IF(E386=\"\",\"BANK NAME REQUIRED\",IF(ISERROR(VLOOKUP(E386,'Reference Data'!C:C,1,FALSE)),\"PLEASE SELECT A BANK FROM DEFINED LIST PROVIDED\",\"\")),\"\")","v":""},"No Entry",0]
[null,null,null,null,null,null,null,null,null,null,null,null,"",{"$f":"IF(D387=\"Cash and Deposits\",IF(E387=\"\",\"BANK NAME REQUIRED\",IF(ISERROR(VLOOKUP(E387,'Reference Data'!C:C,1,FALSE)),\"PLEASE SELECT A BANK FROM DEFINED LIST PROVIDED\",\"\")),\"\")","v":""},"No Entry",0]
[null,null,null,null,null,null,null,null,null,null,null,null,"",{"$f":"IF(D388=\"Cash and Deposits\",IF(E388=\"\",\"BANK NAME REQUIRED\",IF(ISERROR(VLOOKUP(E388,'Reference Data'!C:C,1,FALSE)),\"PLEASE SELECT A BANK FROM DEFINED LIST PROVIDED\",\"\")),\"\")","v":""},"No Entry",0]
[null,null,null,null,null,null,null,null,null,null,null,null,{"$f":"IF(K389<>0,IF(B389=\"\",\"ID CODE REQUIRED\",\"\"),\"\")","v":""},{"$f":"IF(D389=\"Cash and Deposits\",IF(E389=\"\",\"BANK NAME REQUIRED\",IF(ISERROR(VLOOKUP(E389,'Reference Data'!C:C,1,FALSE)),\"PLEASE SELECT A BANK FROM DEFINED LIST PROVIDED\",\"\")),\"\")","v":""},{"$f":"IF(K389=0,\"No Entry\",\"\")","v":"No Entry"},{"$f":"IF(K389<>0,IF(A389=\"\",1,0),0)","v":0}]
[null,null,null,null,null,null,null,null,null,null,null,null,"",{"$f":"IF(D390=\"Cash and Deposits\",IF(E390=\"\",\"BANK NAME REQUIRED\",IF(ISERROR(VLOOKUP(E390,'Reference Data'!C:C,1,FALSE)),\"PLEASE SELECT A BANK FROM DEFINED LIST PROVIDED\",\"\")),\"\")","v":""},"No Entry",0]
[null,null,null,null,null,null,null,null,null,null,null,null,"",{"$f":"IF(D391=\"Cash and Deposits\",IF(E391=\"\",\"BANK NAME REQUIRED\",IF(ISERROR(VLOOKUP(E391,'Reference Data'!C:C,1,FALSE)),\"PLEASE SELECT A BANK FROM DEFINED LIST PROVIDED\",\"\")),\"\")","v":""},"No Entry",0]
[null,null,null,null,null,null,null,null,null,null,null,null,"",{"$f":"IF(D392=\"Cash and Deposits\",IF(E392=\"\",\"BANK NAME REQUIRED\",IF(ISERROR(VLOOKUP(E392,'Reference Data'!C:C,1,FALSE)),\"PLEASE SELECT A BANK FROM DEFINED LIST PROVIDED\",\"\")),\"\")","v":""},"No Entry",0]
[null,null,null,null,null,null,null,null,null,null,null,null,"",{"$f":"IF(D393=\"Cash and Deposits\",IF(E393=\"\",\"BANK NAME REQUIRED\",IF(ISERROR(VLOOKUP(E393,'Reference Data'!C:C,1,FALSE)),\"PLEASE SELECT A BANK FROM DEFINED LIST PROVIDED\",\"\")),\"\")","v":""},"No Entry",0]
[null,null,null,null,null,null,null,null,null,null,null,null,"",{"$f":"IF(D394=\"Cash and Deposits\",IF(E394=\"\",\"BANK NAME REQUIRED\",IF(ISERROR(VLOOKUP(E394,'Reference Data'!C:C,1,FALSE)),\"PLEASE SELECT A BANK FROM DEFINED LIST PROVIDED\",\"\")),\"\")","v":""},"No Entry",0]
[null,null,null,null,null,null,null,null,null,null,null,null,"",{"$f":"IF(D395=\"Cash and Deposits\",IF(E395=\"\",\"BANK NAME REQUIRED\",IF(ISERROR(VLOOKUP(E395,'Reference Data'!C:C,1,FALSE)),\"PLEASE SELECT A BANK FROM DEFINED LIST PROVIDED\",\"\")),\"\")","v":""},"No Entry",0]
[null,null,null,null,null,null,null,null,null,null,null,null,"",{"$f":"IF(D396=\"Cash and Deposits\",IF(E396=\"\",\"BANK NAME REQUIRED\",IF(ISERROR(VLOOKUP(E396,'Reference Data'!C:C,1,FALSE)),\"PLEASE SELECT A BANK FROM DEFINED LIST PROVIDED\",\"\")),\"\")","v":""},"No Entry",0]
[null,null,null,null,null,null,null,null,null,null,null,null,"",{"$f":"IF(D397=\"Cash and Deposits\",IF(E397=\"\",\"BANK NAME REQUIRED\",IF(ISERROR(VLOOKUP(E397,'Reference Data'!C:C,1,FALSE)),\"PLEASE SELECT A BANK FROM DEFINED LIST PROVIDED\",\"\")),\"\")","v":""},"No Entry",0]
[null,null,null,null,null,null,null,null,null,null,null,null,"",{"$f":"IF(D398=\"Cash and Deposits\",IF(E398=\"\",\"BANK NAME REQUIRED\",IF(ISERROR(VLOOKUP(E398,'Reference Data'!C:C,1,FALSE)),\"PLEASE SELECT A BANK FROM DEFINED LIST PROVIDED\",\"\")),\"\")","v":""},"No Entry",0]
[null,null,null,null,null,null,null,null,null,null,null,null,"",{"$f":"IF(D399=\"Cash and Deposits\",IF(E399=\"\",\"BANK NAME REQUIRED\",IF(ISERROR(VLOOKUP(E399,'Reference Data'!C:C,1,FALSE)),\"PLEASE SELECT A BANK FROM DEFINED LIST PROVIDED\",\"\")),\"\")","v":""},"No Entry",0]
[null,null,null,null,null,null,null,null,null,null,null,null,"",{"$f":"IF(D400=\"Cash and Deposits\",IF(E400=\"\",\"BANK NAME REQUIRED\",IF(ISERROR(VLOOKUP(E400,'Reference Data'!C:C,1,FALSE)),\"PLEASE SELECT A BANK FROM DEFINED LIST PROVIDED\",\"\")),\"\")","v":""},"No Entry",0]
[null,null,null,null,null,null,null,null,null,null,null,null,"",{"$f":"IF(D401=\"Cash and Deposits\",IF(E401=\"\",\"BANK NAME REQUIRED\",IF(ISERROR(VLOOKUP(E401,'Reference Data'!C:C,1,FALSE)),\"PLEASE SELECT A BANK FROM DEFINED LIST PROVIDED\",\"\")),\"\")","v":""},"No Entry",0]
[null,null,null,null,null,null,null,null,null,null,null,null,"",{"$f":"IF(D402=\"Cash and Deposits\",IF(E402=\"\",\"BANK NAME REQUIRED\",IF(ISERROR(VLOOKUP(E402,'Reference Data'!C:C,1,FALSE)),\"PLEASE SELECT A BANK FROM DEFINED LIST PROVIDED\",\"\")),\"\")","v":""},"No Entry",0]
[null,null,null,null,null,null,null,null,null,null,null,null,"",{"$f":"IF(D403=\"Cash and Deposits\",IF(E403=\"\",\"BANK NAME REQUIRED\",IF(ISERROR(VLOOKUP(E403,'Reference Data'!C:C,1,FALSE)),\"PLEASE SELECT A BANK FROM DEFINED LIST PROVIDED\",\"\")),\"\")","v":""},"No Entry",0]
[null,null,null,null,null,null,null,null,null,null,null,null,"",{"$f":"IF(D404=\"Cash and Deposits\",IF(E404=\"\",\"BANK NAME REQUIRED\",IF(ISERROR(VLOOKUP(E404,'Reference Data'!C:C,1,FALSE)),\"PLEASE SELECT A BANK FROM DEFINED LIST PROVIDED\",\"\")),\"\")","v":""},"No Entry",0]
[null,null,null,null,null,null,null,null,null,null,null,null,"",{"$f":"IF(D405=\"Cash and Deposits\",IF(E405=\"\",\"BANK NAME REQUIRED\",IF(ISERROR(VLOOKUP(E405,'Reference Data'!C:C,1,FALSE)),\"PLEASE SELECT A BANK FROM DEFINED LIST PROVIDED\",\"\")),\"\")","v":""},"No Entry",0]
[null,null,null,null,null,null,null,null,null,null,null,null,"",{"$f":"IF(D406=\"Cash and Deposits\",IF(E406=\"\",\"BANK NAME REQUIRED\",IF(ISERROR(VLOOKUP(E406,'Reference Data'!C:C,1,FALSE)),\"PLEASE SELECT A BANK FROM DEFINED LIST PROVIDED\",\"\")),\"\")","v":""},"No Entry",0]
[null,null,null,null,null,null,null,null,null,null,null,null,"",{"$f":"IF(D407=\"Cash and Deposits\",IF(E407=\"\",\"BANK NAME REQUIRED\",IF(ISERROR(VLOOKUP(E407,'Reference Data'!C:C,1,FALSE)),\"PLEASE SELECT A BANK FROM DEFINED LIST PROVIDED\",\"\")),\"\")","v":""},"No Entry",0]
[null,null,null,null,null,null,null,null,null,null,null,null,"",{"$f":"IF(D408=\"Cash and Deposits\",IF(E408=\"\",\"BANK NAME REQUIRED\",IF(ISERROR(VLOOKUP(E408,'Reference Data'!C:C,1,FALSE)),\"PLEASE SELECT A BANK FROM DEFINED LIST PROVIDED\",\"\")),\"\")","v":""},"No Entry",0]
[null,null,null,null,null,null,null,null,null,null,null,null,"",{"$f":"IF(D409=\"Cash and Deposits\",IF(E409=\"\",\"BANK NAME REQUIRED\",IF(ISERROR(VLOOKUP(E409,'Reference Data'!C:C,1,FALSE)),\"PLEASE SELECT A BANK FROM DEFINED LIST PROVIDED\",\"\")),\"\")","v":""},"No Entry",0]
[null,null,null,null,null,null,null,null,null,null,null,null,"",{"$f":"IF(D410=\"Cash and Deposits\",IF(E410=\"\",\"BANK NAME REQUIRED\",IF(ISERROR(VLOOKUP(E410,'Reference Data'!C:C,1,FALSE)),\"PLEASE SELECT A BANK FROM DEFINED LIST PROVIDED\",\"\")),\"\")","v":""},"No Entry",0]
[null,null,null,null,null,null,null,null,null,null,null,null,"",{"$f":"IF(D411=\"Cash and Deposits\",IF(E411=\"\",\"BANK NAME REQUIRED\",IF(ISERROR(VLOOKUP(E411,'Reference Data'!C:C,1,FALSE)),\"PLEASE SELECT A BANK FROM DEFINED LIST PROVIDED\",\"\")),\"\")","v":""},"No Entry",0]
[null,null,null,null,null,null,null,null,null,null,null,null,"",{"$f":"IF(D412=\"Cash and Deposits\",IF(E412=\"\",\"BANK NAME REQUIRED\",IF(ISERROR(VLOOKUP(E412,'Reference Data'!C:C,1,FALSE)),\"PLEASE SELECT A BANK FROM DEFINED LIST PROVIDED\",\"\")),\"\")","v":""},"No Entry",0]
[null,null,null,null,null,null,null,null,null,null,null,null,"",{"$f":"IF(D413=\"Cash and Deposits\",IF(E413=\"\",\"BANK NAME REQUIRED\",IF(ISERROR(VLOOKUP(E413,'Reference Data'!C:C,1,FALSE)),\"PLEASE SELECT A BANK FROM DEFINED LIST PROVIDED\",\"\")),\"\")","v":""},"No Entry",0]
[null,null,null,null,null,null,null,null,null,null,null,null,"",{"$f":"IF(D414=\"Cash and Deposits\",IF(E414=\"\",\"BANK NAME REQUIRED\",IF(ISERROR(VLOOKUP(E414,'Reference Data'!C:C,1,FALSE)),\"PLEASE SELECT A BANK FROM DEFINED LIST PROVIDED\",\"\")),\"\")","v":""},"No Entry",0]
[null,null,null,null,null,null,null,null,null,null,null,null,"",{"$f":"IF(D415=\"Cash and Deposits\",IF(E415=\"\",\"BANK NAME REQUIRED\",IF(ISERROR(VLOOKUP(E415,'Reference Data'!C:C,1,FALSE)),\"PLEASE SELECT A BANK FROM DEFINED LIST PROVIDED\",\"\")),\"\")","v":""},"No Entry",0]
[null,null,null,null,null,null,null,null,null,null,null,null,"",{"$f":"IF(D416=\"Cash and Deposits\",IF(E416=\"\",\"BANK NAME REQUIRED\",IF(ISERROR(VLOOKUP(E416,'Reference Data'!C:C,1,FALSE)),\"PLEASE SELECT A BANK FROM DEFINED LIST PROVIDED\",\"\")),\"\")","v":""},"No Entry",0]
[null,null,null,null,null,null,null,null,null,null,null,null,"",{"$f":"IF(D417=\"Cash and Deposits\",IF(E417=\"\",\"BANK NAME REQUIRED\",IF(ISERROR(VLOOKUP(E417,'Reference Data'!C:C,1,FALSE)),\"PLEASE SELECT A BANK FROM DEFINED LIST PROVIDED\",\"\")),\"\")","v":""},"No Entry",0]
[null,null,null,null,null,null,null,null,null,null,null,null,"",{"$f":"IF(D418=\"Cash and Deposits\",IF(E418=\"\",\"BANK NAME REQUIRED\",IF(ISERROR(VLOOKUP(E418,'Reference Data'!C:C,1,FALSE)),\"PLEASE SELECT A BANK FROM DEFINED LIST PROVIDED\",\"\")),\"\")","v":""},"No Entry",0]
[null,null,null,null,null,null,null,null,null,null,null,null,"",{"$f":"IF(D419=\"Cash and Deposits\",IF(E419=\"\",\"BANK NAME REQUIRED\",IF(ISERROR(VLOOKUP(E419,'Reference Data'!C:C,1,FALSE)),\"PLEASE SELECT A BANK FROM DEFINED LIST PROVIDED\",\"\")),\"\")","v":""},"No Entry",0]
[null,null,null,null,null,null,null,null,null,null,null,null,"",{"$f":"IF(D420=\"Cash and Deposits\",IF(E420=\"\",\"BANK NAME REQUIRED\",IF(ISERROR(VLOOKUP(E420,'Reference Data'!C:C,1,FALSE)),\"PLEASE SELECT A BANK FROM DEFINED LIST PROVIDED\",\"\")),\"\")","v":""},"No Entry",0]
[null,null,null,null,null,null,null,null,null,null,null,null,"",{"$f":"IF(D421=\"Cash and Deposits\",IF(E421=\"\",\"BANK NAME REQUIRED\",IF(ISERROR(VLOOKUP(E421,'Reference Data'!C:C,1,FALSE)),\"PLEASE SELECT A BANK FROM DEFINED LIST PROVIDED\",\"\")),\"\")","v":""},"No Entry",0]
[null,null,null,null,null,null,null,null,null,null,null,null,"",{"$f":"IF(D422=\"Cash and Deposits\",IF(E422=\"\",\"BANK NAME REQUIRED\",IF(ISERROR(VLOOKUP(E422,'Reference Data'!C:C,1,FALSE)),\"PLEASE SELECT A BANK FROM DEFINED LIST PROVIDED\",\"\")),\"\")","v":""},"No Entry",0]
[null,null,null,null,null,null,null,null,null,null,null,null,"",{"$f":"IF(D423=\"Cash and Deposits\",IF(E423=\"\",\"BANK NAME REQUIRED\",IF(ISERROR(VLOOKUP(E423,'Reference Data'!C:C,1,FALSE)),\"PLEASE SELECT A BANK FROM DEFINED LIST PROVIDED\",\"\")),\"\")","v":""},"No Entry",0]
[null,null,null,null,null,null,null,null,null,null,null,null,"",{"$f":"IF(D424=\"Cash and Deposits\",IF(E424=\"\",\"BANK NAME REQUIRED\",IF(ISERROR(VLOOKUP(E424,'Reference Data'!C:C,1,FALSE)),\"PLEASE SELECT A BANK FROM DEFINED LIST PROVIDED\",\"\")),\"\")","v":""},"No Entry",0]
[null,null,null,null,null,null,null,null,null,null,null,null,"",{"$f":"IF(D425=\"Cash and Deposits\",IF(E425=\"\",\"BANK NAME REQUIRED\",IF(ISERROR(VLOOKUP(E425,'Reference Data'!C:C,1,FALSE)),\"PLEASE SELECT A BANK FROM DEFINED LIST PROVIDED\",\"\")),\"\")","v":""},"No Entry",0]
[null,null,null,null,null,null,null,null,null,null,null,null,"",{"$f":"IF(D426=\"Cash and Deposits\",IF(E426=\"\",\"BANK NAME REQUIRED\",IF(ISERROR(VLOOKUP(E426,'Reference Data'!C:C,1,FALSE)),\"PLEASE SELECT A BANK FROM DEFINED LIST PROVIDED\",\"\")),\"\")","v":""},"No Entry",0]
[null,null,null,null,null,null,null,null,null,null,null,null,"",{"$f":"IF(D427=\"Cash and Deposits\",IF(E427=\"\",\"BANK NAME REQUIRED\",IF(ISERROR(VLOOKUP(E427,'Reference Data'!C:C,1,FALSE)),\"PLEASE SELECT A BANK FROM DEFINED LIST PROVIDED\",\"\")),\"\")","v":""},"No Entry",0]
[null,null,null,null,null,null,null,null,null,null,null,null,"",{"$f":"IF(D428=\"Cash and Deposits\",IF(E428=\"\",\"BANK NAME REQUIRED\",IF(ISERROR(VLOOKUP(E428,'Reference Data'!C:C,1,FALSE)),\"PLEASE SELECT A BANK FROM DEFINED LIST PROVIDED\",\"\")),\"\")","v":""},"No Entry",0]
[null,null,null,null,null,null,null,null,null,null,null,null,"",{"$f":"IF(D429=\"Cash and Deposits\",IF(E429=\"\",\"BANK NAME REQUIRED\",IF(ISERROR(VLOOKUP(E429,'Reference Data'!C:C,1,FALSE)),\"PLEASE SELECT A BANK FROM DEFINED LIST PROVIDED\",\"\")),\"\")","v":""},"No Entry",0]
[null,null,null,null,null,null,null,null,null,null,null,null,"",{"$f":"IF(D430=\"Cash and Deposits\",IF(E430=\"\",\"BANK NAME REQUIRED\",IF(ISERROR(VLOOKUP(E430,'Reference Data'!C:C,1,FALSE)),\"PLEASE SELECT A BANK FROM DEFINED LIST PROVIDED\",\"\")),\"\")","v":""},"No Entry",0]
[null,null,null,null,null,null,null,null,null,null,null,null,"",{"$f":"IF(D431=\"Cash and Deposits\",IF(E431=\"\",\"BANK NAME REQUIRED\",IF(ISERROR(VLOOKUP(E431,'Reference Data'!C:C,1,FALSE)),\"PLEASE SELECT A BANK FROM DEFINED LIST PROVIDED\",\"\")),\"\")","v":""},"No Entry",0]
[null,null,null,null,null,null,null,null,null,null,null,null,"",{"$f":"IF(D432=\"Cash and Deposits\",IF(E432=\"\",\"BANK NAME REQUIRED\",IF(ISERROR(VLOOKUP(E432,'Reference Data'!C:C,1,FALSE)),\"PLEASE SELECT A BANK FROM DEFINED LIST PROVIDED\",\"\")),\"\")","v":""},"No Entry",0]
[null,null,null,null,null,null,null,null,null,null,null,null,"",{"$f":"IF(D433=\"Cash and Deposits\",IF(E433=\"\",\"BANK NAME REQUIRED\",IF(ISERROR(VLOOKUP(E433,'Reference Data'!C:C,1,FALSE)),\"PLEASE SELECT A BANK FROM DEFINED LIST PROVIDED\",\"\")),\"\")","v":""},"No Entry",0]
[null,null,null,null,null,null,null,null,null,null,null,null,"",{"$f":"IF(D434=\"Cash and Deposits\",IF(E434=\"\",\"BANK NAME REQUIRED\",IF(ISERROR(VLOOKUP(E434,'Reference Data'!C:C,1,FALSE)),\"PLEASE SELECT A BANK FROM DEFINED LIST PROVIDED\",\"\")),\"\")","v":""},"No Entry",0]
[null,null,null,null,null,null,null,null,null,null,null,null,"",{"$f":"IF(D435=\"Cash and Deposits\",IF(E435=\"\",\"BANK NAME REQUIRED\",IF(ISERROR(VLOOKUP(E435,'Reference Data'!C:C,1,FALSE)),\"PLEASE SELECT A BANK FROM DEFINED LIST PROVIDED\",\"\")),\"\")","v":""},"No Entry",0]
[null,null,null,null,null,null,null,null,null,null,null,null,"",{"$f":"IF(D436=\"Cash and Deposits\",IF(E436=\"\",\"BANK NAME REQUIRED\",IF(ISERROR(VLOOKUP(E436,'Reference Data'!C:C,1,FALSE)),\"PLEASE SELECT A BANK FROM DEFINED LIST PROVIDED\",\"\")),\"\")","v":""},"No Entry",0]
[null,null,null,null,null,null,null,null,null,null,null,null,"",{"$f":"IF(D437=\"Cash and Deposits\",IF(E437=\"\",\"BANK NAME REQUIRED\",IF(ISERROR(VLOOKUP(E437,'Reference Data'!C:C,1,FALSE)),\"PLEASE SELECT A BANK FROM DEFINED LIST PROVIDED\",\"\")),\"\")","v":""},"No Entry",0]
[null,null,null,null,null,null,null,null,null,null,null,null,"",{"$f":"IF(D438=\"Cash and Deposits\",IF(E438=\"\",\"BANK NAME REQUIRED\",IF(ISERROR(VLOOKUP(E438,'Reference Data'!C:C,1,FALSE)),\"PLEASE SELECT A BANK FROM DEFINED LIST PROVIDED\",\"\")),\"\")","v":""},"No Entry",0]
[null,null,null,null,null,null,null,null,null,null,null,null,"",{"$f":"IF(D439=\"Cash and Deposits\",IF(E439=\"\",\"BANK NAME REQUIRED\",IF(ISERROR(VLOOKUP(E439,'Reference Data'!C:C,1,FALSE)),\"PLEASE SELECT A BANK FROM DEFINED LIST PROVIDED\",\"\")),\"\")","v":""},"No Entry",0]
[null,null,null,null,null,null,null,null,null,null,null,null,"",{"$f":"IF(D440=\"Cash and Deposits\",IF(E440=\"\",\"BANK NAME REQUIRED\",IF(ISERROR(VLOOKUP(E440,'Reference Data'!C:C,1,FALSE)),\"PLEASE SELECT A BANK FROM DEFINED LIST PROVIDED\",\"\")),\"\")","v":""},"No Entry",0]
[null,null,null,null,null,null,null,null,null,null,null,null,"",{"$f":"IF(D441=\"Cash and Deposits\",IF(E441=\"\",\"BANK NAME REQUIRED\",IF(ISERROR(VLOOKUP(E441,'Reference Data'!C:C,1,FALSE)),\"PLEASE SELECT A BANK FROM DEFINED LIST PROVIDED\",\"\")),\"\")","v":""},"No Entry",0]
[null,null,null,null,null,null,null,null,null,null,null,null,"",{"$f":"IF(D442=\"Cash and Deposits\",IF(E442=\"\",\"BANK NAME REQUIRED\",IF(ISERROR(VLOOKUP(E442,'Reference Data'!C:C,1,FALSE)),\"PLEASE SELECT A BANK FROM DEFINED LIST PROVIDED\",\"\")),\"\")","v":""},"No Entry",0]
[null,null,null,null,null,null,null,null,null,null,null,null,"",{"$f":"IF(D443=\"Cash and Deposits\",IF(E443=\"\",\"BANK NAME REQUIRED\",IF(ISERROR(VLOOKUP(E443,'Reference Data'!C:C,1,FALSE)),\"PLEASE SELECT A BANK FROM DEFINED LIST PROVIDED\",\"\")),\"\")","v":""},"No Entry",0]
[null,null,null,null,null,null,null,null,null,null,null,null,"",{"$f":"IF(D444=\"Cash and Deposits\",IF(E444=\"\",\"BANK NAME REQUIRED\",IF(ISERROR(VLOOKUP(E444,'Reference Data'!C:C,1,FALSE)),\"PLEASE SELECT A BANK FROM DEFINED LIST PROVIDED\",\"\")),\"\")","v":""},"No Entry",0]
[null,null,null,null,null,null,null,null,null,null,null,null,"",{"$f":"IF(D445=\"Cash and Deposits\",IF(E445=\"\",\"BANK NAME REQUIRED\",IF(ISERROR(VLOOKUP(E445,'Reference Data'!C:C,1,FALSE)),\"PLEASE SELECT A BANK FROM DEFINED LIST PROVIDED\",\"\")),\"\")","v":""},"No Entry",0]
[null,null,null,null,null,null,null,null,null,null,null,null,"",{"$f":"IF(D446=\"Cash and Deposits\",IF(E446=\"\",\"BANK NAME REQUIRED\",IF(ISERROR(VLOOKUP(E446,'Reference Data'!C:C,1,FALSE)),\"PLEASE SELECT A BANK FROM DEFINED LIST PROVIDED\",\"\")),\"\")","v":""},"No Entry",0]
[null,null,null,null,null,null,null,null,null,null,null,null,"",{"$f":"IF(D447=\"Cash and Deposits\",IF(E447=\"\",\"BANK NAME REQUIRED\",IF(ISERROR(VLOOKUP(E447,'Reference Data'!C:C,1,FALSE)),\"PLEASE SELECT A BANK FROM DEFINED LIST PROVIDED\",\"\")),\"\")","v":""},"No Entry",0]
[null,null,null,null,null,null,null,null,null,null,null,null,"",{"$f":"IF(D448=\"Cash and Deposits\",IF(E448=\"\",\"BANK NAME REQUIRED\",IF(ISERROR(VLOOKUP(E448,'Reference Data'!C:C,1,FALSE)),\"PLEASE SELECT A BANK FROM DEFINED LIST PROVIDED\",\"\")),\"\")","v":""},"No Entry",0]
[null,null,null,null,null,null,null,null,null,null,null,null,"",{"$f":"IF(D449=\"Cash and Deposits\",IF(E449=\"\",\"BANK NAME REQUIRED\",IF(ISERROR(VLOOKUP(E449,'Reference Data'!C:C,1,FALSE)),\"PLEASE SELECT A BANK FROM DEFINED LIST PROVIDED\",\"\")),\"\")","v":""},"No Entry",0]
[null,null,null,null,null,null,null,null,null,null,null,null,"",{"$f":"IF(D450=\"Cash and Deposits\",IF(E450=\"\",\"BANK NAME REQUIRED\",IF(ISERROR(VLOOKUP(E450,'Reference Data'!C:C,1,FALSE)),\"PLEASE SELECT A BANK FROM DEFINED LIST PROVIDED\",\"\")),\"\")","v":""},"No Entry",0]
[null,null,null,null,null,null,null,null,null,null,null,null,"",{"$f":"IF(D451=\"Cash and Deposits\",IF(E451=\"\",\"BANK NAME REQUIRED\",IF(ISERROR(VLOOKUP(E451,'Reference Data'!C:C,1,FALSE)),\"PLEASE SELECT A BANK FROM DEFINED LIST PROVIDED\",\"\")),\"\")","v":""},"No Entry",0]
[null,null,null,null,null,null,null,null,null,null,null,null,"",{"$f":"IF(D452=\"Cash and Deposits\",IF(E452=\"\",\"BANK NAME REQUIRED\",IF(ISERROR(VLOOKUP(E452,'Reference Data'!C:C,1,FALSE)),\"PLEASE SELECT A BANK FROM DEFINED LIST PROVIDED\",\"\")),\"\")","v":""},"No Entry",0]
[null,null,null,null,null,null,null,null,null,null,null,null,{"$f":"IF(K453<>0,IF(B453=\"\",\"ID CODE REQUIRED\",\"\"),\"\")","v":""},{"$f":"IF(D453=\"Cash and Deposits\",IF(E453=\"\",\"BANK NAME REQUIRED\",IF(ISERROR(VLOOKUP(E453,'Reference Data'!C:C,1,FALSE)),\"PLEASE SELECT A BANK FROM DEFINED LIST PROVIDED\",\"\")),\"\")","v":""},{"$f":"IF(K453=0,\"No Entry\",\"\")","v":"No Entry"},{"$f":"IF(K453<>0,IF(A453=\"\",1,0),0)","v":0}]
[null,null,null,null,null,null,null,null,null,null,null,null,"",{"$f":"IF(D454=\"Cash and Deposits\",IF(E454=\"\",\"BANK NAME REQUIRED\",IF(ISERROR(VLOOKUP(E454,'Reference Data'!C:C,1,FALSE)),\"PLEASE SELECT A BANK FROM DEFINED LIST PROVIDED\",\"\")),\"\")","v":""},"No Entry",0]
[null,null,null,null,null,null,null,null,null,null,null,null,"",{"$f":"IF(D455=\"Cash and Deposits\",IF(E455=\"\",\"BANK NAME REQUIRED\",IF(ISERROR(VLOOKUP(E455,'Reference Data'!C:C,1,FALSE)),\"PLEASE SELECT A BANK FROM DEFINED LIST PROVIDED\",\"\")),\"\")","v":""},"No Entry",0]
[null,null,null,null,null,null,null,null,null,null,null,null,"",{"$f":"IF(D456=\"Cash and Deposits\",IF(E456=\"\",\"BANK NAME REQUIRED\",IF(ISERROR(VLOOKUP(E456,'Reference Data'!C:C,1,FALSE)),\"PLEASE SELECT A BANK FROM DEFINED LIST PROVIDED\",\"\")),\"\")","v":""},"No Entry",0]
[null,null,null,null,null,null,null,null,null,null,null,null,"",{"$f":"IF(D457=\"Cash and Deposits\",IF(E457=\"\",\"BANK NAME REQUIRED\",IF(ISERROR(VLOOKUP(E457,'Reference Data'!C:C,1,FALSE)),\"PLEASE SELECT A BANK FROM DEFINED LIST PROVIDED\",\"\")),\"\")","v":""},"No Entry",0]
[null,null,null,null,null,null,null,null,null,null,null,null,"",{"$f":"IF(D458=\"Cash and Deposits\",IF(E458=\"\",\"BANK NAME REQUIRED\",IF(ISERROR(VLOOKUP(E458,'Reference Data'!C:C,1,FALSE)),\"PLEASE SELECT A BANK FROM DEFINED LIST PROVIDED\",\"\")),\"\")","v":""},"No Entry",0]
[null,null,null,null,null,null,null,null,null,null,null,null,"",{"$f":"IF(D459=\"Cash and Deposits\",IF(E459=\"\",\"BANK NAME REQUIRED\",IF(ISERROR(VLOOKUP(E459,'Reference Data'!C:C,1,FALSE)),\"PLEASE SELECT A BANK FROM DEFINED LIST PROVIDED\",\"\")),\"\")","v":""},"No Entry",0]
[null,null,null,null,null,null,null,null,null,null,null,null,"",{"$f":"IF(D460=\"Cash and Deposits\",IF(E460=\"\",\"BANK NAME REQUIRED\",IF(ISERROR(VLOOKUP(E460,'Reference Data'!C:C,1,FALSE)),\"PLEASE SELECT A BANK FROM DEFINED LIST PROVIDED\",\"\")),\"\")","v":""},"No Entry",0]
[null,null,null,null,null,null,null,null,null,null,null,null,"",{"$f":"IF(D461=\"Cash and Deposits\",IF(E461=\"\",\"BANK NAME REQUIRED\",IF(ISERROR(VLOOKUP(E461,'Reference Data'!C:C,1,FALSE)),\"PLEASE SELECT A BANK FROM DEFINED LIST PROVIDED\",\"\")),\"\")","v":""},"No Entry",0]
[null,null,null,null,null,null,null,null,null,null,null,null,"",{"$f":"IF(D462=\"Cash and Deposits\",IF(E462=\"\",\"BANK NAME REQUIRED\",IF(ISERROR(VLOOKUP(E462,'Reference Data'!C:C,1,FALSE)),\"PLEASE SELECT A BANK FROM DEFINED LIST PROVIDED\",\"\")),\"\")","v":""},"No Entry",0]
[null,null,null,null,null,null,null,null,null,null,null,null,"",{"$f":"IF(D463=\"Cash and Deposits\",IF(E463=\"\",\"BANK NAME REQUIRED\",IF(ISERROR(VLOOKUP(E463,'Reference Data'!C:C,1,FALSE)),\"PLEASE SELECT A BANK FROM DEFINED LIST PROVIDED\",\"\")),\"\")","v":""},"No Entry",0]
[null,null,null,null,null,null,null,null,null,null,null,null,"",{"$f":"IF(D464=\"Cash and Deposits\",IF(E464=\"\",\"BANK NAME REQUIRED\",IF(ISERROR(VLOOKUP(E464,'Reference Data'!C:C,1,FALSE)),\"PLEASE SELECT A BANK FROM DEFINED LIST PROVIDED\",\"\")),\"\")","v":""},"No Entry",0]
[null,null,null,null,null,null,null,null,null,null,null,null,"",{"$f":"IF(D465=\"Cash and Deposits\",IF(E465=\"\",\"BANK NAME REQUIRED\",IF(ISERROR(VLOOKUP(E465,'Reference Data'!C:C,1,FALSE)),\"PLEASE SELECT A BANK FROM DEFINED LIST PROVIDED\",\"\")),\"\")","v":""},"No Entry",0]
[null,null,null,null,null,null,null,null,null,null,null,null,"",{"$f":"IF(D466=\"Cash and Deposits\",IF(E466=\"\",\"BANK NAME REQUIRED\",IF(ISERROR(VLOOKUP(E466,'Reference Data'!C:C,1,FALSE)),\"PLEASE SELECT A BANK FROM DEFINED LIST PROVIDED\",\"\")),\"\")","v":""},"No Entry",0]
[null,null,null,null,null,null,null,null,null,null,null,null,"",{"$f":"IF(D467=\"Cash and Deposits\",IF(E467=\"\",\"BANK NAME REQUIRED\",IF(ISERROR(VLOOKUP(E467,'Reference Data'!C:C,1,FALSE)),\"PLEASE SELECT A BANK FROM DEFINED LIST PROVIDED\",\"\")),\"\")","v":""},"No Entry",0]
[null,null,null,null,null,null,null,null,null,null,null,null,"",{"$f":"IF(D468=\"Cash and Deposits\",IF(E468=\"\",\"BANK NAME REQUIRED\",IF(ISERROR(VLOOKUP(E468,'Reference Data'!C:C,1,FALSE)),\"PLEASE SELECT A BANK FROM DEFINED LIST PROVIDED\",\"\")),\"\")","v":""},"No Entry",0]
[null,null,null,null,null,null,null,null,null,null,null,null,"",{"$f":"IF(D469=\"Cash and Deposits\",IF(E469=\"\",\"BANK NAME REQUIRED\",IF(ISERROR(VLOOKUP(E469,'Reference Data'!C:C,1,FALSE)),\"PLEASE SELECT A BANK FROM DEFINED LIST PROVIDED\",\"\")),\"\")","v":""},"No Entry",0]
[null,null,null,null,null,null,null,null,null,null,null,null,"",{"$f":"IF(D470=\"Cash and Deposits\",IF(E470=\"\",\"BANK NAME REQUIRED\",IF(ISERROR(VLOOKUP(E470,'Reference Data'!C:C,1,FALSE)),\"PLEASE SELECT A BANK FROM DEFINED LIST PROVIDED\",\"\")),\"\")","v":""},"No Entry",0]
[null,null,null,null,null,null,null,null,null,null,null,null,"",{"$f":"IF(D471=\"Cash and Deposits\",IF(E471=\"\",\"BANK NAME REQUIRED\",IF(ISERROR(VLOOKUP(E471,'Reference Data'!C:C,1,FALSE)),\"PLEASE SELECT A BANK FROM DEFINED LIST PROVIDED\",\"\")),\"\")","v":""},"No Entry",0]
[null,null,null,null,null,null,null,null,null,null,null,null,"",{"$f":"IF(D472=\"Cash and Deposits\",IF(E472=\"\",\"BANK NAME REQUIRED\",IF(ISERROR(VLOOKUP(E472,'Reference Data'!C:C,1,FALSE)),\"PLEASE SELECT A BANK FROM DEFINED LIST PROVIDED\",\"\")),\"\")","v":""},"No Entry",0]
[null,null,null,null,null,null,null,null,null,null,null,null,"",{"$f":"IF(D473=\"Cash and Deposits\",IF(E473=\"\",\"BANK NAME REQUIRED\",IF(ISERROR(VLOOKUP(E473,'Reference Data'!C:C,1,FALSE)),\"PLEASE SELECT A BANK FROM DEFINED LIST PROVIDED\",\"\")),\"\")","v":""},"No Entry",0]
[null,null,null,null,null,null,null,null,null,null,null,null,"",{"$f":"IF(D474=\"Cash and Deposits\",IF(E474=\"\",\"BANK NAME REQUIRED\",IF(ISERROR(VLOOKUP(E474,'Reference Data'!C:C,1,FALSE)),\"PLEASE SELECT A BANK FROM DEFINED LIST PROVIDED\",\"\")),\"\")","v":""},"No Entry",0]
[null,null,null,null,null,null,null,null,null,null,null,null,"",{"$f":"IF(D475=\"Cash and Deposits\",IF(E475=\"\",\"BANK NAME REQUIRED\",IF(ISERROR(VLOOKUP(E475,'Reference Data'!C:C,1,FALSE)),\"PLEASE SELECT A BANK FROM DEFINED LIST PROVIDED\",\"\")),\"\")","v":""},"No Entry",0]
[null,null,null,null,null,null,null,null,null,null,null,null,"",{"$f":"IF(D476=\"Cash and Deposits\",IF(E476=\"\",\"BANK NAME REQUIRED\",IF(ISERROR(VLOOKUP(E476,'Reference Data'!C:C,1,FALSE)),\"PLEASE SELECT A BANK FROM DEFINED LIST PROVIDED\",\"\")),\"\")","v":""},"No Entry",0]
[null,null,null,null,null,null,null,null,null,null,null,null,"",{"$f":"IF(D477=\"Cash and Deposits\",IF(E477=\"\",\"BANK NAME REQUIRED\",IF(ISERROR(VLOOKUP(E477,'Reference Data'!C:C,1,FALSE)),\"PLEASE SELECT A BANK FROM DEFINED LIST PROVIDED\",\"\")),\"\")","v":""},"No Entry",0]
[null,null,null,null,null,null,null,null,null,null,null,null,"",{"$f":"IF(D478=\"Cash and Deposits\",IF(E478=\"\",\"BANK NAME REQUIRED\",IF(ISERROR(VLOOKUP(E478,'Reference Data'!C:C,1,FALSE)),\"PLEASE SELECT A BANK FROM DEFINED LIST PROVIDED\",\"\")),\"\")","v":""},"No Entry",0]
[null,null,null,null,null,null,null,null,null,null,null,null,"",{"$f":"IF(D479=\"Cash and Deposits\",IF(E479=\"\",\"BANK NAME REQUIRED\",IF(ISERROR(VLOOKUP(E479,'Reference Data'!C:C,1,FALSE)),\"PLEASE SELECT A BANK FROM DEFINED LIST PROVIDED\",\"\")),\"\")","v":""},"No Entry",0]
[null,null,null,null,null,null,null,null,null,null,null,null,"",{"$f":"IF(D480=\"Cash and Deposits\",IF(E480=\"\",\"BANK NAME REQUIRED\",IF(ISERROR(VLOOKUP(E480,'Reference Data'!C:C,1,FALSE)),\"PLEASE SELECT A BANK FROM DEFINED LIST PROVIDED\",\"\")),\"\")","v":""},"No Entry",0]
[null,null,null,null,null,null,null,null,null,null,null,null,"",{"$f":"IF(D481=\"Cash and Deposits\",IF(E481=\"\",\"BANK NAME REQUIRED\",IF(ISERROR(VLOOKUP(E481,'Reference Data'!C:C,1,FALSE)),\"PLEASE SELECT A BANK FROM DEFINED LIST PROVIDED\",\"\")),\"\")","v":""},"No Entry",0]
[null,null,null,null,null,null,null,null,null,null,null,null,"",{"$f":"IF(D482=\"Cash and Deposits\",IF(E482=\"\",\"BANK NAME REQUIRED\",IF(ISERROR(VLOOKUP(E482,'Reference Data'!C:C,1,FALSE)),\"PLEASE SELECT A BANK FROM DEFINED LIST PROVIDED\",\"\")),\"\")","v":""},"No Entry",0]
[null,null,null,null,null,null,null,null,null,null,null,null,"",{"$f":"IF(D483=\"Cash and Deposits\",IF(E483=\"\",\"BANK NAME REQUIRED\",IF(ISERROR(VLOOKUP(E483,'Reference Data'!C:C,1,FALSE)),\"PLEASE SELECT A BANK FROM DEFINED LIST PROVIDED\",\"\")),\"\")","v":""},"No Entry",0]
[null,null,null,null,null,null,null,null,null,null,null,null,"",{"$f":"IF(D484=\"Cash and Deposits\",IF(E484=\"\",\"BANK NAME REQUIRED\",IF(ISERROR(VLOOKUP(E484,'Reference Data'!C:C,1,FALSE)),\"PLEASE SELECT A BANK FROM DEFINED LIST PROVIDED\",\"\")),\"\")","v":""},"No Entry",0]
[null,null,null,null,null,null,null,null,null,null,null,null,"",{"$f":"IF(D485=\"Cash and Deposits\",IF(E485=\"\",\"BANK NAME REQUIRED\",IF(ISERROR(VLOOKUP(E485,'Reference Data'!C:C,1,FALSE)),\"PLEASE SELECT A BANK FROM DEFINED LIST PROVIDED\",\"\")),\"\")","v":""},"No Entry",0]
[null,null,null,null,null,null,null,null,null,null,null,null,"",{"$f":"IF(D486=\"Cash and Deposits\",IF(E486=\"\",\"BANK NAME REQUIRED\",IF(ISERROR(VLOOKUP(E486,'Reference Data'!C:C,1,FALSE)),\"PLEASE SELECT A BANK FROM DEFINED LIST PROVIDED\",\"\")),\"\")","v":""},"No Entry",0]
[null,null,null,null,null,null,null,null,null,null,null,null,"",{"$f":"IF(D487=\"Cash and Deposits\",IF(E487=\"\",\"BANK NAME REQUIRED\",IF(ISERROR(VLOOKUP(E487,'Reference Data'!C:C,1,FALSE)),\"PLEASE SELECT A BANK FROM DEFINED LIST PROVIDED\",\"\")),\"\")","v":""},"No Entry",0]
[null,null,null,null,null,null,null,null,null,null,null,null,"",{"$f":"IF(D488=\"Cash and Deposits\",IF(E488=\"\",\"BANK NAME REQUIRED\",IF(ISERROR(VLOOKUP(E488,'Reference Data'!C:C,1,FALSE)),\"PLEASE SELECT A BANK FROM DEFINED LIST PROVIDED\",\"\")),\"\")","v":""},"No Entry",0]
[null,null,null,null,null,null,null,null,null,null,null,null,"",{"$f":"IF(D489=\"Cash and Deposits\",IF(E489=\"\",\"BANK NAME REQUIRED\",IF(ISERROR(VLOOKUP(E489,'Reference Data'!C:C,1,FALSE)),\"PLEASE SELECT A BANK FROM DEFINED LIST PROVIDED\",\"\")),\"\")","v":""},"No Entry",0]
[null,null,null,null,null,null,null,null,null,null,null,null,"",{"$f":"IF(D490=\"Cash and Deposits\",IF(E490=\"\",\"BANK NAME REQUIRED\",IF(ISERROR(VLOOKUP(E490,'Reference Data'!C:C,1,FALSE)),\"PLEASE SELECT A BANK FROM DEFINED LIST PROVIDED\",\"\")),\"\")","v":""},"No Entry",0]
[null,null,null,null,null,null,null,null,null,null,null,null,"",{"$f":"IF(D491=\"Cash and Deposits\",IF(E491=\"\",\"BANK NAME REQUIRED\",IF(ISERROR(VLOOKUP(E491,'Reference Data'!C:C,1,FALSE)),\"PLEASE SELECT A BANK FROM DEFINED LIST PROVIDED\",\"\")),\"\")","v":""},"No Entry",0]
[null,null,null,null,null,null,null,null,null,null,null,null,"",{"$f":"IF(D492=\"Cash and Deposits\",IF(E492=\"\",\"BANK NAME REQUIRED\",IF(ISERROR(VLOOKUP(E492,'Reference Data'!C:C,1,FALSE)),\"PLEASE SELECT A BANK FROM DEFINED LIST PROVIDED\",\"\")),\"\")","v":""},"No Entry",0]
[null,null,null,null,null,null,null,null,null,null,null,null,"",{"$f":"IF(D493=\"Cash and Deposits\",IF(E493=\"\",\"BANK NAME REQUIRED\",IF(ISERROR(VLOOKUP(E493,'Reference Data'!C:C,1,FALSE)),\"PLEASE SELECT A BANK FROM DEFINED LIST PROVIDED\",\"\")),\"\")","v":""},"No Entry",0]
[null,null,null,null,null,null,null,null,null,null,null,null,"",{"$f":"IF(D494=\"Cash and Deposits\",IF(E494=\"\",\"BANK NAME REQUIRED\",IF(ISERROR(VLOOKUP(E494,'Reference Data'!C:C,1,FALSE)),\"PLEASE SELECT A BANK FROM DEFINED LIST PROVIDED\",\"\")),\"\")","v":""},"No Entry",0]
[null,null,null,null,null,null,null,null,null,null,null,null,"",{"$f":"IF(D495=\"Cash and Deposits\",IF(E495=\"\",\"BANK NAME REQUIRED\",IF(ISERROR(VLOOKUP(E495,'Reference Data'!C:C,1,FALSE)),\"PLEASE SELECT A BANK FROM DEFINED LIST PROVIDED\",\"\")),\"\")","v":""},"No Entry",0]
[null,null,null,null,null,null,null,null,null,null,null,null,"",{"$f":"IF(D496=\"Cash and Deposits\",IF(E496=\"\",\"BANK NAME REQUIRED\",IF(ISERROR(VLOOKUP(E496,'Reference Data'!C:C,1,FALSE)),\"PLEASE SELECT A BANK FROM DEFINED LIST PROVIDED\",\"\")),\"\")","v":""},"No Entry",0]
[null,null,null,null,null,null,null,null,null,null,null,null,"",{"$f":"IF(D497=\"Cash and Deposits\",IF(E497=\"\",\"BANK NAME REQUIRED\",IF(ISERROR(VLOOKUP(E497,'Reference Data'!C:C,1,FALSE)),\"PLEASE SELECT A BANK FROM DEFINED LIST PROVIDED\",\"\")),\"\")","v":""},"No Entry",0]
[null,null,null,null,null,null,null,null,null,null,null,null,"",{"$f":"IF(D498=\"Cash and Deposits\",IF(E498=\"\",\"BANK NAME REQUIRED\",IF(ISERROR(VLOOKUP(E498,'Reference Data'!C:C,1,FALSE)),\"PLEASE SELECT A BANK FROM DEFINED LIST PROVIDED\",\"\")),\"\")","v":""},"No Entry",0]
[null,null,null,null,null,null,null,null,null,null,null,null,"",{"$f":"IF(D499=\"Cash and Deposits\",IF(E499=\"\",\"BANK NAME REQUIRED\",IF(ISERROR(VLOOKUP(E499,'Reference Data'!C:C,1,FALSE)),\"PLEASE SELECT A BANK FROM DEFINED LIST PROVIDED\",\"\")),\"\")","v":""},"No Entry",0]
[null,null,null,null,null,null,null,null,null,null,null,null,"",{"$f":"IF(D500=\"Cash and Deposits\",IF(E500=\"\",\"BANK NAME REQUIRED\",IF(ISERROR(VLOOKUP(E500,'Reference Data'!C:C,1,FALSE)),\"PLEASE SELECT A BANK FROM DEFINED LIST PROVIDED\",\"\")),\"\")","v":""},"No Entry",0]
[null,null,null,null,null,null,null,null,null,null,null,null,"",{"$f":"IF(D501=\"Cash and Deposits\",IF(E501=\"\",\"BANK NAME REQUIRED\",IF(ISERROR(VLOOKUP(E501,'Reference Data'!C:C,1,FALSE)),\"PLEASE SELECT A BANK FROM DEFINED LIST PROVIDED\",\"\")),\"\")","v":""},"No Entry",0]
[null,null,null,null,null,null,null,null,null,null,null,null,"",{"$f":"IF(D502=\"Cash and Deposits\",IF(E502=\"\",\"BANK NAME REQUIRED\",IF(ISERROR(VLOOKUP(E502,'Reference Data'!C:C,1,FALSE)),\"PLEASE SELECT A BANK FROM DEFINED LIST PROVIDED\",\"\")),\"\")","v":""},"No Entry",0]
[null,null,null,null,null,null,null,null,null,null,null,null,"",{"$f":"IF(D503=\"Cash and Deposits\",IF(E503=\"\",\"BANK NAME REQUIRED\",IF(ISERROR(VLOOKUP(E503,'Reference Data'!C:C,1,FALSE)),\"PLEASE SELECT A BANK FROM DEFINED LIST PROVIDED\",\"\")),\"\")","v":""},"No Entry",0]
[null,null,null,null,null,null,null,null,null,null,null,null,"",{"$f":"IF(D504=\"Cash and Deposits\",IF(E504=\"\",\"BANK NAME REQUIRED\",IF(ISERROR(VLOOKUP(E504,'Reference Data'!C:C,1,FALSE)),\"PLEASE SELECT A BANK FROM DEFINED LIST PROVIDED\",\"\")),\"\")","v":""},"No Entry",0]
[null,null,null,null,null,null,null,null,null,null,null,null,"",{"$f":"IF(D505=\"Cash and Deposits\",IF(E505=\"\",\"BANK NAME REQUIRED\",IF(ISERROR(VLOOKUP(E505,'Reference Data'!C:C,1,FALSE)),\"PLEASE SELECT A BANK FROM DEFINED LIST PROVIDED\",\"\")),\"\")","v":""},"No Entry",0]
[null,null,null,null,null,null,null,null,null,null,null,null,"",{"$f":"IF(D506=\"Cash and Deposits\",IF(E506=\"\",\"BANK NAME REQUIRED\",IF(ISERROR(VLOOKUP(E506,'Reference Data'!C:C,1,FALSE)),\"PLEASE SELECT A BANK FROM DEFINED LIST PROVIDED\",\"\")),\"\")","v":""},"No Entry",0]
[null,null,null,null,null,null,null,null,null,null,null,null,"",{"$f":"IF(D507=\"Cash and Deposits\",IF(E507=\"\",\"BANK NAME REQUIRED\",IF(ISERROR(VLOOKUP(E507,'Reference Data'!C:C,1,FALSE)),\"PLEASE SELECT A BANK FROM DEFINED LIST PROVIDED\",\"\")),\"\")","v":""},"No Entry",0]
[null,null,null,null,null,null,null,null,null,null,null,null,"",{"$f":"IF(D508=\"Cash and Deposits\",IF(E508=\"\",\"BANK NAME REQUIRED\",IF(ISERROR(VLOOKUP(E508,'Reference Data'!C:C,1,FALSE)),\"PLEASE SELECT A BANK FROM DEFINED LIST PROVIDED\",\"\")),\"\")","v":""},"No Entry",0]
[null,null,null,null,null,null,null,null,null,null,null,null,"",{"$f":"IF(D509=\"Cash and Deposits\",IF(E509=\"\",\"BANK NAME REQUIRED\",IF(ISERROR(VLOOKUP(E509,'Reference Data'!C:C,1,FALSE)),\"PLEASE SELECT A BANK FROM DEFINED LIST PROVIDED\",\"\")),\"\")","v":""},"No Entry",0]
[null,null,null,null,null,null,null,null,null,null,null,null,"",{"$f":"IF(D510=\"Cash and Deposits\",IF(E510=\"\",\"BANK NAME REQUIRED\",IF(ISERROR(VLOOKUP(E510,'Reference Data'!C:C,1,FALSE)),\"PLEASE SELECT A BANK FROM DEFINED LIST PROVIDED\",\"\")),\"\")","v":""},"No Entry",0]
[null,null,null,null,null,null,null,null,null,null,null,null,"",{"$f":"IF(D511=\"Cash and Deposits\",IF(E511=\"\",\"BANK NAME REQUIRED\",IF(ISERROR(VLOOKUP(E511,'Reference Data'!C:C,1,FALSE)),\"PLEASE SELECT A BANK FROM DEFINED LIST PROVIDED\",\"\")),\"\")","v":""},"No Entry",0]
[null,null,null,null,null,null,null,null,null,null,null,null,"",{"$f":"IF(D512=\"Cash and Deposits\",IF(E512=\"\",\"BANK NAME REQUIRED\",IF(ISERROR(VLOOKUP(E512,'Reference Data'!C:C,1,FALSE)),\"PLEASE SELECT A BANK FROM DEFINED LIST PROVIDED\",\"\")),\"\")","v":""},"No Entry",0]
[null,null,null,null,null,null,null,null,null,null,null,null,"",{"$f":"IF(D513=\"Cash and Deposits\",IF(E513=\"\",\"BANK NAME REQUIRED\",IF(ISERROR(VLOOKUP(E513,'Reference Data'!C:C,1,FALSE)),\"PLEASE SELECT A BANK FROM DEFINED LIST PROVIDED\",\"\")),\"\")","v":""},"No Entry",0]
[null,null,null,null,null,null,null,null,null,null,null,null,"",{"$f":"IF(D514=\"Cash and Deposits\",IF(E514=\"\",\"BANK NAME REQUIRED\",IF(ISERROR(VLOOKUP(E514,'Reference Data'!C:C,1,FALSE)),\"PLEASE SELECT A BANK FROM DEFINED LIST PROVIDED\",\"\")),\"\")","v":""},"No Entry",0]
[null,null,null,null,null,null,null,null,null,null,null,null,"",{"$f":"IF(D515=\"Cash and Deposits\",IF(E515=\"\",\"BANK NAME REQUIRED\",IF(ISERROR(VLOOKUP(E515,'Reference Data'!C:C,1,FALSE)),\"PLEASE SELECT A BANK FROM DEFINED LIST PROVIDED\",\"\")),\"\")","v":""},"No Entry",0]
[null,null,null,null,null,null,null,null,null,null,null,null,"",{"$f":"IF(D516=\"Cash and Deposits\",IF(E516=\"\",\"BANK NAME REQUIRED\",IF(ISERROR(VLOOKUP(E516,'Reference Data'!C:C,1,FALSE)),\"PLEASE SELECT A BANK FROM DEFINED LIST PROVIDED\",\"\")),\"\")","v":""},"No Entry",0]
[null,null,null,null,null,null,null,null,null,null,null,null,{"$f":"IF(K517<>0,IF(B517=\"\",\"ID CODE REQUIRED\",\"\"),\"\")","v":""},{"$f":"IF(D517=\"Cash and Deposits\",IF(E517=\"\",\"BANK NAME REQUIRED\",IF(ISERROR(VLOOKUP(E517,'Reference Data'!C:C,1,FALSE)),\"PLEASE SELECT A BANK FROM DEFINED LIST PROVIDED\",\"\")),\"\")","v":""},{"$f":"IF(K517=0,\"No Entry\",\"\")","v":"No Entry"},{"$f":"IF(K517<>0,IF(A517=\"\",1,0),0)","v":0}]
[null,null,null,null,null,null,null,null,null,null,null,null,"",{"$f":"IF(D518=\"Cash and Deposits\",IF(E518=\"\",\"BANK NAME REQUIRED\",IF(ISERROR(VLOOKUP(E518,'Reference Data'!C:C,1,FALSE)),\"PLEASE SELECT A BANK FROM DEFINED LIST PROVIDED\",\"\")),\"\")","v":""},"No Entry",0]
[null,null,null,null,null,null,null,null,null,null,null,null,"",{"$f":"IF(D519=\"Cash and Deposits\",IF(E519=\"\",\"BANK NAME REQUIRED\",IF(ISERROR(VLOOKUP(E519,'Reference Data'!C:C,1,FALSE)),\"PLEASE SELECT A BANK FROM DEFINED LIST PROVIDED\",\"\")),\"\")","v":""},"No Entry",0]
[null,null,null,null,null,null,null,null,null,null,null,null,"",{"$f":"IF(D520=\"Cash and Deposits\",IF(E520=\"\",\"BANK NAME REQUIRED\",IF(ISERROR(VLOOKUP(E520,'Reference Data'!C:C,1,FALSE)),\"PLEASE SELECT A BANK FROM DEFINED LIST PROVIDED\",\"\")),\"\")","v":""},"No Entry",0]
[null,null,null,null,null,null,null,null,null,null,null,null,"",{"$f":"IF(D521=\"Cash and Deposits\",IF(E521=\"\",\"BANK NAME REQUIRED\",IF(ISERROR(VLOOKUP(E521,'Reference Data'!C:C,1,FALSE)),\"PLEASE SELECT A BANK FROM DEFINED LIST PROVIDED\",\"\")),\"\")","v":""},"No Entry",0]
[null,null,null,null,null,null,null,null,null,null,null,null,"",{"$f":"IF(D522=\"Cash and Deposits\",IF(E522=\"\",\"BANK NAME REQUIRED\",IF(ISERROR(VLOOKUP(E522,'Reference Data'!C:C,1,FALSE)),\"PLEASE SELECT A BANK FROM DEFINED LIST PROVIDED\",\"\")),\"\")","v":""},"No Entry",0]
[null,null,null,null,null,null,null,null,null,null,null,null,"",{"$f":"IF(D523=\"Cash and Deposits\",IF(E523=\"\",\"BANK NAME REQUIRED\",IF(ISERROR(VLOOKUP(E523,'Reference Data'!C:C,1,FALSE)),\"PLEASE SELECT A BANK FROM DEFINED LIST PROVIDED\",\"\")),\"\")","v":""},"No Entry",0]
[null,null,null,null,null,null,null,null,null,null,null,null,"",{"$f":"IF(D524=\"Cash and Deposits\",IF(E524=\"\",\"BANK NAME REQUIRED\",IF(ISERROR(VLOOKUP(E524,'Reference Data'!C:C,1,FALSE)),\"PLEASE SELECT A BANK FROM DEFINED LIST PROVIDED\",\"\")),\"\")","v":""},"No Entry",0]
[null,null,null,null,null,null,null,null,null,null,null,null,"",{"$f":"IF(D525=\"Cash and Deposits\",IF(E525=\"\",\"BANK NAME REQUIRED\",IF(ISERROR(VLOOKUP(E525,'Reference Data'!C:C,1,FALSE)),\"PLEASE SELECT A BANK FROM DEFINED LIST PROVIDED\",\"\")),\"\")","v":""},"No Entry",0]
[null,null,null,null,null,null,null,null,null,null,null,null,"",{"$f":"IF(D526=\"Cash and Deposits\",IF(E526=\"\",\"BANK NAME REQUIRED\",IF(ISERROR(VLOOKUP(E526,'Reference Data'!C:C,1,FALSE)),\"PLEASE SELECT A BANK FROM DEFINED LIST PROVIDED\",\"\")),\"\")","v":""},"No Entry",0]
[null,null,null,null,null,null,null,null,null,null,null,null,"",{"$f":"IF(D527=\"Cash and Deposits\",IF(E527=\"\",\"BANK NAME REQUIRED\",IF(ISERROR(VLOOKUP(E527,'Reference Data'!C:C,1,FALSE)),\"PLEASE SELECT A BANK FROM DEFINED LIST PROVIDED\",\"\")),\"\")","v":""},"No Entry",0]
[null,null,null,null,null,null,null,null,null,null,null,null,"",{"$f":"IF(D528=\"Cash and Deposits\",IF(E528=\"\",\"BANK NAME REQUIRED\",IF(ISERROR(VLOOKUP(E528,'Reference Data'!C:C,1,FALSE)),\"PLEASE SELECT A BANK FROM DEFINED LIST PROVIDED\",\"\")),\"\")","v":""},"No Entry",0]
[null,null,null,null,null,null,null,null,null,null,null,null,"",{"$f":"IF(D529=\"Cash and Deposits\",IF(E529=\"\",\"BANK NAME REQUIRED\",IF(ISERROR(VLOOKUP(E529,'Reference Data'!C:C,1,FALSE)),\"PLEASE SELECT A BANK FROM DEFINED LIST PROVIDED\",\"\")),\"\")","v":""},"No Entry",0]
[null,null,null,null,null,null,null,null,null,null,null,null,"",{"$f":"IF(D530=\"Cash and Deposits\",IF(E530=\"\",\"BANK NAME REQUIRED\",IF(ISERROR(VLOOKUP(E530,'Reference Data'!C:C,1,FALSE)),\"PLEASE SELECT A BANK FROM DEFINED LIST PROVIDED\",\"\")),\"\")","v":""},"No Entry",0]
[null,null,null,null,null,null,null,null,null,null,null,null,"",{"$f":"IF(D531=\"Cash and Deposits\",IF(E531=\"\",\"BANK NAME REQUIRED\",IF(ISERROR(VLOOKUP(E531,'Reference Data'!C:C,1,FALSE)),\"PLEASE SELECT A BANK FROM DEFINED LIST PROVIDED\",\"\")),\"\")","v":""},"No Entry",0]
[null,null,null,null,null,null,null,null,null,null,null,null,"",{"$f":"IF(D532=\"Cash and Deposits\",IF(E532=\"\",\"BANK NAME REQUIRED\",IF(ISERROR(VLOOKUP(E532,'Reference Data'!C:C,1,FALSE)),\"PLEASE SELECT A BANK FROM DEFINED LIST PROVIDED\",\"\")),\"\")","v":""},"No Entry",0]
[null,null,null,null,null,null,null,null,null,null,null,null,"",{"$f":"IF(D533=\"Cash and Deposits\",IF(E533=\"\",\"BANK NAME REQUIRED\",IF(ISERROR(VLOOKUP(E533,'Reference Data'!C:C,1,FALSE)),\"PLEASE SELECT A BANK FROM DEFINED LIST PROVIDED\",\"\")),\"\")","v":""},"No Entry",0]
[null,null,null,null,null,null,null,null,null,null,null,null,"",{"$f":"IF(D534=\"Cash and Deposits\",IF(E534=\"\",\"BANK NAME REQUIRED\",IF(ISERROR(VLOOKUP(E534,'Reference Data'!C:C,1,FALSE)),\"PLEASE SELECT A BANK FROM DEFINED LIST PROVIDED\",\"\")),\"\")","v":""},"No Entry",0]
[null,null,null,null,null,null,null,null,null,null,null,null,"",{"$f":"IF(D535=\"Cash and Deposits\",IF(E535=\"\",\"BANK NAME REQUIRED\",IF(ISERROR(VLOOKUP(E535,'Reference Data'!C:C,1,FALSE)),\"PLEASE SELECT A BANK FROM DEFINED LIST PROVIDED\",\"\")),\"\")","v":""},"No Entry",0]
[null,null,null,null,null,null,null,null,null,null,null,null,"",{"$f":"IF(D536=\"Cash and Deposits\",IF(E536=\"\",\"BANK NAME REQUIRED\",IF(ISERROR(VLOOKUP(E536,'Reference Data'!C:C,1,FALSE)),\"PLEASE SELECT A BANK FROM DEFINED LIST PROVIDED\",\"\")),\"\")","v":""},"No Entry",0]
[null,null,null,null,null,null,null,null,null,null,null,null,"",{"$f":"IF(D537=\"Cash and Deposits\",IF(E537=\"\",\"BANK NAME REQUIRED\",IF(ISERROR(VLOOKUP(E537,'Reference Data'!C:C,1,FALSE)),\"PLEASE SELECT A BANK FROM DEFINED LIST PROVIDED\",\"\")),\"\")","v":""},"No Entry",0]
[null,null,null,null,null,null,null,null,null,null,null,null,"",{"$f":"IF(D538=\"Cash and Deposits\",IF(E538=\"\",\"BANK NAME REQUIRED\",IF(ISERROR(VLOOKUP(E538,'Reference Data'!C:C,1,FALSE)),\"PLEASE SELECT A BANK FROM DEFINED LIST PROVIDED\",\"\")),\"\")","v":""},"No Entry",0]
[null,null,null,null,null,null,null,null,null,null,null,null,"",{"$f":"IF(D539=\"Cash and Deposits\",IF(E539=\"\",\"BANK NAME REQUIRED\",IF(ISERROR(VLOOKUP(E539,'Reference Data'!C:C,1,FALSE)),\"PLEASE SELECT A BANK FROM DEFINED LIST PROVIDED\",\"\")),\"\")","v":""},"No Entry",0]
[null,null,null,null,null,null,null,null,null,null,null,null,"",{"$f":"IF(D540=\"Cash and Deposits\",IF(E540=\"\",\"BANK NAME REQUIRED\",IF(ISERROR(VLOOKUP(E540,'Reference Data'!C:C,1,FALSE)),\"PLEASE SELECT A BANK FROM DEFINED LIST PROVIDED\",\"\")),\"\")","v":""},"No Entry",0]
[null,null,null,null,null,null,null,null,null,null,null,null,"",{"$f":"IF(D541=\"Cash and Deposits\",IF(E541=\"\",\"BANK NAME REQUIRED\",IF(ISERROR(VLOOKUP(E541,'Reference Data'!C:C,1,FALSE)),\"PLEASE SELECT A BANK FROM DEFINED LIST PROVIDED\",\"\")),\"\")","v":""},"No Entry",0]
[null,null,null,null,null,null,null,null,null,null,null,null,"",{"$f":"IF(D542=\"Cash and Deposits\",IF(E542=\"\",\"BANK NAME REQUIRED\",IF(ISERROR(VLOOKUP(E542,'Reference Data'!C:C,1,FALSE)),\"PLEASE SELECT A BANK FROM DEFINED LIST PROVIDED\",\"\")),\"\")","v":""},"No Entry",0]
[null,null,null,null,null,null,null,null,null,null,null,null,"",{"$f":"IF(D543=\"Cash and Deposits\",IF(E543=\"\",\"BANK NAME REQUIRED\",IF(ISERROR(VLOOKUP(E543,'Reference Data'!C:C,1,FALSE)),\"PLEASE SELECT A BANK FROM DEFINED LIST PROVIDED\",\"\")),\"\")","v":""},"No Entry",0]
[null,null,null,null,null,null,null,null,null,null,null,null,"",{"$f":"IF(D544=\"Cash and Deposits\",IF(E544=\"\",\"BANK NAME REQUIRED\",IF(ISERROR(VLOOKUP(E544,'Reference Data'!C:C,1,FALSE)),\"PLEASE SELECT A BANK FROM DEFINED LIST PROVIDED\",\"\")),\"\")","v":""},"No Entry",0]
[null,null,null,null,null,null,null,null,null,null,null,null,"",{"$f":"IF(D545=\"Cash and Deposits\",IF(E545=\"\",\"BANK NAME REQUIRED\",IF(ISERROR(VLOOKUP(E545,'Reference Data'!C:C,1,FALSE)),\"PLEASE SELECT A BANK FROM DEFINED LIST PROVIDED\",\"\")),\"\")","v":""},"No Entry",0]
[null,null,null,null,null,null,null,null,null,null,null,null,"",{"$f":"IF(D546=\"Cash and Deposits\",IF(E546=\"\",\"BANK NAME REQUIRED\",IF(ISERROR(VLOOKUP(E546,'Reference Data'!C:C,1,FALSE)),\"PLEASE SELECT A BANK FROM DEFINED LIST PROVIDED\",\"\")),\"\")","v":""},"No Entry",0]
[null,null,null,null,null,null,null,null,null,null,null,null,"",{"$f":"IF(D547=\"Cash and Deposits\",IF(E547=\"\",\"BANK NAME REQUIRED\",IF(ISERROR(VLOOKUP(E547,'Reference Data'!C:C,1,FALSE)),\"PLEASE SELECT A BANK FROM DEFINED LIST PROVIDED\",\"\")),\"\")","v":""},"No Entry",0]
[null,null,null,null,null,null,null,null,null,null,null,null,"",{"$f":"IF(D548=\"Cash and Deposits\",IF(E548=\"\",\"BANK NAME REQUIRED\",IF(ISERROR(VLOOKUP(E548,'Reference Data'!C:C,1,FALSE)),\"PLEASE SELECT A BANK FROM DEFINED LIST PROVIDED\",\"\")),\"\")","v":""},"No Entry",0]
[null,null,null,null,null,null,null,null,null,null,null,null,"",{"$f":"IF(D549=\"Cash and Deposits\",IF(E549=\"\",\"BANK NAME REQUIRED\",IF(ISERROR(VLOOKUP(E549,'Reference Data'!C:C,1,FALSE)),\"PLEASE SELECT A BANK FROM DEFINED LIST PROVIDED\",\"\")),\"\")","v":""},"No Entry",0]
[null,null,null,null,null,null,null,null,null,null,null,null,"",{"$f":"IF(D550=\"Cash and Deposits\",IF(E550=\"\",\"BANK NAME REQUIRED\",IF(ISERROR(VLOOKUP(E550,'Reference Data'!C:C,1,FALSE)),\"PLEASE SELECT A BANK FROM DEFINED LIST PROVIDED\",\"\")),\"\")","v":""},"No Entry",0]
[null,null,null,null,null,null,null,null,null,null,null,null,"",{"$f":"IF(D551=\"Cash and Deposits\",IF(E551=\"\",\"BANK NAME REQUIRED\",IF(ISERROR(VLOOKUP(E551,'Reference Data'!C:C,1,FALSE)),\"PLEASE SELECT A BANK FROM DEFINED LIST PROVIDED\",\"\")),\"\")","v":""},"No Entry",0]
[null,null,null,null,null,null,null,null,null,null,null,null,"",{"$f":"IF(D552=\"Cash and Deposits\",IF(E552=\"\",\"BANK NAME REQUIRED\",IF(ISERROR(VLOOKUP(E552,'Reference Data'!C:C,1,FALSE)),\"PLEASE SELECT A BANK FROM DEFINED LIST PROVIDED\",\"\")),\"\")","v":""},"No Entry",0]
[null,null,null,null,null,null,null,null,null,null,null,null,"",{"$f":"IF(D553=\"Cash and Deposits\",IF(E553=\"\",\"BANK NAME REQUIRED\",IF(ISERROR(VLOOKUP(E553,'Reference Data'!C:C,1,FALSE)),\"PLEASE SELECT A BANK FROM DEFINED LIST PROVIDED\",\"\")),\"\")","v":""},"No Entry",0]
[null,null,null,null,null,null,null,null,null,null,null,null,"",{"$f":"IF(D554=\"Cash and Deposits\",IF(E554=\"\",\"BANK NAME REQUIRED\",IF(ISERROR(VLOOKUP(E554,'Reference Data'!C:C,1,FALSE)),\"PLEASE SELECT A BANK FROM DEFINED LIST PROVIDED\",\"\")),\"\")","v":""},"No Entry",0]
[null,null,null,null,null,null,null,null,null,null,null,null,"",{"$f":"IF(D555=\"Cash and Deposits\",IF(E555=\"\",\"BANK NAME REQUIRED\",IF(ISERROR(VLOOKUP(E555,'Reference Data'!C:C,1,FALSE)),\"PLEASE SELECT A BANK FROM DEFINED LIST PROVIDED\",\"\")),\"\")","v":""},"No Entry",0]
[null,null,null,null,null,null,null,null,null,null,null,null,"",{"$f":"IF(D556=\"Cash and Deposits\",IF(E556=\"\",\"BANK NAME REQUIRED\",IF(ISERROR(VLOOKUP(E556,'Reference Data'!C:C,1,FALSE)),\"PLEASE SELECT A BANK FROM DEFINED LIST PROVIDED\",\"\")),\"\")","v":""},"No Entry",0]
[null,null,null,null,null,null,null,null,null,null,null,null,"",{"$f":"IF(D557=\"Cash and Deposits\",IF(E557=\"\",\"BANK NAME REQUIRED\",IF(ISERROR(VLOOKUP(E557,'Reference Data'!C:C,1,FALSE)),\"PLEASE SELECT A BANK FROM DEFINED LIST PROVIDED\",\"\")),\"\")","v":""},"No Entry",0]
[null,null,null,null,null,null,null,null,null,null,null,null,"",{"$f":"IF(D558=\"Cash and Deposits\",IF(E558=\"\",\"BANK NAME REQUIRED\",IF(ISERROR(VLOOKUP(E558,'Reference Data'!C:C,1,FALSE)),\"PLEASE SELECT A BANK FROM DEFINED LIST PROVIDED\",\"\")),\"\")","v":""},"No Entry",0]
[null,null,null,null,null,null,null,null,null,null,null,null,"",{"$f":"IF(D559=\"Cash and Deposits\",IF(E559=\"\",\"BANK NAME REQUIRED\",IF(ISERROR(VLOOKUP(E559,'Reference Data'!C:C,1,FALSE)),\"PLEASE SELECT A BANK FROM DEFINED LIST PROVIDED\",\"\")),\"\")","v":""},"No Entry",0]
[null,null,null,null,null,null,null,null,null,null,null,null,"",{"$f":"IF(D560=\"Cash and Deposits\",IF(E560=\"\",\"BANK NAME REQUIRED\",IF(ISERROR(VLOOKUP(E560,'Reference Data'!C:C,1,FALSE)),\"PLEASE SELECT A BANK FROM DEFINED LIST PROVIDED\",\"\")),\"\")","v":""},"No Entry",0]
[null,null,null,null,null,null,null,null,null,null,null,null,"",{"$f":"IF(D561=\"Cash and Deposits\",IF(E561=\"\",\"BANK NAME REQUIRED\",IF(ISERROR(VLOOKUP(E561,'Reference Data'!C:C,1,FALSE)),\"PLEASE SELECT A BANK FROM DEFINED LIST PROVIDED\",\"\")),\"\")","v":""},"No Entry",0]
[null,null,null,null,null,null,null,null,null,null,null,null,"",{"$f":"IF(D562=\"Cash and Deposits\",IF(E562=\"\",\"BANK NAME REQUIRED\",IF(ISERROR(VLOOKUP(E562,'Reference Data'!C:C,1,FALSE)),\"PLEASE SELECT A BANK FROM DEFINED LIST PROVIDED\",\"\")),\"\")","v":""},"No Entry",0]
[null,null,null,null,null,null,null,null,null,null,null,null,"",{"$f":"IF(D563=\"Cash and Deposits\",IF(E563=\"\",\"BANK NAME REQUIRED\",IF(ISERROR(VLOOKUP(E563,'Reference Data'!C:C,1,FALSE)),\"PLEASE SELECT A BANK FROM DEFINED LIST PROVIDED\",\"\")),\"\")","v":""},"No Entry",0]
[null,null,null,null,null,null,null,null,null,null,null,null,"",{"$f":"IF(D564=\"Cash and Deposits\",IF(E564=\"\",\"BANK NAME REQUIRED\",IF(ISERROR(VLOOKUP(E564,'Reference Data'!C:C,1,FALSE)),\"PLEASE SELECT A BANK FROM DEFINED LIST PROVIDED\",\"\")),\"\")","v":""},"No Entry",0]
[null,null,null,null,null,null,null,null,null,null,null,null,"",{"$f":"IF(D565=\"Cash and Deposits\",IF(E565=\"\",\"BANK NAME REQUIRED\",IF(ISERROR(VLOOKUP(E565,'Reference Data'!C:C,1,FALSE)),\"PLEASE SELECT A BANK FROM DEFINED LIST PROVIDED\",\"\")),\"\")","v":""},"No Entry",0]
[null,null,null,null,null,null,null,null,null,null,null,null,"",{"$f":"IF(D566=\"Cash and Deposits\",IF(E566=\"\",\"BANK NAME REQUIRED\",IF(ISERROR(VLOOKUP(E566,'Reference Data'!C:C,1,FALSE)),\"PLEASE SELECT A BANK FROM DEFINED LIST PROVIDED\",\"\")),\"\")","v":""},"No Entry",0]
[null,null,null,null,null,null,null,null,null,null,null,null,"",{"$f":"IF(D567=\"Cash and Deposits\",IF(E567=\"\",\"BANK NAME REQUIRED\",IF(ISERROR(VLOOKUP(E567,'Reference Data'!C:C,1,FALSE)),\"PLEASE SELECT A BANK FROM DEFINED LIST PROVIDED\",\"\")),\"\")","v":""},"No Entry",0]
[null,null,null,null,null,null,null,null,null,null,null,null,"",{"$f":"IF(D568=\"Cash and Deposits\",IF(E568=\"\",\"BANK NAME REQUIRED\",IF(ISERROR(VLOOKUP(E568,'Reference Data'!C:C,1,FALSE)),\"PLEASE SELECT A BANK FROM DEFINED LIST PROVIDED\",\"\")),\"\")","v":""},"No Entry",0]
[null,null,null,null,null,null,null,null,null,null,null,null,"",{"$f":"IF(D569=\"Cash and Deposits\",IF(E569=\"\",\"BANK NAME REQUIRED\",IF(ISERROR(VLOOKUP(E569,'Reference Data'!C:C,1,FALSE)),\"PLEASE SELECT A BANK FROM DEFINED LIST PROVIDED\",\"\")),\"\")","v":""},"No Entry",0]
[null,null,null,null,null,null,null,null,null,null,null,null,"",{"$f":"IF(D570=\"Cash and Deposits\",IF(E570=\"\",\"BANK NAME REQUIRED\",IF(ISERROR(VLOOKUP(E570,'Reference Data'!C:C,1,FALSE)),\"PLEASE SELECT A BANK FROM DEFINED LIST PROVIDED\",\"\")),\"\")","v":""},"No Entry",0]
[null,null,null,null,null,null,null,null,null,null,null,null,"",{"$f":"IF(D571=\"Cash and Deposits\",IF(E571=\"\",\"BANK NAME REQUIRED\",IF(ISERROR(VLOOKUP(E571,'Reference Data'!C:C,1,FALSE)),\"PLEASE SELECT A BANK FROM DEFINED LIST PROVIDED\",\"\")),\"\")","v":""},"No Entry",0]
[null,null,null,null,null,null,null,null,null,null,null,null,"",{"$f":"IF(D572=\"Cash and Deposits\",IF(E572=\"\",\"BANK NAME REQUIRED\",IF(ISERROR(VLOOKUP(E572,'Reference Data'!C:C,1,FALSE)),\"PLEASE SELECT A BANK FROM DEFINED LIST PROVIDED\",\"\")),\"\")","v":""},"No Entry",0]
[null,null,null,null,null,null,null,null,null,null,null,null,"",{"$f":"IF(D573=\"Cash and Deposits\",IF(E573=\"\",\"BANK NAME REQUIRED\",IF(ISERROR(VLOOKUP(E573,'Reference Data'!C:C,1,FALSE)),\"PLEASE SELECT A BANK FROM DEFINED LIST PROVIDED\",\"\")),\"\")","v":""},"No Entry",0]
[null,null,null,null,null,null,null,null,null,null,null,null,"",{"$f":"IF(D574=\"Cash and Deposits\",IF(E574=\"\",\"BANK NAME REQUIRED\",IF(ISERROR(VLOOKUP(E574,'Reference Data'!C:C,1,FALSE)),\"PLEASE SELECT A BANK FROM DEFINED LIST PROVIDED\",\"\")),\"\")","v":""},"No Entry",0]
[null,null,null,null,null,null,null,null,null,null,null,null,"",{"$f":"IF(D575=\"Cash and Deposits\",IF(E575=\"\",\"BANK NAME REQUIRED\",IF(ISERROR(VLOOKUP(E575,'Reference Data'!C:C,1,FALSE)),\"PLEASE SELECT A BANK FROM DEFINED LIST PROVIDED\",\"\")),\"\")","v":""},"No Entry",0]
[null,null,null,null,null,null,null,null,null,null,null,null,"",{"$f":"IF(D576=\"Cash and Deposits\",IF(E576=\"\",\"BANK NAME REQUIRED\",IF(ISERROR(VLOOKUP(E576,'Reference Data'!C:C,1,FALSE)),\"PLEASE SELECT A BANK FROM DEFINED LIST PROVIDED\",\"\")),\"\")","v":""},"No Entry",0]
[null,null,null,null,null,null,null,null,null,null,null,null,"",{"$f":"IF(D577=\"Cash and Deposits\",IF(E577=\"\",\"BANK NAME REQUIRED\",IF(ISERROR(VLOOKUP(E577,'Reference Data'!C:C,1,FALSE)),\"PLEASE SELECT A BANK FROM DEFINED LIST PROVIDED\",\"\")),\"\")","v":""},"No Entry",0]
[null,null,null,null,null,null,null,null,null,null,null,null,"",{"$f":"IF(D578=\"Cash and Deposits\",IF(E578=\"\",\"BANK NAME REQUIRED\",IF(ISERROR(VLOOKUP(E578,'Reference Data'!C:C,1,FALSE)),\"PLEASE SELECT A BANK FROM DEFINED LIST PROVIDED\",\"\")),\"\")","v":""},"No Entry",0]
[null,null,null,null,null,null,null,null,null,null,null,null,"",{"$f":"IF(D579=\"Cash and Deposits\",IF(E579=\"\",\"BANK NAME REQUIRED\",IF(ISERROR(VLOOKUP(E579,'Reference Data'!C:C,1,FALSE)),\"PLEASE SELECT A BANK FROM DEFINED LIST PROVIDED\",\"\")),\"\")","v":""},"No Entry",0]
[null,null,null,null,null,null,null,null,null,null,null,null,"",{"$f":"IF(D580=\"Cash and Deposits\",IF(E580=\"\",\"BANK NAME REQUIRED\",IF(ISERROR(VLOOKUP(E580,'Reference Data'!C:C,1,FALSE)),\"PLEASE SELECT A BANK FROM DEFINED LIST PROVIDED\",\"\")),\"\")","v":""},"No Entry",0]
[null,null,null,null,null,null,null,null,null,null,null,null,{"$f":"IF(K581<>0,IF(B581=\"\",\"ID CODE REQUIRED\",\"\"),\"\")","v":""},{"$f":"IF(D581=\"Cash and Deposits\",IF(E581=\"\",\"BANK NAME REQUIRED\",IF(ISERROR(VLOOKUP(E581,'Reference Data'!C:C,1,FALSE)),\"PLEASE SELECT A BANK FROM DEFINED LIST PROVIDED\",\"\")),\"\")","v":""},{"$f":"IF(K581=0,\"No Entry\",\"\")","v":"No Entry"},{"$f":"IF(K581<>0,IF(A581=\"\",1,0),0)","v":0}]
[null,null,null,null,null,null,null,null,null,null,null,null,"",{"$f":"IF(D582=\"Cash and Deposits\",IF(E582=\"\",\"BANK NAME REQUIRED\",IF(ISERROR(VLOOKUP(E582,'Reference Data'!C:C,1,FALSE)),\"PLEASE SELECT A BANK FROM DEFINED LIST PROVIDED\",\"\")),\"\")","v":""},"No Entry",0]
[null,null,null,null,null,null,null,null,null,null,null,null,"",{"$f":"IF(D583=\"Cash and Deposits\",IF(E583=\"\",\"BANK NAME REQUIRED\",IF(ISERROR(VLOOKUP(E583,'Reference Data'!C:C,1,FALSE)),\"PLEASE SELECT A BANK FROM DEFINED LIST PROVIDED\",\"\")),\"\")","v":""},"No Entry",0]
[null,null,null,null,null,null,null,null,null,null,null,null,"",{"$f":"IF(D584=\"Cash and Deposits\",IF(E584=\"\",\"BANK NAME REQUIRED\",IF(ISERROR(VLOOKUP(E584,'Reference Data'!C:C,1,FALSE)),\"PLEASE SELECT A BANK FROM DEFINED LIST PROVIDED\",\"\")),\"\")","v":""},"No Entry",0]
[null,null,null,null,null,null,null,null,null,null,null,null,"",{"$f":"IF(D585=\"Cash and Deposits\",IF(E585=\"\",\"BANK NAME REQUIRED\",IF(ISERROR(VLOOKUP(E585,'Reference Data'!C:C,1,FALSE)),\"PLEASE SELECT A BANK FROM DEFINED LIST PROVIDED\",\"\")),\"\")","v":""},"No Entry",0]
[null,null,null,null,null,null,null,null,null,null,null,null,"",{"$f":"IF(D586=\"Cash and Deposits\",IF(E586=\"\",\"BANK NAME REQUIRED\",IF(ISERROR(VLOOKUP(E586,'Reference Data'!C:C,1,FALSE)),\"PLEASE SELECT A BANK FROM DEFINED LIST PROVIDED\",\"\")),\"\")","v":""},"No Entry",0]
[null,null,null,null,null,null,null,null,null,null,null,null,"",{"$f":"IF(D587=\"Cash and Deposits\",IF(E587=\"\",\"BANK NAME REQUIRED\",IF(ISERROR(VLOOKUP(E587,'Reference Data'!C:C,1,FALSE)),\"PLEASE SELECT A BANK FROM DEFINED LIST PROVIDED\",\"\")),\"\")","v":""},"No Entry",0]
[null,null,null,null,null,null,null,null,null,null,null,null,"",{"$f":"IF(D588=\"Cash and Deposits\",IF(E588=\"\",\"BANK NAME REQUIRED\",IF(ISERROR(VLOOKUP(E588,'Reference Data'!C:C,1,FALSE)),\"PLEASE SELECT A BANK FROM DEFINED LIST PROVIDED\",\"\")),\"\")","v":""},"No Entry",0]
[null,null,null,null,null,null,null,null,null,null,null,null,"",{"$f":"IF(D589=\"Cash and Deposits\",IF(E589=\"\",\"BANK NAME REQUIRED\",IF(ISERROR(VLOOKUP(E589,'Reference Data'!C:C,1,FALSE)),\"PLEASE SELECT A BANK FROM DEFINED LIST PROVIDED\",\"\")),\"\")","v":""},"No Entry",0]
[null,null,null,null,null,null,null,null,null,null,null,null,"",{"$f":"IF(D590=\"Cash and Deposits\",IF(E590=\"\",\"BANK NAME REQUIRED\",IF(ISERROR(VLOOKUP(E590,'Reference Data'!C:C,1,FALSE)),\"PLEASE SELECT A BANK FROM DEFINED LIST PROVIDED\",\"\")),\"\")","v":""},"No Entry",0]
[null,null,null,null,null,null,null,null,null,null,null,null,"",{"$f":"IF(D591=\"Cash and Deposits\",IF(E591=\"\",\"BANK NAME REQUIRED\",IF(ISERROR(VLOOKUP(E591,'Reference Data'!C:C,1,FALSE)),\"PLEASE SELECT A BANK FROM DEFINED LIST PROVIDED\",\"\")),\"\")","v":""},"No Entry",0]
[null,null,null,null,null,null,null,null,null,null,null,null,"",{"$f":"IF(D592=\"Cash and Deposits\",IF(E592=\"\",\"BANK NAME REQUIRED\",IF(ISERROR(VLOOKUP(E592,'Reference Data'!C:C,1,FALSE)),\"PLEASE SELECT A BANK FROM DEFINED LIST PROVIDED\",\"\")),\"\")","v":""},"No Entry",0]
[null,null,null,null,null,null,null,null,null,null,null,null,"",{"$f":"IF(D593=\"Cash and Deposits\",IF(E593=\"\",\"BANK NAME REQUIRED\",IF(ISERROR(VLOOKUP(E593,'Reference Data'!C:C,1,FALSE)),\"PLEASE SELECT A BANK FROM DEFINED LIST PROVIDED\",\"\")),\"\")","v":""},"No Entry",0]
[null,null,null,null,null,null,null,null,null,null,null,null,"",{"$f":"IF(D594=\"Cash and Deposits\",IF(E594=\"\",\"BANK NAME REQUIRED\",IF(ISERROR(VLOOKUP(E594,'Reference Data'!C:C,1,FALSE)),\"PLEASE SELECT A BANK FROM DEFINED LIST PROVIDED\",\"\")),\"\")","v":""},"No Entry",0]
[null,null,null,null,null,null,null,null,null,null,null,null,"",{"$f":"IF(D595=\"Cash and Deposits\",IF(E595=\"\",\"BANK NAME REQUIRED\",IF(ISERROR(VLOOKUP(E595,'Reference Data'!C:C,1,FALSE)),\"PLEASE SELECT A BANK FROM DEFINED LIST PROVIDED\",\"\")),\"\")","v":""},"No Entry",0]
[null,null,null,null,null,null,null,null,null,null,null,null,"",{"$f":"IF(D596=\"Cash and Deposits\",IF(E596=\"\",\"BANK NAME REQUIRED\",IF(ISERROR(VLOOKUP(E596,'Reference Data'!C:C,1,FALSE)),\"PLEASE SELECT A BANK FROM DEFINED LIST PROVIDED\",\"\")),\"\")","v":""},"No Entry",0]
[null,null,null,null,null,null,null,null,null,null,null,null,"",{"$f":"IF(D597=\"Cash and Deposits\",IF(E597=\"\",\"BANK NAME REQUIRED\",IF(ISERROR(VLOOKUP(E597,'Reference Data'!C:C,1,FALSE)),\"PLEASE SELECT A BANK FROM DEFINED LIST PROVIDED\",\"\")),\"\")","v":""},"No Entry",0]
[null,null,null,null,null,null,null,null,null,null,null,null,"",{"$f":"IF(D598=\"Cash and Deposits\",IF(E598=\"\",\"BANK NAME REQUIRED\",IF(ISERROR(VLOOKUP(E598,'Reference Data'!C:C,1,FALSE)),\"PLEASE SELECT A BANK FROM DEFINED LIST PROVIDED\",\"\")),\"\")","v":""},"No Entry",0]
[null,null,null,null,null,null,null,null,null,null,null,null,"",{"$f":"IF(D599=\"Cash and Deposits\",IF(E599=\"\",\"BANK NAME REQUIRED\",IF(ISERROR(VLOOKUP(E599,'Reference Data'!C:C,1,FALSE)),\"PLEASE SELECT A BANK FROM DEFINED LIST PROVIDED\",\"\")),\"\")","v":""},"No Entry",0]
[null,null,null,null,null,null,null,null,null,null,null,null,"",{"$f":"IF(D600=\"Cash and Deposits\",IF(E600=\"\",\"BANK NAME REQUIRED\",IF(ISERROR(VLOOKUP(E600,'Reference Data'!C:C,1,FALSE)),\"PLEASE SELECT A BANK FROM DEFINED LIST PROVIDED\",\"\")),\"\")","v":""},"No Entry",0]
[null,null,null,null,null,null,null,null,null,null,null,null,"",{"$f":"IF(D601=\"Cash and Deposits\",IF(E601=\"\",\"BANK NAME REQUIRED\",IF(ISERROR(VLOOKUP(E601,'Reference Data'!C:C,1,FALSE)),\"PLEASE SELECT A BANK FROM DEFINED LIST PROVIDED\",\"\")),\"\")","v":""},"No Entry",0]
[null,null,null,null,null,null,null,null,null,null,null,null,"",{"$f":"IF(D602=\"Cash and Deposits\",IF(E602=\"\",\"BANK NAME REQUIRED\",IF(ISERROR(VLOOKUP(E602,'Reference Data'!C:C,1,FALSE)),\"PLEASE SELECT A BANK FROM DEFINED LIST PROVIDED\",\"\")),\"\")","v":""},"No Entry",0]
[null,null,null,null,null,null,null,null,null,null,null,null,"",{"$f":"IF(D603=\"Cash and Deposits\",IF(E603=\"\",\"BANK NAME REQUIRED\",IF(ISERROR(VLOOKUP(E603,'Reference Data'!C:C,1,FALSE)),\"PLEASE SELECT A BANK FROM DEFINED LIST PROVIDED\",\"\")),\"\")","v":""},"No Entry",0]
[null,null,null,null,null,null,null,null,null,null,null,null,"",{"$f":"IF(D604=\"Cash and Deposits\",IF(E604=\"\",\"BANK NAME REQUIRED\",IF(ISERROR(VLOOKUP(E604,'Reference Data'!C:C,1,FALSE)),\"PLEASE SELECT A BANK FROM DEFINED LIST PROVIDED\",\"\")),\"\")","v":""},"No Entry",0]
[null,null,null,null,null,null,null,null,null,null,null,null,"",{"$f":"IF(D605=\"Cash and Deposits\",IF(E605=\"\",\"BANK NAME REQUIRED\",IF(ISERROR(VLOOKUP(E605,'Reference Data'!C:C,1,FALSE)),\"PLEASE SELECT A BANK FROM DEFINED LIST PROVIDED\",\"\")),\"\")","v":""},"No Entry",0]
[null,null,null,null,null,null,null,null,null,null,null,null,"",{"$f":"IF(D606=\"Cash and Deposits\",IF(E606=\"\",\"BANK NAME REQUIRED\",IF(ISERROR(VLOOKUP(E606,'Reference Data'!C:C,1,FALSE)),\"PLEASE SELECT A BANK FROM DEFINED LIST PROVIDED\",\"\")),\"\")","v":""},"No Entry",0]
[null,null,null,null,null,null,null,null,null,null,null,null,"",{"$f":"IF(D607=\"Cash and Deposits\",IF(E607=\"\",\"BANK NAME REQUIRED\",IF(ISERROR(VLOOKUP(E607,'Reference Data'!C:C,1,FALSE)),\"PLEASE SELECT A BANK FROM DEFINED LIST PROVIDED\",\"\")),\"\")","v":""},"No Entry",0]
[null,null,null,null,null,null,null,null,null,null,null,null,"",{"$f":"IF(D608=\"Cash and Deposits\",IF(E608=\"\",\"BANK NAME REQUIRED\",IF(ISERROR(VLOOKUP(E608,'Reference Data'!C:C,1,FALSE)),\"PLEASE SELECT A BANK FROM DEFINED LIST PROVIDED\",\"\")),\"\")","v":""},"No Entry",0]
[null,null,null,null,null,null,null,null,null,null,null,null,"",{"$f":"IF(D609=\"Cash and Deposits\",IF(E609=\"\",\"BANK NAME REQUIRED\",IF(ISERROR(VLOOKUP(E609,'Reference Data'!C:C,1,FALSE)),\"PLEASE SELECT A BANK FROM DEFINED LIST PROVIDED\",\"\")),\"\")","v":""},"No Entry",0]
[null,null,null,null,null,null,null,null,null,null,null,null,"",{"$f":"IF(D610=\"Cash and Deposits\",IF(E610=\"\",\"BANK NAME REQUIRED\",IF(ISERROR(VLOOKUP(E610,'Reference Data'!C:C,1,FALSE)),\"PLEASE SELECT A BANK FROM DEFINED LIST PROVIDED\",\"\")),\"\")","v":""},"No Entry",0]
[null,null,null,null,null,null,null,null,null,null,null,null,"",{"$f":"IF(D611=\"Cash and Deposits\",IF(E611=\"\",\"BANK NAME REQUIRED\",IF(ISERROR(VLOOKUP(E611,'Reference Data'!C:C,1,FALSE)),\"PLEASE SELECT A BANK FROM DEFINED LIST PROVIDED\",\"\")),\"\")","v":""},"No Entry",0]
[null,null,null,null,null,null,null,null,null,null,null,null,"",{"$f":"IF(D612=\"Cash and Deposits\",IF(E612=\"\",\"BANK NAME REQUIRED\",IF(ISERROR(VLOOKUP(E612,'Reference Data'!C:C,1,FALSE)),\"PLEASE SELECT A BANK FROM DEFINED LIST PROVIDED\",\"\")),\"\")","v":""},"No Entry",0]
[null,null,null,null,null,null,null,null,null,null,null,null,"",{"$f":"IF(D613=\"Cash and Deposits\",IF(E613=\"\",\"BANK NAME REQUIRED\",IF(ISERROR(VLOOKUP(E613,'Reference Data'!C:C,1,FALSE)),\"PLEASE SELECT A BANK FROM DEFINED LIST PROVIDED\",\"\")),\"\")","v":""},"No Entry",0]
[null,null,null,null,null,null,null,null,null,null,null,null,"",{"$f":"IF(D614=\"Cash and Deposits\",IF(E614=\"\",\"BANK NAME REQUIRED\",IF(ISERROR(VLOOKUP(E614,'Reference Data'!C:C,1,FALSE)),\"PLEASE SELECT A BANK FROM DEFINED LIST PROVIDED\",\"\")),\"\")","v":""},"No Entry",0]
[null,null,null,null,null,null,null,null,null,null,null,null,"",{"$f":"IF(D615=\"Cash and Deposits\",IF(E615=\"\",\"BANK NAME REQUIRED\",IF(ISERROR(VLOOKUP(E615,'Reference Data'!C:C,1,FALSE)),\"PLEASE SELECT A BANK FROM DEFINED LIST PROVIDED\",\"\")),\"\")","v":""},"No Entry",0]
[null,null,null,null,null,null,null,null,null,null,null,null,"",{"$f":"IF(D616=\"Cash and Deposits\",IF(E616=\"\",\"BANK NAME REQUIRED\",IF(ISERROR(VLOOKUP(E616,'Reference Data'!C:C,1,FALSE)),\"PLEASE SELECT A BANK FROM DEFINED LIST PROVIDED\",\"\")),\"\")","v":""},"No Entry",0]
[null,null,null,null,null,null,null,null,null,null,null,null,"",{"$f":"IF(D617=\"Cash and Deposits\",IF(E617=\"\",\"BANK NAME REQUIRED\",IF(ISERROR(VLOOKUP(E617,'Reference Data'!C:C,1,FALSE)),\"PLEASE SELECT A BANK FROM DEFINED LIST PROVIDED\",\"\")),\"\")","v":""},"No Entry",0]
[null,null,null,null,null,null,null,null,null,null,null,null,"",{"$f":"IF(D618=\"Cash and Deposits\",IF(E618=\"\",\"BANK NAME REQUIRED\",IF(ISERROR(VLOOKUP(E618,'Reference Data'!C:C,1,FALSE)),\"PLEASE SELECT A BANK FROM DEFINED LIST PROVIDED\",\"\")),\"\")","v":""},"No Entry",0]
[null,null,null,null,null,null,null,null,null,null,null,null,"",{"$f":"IF(D619=\"Cash and Deposits\",IF(E619=\"\",\"BANK NAME REQUIRED\",IF(ISERROR(VLOOKUP(E619,'Reference Data'!C:C,1,FALSE)),\"PLEASE SELECT A BANK FROM DEFINED LIST PROVIDED\",\"\")),\"\")","v":""},"No Entry",0]
[null,null,null,null,null,null,null,null,null,null,null,null,"",{"$f":"IF(D620=\"Cash and Deposits\",IF(E620=\"\",\"BANK NAME REQUIRED\",IF(ISERROR(VLOOKUP(E620,'Reference Data'!C:C,1,FALSE)),\"PLEASE SELECT A BANK FROM DEFINED LIST PROVIDED\",\"\")),\"\")","v":""},"No Entry",0]
[null,null,null,null,null,null,null,null,null,null,null,null,"",{"$f":"IF(D621=\"Cash and Deposits\",IF(E621=\"\",\"BANK NAME REQUIRED\",IF(ISERROR(VLOOKUP(E621,'Reference Data'!C:C,1,FALSE)),\"PLEASE SELECT A BANK FROM DEFINED LIST PROVIDED\",\"\")),\"\")","v":""},"No Entry",0]
[null,null,null,null,null,null,null,null,null,null,null,null,"",{"$f":"IF(D622=\"Cash and Deposits\",IF(E622=\"\",\"BANK NAME REQUIRED\",IF(ISERROR(VLOOKUP(E622,'Reference Data'!C:C,1,FALSE)),\"PLEASE SELECT A BANK FROM DEFINED LIST PROVIDED\",\"\")),\"\")","v":""},"No Entry",0]
[null,null,null,null,null,null,null,null,null,null,null,null,"",{"$f":"IF(D623=\"Cash and Deposits\",IF(E623=\"\",\"BANK NAME REQUIRED\",IF(ISERROR(VLOOKUP(E623,'Reference Data'!C:C,1,FALSE)),\"PLEASE SELECT A BANK FROM DEFINED LIST PROVIDED\",\"\")),\"\")","v":""},"No Entry",0]
[null,null,null,null,null,null,null,null,null,null,null,null,"",{"$f":"IF(D624=\"Cash and Deposits\",IF(E624=\"\",\"BANK NAME REQUIRED\",IF(ISERROR(VLOOKUP(E624,'Reference Data'!C:C,1,FALSE)),\"PLEASE SELECT A BANK FROM DEFINED LIST PROVIDED\",\"\")),\"\")","v":""},"No Entry",0]
[null,null,null,null,null,null,null,null,null,null,null,null,"",{"$f":"IF(D625=\"Cash and Deposits\",IF(E625=\"\",\"BANK NAME REQUIRED\",IF(ISERROR(VLOOKUP(E625,'Reference Data'!C:C,1,FALSE)),\"PLEASE SELECT A BANK FROM DEFINED LIST PROVIDED\",\"\")),\"\")","v":""},"No Entry",0]
[null,null,null,null,null,null,null,null,null,null,null,null,"",{"$f":"IF(D626=\"Cash and Deposits\",IF(E626=\"\",\"BANK NAME REQUIRED\",IF(ISERROR(VLOOKUP(E626,'Reference Data'!C:C,1,FALSE)),\"PLEASE SELECT A BANK FROM DEFINED LIST PROVIDED\",\"\")),\"\")","v":""},"No Entry",0]
[null,null,null,null,null,null,null,null,null,null,null,null,"",{"$f":"IF(D627=\"Cash and Deposits\",IF(E627=\"\",\"BANK NAME REQUIRED\",IF(ISERROR(VLOOKUP(E627,'Reference Data'!C:C,1,FALSE)),\"PLEASE SELECT A BANK FROM DEFINED LIST PROVIDED\",\"\")),\"\")","v":""},"No Entry",0]
[null,null,null,null,null,null,null,null,null,null,null,null,"",{"$f":"IF(D628=\"Cash and Deposits\",IF(E628=\"\",\"BANK NAME REQUIRED\",IF(ISERROR(VLOOKUP(E628,'Reference Data'!C:C,1,FALSE)),\"PLEASE SELECT A BANK FROM DEFINED LIST PROVIDED\",\"\")),\"\")","v":""},"No Entry",0]
[null,null,null,null,null,null,null,null,null,null,null,null,"",{"$f":"IF(D629=\"Cash and Deposits\",IF(E629=\"\",\"BANK NAME REQUIRED\",IF(ISERROR(VLOOKUP(E629,'Reference Data'!C:C,1,FALSE)),\"PLEASE SELECT A BANK FROM DEFINED LIST PROVIDED\",\"\")),\"\")","v":""},"No Entry",0]
[null,null,null,null,null,null,null,null,null,null,null,null,"",{"$f":"IF(D630=\"Cash and Deposits\",IF(E630=\"\",\"BANK NAME REQUIRED\",IF(ISERROR(VLOOKUP(E630,'Reference Data'!C:C,1,FALSE)),\"PLEASE SELECT A BANK FROM DEFINED LIST PROVIDED\",\"\")),\"\")","v":""},"No Entry",0]
[null,null,null,null,null,null,null,null,null,null,null,null,"",{"$f":"IF(D631=\"Cash and Deposits\",IF(E631=\"\",\"BANK NAME REQUIRED\",IF(ISERROR(VLOOKUP(E631,'Reference Data'!C:C,1,FALSE)),\"PLEASE SELECT A BANK FROM DEFINED LIST PROVIDED\",\"\")),\"\")","v":""},"No Entry",0]
[null,null,null,null,null,null,null,null,null,null,null,null,"",{"$f":"IF(D632=\"Cash and Deposits\",IF(E632=\"\",\"BANK NAME REQUIRED\",IF(ISERROR(VLOOKUP(E632,'Reference Data'!C:C,1,FALSE)),\"PLEASE SELECT A BANK FROM DEFINED LIST PROVIDED\",\"\")),\"\")","v":""},"No Entry",0]
[null,null,null,null,null,null,null,null,null,null,null,null,"",{"$f":"IF(D633=\"Cash and Deposits\",IF(E633=\"\",\"BANK NAME REQUIRED\",IF(ISERROR(VLOOKUP(E633,'Reference Data'!C:C,1,FALSE)),\"PLEASE SELECT A BANK FROM DEFINED LIST PROVIDED\",\"\")),\"\")","v":""},"No Entry",0]
[null,null,null,null,null,null,null,null,null,null,null,null,"",{"$f":"IF(D634=\"Cash and Deposits\",IF(E634=\"\",\"BANK NAME REQUIRED\",IF(ISERROR(VLOOKUP(E634,'Reference Data'!C:C,1,FALSE)),\"PLEASE SELECT A BANK FROM DEFINED LIST PROVIDED\",\"\")),\"\")","v":""},"No Entry",0]
[null,null,null,null,null,null,null,null,null,null,null,null,"",{"$f":"IF(D635=\"Cash and Deposits\",IF(E635=\"\",\"BANK NAME REQUIRED\",IF(ISERROR(VLOOKUP(E635,'Reference Data'!C:C,1,FALSE)),\"PLEASE SELECT A BANK FROM DEFINED LIST PROVIDED\",\"\")),\"\")","v":""},"No Entry",0]
[null,null,null,null,null,null,null,null,null,null,null,null,"",{"$f":"IF(D636=\"Cash and Deposits\",IF(E636=\"\",\"BANK NAME REQUIRED\",IF(ISERROR(VLOOKUP(E636,'Reference Data'!C:C,1,FALSE)),\"PLEASE SELECT A BANK FROM DEFINED LIST PROVIDED\",\"\")),\"\")","v":""},"No Entry",0]
[null,null,null,null,null,null,null,null,null,null,null,null,"",{"$f":"IF(D637=\"Cash and Deposits\",IF(E637=\"\",\"BANK NAME REQUIRED\",IF(ISERROR(VLOOKUP(E637,'Reference Data'!C:C,1,FALSE)),\"PLEASE SELECT A BANK FROM DEFINED LIST PROVIDED\",\"\")),\"\")","v":""},"No Entry",0]
[null,null,null,null,null,null,null,null,null,null,null,null,"",{"$f":"IF(D638=\"Cash and Deposits\",IF(E638=\"\",\"BANK NAME REQUIRED\",IF(ISERROR(VLOOKUP(E638,'Reference Data'!C:C,1,FALSE)),\"PLEASE SELECT A BANK FROM DEFINED LIST PROVIDED\",\"\")),\"\")","v":""},"No Entry",0]
[null,null,null,null,null,null,null,null,null,null,null,null,"",{"$f":"IF(D639=\"Cash and Deposits\",IF(E639=\"\",\"BANK NAME REQUIRED\",IF(ISERROR(VLOOKUP(E639,'Reference Data'!C:C,1,FALSE)),\"PLEASE SELECT A BANK FROM DEFINED LIST PROVIDED\",\"\")),\"\")","v":""},"No Entry",0]
[null,null,null,null,null,null,null,null,null,null,null,null,"",{"$f":"IF(D640=\"Cash and Deposits\",IF(E640=\"\",\"BANK NAME REQUIRED\",IF(ISERROR(VLOOKUP(E640,'Reference Data'!C:C,1,FALSE)),\"PLEASE SELECT A BANK FROM DEFINED LIST PROVIDED\",\"\")),\"\")","v":""},"No Entry",0]
[null,null,null,null,null,null,null,null,null,null,null,null,"",{"$f":"IF(D641=\"Cash and Deposits\",IF(E641=\"\",\"BANK NAME REQUIRED\",IF(ISERROR(VLOOKUP(E641,'Reference Data'!C:C,1,FALSE)),\"PLEASE SELECT A BANK FROM DEFINED LIST PROVIDED\",\"\")),\"\")","v":""},"No Entry",0]
[null,null,null,null,null,null,null,null,null,null,null,null,"",{"$f":"IF(D642=\"Cash and Deposits\",IF(E642=\"\",\"BANK NAME REQUIRED\",IF(ISERROR(VLOOKUP(E642,'Reference Data'!C:C,1,FALSE)),\"PLEASE SELECT A BANK FROM DEFINED LIST PROVIDED\",\"\")),\"\")","v":""},"No Entry",0]
[null,null,null,null,null,null,null,null,null,null,null,null,"",{"$f":"IF(D643=\"Cash and Deposits\",IF(E643=\"\",\"BANK NAME REQUIRED\",IF(ISERROR(VLOOKUP(E643,'Reference Data'!C:C,1,FALSE)),\"PLEASE SELECT A BANK FROM DEFINED LIST PROVIDED\",\"\")),\"\")","v":""},"No Entry",0]
[null,null,null,null,null,null,null,null,null,null,null,null,"",{"$f":"IF(D644=\"Cash and Deposits\",IF(E644=\"\",\"BANK NAME REQUIRED\",IF(ISERROR(VLOOKUP(E644,'Reference Data'!C:C,1,FALSE)),\"PLEASE SELECT A BANK FROM DEFINED LIST PROVIDED\",\"\")),\"\")","v":""},"No Entry",0]
[null,null,null,null,null,null,null,null,null,null,null,null,{"$f":"IF(K645<>0,IF(B645=\"\",\"ID CODE REQUIRED\",\"\"),\"\")","v":""},{"$f":"IF(D645=\"Cash and Deposits\",IF(E645=\"\",\"BANK NAME REQUIRED\",IF(ISERROR(VLOOKUP(E645,'Reference Data'!C:C,1,FALSE)),\"PLEASE SELECT A BANK FROM DEFINED LIST PROVIDED\",\"\")),\"\")","v":""},{"$f":"IF(K645=0,\"No Entry\",\"\")","v":"No Entry"},{"$f":"IF(K645<>0,IF(A645=\"\",1,0),0)","v":0}]
[null,null,null,null,null,null,null,null,null,null,null,null,"",{"$f":"IF(D646=\"Cash and Deposits\",IF(E646=\"\",\"BANK NAME REQUIRED\",IF(ISERROR(VLOOKUP(E646,'Reference Data'!C:C,1,FALSE)),\"PLEASE SELECT A BANK FROM DEFINED LIST PROVIDED\",\"\")),\"\")","v":""},"No Entry",0]
[null,null,null,null,null,null,null,null,null,null,null,null,"",{"$f":"IF(D647=\"Cash and Deposits\",IF(E647=\"\",\"BANK NAME REQUIRED\",IF(ISERROR(VLOOKUP(E647,'Reference Data'!C:C,1,FALSE)),\"PLEASE SELECT A BANK FROM DEFINED LIST PROVIDED\",\"\")),\"\")","v":""},"No Entry",0]
[null,null,null,null,null,null,null,null,null,null,null,null,"",{"$f":"IF(D648=\"Cash and Deposits\",IF(E648=\"\",\"BANK NAME REQUIRED\",IF(ISERROR(VLOOKUP(E648,'Reference Data'!C:C,1,FALSE)),\"PLEASE SELECT A BANK FROM DEFINED LIST PROVIDED\",\"\")),\"\")","v":""},"No Entry",0]
[null,null,null,null,null,null,null,null,null,null,null,null,"",{"$f":"IF(D649=\"Cash and Deposits\",IF(E649=\"\",\"BANK NAME REQUIRED\",IF(ISERROR(VLOOKUP(E649,'Reference Data'!C:C,1,FALSE)),\"PLEASE SELECT A BANK FROM DEFINED LIST PROVIDED\",\"\")),\"\")","v":""},"No Entry",0]
[null,null,null,null,null,null,null,null,null,null,null,null,"",{"$f":"IF(D650=\"Cash and Deposits\",IF(E650=\"\",\"BANK NAME REQUIRED\",IF(ISERROR(VLOOKUP(E650,'Reference Data'!C:C,1,FALSE)),\"PLEASE SELECT A BANK FROM DEFINED LIST PROVIDED\",\"\")),\"\")","v":""},"No Entry",0]
[null,null,null,null,null,null,null,null,null,null,null,null,"",{"$f":"IF(D651=\"Cash and Deposits\",IF(E651=\"\",\"BANK NAME REQUIRED\",IF(ISERROR(VLOOKUP(E651,'Reference Data'!C:C,1,FALSE)),\"PLEASE SELECT A BANK FROM DEFINED LIST PROVIDED\",\"\")),\"\")","v":""},"No Entry",0]
[null,null,null,null,null,null,null,null,null,null,null,null,"",{"$f":"IF(D652=\"Cash and Deposits\",IF(E652=\"\",\"BANK NAME REQUIRED\",IF(ISERROR(VLOOKUP(E652,'Reference Data'!C:C,1,FALSE)),\"PLEASE SELECT A BANK FROM DEFINED LIST PROVIDED\",\"\")),\"\")","v":""},"No Entry",0]
[null,null,null,null,null,null,null,null,null,null,null,null,"",{"$f":"IF(D653=\"Cash and Deposits\",IF(E653=\"\",\"BANK NAME REQUIRED\",IF(ISERROR(VLOOKUP(E653,'Reference Data'!C:C,1,FALSE)),\"PLEASE SELECT A BANK FROM DEFINED LIST PROVIDED\",\"\")),\"\")","v":""},"No Entry",0]
[null,null,null,null,null,null,null,null,null,null,null,null,"",{"$f":"IF(D654=\"Cash and Deposits\",IF(E654=\"\",\"BANK NAME REQUIRED\",IF(ISERROR(VLOOKUP(E654,'Reference Data'!C:C,1,FALSE)),\"PLEASE SELECT A BANK FROM DEFINED LIST PROVIDED\",\"\")),\"\")","v":""},"No Entry",0]
[null,null,null,null,null,null,null,null,null,null,null,null,"",{"$f":"IF(D655=\"Cash and Deposits\",IF(E655=\"\",\"BANK NAME REQUIRED\",IF(ISERROR(VLOOKUP(E655,'Reference Data'!C:C,1,FALSE)),\"PLEASE SELECT A BANK FROM DEFINED LIST PROVIDED\",\"\")),\"\")","v":""},"No Entry",0]
[null,null,null,null,null,null,null,null,null,null,null,null,"",{"$f":"IF(D656=\"Cash and Deposits\",IF(E656=\"\",\"BANK NAME REQUIRED\",IF(ISERROR(VLOOKUP(E656,'Reference Data'!C:C,1,FALSE)),\"PLEASE SELECT A BANK FROM DEFINED LIST PROVIDED\",\"\")),\"\")","v":""},"No Entry",0]
[null,null,null,null,null,null,null,null,null,null,null,null,"",{"$f":"IF(D657=\"Cash and Deposits\",IF(E657=\"\",\"BANK NAME REQUIRED\",IF(ISERROR(VLOOKUP(E657,'Reference Data'!C:C,1,FALSE)),\"PLEASE SELECT A BANK FROM DEFINED LIST PROVIDED\",\"\")),\"\")","v":""},"No Entry",0]
[null,null,null,null,null,null,null,null,null,null,null,null,"",{"$f":"IF(D658=\"Cash and Deposits\",IF(E658=\"\",\"BANK NAME REQUIRED\",IF(ISERROR(VLOOKUP(E658,'Reference Data'!C:C,1,FALSE)),\"PLEASE SELECT A BANK FROM DEFINED LIST PROVIDED\",\"\")),\"\")","v":""},"No Entry",0]
[null,null,null,null,null,null,null,null,null,null,null,null,"",{"$f":"IF(D659=\"Cash and Deposits\",IF(E659=\"\",\"BANK NAME REQUIRED\",IF(ISERROR(VLOOKUP(E659,'Reference Data'!C:C,1,FALSE)),\"PLEASE SELECT A BANK FROM DEFINED LIST PROVIDED\",\"\")),\"\")","v":""},"No Entry",0]
[null,null,null,null,null,null,null,null,null,null,null,null,"",{"$f":"IF(D660=\"Cash and Deposits\",IF(E660=\"\",\"BANK NAME REQUIRED\",IF(ISERROR(VLOOKUP(E660,'Reference Data'!C:C,1,FALSE)),\"PLEASE SELECT A BANK FROM DEFINED LIST PROVIDED\",\"\")),\"\")","v":""},"No Entry",0]
[null,null,null,null,null,null,null,null,null,null,null,null,"",{"$f":"IF(D661=\"Cash and Deposits\",IF(E661=\"\",\"BANK NAME REQUIRED\",IF(ISERROR(VLOOKUP(E661,'Reference Data'!C:C,1,FALSE)),\"PLEASE SELECT A BANK FROM DEFINED LIST PROVIDED\",\"\")),\"\")","v":""},"No Entry",0]
[null,null,null,null,null,null,null,null,null,null,null,null,"",{"$f":"IF(D662=\"Cash and Deposits\",IF(E662=\"\",\"BANK NAME REQUIRED\",IF(ISERROR(VLOOKUP(E662,'Reference Data'!C:C,1,FALSE)),\"PLEASE SELECT A BANK FROM DEFINED LIST PROVIDED\",\"\")),\"\")","v":""},"No Entry",0]
[null,null,null,null,null,null,null,null,null,null,null,null,"",{"$f":"IF(D663=\"Cash and Deposits\",IF(E663=\"\",\"BANK NAME REQUIRED\",IF(ISERROR(VLOOKUP(E663,'Reference Data'!C:C,1,FALSE)),\"PLEASE SELECT A BANK FROM DEFINED LIST PROVIDED\",\"\")),\"\")","v":""},"No Entry",0]
[null,null,null,null,null,null,null,null,null,null,null,null,"",{"$f":"IF(D664=\"Cash and Deposits\",IF(E664=\"\",\"BANK NAME REQUIRED\",IF(ISERROR(VLOOKUP(E664,'Reference Data'!C:C,1,FALSE)),\"PLEASE SELECT A BANK FROM DEFINED LIST PROVIDED\",\"\")),\"\")","v":""},"No Entry",0]
[null,null,null,null,null,null,null,null,null,null,null,null,"",{"$f":"IF(D665=\"Cash and Deposits\",IF(E665=\"\",\"BANK NAME REQUIRED\",IF(ISERROR(VLOOKUP(E665,'Reference Data'!C:C,1,FALSE)),\"PLEASE SELECT A BANK FROM DEFINED LIST PROVIDED\",\"\")),\"\")","v":""},"No Entry",0]
[null,null,null,null,null,null,null,null,null,null,null,null,"",{"$f":"IF(D666=\"Cash and Deposits\",IF(E666=\"\",\"BANK NAME REQUIRED\",IF(ISERROR(VLOOKUP(E666,'Reference Data'!C:C,1,FALSE)),\"PLEASE SELECT A BANK FROM DEFINED LIST PROVIDED\",\"\")),\"\")","v":""},"No Entry",0]
[null,null,null,null,null,null,null,null,null,null,null,null,"",{"$f":"IF(D667=\"Cash and Deposits\",IF(E667=\"\",\"BANK NAME REQUIRED\",IF(ISERROR(VLOOKUP(E667,'Reference Data'!C:C,1,FALSE)),\"PLEASE SELECT A BANK FROM DEFINED LIST PROVIDED\",\"\")),\"\")","v":""},"No Entry",0]
[null,null,null,null,null,null,null,null,null,null,null,null,"",{"$f":"IF(D668=\"Cash and Deposits\",IF(E668=\"\",\"BANK NAME REQUIRED\",IF(ISERROR(VLOOKUP(E668,'Reference Data'!C:C,1,FALSE)),\"PLEASE SELECT A BANK FROM DEFINED LIST PROVIDED\",\"\")),\"\")","v":""},"No Entry",0]
[null,null,null,null,null,null,null,null,null,null,null,null,"",{"$f":"IF(D669=\"Cash and Deposits\",IF(E669=\"\",\"BANK NAME REQUIRED\",IF(ISERROR(VLOOKUP(E669,'Reference Data'!C:C,1,FALSE)),\"PLEASE SELECT A BANK FROM DEFINED LIST PROVIDED\",\"\")),\"\")","v":""},"No Entry",0]
[null,null,null,null,null,null,null,null,null,null,null,null,"",{"$f":"IF(D670=\"Cash and Deposits\",IF(E670=\"\",\"BANK NAME REQUIRED\",IF(ISERROR(VLOOKUP(E670,'Reference Data'!C:C,1,FALSE)),\"PLEASE SELECT A BANK FROM DEFINED LIST PROVIDED\",\"\")),\"\")","v":""},"No Entry",0]
[null,null,null,null,null,null,null,null,null,null,null,null,"",{"$f":"IF(D671=\"Cash and Deposits\",IF(E671=\"\",\"BANK NAME REQUIRED\",IF(ISERROR(VLOOKUP(E671,'Reference Data'!C:C,1,FALSE)),\"PLEASE SELECT A BANK FROM DEFINED LIST PROVIDED\",\"\")),\"\")","v":""},"No Entry",0]
[null,null,null,null,null,null,null,null,null,null,null,null,"",{"$f":"IF(D672=\"Cash and Deposits\",IF(E672=\"\",\"BANK NAME REQUIRED\",IF(ISERROR(VLOOKUP(E672,'Reference Data'!C:C,1,FALSE)),\"PLEASE SELECT A BANK FROM DEFINED LIST PROVIDED\",\"\")),\"\")","v":""},"No Entry",0]
[null,null,null,null,null,null,null,null,null,null,null,null,"",{"$f":"IF(D673=\"Cash and Deposits\",IF(E673=\"\",\"BANK NAME REQUIRED\",IF(ISERROR(VLOOKUP(E673,'Reference Data'!C:C,1,FALSE)),\"PLEASE SELECT A BANK FROM DEFINED LIST PROVIDED\",\"\")),\"\")","v":""},"No Entry",0]
[null,null,null,null,null,null,null,null,null,null,null,null,"",{"$f":"IF(D674=\"Cash and Deposits\",IF(E674=\"\",\"BANK NAME REQUIRED\",IF(ISERROR(VLOOKUP(E674,'Reference Data'!C:C,1,FALSE)),\"PLEASE SELECT A BANK FROM DEFINED LIST PROVIDED\",\"\")),\"\")","v":""},"No Entry",0]
[null,null,null,null,null,null,null,null,null,null,null,null,"",{"$f":"IF(D675=\"Cash and Deposits\",IF(E675=\"\",\"BANK NAME REQUIRED\",IF(ISERROR(VLOOKUP(E675,'Reference Data'!C:C,1,FALSE)),\"PLEASE SELECT A BANK FROM DEFINED LIST PROVIDED\",\"\")),\"\")","v":""},"No Entry",0]
[null,null,null,null,null,null,null,null,null,null,null,null,"",{"$f":"IF(D676=\"Cash and Deposits\",IF(E676=\"\",\"BANK NAME REQUIRED\",IF(ISERROR(VLOOKUP(E676,'Reference Data'!C:C,1,FALSE)),\"PLEASE SELECT A BANK FROM DEFINED LIST PROVIDED\",\"\")),\"\")","v":""},"No Entry",0]
[null,null,null,null,null,null,null,null,null,null,null,null,"",{"$f":"IF(D677=\"Cash and Deposits\",IF(E677=\"\",\"BANK NAME REQUIRED\",IF(ISERROR(VLOOKUP(E677,'Reference Data'!C:C,1,FALSE)),\"PLEASE SELECT A BANK FROM DEFINED LIST PROVIDED\",\"\")),\"\")","v":""},"No Entry",0]
[null,null,null,null,null,null,null,null,null,null,null,null,"",{"$f":"IF(D678=\"Cash and Deposits\",IF(E678=\"\",\"BANK NAME REQUIRED\",IF(ISERROR(VLOOKUP(E678,'Reference Data'!C:C,1,FALSE)),\"PLEASE SELECT A BANK FROM DEFINED LIST PROVIDED\",\"\")),\"\")","v":""},"No Entry",0]
[null,null,null,null,null,null,null,null,null,null,null,null,"",{"$f":"IF(D679=\"Cash and Deposits\",IF(E679=\"\",\"BANK NAME REQUIRED\",IF(ISERROR(VLOOKUP(E679,'Reference Data'!C:C,1,FALSE)),\"PLEASE SELECT A BANK FROM DEFINED LIST PROVIDED\",\"\")),\"\")","v":""},"No Entry",0]
[null,null,null,null,null,null,null,null,null,null,null,null,"",{"$f":"IF(D680=\"Cash and Deposits\",IF(E680=\"\",\"BANK NAME REQUIRED\",IF(ISERROR(VLOOKUP(E680,'Reference Data'!C:C,1,FALSE)),\"PLEASE SELECT A BANK FROM DEFINED LIST PROVIDED\",\"\")),\"\")","v":""},"No Entry",0]
[null,null,null,null,null,null,null,null,null,null,null,null,"",{"$f":"IF(D681=\"Cash and Deposits\",IF(E681=\"\",\"BANK NAME REQUIRED\",IF(ISERROR(VLOOKUP(E681,'Reference Data'!C:C,1,FALSE)),\"PLEASE SELECT A BANK FROM DEFINED LIST PROVIDED\",\"\")),\"\")","v":""},"No Entry",0]
[null,null,null,null,null,null,null,null,null,null,null,null,"",{"$f":"IF(D682=\"Cash and Deposits\",IF(E682=\"\",\"BANK NAME REQUIRED\",IF(ISERROR(VLOOKUP(E682,'Reference Data'!C:C,1,FALSE)),\"PLEASE SELECT A BANK FROM DEFINED LIST PROVIDED\",\"\")),\"\")","v":""},"No Entry",0]
[null,null,null,null,null,null,null,null,null,null,null,null,"",{"$f":"IF(D683=\"Cash and Deposits\",IF(E683=\"\",\"BANK NAME REQUIRED\",IF(ISERROR(VLOOKUP(E683,'Reference Data'!C:C,1,FALSE)),\"PLEASE SELECT A BANK FROM DEFINED LIST PROVIDED\",\"\")),\"\")","v":""},"No Entry",0]
[null,null,null,null,null,null,null,null,null,null,null,null,"",{"$f":"IF(D684=\"Cash and Deposits\",IF(E684=\"\",\"BANK NAME REQUIRED\",IF(ISERROR(VLOOKUP(E684,'Reference Data'!C:C,1,FALSE)),\"PLEASE SELECT A BANK FROM DEFINED LIST PROVIDED\",\"\")),\"\")","v":""},"No Entry",0]
[null,null,null,null,null,null,null,null,null,null,null,null,"",{"$f":"IF(D685=\"Cash and Deposits\",IF(E685=\"\",\"BANK NAME REQUIRED\",IF(ISERROR(VLOOKUP(E685,'Reference Data'!C:C,1,FALSE)),\"PLEASE SELECT A BANK FROM DEFINED LIST PROVIDED\",\"\")),\"\")","v":""},"No Entry",0]
[null,null,null,null,null,null,null,null,null,null,null,null,"",{"$f":"IF(D686=\"Cash and Deposits\",IF(E686=\"\",\"BANK NAME REQUIRED\",IF(ISERROR(VLOOKUP(E686,'Reference Data'!C:C,1,FALSE)),\"PLEASE SELECT A BANK FROM DEFINED LIST PROVIDED\",\"\")),\"\")","v":""},"No Entry",0]
[null,null,null,null,null,null,null,null,null,null,null,null,"",{"$f":"IF(D687=\"Cash and Deposits\",IF(E687=\"\",\"BANK NAME REQUIRED\",IF(ISERROR(VLOOKUP(E687,'Reference Data'!C:C,1,FALSE)),\"PLEASE SELECT A BANK FROM DEFINED LIST PROVIDED\",\"\")),\"\")","v":""},"No Entry",0]
[null,null,null,null,null,null,null,null,null,null,null,null,"",{"$f":"IF(D688=\"Cash and Deposits\",IF(E688=\"\",\"BANK NAME REQUIRED\",IF(ISERROR(VLOOKUP(E688,'Reference Data'!C:C,1,FALSE)),\"PLEASE SELECT A BANK FROM DEFINED LIST PROVIDED\",\"\")),\"\")","v":""},"No Entry",0]
[null,null,null,null,null,null,null,null,null,null,null,null,"",{"$f":"IF(D689=\"Cash and Deposits\",IF(E689=\"\",\"BANK NAME REQUIRED\",IF(ISERROR(VLOOKUP(E689,'Reference Data'!C:C,1,FALSE)),\"PLEASE SELECT A BANK FROM DEFINED LIST PROVIDED\",\"\")),\"\")","v":""},"No Entry",0]
[null,null,null,null,null,null,null,null,null,null,null,null,"",{"$f":"IF(D690=\"Cash and Deposits\",IF(E690=\"\",\"BANK NAME REQUIRED\",IF(ISERROR(VLOOKUP(E690,'Reference Data'!C:C,1,FALSE)),\"PLEASE SELECT A BANK FROM DEFINED LIST PROVIDED\",\"\")),\"\")","v":""},"No Entry",0]
[null,null,null,null,null,null,null,null,null,null,null,null,"",{"$f":"IF(D691=\"Cash and Deposits\",IF(E691=\"\",\"BANK NAME REQUIRED\",IF(ISERROR(VLOOKUP(E691,'Reference Data'!C:C,1,FALSE)),\"PLEASE SELECT A BANK FROM DEFINED LIST PROVIDED\",\"\")),\"\")","v":""},"No Entry",0]
[null,null,null,null,null,null,null,null,null,null,null,null,"",{"$f":"IF(D692=\"Cash and Deposits\",IF(E692=\"\",\"BANK NAME REQUIRED\",IF(ISERROR(VLOOKUP(E692,'Reference Data'!C:C,1,FALSE)),\"PLEASE SELECT A BANK FROM DEFINED LIST PROVIDED\",\"\")),\"\")","v":""},"No Entry",0]
[null,null,null,null,null,null,null,null,null,null,null,null,"",{"$f":"IF(D693=\"Cash and Deposits\",IF(E693=\"\",\"BANK NAME REQUIRED\",IF(ISERROR(VLOOKUP(E693,'Reference Data'!C:C,1,FALSE)),\"PLEASE SELECT A BANK FROM DEFINED LIST PROVIDED\",\"\")),\"\")","v":""},"No Entry",0]
[null,null,null,null,null,null,null,null,null,null,null,null,"",{"$f":"IF(D694=\"Cash and Deposits\",IF(E694=\"\",\"BANK NAME REQUIRED\",IF(ISERROR(VLOOKUP(E694,'Reference Data'!C:C,1,FALSE)),\"PLEASE SELECT A BANK FROM DEFINED LIST PROVIDED\",\"\")),\"\")","v":""},"No Entry",0]
[null,null,null,null,null,null,null,null,null,null,null,null,"",{"$f":"IF(D695=\"Cash and Deposits\",IF(E695=\"\",\"BANK NAME REQUIRED\",IF(ISERROR(VLOOKUP(E695,'Reference Data'!C:C,1,FALSE)),\"PLEASE SELECT A BANK FROM DEFINED LIST PROVIDED\",\"\")),\"\")","v":""},"No Entry",0]
[null,null,null,null,null,null,null,null,null,null,null,null,"",{"$f":"IF(D696=\"Cash and Deposits\",IF(E696=\"\",\"BANK NAME REQUIRED\",IF(ISERROR(VLOOKUP(E696,'Reference Data'!C:C,1,FALSE)),\"PLEASE SELECT A BANK FROM DEFINED LIST PROVIDED\",\"\")),\"\")","v":""},"No Entry",0]
[null,null,null,null,null,null,null,null,null,null,null,null,"",{"$f":"IF(D697=\"Cash and Deposits\",IF(E697=\"\",\"BANK NAME REQUIRED\",IF(ISERROR(VLOOKUP(E697,'Reference Data'!C:C,1,FALSE)),\"PLEASE SELECT A BANK FROM DEFINED LIST PROVIDED\",\"\")),\"\")","v":""},"No Entry",0]
[null,null,null,null,null,null,null,null,null,null,null,null,"",{"$f":"IF(D698=\"Cash and Deposits\",IF(E698=\"\",\"BANK NAME REQUIRED\",IF(ISERROR(VLOOKUP(E698,'Reference Data'!C:C,1,FALSE)),\"PLEASE SELECT A BANK FROM DEFINED LIST PROVIDED\",\"\")),\"\")","v":""},"No Entry",0]
[null,null,null,null,null,null,null,null,null,null,null,null,"",{"$f":"IF(D699=\"Cash and Deposits\",IF(E699=\"\",\"BANK NAME REQUIRED\",IF(ISERROR(VLOOKUP(E699,'Reference Data'!C:C,1,FALSE)),\"PLEASE SELECT A BANK FROM DEFINED LIST PROVIDED\",\"\")),\"\")","v":""},"No Entry",0]
[null,null,null,null,null,null,null,null,null,null,null,null,"",{"$f":"IF(D700=\"Cash and Deposits\",IF(E700=\"\",\"BANK NAME REQUIRED\",IF(ISERROR(VLOOKUP(E700,'Reference Data'!C:C,1,FALSE)),\"PLEASE SELECT A BANK FROM DEFINED LIST PROVIDED\",\"\")),\"\")","v":""},"No Entry",0]
[null,null,null,null,null,null,null,null,null,null,null,null,"",{"$f":"IF(D701=\"Cash and Deposits\",IF(E701=\"\",\"BANK NAME REQUIRED\",IF(ISERROR(VLOOKUP(E701,'Reference Data'!C:C,1,FALSE)),\"PLEASE SELECT A BANK FROM DEFINED LIST PROVIDED\",\"\")),\"\")","v":""},"No Entry",0]
[null,null,null,null,null,null,null,null,null,null,null,null,"",{"$f":"IF(D702=\"Cash and Deposits\",IF(E702=\"\",\"BANK NAME REQUIRED\",IF(ISERROR(VLOOKUP(E702,'Reference Data'!C:C,1,FALSE)),\"PLEASE SELECT A BANK FROM DEFINED LIST PROVIDED\",\"\")),\"\")","v":""},"No Entry",0]
[null,null,null,null,null,null,null,null,null,null,null,null,"",{"$f":"IF(D703=\"Cash and Deposits\",IF(E703=\"\",\"BANK NAME REQUIRED\",IF(ISERROR(VLOOKUP(E703,'Reference Data'!C:C,1,FALSE)),\"PLEASE SELECT A BANK FROM DEFINED LIST PROVIDED\",\"\")),\"\")","v":""},"No Entry",0]
[null,null,null,null,null,null,null,null,null,null,null,null,"",{"$f":"IF(D704=\"Cash and Deposits\",IF(E704=\"\",\"BANK NAME REQUIRED\",IF(ISERROR(VLOOKUP(E704,'Reference Data'!C:C,1,FALSE)),\"PLEASE SELECT A BANK FROM DEFINED LIST PROVIDED\",\"\")),\"\")","v":""},"No Entry",0]
[null,null,null,null,null,null,null,null,null,null,null,null,"",{"$f":"IF(D705=\"Cash and Deposits\",IF(E705=\"\",\"BANK NAME REQUIRED\",IF(ISERROR(VLOOKUP(E705,'Reference Data'!C:C,1,FALSE)),\"PLEASE SELECT A BANK FROM DEFINED LIST PROVIDED\",\"\")),\"\")","v":""},"No Entry",0]
[null,null,null,null,null,null,null,null,null,null,null,null,"",{"$f":"IF(D706=\"Cash and Deposits\",IF(E706=\"\",\"BANK NAME REQUIRED\",IF(ISERROR(VLOOKUP(E706,'Reference Data'!C:C,1,FALSE)),\"PLEASE SELECT A BANK FROM DEFINED LIST PROVIDED\",\"\")),\"\")","v":""},"No Entry",0]
[null,null,null,null,null,null,null,null,null,null,null,null,"",{"$f":"IF(D707=\"Cash and Deposits\",IF(E707=\"\",\"BANK NAME REQUIRED\",IF(ISERROR(VLOOKUP(E707,'Reference Data'!C:C,1,FALSE)),\"PLEASE SELECT A BANK FROM DEFINED LIST PROVIDED\",\"\")),\"\")","v":""},"No Entry",0]
[null,null,null,null,null,null,null,null,null,null,null,null,"",{"$f":"IF(D708=\"Cash and Deposits\",IF(E708=\"\",\"BANK NAME REQUIRED\",IF(ISERROR(VLOOKUP(E708,'Reference Data'!C:C,1,FALSE)),\"PLEASE SELECT A BANK FROM DEFINED LIST PROVIDED\",\"\")),\"\")","v":""},"No Entry",0]
[null,null,null,null,null,null,null,null,null,null,null,null,{"$f":"IF(K709<>0,IF(B709=\"\",\"ID CODE REQUIRED\",\"\"),\"\")","v":""},{"$f":"IF(D709=\"Cash and Deposits\",IF(E709=\"\",\"BANK NAME REQUIRED\",IF(ISERROR(VLOOKUP(E709,'Reference Data'!C:C,1,FALSE)),\"PLEASE SELECT A BANK FROM DEFINED LIST PROVIDED\",\"\")),\"\")","v":""},{"$f":"IF(K709=0,\"No Entry\",\"\")","v":"No Entry"},{"$f":"IF(K709<>0,IF(A709=\"\",1,0),0)","v":0}]
[null,null,null,null,null,null,null,null,null,null,null,null,"",{"$f":"IF(D710=\"Cash and Deposits\",IF(E710=\"\",\"BANK NAME REQUIRED\",IF(ISERROR(VLOOKUP(E710,'Reference Data'!C:C,1,FALSE)),\"PLEASE SELECT A BANK FROM DEFINED LIST PROVIDED\",\"\")),\"\")","v":""},"No Entry",0]
[null,null,null,null,null,null,null,null,null,null,null,null,"",{"$f":"IF(D711=\"Cash and Deposits\",IF(E711=\"\",\"BANK NAME REQUIRED\",IF(ISERROR(VLOOKUP(E711,'Reference Data'!C:C,1,FALSE)),\"PLEASE SELECT A BANK FROM DEFINED LIST PROVIDED\",\"\")),\"\")","v":""},"No Entry",0]
[null,null,null,null,null,null,null,null,null,null,null,null,"",{"$f":"IF(D712=\"Cash and Deposits\",IF(E712=\"\",\"BANK NAME REQUIRED\",IF(ISERROR(VLOOKUP(E712,'Reference Data'!C:C,1,FALSE)),\"PLEASE SELECT A BANK FROM DEFINED LIST PROVIDED\",\"\")),\"\")","v":""},"No Entry",0]
[null,null,null,null,null,null,null,null,null,null,null,null,"",{"$f":"IF(D713=\"Cash and Deposits\",IF(E713=\"\",\"BANK NAME REQUIRED\",IF(ISERROR(VLOOKUP(E713,'Reference Data'!C:C,1,FALSE)),\"PLEASE SELECT A BANK FROM DEFINED LIST PROVIDED\",\"\")),\"\")","v":""},"No Entry",0]
[null,null,null,null,null,null,null,null,null,null,null,null,"",{"$f":"IF(D714=\"Cash and Deposits\",IF(E714=\"\",\"BANK NAME REQUIRED\",IF(ISERROR(VLOOKUP(E714,'Reference Data'!C:C,1,FALSE)),\"PLEASE SELECT A BANK FROM DEFINED LIST PROVIDED\",\"\")),\"\")","v":""},"No Entry",0]
[null,null,null,null,null,null,null,null,null,null,null,null,"",{"$f":"IF(D715=\"Cash and Deposits\",IF(E715=\"\",\"BANK NAME REQUIRED\",IF(ISERROR(VLOOKUP(E715,'Reference Data'!C:C,1,FALSE)),\"PLEASE SELECT A BANK FROM DEFINED LIST PROVIDED\",\"\")),\"\")","v":""},"No Entry",0]
[null,null,null,null,null,null,null,null,null,null,null,null,"",{"$f":"IF(D716=\"Cash and Deposits\",IF(E716=\"\",\"BANK NAME REQUIRED\",IF(ISERROR(VLOOKUP(E716,'Reference Data'!C:C,1,FALSE)),\"PLEASE SELECT A BANK FROM DEFINED LIST PROVIDED\",\"\")),\"\")","v":""},"No Entry",0]
[null,null,null,null,null,null,null,null,null,null,null,null,"",{"$f":"IF(D717=\"Cash and Deposits\",IF(E717=\"\",\"BANK NAME REQUIRED\",IF(ISERROR(VLOOKUP(E717,'Reference Data'!C:C,1,FALSE)),\"PLEASE SELECT A BANK FROM DEFINED LIST PROVIDED\",\"\")),\"\")","v":""},"No Entry",0]
[null,null,null,null,null,null,null,null,null,null,null,null,"",{"$f":"IF(D718=\"Cash and Deposits\",IF(E718=\"\",\"BANK NAME REQUIRED\",IF(ISERROR(VLOOKUP(E718,'Reference Data'!C:C,1,FALSE)),\"PLEASE SELECT A BANK FROM DEFINED LIST PROVIDED\",\"\")),\"\")","v":""},"No Entry",0]
[null,null,null,null,null,null,null,null,null,null,null,null,"",{"$f":"IF(D719=\"Cash and Deposits\",IF(E719=\"\",\"BANK NAME REQUIRED\",IF(ISERROR(VLOOKUP(E719,'Reference Data'!C:C,1,FALSE)),\"PLEASE SELECT A BANK FROM DEFINED LIST PROVIDED\",\"\")),\"\")","v":""},"No Entry",0]
[null,null,null,null,null,null,null,null,null,null,null,null,"",{"$f":"IF(D720=\"Cash and Deposits\",IF(E720=\"\",\"BANK NAME REQUIRED\",IF(ISERROR(VLOOKUP(E720,'Reference Data'!C:C,1,FALSE)),\"PLEASE SELECT A BANK FROM DEFINED LIST PROVIDED\",\"\")),\"\")","v":""},"No Entry",0]
[null,null,null,null,null,null,null,null,null,null,null,null,"",{"$f":"IF(D721=\"Cash and Deposits\",IF(E721=\"\",\"BANK NAME REQUIRED\",IF(ISERROR(VLOOKUP(E721,'Reference Data'!C:C,1,FALSE)),\"PLEASE SELECT A BANK FROM DEFINED LIST PROVIDED\",\"\")),\"\")","v":""},"No Entry",0]
[null,null,null,null,null,null,null,null,null,null,null,null,"",{"$f":"IF(D722=\"Cash and Deposits\",IF(E722=\"\",\"BANK NAME REQUIRED\",IF(ISERROR(VLOOKUP(E722,'Reference Data'!C:C,1,FALSE)),\"PLEASE SELECT A BANK FROM DEFINED LIST PROVIDED\",\"\")),\"\")","v":""},"No Entry",0]
[null,null,null,null,null,null,null,null,null,null,null,null,"",{"$f":"IF(D723=\"Cash and Deposits\",IF(E723=\"\",\"BANK NAME REQUIRED\",IF(ISERROR(VLOOKUP(E723,'Reference Data'!C:C,1,FALSE)),\"PLEASE SELECT A BANK FROM DEFINED LIST PROVIDED\",\"\")),\"\")","v":""},"No Entry",0]
[null,null,null,null,null,null,null,null,null,null,null,null,"",{"$f":"IF(D724=\"Cash and Deposits\",IF(E724=\"\",\"BANK NAME REQUIRED\",IF(ISERROR(VLOOKUP(E724,'Reference Data'!C:C,1,FALSE)),\"PLEASE SELECT A BANK FROM DEFINED LIST PROVIDED\",\"\")),\"\")","v":""},"No Entry",0]
[null,null,null,null,null,null,null,null,null,null,null,null,"",{"$f":"IF(D725=\"Cash and Deposits\",IF(E725=\"\",\"BANK NAME REQUIRED\",IF(ISERROR(VLOOKUP(E725,'Reference Data'!C:C,1,FALSE)),\"PLEASE SELECT A BANK FROM DEFINED LIST PROVIDED\",\"\")),\"\")","v":""},"No Entry",0]
[null,null,null,null,null,null,null,null,null,null,null,null,"",{"$f":"IF(D726=\"Cash and Deposits\",IF(E726=\"\",\"BANK NAME REQUIRED\",IF(ISERROR(VLOOKUP(E726,'Reference Data'!C:C,1,FALSE)),\"PLEASE SELECT A BANK FROM DEFINED LIST PROVIDED\",\"\")),\"\")","v":""},"No Entry",0]
[null,null,null,null,null,null,null,null,null,null,null,null,"",{"$f":"IF(D727=\"Cash and Deposits\",IF(E727=\"\",\"BANK NAME REQUIRED\",IF(ISERROR(VLOOKUP(E727,'Reference Data'!C:C,1,FALSE)),\"PLEASE SELECT A BANK FROM DEFINED LIST PROVIDED\",\"\")),\"\")","v":""},"No Entry",0]
[null,null,null,null,null,null,null,null,null,null,null,null,"",{"$f":"IF(D728=\"Cash and Deposits\",IF(E728=\"\",\"BANK NAME REQUIRED\",IF(ISERROR(VLOOKUP(E728,'Reference Data'!C:C,1,FALSE)),\"PLEASE SELECT A BANK FROM DEFINED LIST PROVIDED\",\"\")),\"\")","v":""},"No Entry",0]
[null,null,null,null,null,null,null,null,null,null,null,null,"",{"$f":"IF(D729=\"Cash and Deposits\",IF(E729=\"\",\"BANK NAME REQUIRED\",IF(ISERROR(VLOOKUP(E729,'Reference Data'!C:C,1,FALSE)),\"PLEASE SELECT A BANK FROM DEFINED LIST PROVIDED\",\"\")),\"\")","v":""},"No Entry",0]
[null,null,null,null,null,null,null,null,null,null,null,null,"",{"$f":"IF(D730=\"Cash and Deposits\",IF(E730=\"\",\"BANK NAME REQUIRED\",IF(ISERROR(VLOOKUP(E730,'Reference Data'!C:C,1,FALSE)),\"PLEASE SELECT A BANK FROM DEFINED LIST PROVIDED\",\"\")),\"\")","v":""},"No Entry",0]
[null,null,null,null,null,null,null,null,null,null,null,null,"",{"$f":"IF(D731=\"Cash and Deposits\",IF(E731=\"\",\"BANK NAME REQUIRED\",IF(ISERROR(VLOOKUP(E731,'Reference Data'!C:C,1,FALSE)),\"PLEASE SELECT A BANK FROM DEFINED LIST PROVIDED\",\"\")),\"\")","v":""},"No Entry",0]
[null,null,null,null,null,null,null,null,null,null,null,null,"",{"$f":"IF(D732=\"Cash and Deposits\",IF(E732=\"\",\"BANK NAME REQUIRED\",IF(ISERROR(VLOOKUP(E732,'Reference Data'!C:C,1,FALSE)),\"PLEASE SELECT A BANK FROM DEFINED LIST PROVIDED\",\"\")),\"\")","v":""},"No Entry",0]
[null,null,null,null,null,null,null,null,null,null,null,null,"",{"$f":"IF(D733=\"Cash and Deposits\",IF(E733=\"\",\"BANK NAME REQUIRED\",IF(ISERROR(VLOOKUP(E733,'Reference Data'!C:C,1,FALSE)),\"PLEASE SELECT A BANK FROM DEFINED LIST PROVIDED\",\"\")),\"\")","v":""},"No Entry",0]
[null,null,null,null,null,null,null,null,null,null,null,null,"",{"$f":"IF(D734=\"Cash and Deposits\",IF(E734=\"\",\"BANK NAME REQUIRED\",IF(ISERROR(VLOOKUP(E734,'Reference Data'!C:C,1,FALSE)),\"PLEASE SELECT A BANK FROM DEFINED LIST PROVIDED\",\"\")),\"\")","v":""},"No Entry",0]
[null,null,null,null,null,null,null,null,null,null,null,null,"",{"$f":"IF(D735=\"Cash and Deposits\",IF(E735=\"\",\"BANK NAME REQUIRED\",IF(ISERROR(VLOOKUP(E735,'Reference Data'!C:C,1,FALSE)),\"PLEASE SELECT A BANK FROM DEFINED LIST PROVIDED\",\"\")),\"\")","v":""},"No Entry",0]
[null,null,null,null,null,null,null,null,null,null,null,null,"",{"$f":"IF(D736=\"Cash and Deposits\",IF(E736=\"\",\"BANK NAME REQUIRED\",IF(ISERROR(VLOOKUP(E736,'Reference Data'!C:C,1,FALSE)),\"PLEASE SELECT A BANK FROM DEFINED LIST PROVIDED\",\"\")),\"\")","v":""},"No Entry",0]
[null,null,null,null,null,null,null,null,null,null,null,null,"",{"$f":"IF(D737=\"Cash and Deposits\",IF(E737=\"\",\"BANK NAME REQUIRED\",IF(ISERROR(VLOOKUP(E737,'Reference Data'!C:C,1,FALSE)),\"PLEASE SELECT A BANK FROM DEFINED LIST PROVIDED\",\"\")),\"\")","v":""},"No Entry",0]
[null,null,null,null,null,null,null,null,null,null,null,null,"",{"$f":"IF(D738=\"Cash and Deposits\",IF(E738=\"\",\"BANK NAME REQUIRED\",IF(ISERROR(VLOOKUP(E738,'Reference Data'!C:C,1,FALSE)),\"PLEASE SELECT A BANK FROM DEFINED LIST PROVIDED\",\"\")),\"\")","v":""},"No Entry",0]
[null,null,null,null,null,null,null,null,null,null,null,null,"",{"$f":"IF(D739=\"Cash and Deposits\",IF(E739=\"\",\"BANK NAME REQUIRED\",IF(ISERROR(VLOOKUP(E739,'Reference Data'!C:C,1,FALSE)),\"PLEASE SELECT A BANK FROM DEFINED LIST PROVIDED\",\"\")),\"\")","v":""},"No Entry",0]
[null,null,null,null,null,null,null,null,null,null,null,null,"",{"$f":"IF(D740=\"Cash and Deposits\",IF(E740=\"\",\"BANK NAME REQUIRED\",IF(ISERROR(VLOOKUP(E740,'Reference Data'!C:C,1,FALSE)),\"PLEASE SELECT A BANK FROM DEFINED LIST PROVIDED\",\"\")),\"\")","v":""},"No Entry",0]
[null,null,null,null,null,null,null,null,null,null,null,null,"",{"$f":"IF(D741=\"Cash and Deposits\",IF(E741=\"\",\"BANK NAME REQUIRED\",IF(ISERROR(VLOOKUP(E741,'Reference Data'!C:C,1,FALSE)),\"PLEASE SELECT A BANK FROM DEFINED LIST PROVIDED\",\"\")),\"\")","v":""},"No Entry",0]
[null,null,null,null,null,null,null,null,null,null,null,null,"",{"$f":"IF(D742=\"Cash and Deposits\",IF(E742=\"\",\"BANK NAME REQUIRED\",IF(ISERROR(VLOOKUP(E742,'Reference Data'!C:C,1,FALSE)),\"PLEASE SELECT A BANK FROM DEFINED LIST PROVIDED\",\"\")),\"\")","v":""},"No Entry",0]
[null,null,null,null,null,null,null,null,null,null,null,null,"",{"$f":"IF(D743=\"Cash and Deposits\",IF(E743=\"\",\"BANK NAME REQUIRED\",IF(ISERROR(VLOOKUP(E743,'Reference Data'!C:C,1,FALSE)),\"PLEASE SELECT A BANK FROM DEFINED LIST PROVIDED\",\"\")),\"\")","v":""},"No Entry",0]
[null,null,null,null,null,null,null,null,null,null,null,null,"",{"$f":"IF(D744=\"Cash and Deposits\",IF(E744=\"\",\"BANK NAME REQUIRED\",IF(ISERROR(VLOOKUP(E744,'Reference Data'!C:C,1,FALSE)),\"PLEASE SELECT A BANK FROM DEFINED LIST PROVIDED\",\"\")),\"\")","v":""},"No Entry",0]
[null,null,null,null,null,null,null,null,null,null,null,null,"",{"$f":"IF(D745=\"Cash and Deposits\",IF(E745=\"\",\"BANK NAME REQUIRED\",IF(ISERROR(VLOOKUP(E745,'Reference Data'!C:C,1,FALSE)),\"PLEASE SELECT A BANK FROM DEFINED LIST PROVIDED\",\"\")),\"\")","v":""},"No Entry",0]
[null,null,null,null,null,null,null,null,null,null,null,null,"",{"$f":"IF(D746=\"Cash and Deposits\",IF(E746=\"\",\"BANK NAME REQUIRED\",IF(ISERROR(VLOOKUP(E746,'Reference Data'!C:C,1,FALSE)),\"PLEASE SELECT A BANK FROM DEFINED LIST PROVIDED\",\"\")),\"\")","v":""},"No Entry",0]
[null,null,null,null,null,null,null,null,null,null,null,null,"",{"$f":"IF(D747=\"Cash and Deposits\",IF(E747=\"\",\"BANK NAME REQUIRED\",IF(ISERROR(VLOOKUP(E747,'Reference Data'!C:C,1,FALSE)),\"PLEASE SELECT A BANK FROM DEFINED LIST PROVIDED\",\"\")),\"\")","v":""},"No Entry",0]
[null,null,null,null,null,null,null,null,null,null,null,null,"",{"$f":"IF(D748=\"Cash and Deposits\",IF(E748=\"\",\"BANK NAME REQUIRED\",IF(ISERROR(VLOOKUP(E748,'Reference Data'!C:C,1,FALSE)),\"PLEASE SELECT A BANK FROM DEFINED LIST PROVIDED\",\"\")),\"\")","v":""},"No Entry",0]
[null,null,null,null,null,null,null,null,null,null,null,null,"",{"$f":"IF(D749=\"Cash and Deposits\",IF(E749=\"\",\"BANK NAME REQUIRED\",IF(ISERROR(VLOOKUP(E749,'Reference Data'!C:C,1,FALSE)),\"PLEASE SELECT A BANK FROM DEFINED LIST PROVIDED\",\"\")),\"\")","v":""},"No Entry",0]
[null,null,null,null,null,null,null,null,null,null,null,null,"",{"$f":"IF(D750=\"Cash and Deposits\",IF(E750=\"\",\"BANK NAME REQUIRED\",IF(ISERROR(VLOOKUP(E750,'Reference Data'!C:C,1,FALSE)),\"PLEASE SELECT A BANK FROM DEFINED LIST PROVIDED\",\"\")),\"\")","v":""},"No Entry",0]
[null,null,null,null,null,null,null,null,null,null,null,null,"",{"$f":"IF(D751=\"Cash and Deposits\",IF(E751=\"\",\"BANK NAME REQUIRED\",IF(ISERROR(VLOOKUP(E751,'Reference Data'!C:C,1,FALSE)),\"PLEASE SELECT A BANK FROM DEFINED LIST PROVIDED\",\"\")),\"\")","v":""},"No Entry",0]
[null,null,null,null,null,null,null,null,null,null,null,null,"",{"$f":"IF(D752=\"Cash and Deposits\",IF(E752=\"\",\"BANK NAME REQUIRED\",IF(ISERROR(VLOOKUP(E752,'Reference Data'!C:C,1,FALSE)),\"PLEASE SELECT A BANK FROM DEFINED LIST PROVIDED\",\"\")),\"\")","v":""},"No Entry",0]
[null,null,null,null,null,null,null,null,null,null,null,null,"",{"$f":"IF(D753=\"Cash and Deposits\",IF(E753=\"\",\"BANK NAME REQUIRED\",IF(ISERROR(VLOOKUP(E753,'Reference Data'!C:C,1,FALSE)),\"PLEASE SELECT A BANK FROM DEFINED LIST PROVIDED\",\"\")),\"\")","v":""},"No Entry",0]
[null,null,null,null,null,null,null,null,null,null,null,null,"",{"$f":"IF(D754=\"Cash and Deposits\",IF(E754=\"\",\"BANK NAME REQUIRED\",IF(ISERROR(VLOOKUP(E754,'Reference Data'!C:C,1,FALSE)),\"PLEASE SELECT A BANK FROM DEFINED LIST PROVIDED\",\"\")),\"\")","v":""},"No Entry",0]
[null,null,null,null,null,null,null,null,null,null,null,null,"",{"$f":"IF(D755=\"Cash and Deposits\",IF(E755=\"\",\"BANK NAME REQUIRED\",IF(ISERROR(VLOOKUP(E755,'Reference Data'!C:C,1,FALSE)),\"PLEASE SELECT A BANK FROM DEFINED LIST PROVIDED\",\"\")),\"\")","v":""},"No Entry",0]
[null,null,null,null,null,null,null,null,null,null,null,null,"",{"$f":"IF(D756=\"Cash and Deposits\",IF(E756=\"\",\"BANK NAME REQUIRED\",IF(ISERROR(VLOOKUP(E756,'Reference Data'!C:C,1,FALSE)),\"PLEASE SELECT A BANK FROM DEFINED LIST PROVIDED\",\"\")),\"\")","v":""},"No Entry",0]
[null,null,null,null,null,null,null,null,null,null,null,null,"",{"$f":"IF(D757=\"Cash and Deposits\",IF(E757=\"\",\"BANK NAME REQUIRED\",IF(ISERROR(VLOOKUP(E757,'Reference Data'!C:C,1,FALSE)),\"PLEASE SELECT A BANK FROM DEFINED LIST PROVIDED\",\"\")),\"\")","v":""},"No Entry",0]
[null,null,null,null,null,null,null,null,null,null,null,null,"",{"$f":"IF(D758=\"Cash and Deposits\",IF(E758=\"\",\"BANK NAME REQUIRED\",IF(ISERROR(VLOOKUP(E758,'Reference Data'!C:C,1,FALSE)),\"PLEASE SELECT A BANK FROM DEFINED LIST PROVIDED\",\"\")),\"\")","v":""},"No Entry",0]
[null,null,null,null,null,null,null,null,null,null,null,null,"",{"$f":"IF(D759=\"Cash and Deposits\",IF(E759=\"\",\"BANK NAME REQUIRED\",IF(ISERROR(VLOOKUP(E759,'Reference Data'!C:C,1,FALSE)),\"PLEASE SELECT A BANK FROM DEFINED LIST PROVIDED\",\"\")),\"\")","v":""},"No Entry",0]
[null,null,null,null,null,null,null,null,null,null,null,null,"",{"$f":"IF(D760=\"Cash and Deposits\",IF(E760=\"\",\"BANK NAME REQUIRED\",IF(ISERROR(VLOOKUP(E760,'Reference Data'!C:C,1,FALSE)),\"PLEASE SELECT A BANK FROM DEFINED LIST PROVIDED\",\"\")),\"\")","v":""},"No Entry",0]
[null,null,null,null,null,null,null,null,null,null,null,null,"",{"$f":"IF(D761=\"Cash and Deposits\",IF(E761=\"\",\"BANK NAME REQUIRED\",IF(ISERROR(VLOOKUP(E761,'Reference Data'!C:C,1,FALSE)),\"PLEASE SELECT A BANK FROM DEFINED LIST PROVIDED\",\"\")),\"\")","v":""},"No Entry",0]
[null,null,null,null,null,null,null,null,null,null,null,null,"",{"$f":"IF(D762=\"Cash and Deposits\",IF(E762=\"\",\"BANK NAME REQUIRED\",IF(ISERROR(VLOOKUP(E762,'Reference Data'!C:C,1,FALSE)),\"PLEASE SELECT A BANK FROM DEFINED LIST PROVIDED\",\"\")),\"\")","v":""},"No Entry",0]
[null,null,null,null,null,null,null,null,null,null,null,null,"",{"$f":"IF(D763=\"Cash and Deposits\",IF(E763=\"\",\"BANK NAME REQUIRED\",IF(ISERROR(VLOOKUP(E763,'Reference Data'!C:C,1,FALSE)),\"PLEASE SELECT A BANK FROM DEFINED LIST PROVIDED\",\"\")),\"\")","v":""},"No Entry",0]
[null,null,null,null,null,null,null,null,null,null,null,null,"",{"$f":"IF(D764=\"Cash and Deposits\",IF(E764=\"\",\"BANK NAME REQUIRED\",IF(ISERROR(VLOOKUP(E764,'Reference Data'!C:C,1,FALSE)),\"PLEASE SELECT A BANK FROM DEFINED LIST PROVIDED\",\"\")),\"\")","v":""},"No Entry",0]
[null,null,null,null,null,null,null,null,null,null,null,null,"",{"$f":"IF(D765=\"Cash and Deposits\",IF(E765=\"\",\"BANK NAME REQUIRED\",IF(ISERROR(VLOOKUP(E765,'Reference Data'!C:C,1,FALSE)),\"PLEASE SELECT A BANK FROM DEFINED LIST PROVIDED\",\"\")),\"\")","v":""},"No Entry",0]
[null,null,null,null,null,null,null,null,null,null,null,null,"",{"$f":"IF(D766=\"Cash and Deposits\",IF(E766=\"\",\"BANK NAME REQUIRED\",IF(ISERROR(VLOOKUP(E766,'Reference Data'!C:C,1,FALSE)),\"PLEASE SELECT A BANK FROM DEFINED LIST PROVIDED\",\"\")),\"\")","v":""},"No Entry",0]
[null,null,null,null,null,null,null,null,null,null,null,null,"",{"$f":"IF(D767=\"Cash and Deposits\",IF(E767=\"\",\"BANK NAME REQUIRED\",IF(ISERROR(VLOOKUP(E767,'Reference Data'!C:C,1,FALSE)),\"PLEASE SELECT A BANK FROM DEFINED LIST PROVIDED\",\"\")),\"\")","v":""},"No Entry",0]
[null,null,null,null,null,null,null,null,null,null,null,null,"",{"$f":"IF(D768=\"Cash and Deposits\",IF(E768=\"\",\"BANK NAME REQUIRED\",IF(ISERROR(VLOOKUP(E768,'Reference Data'!C:C,1,FALSE)),\"PLEASE SELECT A BANK FROM DEFINED LIST PROVIDED\",\"\")),\"\")","v":""},"No Entry",0]
[null,null,null,null,null,null,null,null,null,null,null,null,"",{"$f":"IF(D769=\"Cash and Deposits\",IF(E769=\"\",\"BANK NAME REQUIRED\",IF(ISERROR(VLOOKUP(E769,'Reference Data'!C:C,1,FALSE)),\"PLEASE SELECT A BANK FROM DEFINED LIST PROVIDED\",\"\")),\"\")","v":""},"No Entry",0]
[null,null,null,null,null,null,null,null,null,null,null,null,"",{"$f":"IF(D770=\"Cash and Deposits\",IF(E770=\"\",\"BANK NAME REQUIRED\",IF(ISERROR(VLOOKUP(E770,'Reference Data'!C:C,1,FALSE)),\"PLEASE SELECT A BANK FROM DEFINED LIST PROVIDED\",\"\")),\"\")","v":""},"No Entry",0]
[null,null,null,null,null,null,null,null,null,null,null,null,"",{"$f":"IF(D771=\"Cash and Deposits\",IF(E771=\"\",\"BANK NAME REQUIRED\",IF(ISERROR(VLOOKUP(E771,'Reference Data'!C:C,1,FALSE)),\"PLEASE SELECT A BANK FROM DEFINED LIST PROVIDED\",\"\")),\"\")","v":""},"No Entry",0]
[null,null,null,null,null,null,null,null,null,null,null,null,"",{"$f":"IF(D772=\"Cash and Deposits\",IF(E772=\"\",\"BANK NAME REQUIRED\",IF(ISERROR(VLOOKUP(E772,'Reference Data'!C:C,1,FALSE)),\"PLEASE SELECT A BANK FROM DEFINED LIST PROVIDED\",\"\")),\"\")","v":""},"No Entry",0]
[null,null,null,null,null,null,null,null,null,null,null,null,{"$f":"IF(K773<>0,IF(B773=\"\",\"ID CODE REQUIRED\",\"\"),\"\")","v":""},{"$f":"IF(D773=\"Cash and Deposits\",IF(E773=\"\",\"BANK NAME REQUIRED\",IF(ISERROR(VLOOKUP(E773,'Reference Data'!C:C,1,FALSE)),\"PLEASE SELECT A BANK FROM DEFINED LIST PROVIDED\",\"\")),\"\")","v":""},{"$f":"IF(K773=0,\"No Entry\",\"\")","v":"No Entry"},{"$f":"IF(K773<>0,IF(A773=\"\",1,0),0)","v":0}]
[null,null,null,null,null,null,null,null,null,null,null,null,"",{"$f":"IF(D774=\"Cash and Deposits\",IF(E774=\"\",\"BANK NAME REQUIRED\",IF(ISERROR(VLOOKUP(E774,'Reference Data'!C:C,1,FALSE)),\"PLEASE SELECT A BANK FROM DEFINED LIST PROVIDED\",\"\")),\"\")","v":""},"No Entry",0]
[null,null,null,null,null,null,null,null,null,null,null,null,"",{"$f":"IF(D775=\"Cash and Deposits\",IF(E775=\"\",\"BANK NAME REQUIRED\",IF(ISERROR(VLOOKUP(E775,'Reference Data'!C:C,1,FALSE)),\"PLEASE SELECT A BANK FROM DEFINED LIST PROVIDED\",\"\")),\"\")","v":""},"No Entry",0]
[null,null,null,null,null,null,null,null,null,null,null,null,"",{"$f":"IF(D776=\"Cash and Deposits\",IF(E776=\"\",\"BANK NAME REQUIRED\",IF(ISERROR(VLOOKUP(E776,'Reference Data'!C:C,1,FALSE)),\"PLEASE SELECT A BANK FROM DEFINED LIST PROVIDED\",\"\")),\"\")","v":""},"No Entry",0]
[null,null,null,null,null,null,null,null,null,null,null,null,"",{"$f":"IF(D777=\"Cash and Deposits\",IF(E777=\"\",\"BANK NAME REQUIRED\",IF(ISERROR(VLOOKUP(E777,'Reference Data'!C:C,1,FALSE)),\"PLEASE SELECT A BANK FROM DEFINED LIST PROVIDED\",\"\")),\"\")","v":""},"No Entry",0]
[null,null,null,null,null,null,null,null,null,null,null,null,"",{"$f":"IF(D778=\"Cash and Deposits\",IF(E778=\"\",\"BANK NAME REQUIRED\",IF(ISERROR(VLOOKUP(E778,'Reference Data'!C:C,1,FALSE)),\"PLEASE SELECT A BANK FROM DEFINED LIST PROVIDED\",\"\")),\"\")","v":""},"No Entry",0]
[null,null,null,null,null,null,null,null,null,null,null,null,"",{"$f":"IF(D779=\"Cash and Deposits\",IF(E779=\"\",\"BANK NAME REQUIRED\",IF(ISERROR(VLOOKUP(E779,'Reference Data'!C:C,1,FALSE)),\"PLEASE SELECT A BANK FROM DEFINED LIST PROVIDED\",\"\")),\"\")","v":""},"No Entry",0]
[null,null,null,null,null,null,null,null,null,null,null,null,"",{"$f":"IF(D780=\"Cash and Deposits\",IF(E780=\"\",\"BANK NAME REQUIRED\",IF(ISERROR(VLOOKUP(E780,'Reference Data'!C:C,1,FALSE)),\"PLEASE SELECT A BANK FROM DEFINED LIST PROVIDED\",\"\")),\"\")","v":""},"No Entry",0]
[null,null,null,null,null,null,null,null,null,null,null,null,"",{"$f":"IF(D781=\"Cash and Deposits\",IF(E781=\"\",\"BANK NAME REQUIRED\",IF(ISERROR(VLOOKUP(E781,'Reference Data'!C:C,1,FALSE)),\"PLEASE SELECT A BANK FROM DEFINED LIST PROVIDED\",\"\")),\"\")","v":""},"No Entry",0]
[null,null,null,null,null,null,null,null,null,null,null,null,"",{"$f":"IF(D782=\"Cash and Deposits\",IF(E782=\"\",\"BANK NAME REQUIRED\",IF(ISERROR(VLOOKUP(E782,'Reference Data'!C:C,1,FALSE)),\"PLEASE SELECT A BANK FROM DEFINED LIST PROVIDED\",\"\")),\"\")","v":""},"No Entry",0]
[null,null,null,null,null,null,null,null,null,null,null,null,"",{"$f":"IF(D783=\"Cash and Deposits\",IF(E783=\"\",\"BANK NAME REQUIRED\",IF(ISERROR(VLOOKUP(E783,'Reference Data'!C:C,1,FALSE)),\"PLEASE SELECT A BANK FROM DEFINED LIST PROVIDED\",\"\")),\"\")","v":""},"No Entry",0]
[null,null,null,null,null,null,null,null,null,null,null,null,"",{"$f":"IF(D784=\"Cash and Deposits\",IF(E784=\"\",\"BANK NAME REQUIRED\",IF(ISERROR(VLOOKUP(E784,'Reference Data'!C:C,1,FALSE)),\"PLEASE SELECT A BANK FROM DEFINED LIST PROVIDED\",\"\")),\"\")","v":""},"No Entry",0]
[null,null,null,null,null,null,null,null,null,null,null,null,"",{"$f":"IF(D785=\"Cash and Deposits\",IF(E785=\"\",\"BANK NAME REQUIRED\",IF(ISERROR(VLOOKUP(E785,'Reference Data'!C:C,1,FALSE)),\"PLEASE SELECT A BANK FROM DEFINED LIST PROVIDED\",\"\")),\"\")","v":""},"No Entry",0]
[null,null,null,null,null,null,null,null,null,null,null,null,"",{"$f":"IF(D786=\"Cash and Deposits\",IF(E786=\"\",\"BANK NAME REQUIRED\",IF(ISERROR(VLOOKUP(E786,'Reference Data'!C:C,1,FALSE)),\"PLEASE SELECT A BANK FROM DEFINED LIST PROVIDED\",\"\")),\"\")","v":""},"No Entry",0]
[null,null,null,null,null,null,null,null,null,null,null,null,"",{"$f":"IF(D787=\"Cash and Deposits\",IF(E787=\"\",\"BANK NAME REQUIRED\",IF(ISERROR(VLOOKUP(E787,'Reference Data'!C:C,1,FALSE)),\"PLEASE SELECT A BANK FROM DEFINED LIST PROVIDED\",\"\")),\"\")","v":""},"No Entry",0]
[null,null,null,null,null,null,null,null,null,null,null,null,"",{"$f":"IF(D788=\"Cash and Deposits\",IF(E788=\"\",\"BANK NAME REQUIRED\",IF(ISERROR(VLOOKUP(E788,'Reference Data'!C:C,1,FALSE)),\"PLEASE SELECT A BANK FROM DEFINED LIST PROVIDED\",\"\")),\"\")","v":""},"No Entry",0]
[null,null,null,null,null,null,null,null,null,null,null,null,"",{"$f":"IF(D789=\"Cash and Deposits\",IF(E789=\"\",\"BANK NAME REQUIRED\",IF(ISERROR(VLOOKUP(E789,'Reference Data'!C:C,1,FALSE)),\"PLEASE SELECT A BANK FROM DEFINED LIST PROVIDED\",\"\")),\"\")","v":""},"No Entry",0]
[null,null,null,null,null,null,null,null,null,null,null,null,"",{"$f":"IF(D790=\"Cash and Deposits\",IF(E790=\"\",\"BANK NAME REQUIRED\",IF(ISERROR(VLOOKUP(E790,'Reference Data'!C:C,1,FALSE)),\"PLEASE SELECT A BANK FROM DEFINED LIST PROVIDED\",\"\")),\"\")","v":""},"No Entry",0]
[null,null,null,null,null,null,null,null,null,null,null,null,"",{"$f":"IF(D791=\"Cash and Deposits\",IF(E791=\"\",\"BANK NAME REQUIRED\",IF(ISERROR(VLOOKUP(E791,'Reference Data'!C:C,1,FALSE)),\"PLEASE SELECT A BANK FROM DEFINED LIST PROVIDED\",\"\")),\"\")","v":""},"No Entry",0]
[null,null,null,null,null,null,null,null,null,null,null,null,"",{"$f":"IF(D792=\"Cash and Deposits\",IF(E792=\"\",\"BANK NAME REQUIRED\",IF(ISERROR(VLOOKUP(E792,'Reference Data'!C:C,1,FALSE)),\"PLEASE SELECT A BANK FROM DEFINED LIST PROVIDED\",\"\")),\"\")","v":""},"No Entry",0]
[null,null,null,null,null,null,null,null,null,null,null,null,"",{"$f":"IF(D793=\"Cash and Deposits\",IF(E793=\"\",\"BANK NAME REQUIRED\",IF(ISERROR(VLOOKUP(E793,'Reference Data'!C:C,1,FALSE)),\"PLEASE SELECT A BANK FROM DEFINED LIST PROVIDED\",\"\")),\"\")","v":""},"No Entry",0]
[null,null,null,null,null,null,null,null,null,null,null,null,"",{"$f":"IF(D794=\"Cash and Deposits\",IF(E794=\"\",\"BANK NAME REQUIRED\",IF(ISERROR(VLOOKUP(E794,'Reference Data'!C:C,1,FALSE)),\"PLEASE SELECT A BANK FROM DEFINED LIST PROVIDED\",\"\")),\"\")","v":""},"No Entry",0]
[null,null,null,null,null,null,null,null,null,null,null,null,"",{"$f":"IF(D795=\"Cash and Deposits\",IF(E795=\"\",\"BANK NAME REQUIRED\",IF(ISERROR(VLOOKUP(E795,'Reference Data'!C:C,1,FALSE)),\"PLEASE SELECT A BANK FROM DEFINED LIST PROVIDED\",\"\")),\"\")","v":""},"No Entry",0]
[null,null,null,null,null,null,null,null,null,null,null,null,"",{"$f":"IF(D796=\"Cash and Deposits\",IF(E796=\"\",\"BANK NAME REQUIRED\",IF(ISERROR(VLOOKUP(E796,'Reference Data'!C:C,1,FALSE)),\"PLEASE SELECT A BANK FROM DEFINED LIST PROVIDED\",\"\")),\"\")","v":""},"No Entry",0]
[null,null,null,null,null,null,null,null,null,null,null,null,"",{"$f":"IF(D797=\"Cash and Deposits\",IF(E797=\"\",\"BANK NAME REQUIRED\",IF(ISERROR(VLOOKUP(E797,'Reference Data'!C:C,1,FALSE)),\"PLEASE SELECT A BANK FROM DEFINED LIST PROVIDED\",\"\")),\"\")","v":""},"No Entry",0]
[null,null,null,null,null,null,null,null,null,null,null,null,"",{"$f":"IF(D798=\"Cash and Deposits\",IF(E798=\"\",\"BANK NAME REQUIRED\",IF(ISERROR(VLOOKUP(E798,'Reference Data'!C:C,1,FALSE)),\"PLEASE SELECT A BANK FROM DEFINED LIST PROVIDED\",\"\")),\"\")","v":""},"No Entry",0]
[null,null,null,null,null,null,null,null,null,null,null,null,"",{"$f":"IF(D799=\"Cash and Deposits\",IF(E799=\"\",\"BANK NAME REQUIRED\",IF(ISERROR(VLOOKUP(E799,'Reference Data'!C:C,1,FALSE)),\"PLEASE SELECT A BANK FROM DEFINED LIST PROVIDED\",\"\")),\"\")","v":""},"No Entry",0]
[null,null,null,null,null,null,null,null,null,null,null,null,"",{"$f":"IF(D800=\"Cash and Deposits\",IF(E800=\"\",\"BANK NAME REQUIRED\",IF(ISERROR(VLOOKUP(E800,'Reference Data'!C:C,1,FALSE)),\"PLEASE SELECT A BANK FROM DEFINED LIST PROVIDED\",\"\")),\"\")","v":""},"No Entry",0]
[null,null,null,null,null,null,null,null,null,null,null,null,"",{"$f":"IF(D801=\"Cash and Deposits\",IF(E801=\"\",\"BANK NAME REQUIRED\",IF(ISERROR(VLOOKUP(E801,'Reference Data'!C:C,1,FALSE)),\"PLEASE SELECT A BANK FROM DEFINED LIST PROVIDED\",\"\")),\"\")","v":""},"No Entry",0]
[null,null,null,null,null,null,null,null,null,null,null,null,"",{"$f":"IF(D802=\"Cash and Deposits\",IF(E802=\"\",\"BANK NAME REQUIRED\",IF(ISERROR(VLOOKUP(E802,'Reference Data'!C:C,1,FALSE)),\"PLEASE SELECT A BANK FROM DEFINED LIST PROVIDED\",\"\")),\"\")","v":""},"No Entry",0]
[null,null,null,null,null,null,null,null,null,null,null,null,"",{"$f":"IF(D803=\"Cash and Deposits\",IF(E803=\"\",\"BANK NAME REQUIRED\",IF(ISERROR(VLOOKUP(E803,'Reference Data'!C:C,1,FALSE)),\"PLEASE SELECT A BANK FROM DEFINED LIST PROVIDED\",\"\")),\"\")","v":""},"No Entry",0]
[null,null,null,null,null,null,null,null,null,null,null,null,"",{"$f":"IF(D804=\"Cash and Deposits\",IF(E804=\"\",\"BANK NAME REQUIRED\",IF(ISERROR(VLOOKUP(E804,'Reference Data'!C:C,1,FALSE)),\"PLEASE SELECT A BANK FROM DEFINED LIST PROVIDED\",\"\")),\"\")","v":""},"No Entry",0]
[null,null,null,null,null,null,null,null,null,null,null,null,"",{"$f":"IF(D805=\"Cash and Deposits\",IF(E805=\"\",\"BANK NAME REQUIRED\",IF(ISERROR(VLOOKUP(E805,'Reference Data'!C:C,1,FALSE)),\"PLEASE SELECT A BANK FROM DEFINED LIST PROVIDED\",\"\")),\"\")","v":""},"No Entry",0]
[null,null,null,null,null,null,null,null,null,null,null,null,"",{"$f":"IF(D806=\"Cash and Deposits\",IF(E806=\"\",\"BANK NAME REQUIRED\",IF(ISERROR(VLOOKUP(E806,'Reference Data'!C:C,1,FALSE)),\"PLEASE SELECT A BANK FROM DEFINED LIST PROVIDED\",\"\")),\"\")","v":""},"No Entry",0]
[null,null,null,null,null,null,null,null,null,null,null,null,"",{"$f":"IF(D807=\"Cash and Deposits\",IF(E807=\"\",\"BANK NAME REQUIRED\",IF(ISERROR(VLOOKUP(E807,'Reference Data'!C:C,1,FALSE)),\"PLEASE SELECT A BANK FROM DEFINED LIST PROVIDED\",\"\")),\"\")","v":""},"No Entry",0]
[null,null,null,null,null,null,null,null,null,null,null,null,"",{"$f":"IF(D808=\"Cash and Deposits\",IF(E808=\"\",\"BANK NAME REQUIRED\",IF(ISERROR(VLOOKUP(E808,'Reference Data'!C:C,1,FALSE)),\"PLEASE SELECT A BANK FROM DEFINED LIST PROVIDED\",\"\")),\"\")","v":""},"No Entry",0]
[null,null,null,null,null,null,null,null,null,null,null,null,"",{"$f":"IF(D809=\"Cash and Deposits\",IF(E809=\"\",\"BANK NAME REQUIRED\",IF(ISERROR(VLOOKUP(E809,'Reference Data'!C:C,1,FALSE)),\"PLEASE SELECT A BANK FROM DEFINED LIST PROVIDED\",\"\")),\"\")","v":""},"No Entry",0]
[null,null,null,null,null,null,null,null,null,null,null,null,"",{"$f":"IF(D810=\"Cash and Deposits\",IF(E810=\"\",\"BANK NAME REQUIRED\",IF(ISERROR(VLOOKUP(E810,'Reference Data'!C:C,1,FALSE)),\"PLEASE SELECT A BANK FROM DEFINED LIST PROVIDED\",\"\")),\"\")","v":""},"No Entry",0]
[null,null,null,null,null,null,null,null,null,null,null,null,"",{"$f":"IF(D811=\"Cash and Deposits\",IF(E811=\"\",\"BANK NAME REQUIRED\",IF(ISERROR(VLOOKUP(E811,'Reference Data'!C:C,1,FALSE)),\"PLEASE SELECT A BANK FROM DEFINED LIST PROVIDED\",\"\")),\"\")","v":""},"No Entry",0]
[null,null,null,null,null,null,null,null,null,null,null,null,"",{"$f":"IF(D812=\"Cash and Deposits\",IF(E812=\"\",\"BANK NAME REQUIRED\",IF(ISERROR(VLOOKUP(E812,'Reference Data'!C:C,1,FALSE)),\"PLEASE SELECT A BANK FROM DEFINED LIST PROVIDED\",\"\")),\"\")","v":""},"No Entry",0]
[null,null,null,null,null,null,null,null,null,null,null,null,"",{"$f":"IF(D813=\"Cash and Deposits\",IF(E813=\"\",\"BANK NAME REQUIRED\",IF(ISERROR(VLOOKUP(E813,'Reference Data'!C:C,1,FALSE)),\"PLEASE SELECT A BANK FROM DEFINED LIST PROVIDED\",\"\")),\"\")","v":""},"No Entry",0]
[null,null,null,null,null,null,null,null,null,null,null,null,"",{"$f":"IF(D814=\"Cash and Deposits\",IF(E814=\"\",\"BANK NAME REQUIRED\",IF(ISERROR(VLOOKUP(E814,'Reference Data'!C:C,1,FALSE)),\"PLEASE SELECT A BANK FROM DEFINED LIST PROVIDED\",\"\")),\"\")","v":""},"No Entry",0]
[null,null,null,null,null,null,null,null,null,null,null,null,"",{"$f":"IF(D815=\"Cash and Deposits\",IF(E815=\"\",\"BANK NAME REQUIRED\",IF(ISERROR(VLOOKUP(E815,'Reference Data'!C:C,1,FALSE)),\"PLEASE SELECT A BANK FROM DEFINED LIST PROVIDED\",\"\")),\"\")","v":""},"No Entry",0]
[null,null,null,null,null,null,null,null,null,null,null,null,"",{"$f":"IF(D816=\"Cash and Deposits\",IF(E816=\"\",\"BANK NAME REQUIRED\",IF(ISERROR(VLOOKUP(E816,'Reference Data'!C:C,1,FALSE)),\"PLEASE SELECT A BANK FROM DEFINED LIST PROVIDED\",\"\")),\"\")","v":""},"No Entry",0]
[null,null,null,null,null,null,null,null,null,null,null,null,"",{"$f":"IF(D817=\"Cash and Deposits\",IF(E817=\"\",\"BANK NAME REQUIRED\",IF(ISERROR(VLOOKUP(E817,'Reference Data'!C:C,1,FALSE)),\"PLEASE SELECT A BANK FROM DEFINED LIST PROVIDED\",\"\")),\"\")","v":""},"No Entry",0]
[null,null,null,null,null,null,null,null,null,null,null,null,"",{"$f":"IF(D818=\"Cash and Deposits\",IF(E818=\"\",\"BANK NAME REQUIRED\",IF(ISERROR(VLOOKUP(E818,'Reference Data'!C:C,1,FALSE)),\"PLEASE SELECT A BANK FROM DEFINED LIST PROVIDED\",\"\")),\"\")","v":""},"No Entry",0]
[null,null,null,null,null,null,null,null,null,null,null,null,"",{"$f":"IF(D819=\"Cash and Deposits\",IF(E819=\"\",\"BANK NAME REQUIRED\",IF(ISERROR(VLOOKUP(E819,'Reference Data'!C:C,1,FALSE)),\"PLEASE SELECT A BANK FROM DEFINED LIST PROVIDED\",\"\")),\"\")","v":""},"No Entry",0]
[null,null,null,null,null,null,null,null,null,null,null,null,"",{"$f":"IF(D820=\"Cash and Deposits\",IF(E820=\"\",\"BANK NAME REQUIRED\",IF(ISERROR(VLOOKUP(E820,'Reference Data'!C:C,1,FALSE)),\"PLEASE SELECT A BANK FROM DEFINED LIST PROVIDED\",\"\")),\"\")","v":""},"No Entry",0]
[null,null,null,null,null,null,null,null,null,null,null,null,"",{"$f":"IF(D821=\"Cash and Deposits\",IF(E821=\"\",\"BANK NAME REQUIRED\",IF(ISERROR(VLOOKUP(E821,'Reference Data'!C:C,1,FALSE)),\"PLEASE SELECT A BANK FROM DEFINED LIST PROVIDED\",\"\")),\"\")","v":""},"No Entry",0]
[null,null,null,null,null,null,null,null,null,null,null,null,"",{"$f":"IF(D822=\"Cash and Deposits\",IF(E822=\"\",\"BANK NAME REQUIRED\",IF(ISERROR(VLOOKUP(E822,'Reference Data'!C:C,1,FALSE)),\"PLEASE SELECT A BANK FROM DEFINED LIST PROVIDED\",\"\")),\"\")","v":""},"No Entry",0]
[null,null,null,null,null,null,null,null,null,null,null,null,"",{"$f":"IF(D823=\"Cash and Deposits\",IF(E823=\"\",\"BANK NAME REQUIRED\",IF(ISERROR(VLOOKUP(E823,'Reference Data'!C:C,1,FALSE)),\"PLEASE SELECT A BANK FROM DEFINED LIST PROVIDED\",\"\")),\"\")","v":""},"No Entry",0]
[null,null,null,null,null,null,null,null,null,null,null,null,"",{"$f":"IF(D824=\"Cash and Deposits\",IF(E824=\"\",\"BANK NAME REQUIRED\",IF(ISERROR(VLOOKUP(E824,'Reference Data'!C:C,1,FALSE)),\"PLEASE SELECT A BANK FROM DEFINED LIST PROVIDED\",\"\")),\"\")","v":""},"No Entry",0]
[null,null,null,null,null,null,null,null,null,null,null,null,"",{"$f":"IF(D825=\"Cash and Deposits\",IF(E825=\"\",\"BANK NAME REQUIRED\",IF(ISERROR(VLOOKUP(E825,'Reference Data'!C:C,1,FALSE)),\"PLEASE SELECT A BANK FROM DEFINED LIST PROVIDED\",\"\")),\"\")","v":""},"No Entry",0]
[null,null,null,null,null,null,null,null,null,null,null,null,"",{"$f":"IF(D826=\"Cash and Deposits\",IF(E826=\"\",\"BANK NAME REQUIRED\",IF(ISERROR(VLOOKUP(E826,'Reference Data'!C:C,1,FALSE)),\"PLEASE SELECT A BANK FROM DEFINED LIST PROVIDED\",\"\")),\"\")","v":""},"No Entry",0]
[null,null,null,null,null,null,null,null,null,null,null,null,"",{"$f":"IF(D827=\"Cash and Deposits\",IF(E827=\"\",\"BANK NAME REQUIRED\",IF(ISERROR(VLOOKUP(E827,'Reference Data'!C:C,1,FALSE)),\"PLEASE SELECT A BANK FROM DEFINED LIST PROVIDED\",\"\")),\"\")","v":""},"No Entry",0]
[null,null,null,null,null,null,null,null,null,null,null,null,"",{"$f":"IF(D828=\"Cash and Deposits\",IF(E828=\"\",\"BANK NAME REQUIRED\",IF(ISERROR(VLOOKUP(E828,'Reference Data'!C:C,1,FALSE)),\"PLEASE SELECT A BANK FROM DEFINED LIST PROVIDED\",\"\")),\"\")","v":""},"No Entry",0]
[null,null,null,null,null,null,null,null,null,null,null,null,"",{"$f":"IF(D829=\"Cash and Deposits\",IF(E829=\"\",\"BANK NAME REQUIRED\",IF(ISERROR(VLOOKUP(E829,'Reference Data'!C:C,1,FALSE)),\"PLEASE SELECT A BANK FROM DEFINED LIST PROVIDED\",\"\")),\"\")","v":""},"No Entry",0]
[null,null,null,null,null,null,null,null,null,null,null,null,"",{"$f":"IF(D830=\"Cash and Deposits\",IF(E830=\"\",\"BANK NAME REQUIRED\",IF(ISERROR(VLOOKUP(E830,'Reference Data'!C:C,1,FALSE)),\"PLEASE SELECT A BANK FROM DEFINED LIST PROVIDED\",\"\")),\"\")","v":""},"No Entry",0]
[null,null,null,null,null,null,null,null,null,null,null,null,"",{"$f":"IF(D831=\"Cash and Deposits\",IF(E831=\"\",\"BANK NAME REQUIRED\",IF(ISERROR(VLOOKUP(E831,'Reference Data'!C:C,1,FALSE)),\"PLEASE SELECT A BANK FROM DEFINED LIST PROVIDED\",\"\")),\"\")","v":""},"No Entry",0]
[null,null,null,null,null,null,null,null,null,null,null,null,"",{"$f":"IF(D832=\"Cash and Deposits\",IF(E832=\"\",\"BANK NAME REQUIRED\",IF(ISERROR(VLOOKUP(E832,'Reference Data'!C:C,1,FALSE)),\"PLEASE SELECT A BANK FROM DEFINED LIST PROVIDED\",\"\")),\"\")","v":""},"No Entry",0]
[null,null,null,null,null,null,null,null,null,null,null,null,"",{"$f":"IF(D833=\"Cash and Deposits\",IF(E833=\"\",\"BANK NAME REQUIRED\",IF(ISERROR(VLOOKUP(E833,'Reference Data'!C:C,1,FALSE)),\"PLEASE SELECT A BANK FROM DEFINED LIST PROVIDED\",\"\")),\"\")","v":""},"No Entry",0]
[null,null,null,null,null,null,null,null,null,null,null,null,"",{"$f":"IF(D834=\"Cash and Deposits\",IF(E834=\"\",\"BANK NAME REQUIRED\",IF(ISERROR(VLOOKUP(E834,'Reference Data'!C:C,1,FALSE)),\"PLEASE SELECT A BANK FROM DEFINED LIST PROVIDED\",\"\")),\"\")","v":""},"No Entry",0]
[null,null,null,null,null,null,null,null,null,null,null,null,"",{"$f":"IF(D835=\"Cash and Deposits\",IF(E835=\"\",\"BANK NAME REQUIRED\",IF(ISERROR(VLOOKUP(E835,'Reference Data'!C:C,1,FALSE)),\"PLEASE SELECT A BANK FROM DEFINED LIST PROVIDED\",\"\")),\"\")","v":""},"No Entry",0]
[null,null,null,null,null,null,null,null,null,null,null,null,"",{"$f":"IF(D836=\"Cash and Deposits\",IF(E836=\"\",\"BANK NAME REQUIRED\",IF(ISERROR(VLOOKUP(E836,'Reference Data'!C:C,1,FALSE)),\"PLEASE SELECT A BANK FROM DEFINED LIST PROVIDED\",\"\")),\"\")","v":""},"No Entry",0]
[null,null,null,null,null,null,null,null,null,null,null,null,{"$f":"IF(K837<>0,IF(B837=\"\",\"ID CODE REQUIRED\",\"\"),\"\")","v":""},{"$f":"IF(D837=\"Cash and Deposits\",IF(E837=\"\",\"BANK NAME REQUIRED\",IF(ISERROR(VLOOKUP(E837,'Reference Data'!C:C,1,FALSE)),\"PLEASE SELECT A BANK FROM DEFINED LIST PROVIDED\",\"\")),\"\")","v":""},{"$f":"IF(K837=0,\"No Entry\",\"\")","v":"No Entry"},{"$f":"IF(K837<>0,IF(A837=\"\",1,0),0)","v":0}]
[null,null,null,null,null,null,null,null,null,null,null,null,"",{"$f":"IF(D838=\"Cash and Deposits\",IF(E838=\"\",\"BANK NAME REQUIRED\",IF(ISERROR(VLOOKUP(E838,'Reference Data'!C:C,1,FALSE)),\"PLEASE SELECT A BANK FROM DEFINED LIST PROVIDED\",\"\")),\"\")","v":""},"No Entry",0]
[null,null,null,null,null,null,null,null,null,null,null,null,"",{"$f":"IF(D839=\"Cash and Deposits\",IF(E839=\"\",\"BANK NAME REQUIRED\",IF(ISERROR(VLOOKUP(E839,'Reference Data'!C:C,1,FALSE)),\"PLEASE SELECT A BANK FROM DEFINED LIST PROVIDED\",\"\")),\"\")","v":""},"No Entry",0]
[null,null,null,null,null,null,null,null,null,null,null,null,"",{"$f":"IF(D840=\"Cash and Deposits\",IF(E840=\"\",\"BANK NAME REQUIRED\",IF(ISERROR(VLOOKUP(E840,'Reference Data'!C:C,1,FALSE)),\"PLEASE SELECT A BANK FROM DEFINED LIST PROVIDED\",\"\")),\"\")","v":""},"No Entry",0]
[null,null,null,null,null,null,null,null,null,null,null,null,"",{"$f":"IF(D841=\"Cash and Deposits\",IF(E841=\"\",\"BANK NAME REQUIRED\",IF(ISERROR(VLOOKUP(E841,'Reference Data'!C:C,1,FALSE)),\"PLEASE SELECT A BANK FROM DEFINED LIST PROVIDED\",\"\")),\"\")","v":""},"No Entry",0]
[null,null,null,null,null,null,null,null,null,null,null,null,"",{"$f":"IF(D842=\"Cash and Deposits\",IF(E842=\"\",\"BANK NAME REQUIRED\",IF(ISERROR(VLOOKUP(E842,'Reference Data'!C:C,1,FALSE)),\"PLEASE SELECT A BANK FROM DEFINED LIST PROVIDED\",\"\")),\"\")","v":""},"No Entry",0]
[null,null,null,null,null,null,null,null,null,null,null,null,"",{"$f":"IF(D843=\"Cash and Deposits\",IF(E843=\"\",\"BANK NAME REQUIRED\",IF(ISERROR(VLOOKUP(E843,'Reference Data'!C:C,1,FALSE)),\"PLEASE SELECT A BANK FROM DEFINED LIST PROVIDED\",\"\")),\"\")","v":""},"No Entry",0]
[null,null,null,null,null,null,null,null,null,null,null,null,"",{"$f":"IF(D844=\"Cash and Deposits\",IF(E844=\"\",\"BANK NAME REQUIRED\",IF(ISERROR(VLOOKUP(E844,'Reference Data'!C:C,1,FALSE)),\"PLEASE SELECT A BANK FROM DEFINED LIST PROVIDED\",\"\")),\"\")","v":""},"No Entry",0]
[null,null,null,null,null,null,null,null,null,null,null,null,"",{"$f":"IF(D845=\"Cash and Deposits\",IF(E845=\"\",\"BANK NAME REQUIRED\",IF(ISERROR(VLOOKUP(E845,'Reference Data'!C:C,1,FALSE)),\"PLEASE SELECT A BANK FROM DEFINED LIST PROVIDED\",\"\")),\"\")","v":""},"No Entry",0]
[null,null,null,null,null,null,null,null,null,null,null,null,"",{"$f":"IF(D846=\"Cash and Deposits\",IF(E846=\"\",\"BANK NAME REQUIRED\",IF(ISERROR(VLOOKUP(E846,'Reference Data'!C:C,1,FALSE)),\"PLEASE SELECT A BANK FROM DEFINED LIST PROVIDED\",\"\")),\"\")","v":""},"No Entry",0]
[null,null,null,null,null,null,null,null,null,null,null,null,"",{"$f":"IF(D847=\"Cash and Deposits\",IF(E847=\"\",\"BANK NAME REQUIRED\",IF(ISERROR(VLOOKUP(E847,'Reference Data'!C:C,1,FALSE)),\"PLEASE SELECT A BANK FROM DEFINED LIST PROVIDED\",\"\")),\"\")","v":""},"No Entry",0]
[null,null,null,null,null,null,null,null,null,null,null,null,"",{"$f":"IF(D848=\"Cash and Deposits\",IF(E848=\"\",\"BANK NAME REQUIRED\",IF(ISERROR(VLOOKUP(E848,'Reference Data'!C:C,1,FALSE)),\"PLEASE SELECT A BANK FROM DEFINED LIST PROVIDED\",\"\")),\"\")","v":""},"No Entry",0]
[null,null,null,null,null,null,null,null,null,null,null,null,"",{"$f":"IF(D849=\"Cash and Deposits\",IF(E849=\"\",\"BANK NAME REQUIRED\",IF(ISERROR(VLOOKUP(E849,'Reference Data'!C:C,1,FALSE)),\"PLEASE SELECT A BANK FROM DEFINED LIST PROVIDED\",\"\")),\"\")","v":""},"No Entry",0]
[null,null,null,null,null,null,null,null,null,null,null,null,"",{"$f":"IF(D850=\"Cash and Deposits\",IF(E850=\"\",\"BANK NAME REQUIRED\",IF(ISERROR(VLOOKUP(E850,'Reference Data'!C:C,1,FALSE)),\"PLEASE SELECT A BANK FROM DEFINED LIST PROVIDED\",\"\")),\"\")","v":""},"No Entry",0]
[null,null,null,null,null,null,null,null,null,null,null,null,"",{"$f":"IF(D851=\"Cash and Deposits\",IF(E851=\"\",\"BANK NAME REQUIRED\",IF(ISERROR(VLOOKUP(E851,'Reference Data'!C:C,1,FALSE)),\"PLEASE SELECT A BANK FROM DEFINED LIST PROVIDED\",\"\")),\"\")","v":""},"No Entry",0]
[null,null,null,null,null,null,null,null,null,null,null,null,"",{"$f":"IF(D852=\"Cash and Deposits\",IF(E852=\"\",\"BANK NAME REQUIRED\",IF(ISERROR(VLOOKUP(E852,'Reference Data'!C:C,1,FALSE)),\"PLEASE SELECT A BANK FROM DEFINED LIST PROVIDED\",\"\")),\"\")","v":""},"No Entry",0]
[null,null,null,null,null,null,null,null,null,null,null,null,"",{"$f":"IF(D853=\"Cash and Deposits\",IF(E853=\"\",\"BANK NAME REQUIRED\",IF(ISERROR(VLOOKUP(E853,'Reference Data'!C:C,1,FALSE)),\"PLEASE SELECT A BANK FROM DEFINED LIST PROVIDED\",\"\")),\"\")","v":""},"No Entry",0]
[null,null,null,null,null,null,null,null,null,null,null,null,"",{"$f":"IF(D854=\"Cash and Deposits\",IF(E854=\"\",\"BANK NAME REQUIRED\",IF(ISERROR(VLOOKUP(E854,'Reference Data'!C:C,1,FALSE)),\"PLEASE SELECT A BANK FROM DEFINED LIST PROVIDED\",\"\")),\"\")","v":""},"No Entry",0]
[null,null,null,null,null,null,null,null,null,null,null,null,"",{"$f":"IF(D855=\"Cash and Deposits\",IF(E855=\"\",\"BANK NAME REQUIRED\",IF(ISERROR(VLOOKUP(E855,'Reference Data'!C:C,1,FALSE)),\"PLEASE SELECT A BANK FROM DEFINED LIST PROVIDED\",\"\")),\"\")","v":""},"No Entry",0]
[null,null,null,null,null,null,null,null,null,null,null,null,"",{"$f":"IF(D856=\"Cash and Deposits\",IF(E856=\"\",\"BANK NAME REQUIRED\",IF(ISERROR(VLOOKUP(E856,'Reference Data'!C:C,1,FALSE)),\"PLEASE SELECT A BANK FROM DEFINED LIST PROVIDED\",\"\")),\"\")","v":""},"No Entry",0]
[null,null,null,null,null,null,null,null,null,null,null,null,"",{"$f":"IF(D857=\"Cash and Deposits\",IF(E857=\"\",\"BANK NAME REQUIRED\",IF(ISERROR(VLOOKUP(E857,'Reference Data'!C:C,1,FALSE)),\"PLEASE SELECT A BANK FROM DEFINED LIST PROVIDED\",\"\")),\"\")","v":""},"No Entry",0]
[null,null,null,null,null,null,null,null,null,null,null,null,"",{"$f":"IF(D858=\"Cash and Deposits\",IF(E858=\"\",\"BANK NAME REQUIRED\",IF(ISERROR(VLOOKUP(E858,'Reference Data'!C:C,1,FALSE)),\"PLEASE SELECT A BANK FROM DEFINED LIST PROVIDED\",\"\")),\"\")","v":""},"No Entry",0]
[null,null,null,null,null,null,null,null,null,null,null,null,"",{"$f":"IF(D859=\"Cash and Deposits\",IF(E859=\"\",\"BANK NAME REQUIRED\",IF(ISERROR(VLOOKUP(E859,'Reference Data'!C:C,1,FALSE)),\"PLEASE SELECT A BANK FROM DEFINED LIST PROVIDED\",\"\")),\"\")","v":""},"No Entry",0]
[null,null,null,null,null,null,null,null,null,null,null,null,"",{"$f":"IF(D860=\"Cash and Deposits\",IF(E860=\"\",\"BANK NAME REQUIRED\",IF(ISERROR(VLOOKUP(E860,'Reference Data'!C:C,1,FALSE)),\"PLEASE SELECT A BANK FROM DEFINED LIST PROVIDED\",\"\")),\"\")","v":""},"No Entry",0]
[null,null,null,null,null,null,null,null,null,null,null,null,"",{"$f":"IF(D861=\"Cash and Deposits\",IF(E861=\"\",\"BANK NAME REQUIRED\",IF(ISERROR(VLOOKUP(E861,'Reference Data'!C:C,1,FALSE)),\"PLEASE SELECT A BANK FROM DEFINED LIST PROVIDED\",\"\")),\"\")","v":""},"No Entry",0]
[null,null,null,null,null,null,null,null,null,null,null,null,"",{"$f":"IF(D862=\"Cash and Deposits\",IF(E862=\"\",\"BANK NAME REQUIRED\",IF(ISERROR(VLOOKUP(E862,'Reference Data'!C:C,1,FALSE)),\"PLEASE SELECT A BANK FROM DEFINED LIST PROVIDED\",\"\")),\"\")","v":""},"No Entry",0]
[null,null,null,null,null,null,null,null,null,null,null,null,"",{"$f":"IF(D863=\"Cash and Deposits\",IF(E863=\"\",\"BANK NAME REQUIRED\",IF(ISERROR(VLOOKUP(E863,'Reference Data'!C:C,1,FALSE)),\"PLEASE SELECT A BANK FROM DEFINED LIST PROVIDED\",\"\")),\"\")","v":""},"No Entry",0]
[null,null,null,null,null,null,null,null,null,null,null,null,"",{"$f":"IF(D864=\"Cash and Deposits\",IF(E864=\"\",\"BANK NAME REQUIRED\",IF(ISERROR(VLOOKUP(E864,'Reference Data'!C:C,1,FALSE)),\"PLEASE SELECT A BANK FROM DEFINED LIST PROVIDED\",\"\")),\"\")","v":""},"No Entry",0]
[null,null,null,null,null,null,null,null,null,null,null,null,"",{"$f":"IF(D865=\"Cash and Deposits\",IF(E865=\"\",\"BANK NAME REQUIRED\",IF(ISERROR(VLOOKUP(E865,'Reference Data'!C:C,1,FALSE)),\"PLEASE SELECT A BANK FROM DEFINED LIST PROVIDED\",\"\")),\"\")","v":""},"No Entry",0]
[null,null,null,null,null,null,null,null,null,null,null,null,"",{"$f":"IF(D866=\"Cash and Deposits\",IF(E866=\"\",\"BANK NAME REQUIRED\",IF(ISERROR(VLOOKUP(E866,'Reference Data'!C:C,1,FALSE)),\"PLEASE SELECT A BANK FROM DEFINED LIST PROVIDED\",\"\")),\"\")","v":""},"No Entry",0]
[null,null,null,null,null,null,null,null,null,null,null,null,"",{"$f":"IF(D867=\"Cash and Deposits\",IF(E867=\"\",\"BANK NAME REQUIRED\",IF(ISERROR(VLOOKUP(E867,'Reference Data'!C:C,1,FALSE)),\"PLEASE SELECT A BANK FROM DEFINED LIST PROVIDED\",\"\")),\"\")","v":""},"No Entry",0]
[null,null,null,null,null,null,null,null,null,null,null,null,"",{"$f":"IF(D868=\"Cash and Deposits\",IF(E868=\"\",\"BANK NAME REQUIRED\",IF(ISERROR(VLOOKUP(E868,'Reference Data'!C:C,1,FALSE)),\"PLEASE SELECT A BANK FROM DEFINED LIST PROVIDED\",\"\")),\"\")","v":""},"No Entry",0]
[null,null,null,null,null,null,null,null,null,null,null,null,"",{"$f":"IF(D869=\"Cash and Deposits\",IF(E869=\"\",\"BANK NAME REQUIRED\",IF(ISERROR(VLOOKUP(E869,'Reference Data'!C:C,1,FALSE)),\"PLEASE SELECT A BANK FROM DEFINED LIST PROVIDED\",\"\")),\"\")","v":""},"No Entry",0]
[null,null,null,null,null,null,null,null,null,null,null,null,"",{"$f":"IF(D870=\"Cash and Deposits\",IF(E870=\"\",\"BANK NAME REQUIRED\",IF(ISERROR(VLOOKUP(E870,'Reference Data'!C:C,1,FALSE)),\"PLEASE SELECT A BANK FROM DEFINED LIST PROVIDED\",\"\")),\"\")","v":""},"No Entry",0]
[null,null,null,null,null,null,null,null,null,null,null,null,"",{"$f":"IF(D871=\"Cash and Deposits\",IF(E871=\"\",\"BANK NAME REQUIRED\",IF(ISERROR(VLOOKUP(E871,'Reference Data'!C:C,1,FALSE)),\"PLEASE SELECT A BANK FROM DEFINED LIST PROVIDED\",\"\")),\"\")","v":""},"No Entry",0]
[null,null,null,null,null,null,null,null,null,null,null,null,"",{"$f":"IF(D872=\"Cash and Deposits\",IF(E872=\"\",\"BANK NAME REQUIRED\",IF(ISERROR(VLOOKUP(E872,'Reference Data'!C:C,1,FALSE)),\"PLEASE SELECT A BANK FROM DEFINED LIST PROVIDED\",\"\")),\"\")","v":""},"No Entry",0]
[null,null,null,null,null,null,null,null,null,null,null,null,"",{"$f":"IF(D873=\"Cash and Deposits\",IF(E873=\"\",\"BANK NAME REQUIRED\",IF(ISERROR(VLOOKUP(E873,'Reference Data'!C:C,1,FALSE)),\"PLEASE SELECT A BANK FROM DEFINED LIST PROVIDED\",\"\")),\"\")","v":""},"No Entry",0]
[null,null,null,null,null,null,null,null,null,null,null,null,"",{"$f":"IF(D874=\"Cash and Deposits\",IF(E874=\"\",\"BANK NAME REQUIRED\",IF(ISERROR(VLOOKUP(E874,'Reference Data'!C:C,1,FALSE)),\"PLEASE SELECT A BANK FROM DEFINED LIST PROVIDED\",\"\")),\"\")","v":""},"No Entry",0]
[null,null,null,null,null,null,null,null,null,null,null,null,"",{"$f":"IF(D875=\"Cash and Deposits\",IF(E875=\"\",\"BANK NAME REQUIRED\",IF(ISERROR(VLOOKUP(E875,'Reference Data'!C:C,1,FALSE)),\"PLEASE SELECT A BANK FROM DEFINED LIST PROVIDED\",\"\")),\"\")","v":""},"No Entry",0]
[null,null,null,null,null,null,null,null,null,null,null,null,"",{"$f":"IF(D876=\"Cash and Deposits\",IF(E876=\"\",\"BANK NAME REQUIRED\",IF(ISERROR(VLOOKUP(E876,'Reference Data'!C:C,1,FALSE)),\"PLEASE SELECT A BANK FROM DEFINED LIST PROVIDED\",\"\")),\"\")","v":""},"No Entry",0]
[null,null,null,null,null,null,null,null,null,null,null,null,"",{"$f":"IF(D877=\"Cash and Deposits\",IF(E877=\"\",\"BANK NAME REQUIRED\",IF(ISERROR(VLOOKUP(E877,'Reference Data'!C:C,1,FALSE)),\"PLEASE SELECT A BANK FROM DEFINED LIST PROVIDED\",\"\")),\"\")","v":""},"No Entry",0]
[null,null,null,null,null,null,null,null,null,null,null,null,"",{"$f":"IF(D878=\"Cash and Deposits\",IF(E878=\"\",\"BANK NAME REQUIRED\",IF(ISERROR(VLOOKUP(E878,'Reference Data'!C:C,1,FALSE)),\"PLEASE SELECT A BANK FROM DEFINED LIST PROVIDED\",\"\")),\"\")","v":""},"No Entry",0]
[null,null,null,null,null,null,null,null,null,null,null,null,"",{"$f":"IF(D879=\"Cash and Deposits\",IF(E879=\"\",\"BANK NAME REQUIRED\",IF(ISERROR(VLOOKUP(E879,'Reference Data'!C:C,1,FALSE)),\"PLEASE SELECT A BANK FROM DEFINED LIST PROVIDED\",\"\")),\"\")","v":""},"No Entry",0]
[null,null,null,null,null,null,null,null,null,null,null,null,"",{"$f":"IF(D880=\"Cash and Deposits\",IF(E880=\"\",\"BANK NAME REQUIRED\",IF(ISERROR(VLOOKUP(E880,'Reference Data'!C:C,1,FALSE)),\"PLEASE SELECT A BANK FROM DEFINED LIST PROVIDED\",\"\")),\"\")","v":""},"No Entry",0]
[null,null,null,null,null,null,null,null,null,null,null,null,"",{"$f":"IF(D881=\"Cash and Deposits\",IF(E881=\"\",\"BANK NAME REQUIRED\",IF(ISERROR(VLOOKUP(E881,'Reference Data'!C:C,1,FALSE)),\"PLEASE SELECT A BANK FROM DEFINED LIST PROVIDED\",\"\")),\"\")","v":""},"No Entry",0]
[null,null,null,null,null,null,null,null,null,null,null,null,"",{"$f":"IF(D882=\"Cash and Deposits\",IF(E882=\"\",\"BANK NAME REQUIRED\",IF(ISERROR(VLOOKUP(E882,'Reference Data'!C:C,1,FALSE)),\"PLEASE SELECT A BANK FROM DEFINED LIST PROVIDED\",\"\")),\"\")","v":""},"No Entry",0]
[null,null,null,null,null,null,null,null,null,null,null,null,"",{"$f":"IF(D883=\"Cash and Deposits\",IF(E883=\"\",\"BANK NAME REQUIRED\",IF(ISERROR(VLOOKUP(E883,'Reference Data'!C:C,1,FALSE)),\"PLEASE SELECT A BANK FROM DEFINED LIST PROVIDED\",\"\")),\"\")","v":""},"No Entry",0]
[null,null,null,null,null,null,null,null,null,null,null,null,"",{"$f":"IF(D884=\"Cash and Deposits\",IF(E884=\"\",\"BANK NAME REQUIRED\",IF(ISERROR(VLOOKUP(E884,'Reference Data'!C:C,1,FALSE)),\"PLEASE SELECT A BANK FROM DEFINED LIST PROVIDED\",\"\")),\"\")","v":""},"No Entry",0]
[null,null,null,null,null,null,null,null,null,null,null,null,"",{"$f":"IF(D885=\"Cash and Deposits\",IF(E885=\"\",\"BANK NAME REQUIRED\",IF(ISERROR(VLOOKUP(E885,'Reference Data'!C:C,1,FALSE)),\"PLEASE SELECT A BANK FROM DEFINED LIST PROVIDED\",\"\")),\"\")","v":""},"No Entry",0]
[null,null,null,null,null,null,null,null,null,null,null,null,"",{"$f":"IF(D886=\"Cash and Deposits\",IF(E886=\"\",\"BANK NAME REQUIRED\",IF(ISERROR(VLOOKUP(E886,'Reference Data'!C:C,1,FALSE)),\"PLEASE SELECT A BANK FROM DEFINED LIST PROVIDED\",\"\")),\"\")","v":""},"No Entry",0]
[null,null,null,null,null,null,null,null,null,null,null,null,"",{"$f":"IF(D887=\"Cash and Deposits\",IF(E887=\"\",\"BANK NAME REQUIRED\",IF(ISERROR(VLOOKUP(E887,'Reference Data'!C:C,1,FALSE)),\"PLEASE SELECT A BANK FROM DEFINED LIST PROVIDED\",\"\")),\"\")","v":""},"No Entry",0]
[null,null,null,null,null,null,null,null,null,null,null,null,"",{"$f":"IF(D888=\"Cash and Deposits\",IF(E888=\"\",\"BANK NAME REQUIRED\",IF(ISERROR(VLOOKUP(E888,'Reference Data'!C:C,1,FALSE)),\"PLEASE SELECT A BANK FROM DEFINED LIST PROVIDED\",\"\")),\"\")","v":""},"No Entry",0]
[null,null,null,null,null,null,null,null,null,null,null,null,"",{"$f":"IF(D889=\"Cash and Deposits\",IF(E889=\"\",\"BANK NAME REQUIRED\",IF(ISERROR(VLOOKUP(E889,'Reference Data'!C:C,1,FALSE)),\"PLEASE SELECT A BANK FROM DEFINED LIST PROVIDED\",\"\")),\"\")","v":""},"No Entry",0]
[null,null,null,null,null,null,null,null,null,null,null,null,"",{"$f":"IF(D890=\"Cash and Deposits\",IF(E890=\"\",\"BANK NAME REQUIRED\",IF(ISERROR(VLOOKUP(E890,'Reference Data'!C:C,1,FALSE)),\"PLEASE SELECT A BANK FROM DEFINED LIST PROVIDED\",\"\")),\"\")","v":""},"No Entry",0]
[null,null,null,null,null,null,null,null,null,null,null,null,"",{"$f":"IF(D891=\"Cash and Deposits\",IF(E891=\"\",\"BANK NAME REQUIRED\",IF(ISERROR(VLOOKUP(E891,'Reference Data'!C:C,1,FALSE)),\"PLEASE SELECT A BANK FROM DEFINED LIST PROVIDED\",\"\")),\"\")","v":""},"No Entry",0]
[null,null,null,null,null,null,null,null,null,null,null,null,"",{"$f":"IF(D892=\"Cash and Deposits\",IF(E892=\"\",\"BANK NAME REQUIRED\",IF(ISERROR(VLOOKUP(E892,'Reference Data'!C:C,1,FALSE)),\"PLEASE SELECT A BANK FROM DEFINED LIST PROVIDED\",\"\")),\"\")","v":""},"No Entry",0]
[null,null,null,null,null,null,null,null,null,null,null,null,"",{"$f":"IF(D893=\"Cash and Deposits\",IF(E893=\"\",\"BANK NAME REQUIRED\",IF(ISERROR(VLOOKUP(E893,'Reference Data'!C:C,1,FALSE)),\"PLEASE SELECT A BANK FROM DEFINED LIST PROVIDED\",\"\")),\"\")","v":""},"No Entry",0]
[null,null,null,null,null,null,null,null,null,null,null,null,"",{"$f":"IF(D894=\"Cash and Deposits\",IF(E894=\"\",\"BANK NAME REQUIRED\",IF(ISERROR(VLOOKUP(E894,'Reference Data'!C:C,1,FALSE)),\"PLEASE SELECT A BANK FROM DEFINED LIST PROVIDED\",\"\")),\"\")","v":""},"No Entry",0]
[null,null,null,null,null,null,null,null,null,null,null,null,"",{"$f":"IF(D895=\"Cash and Deposits\",IF(E895=\"\",\"BANK NAME REQUIRED\",IF(ISERROR(VLOOKUP(E895,'Reference Data'!C:C,1,FALSE)),\"PLEASE SELECT A BANK FROM DEFINED LIST PROVIDED\",\"\")),\"\")","v":""},"No Entry",0]
[null,null,null,null,null,null,null,null,null,null,null,null,"",{"$f":"IF(D896=\"Cash and Deposits\",IF(E896=\"\",\"BANK NAME REQUIRED\",IF(ISERROR(VLOOKUP(E896,'Reference Data'!C:C,1,FALSE)),\"PLEASE SELECT A BANK FROM DEFINED LIST PROVIDED\",\"\")),\"\")","v":""},"No Entry",0]
[null,null,null,null,null,null,null,null,null,null,null,null,"",{"$f":"IF(D897=\"Cash and Deposits\",IF(E897=\"\",\"BANK NAME REQUIRED\",IF(ISERROR(VLOOKUP(E897,'Reference Data'!C:C,1,FALSE)),\"PLEASE SELECT A BANK FROM DEFINED LIST PROVIDED\",\"\")),\"\")","v":""},"No Entry",0]
[null,null,null,null,null,null,null,null,null,null,null,null,"",{"$f":"IF(D898=\"Cash and Deposits\",IF(E898=\"\",\"BANK NAME REQUIRED\",IF(ISERROR(VLOOKUP(E898,'Reference Data'!C:C,1,FALSE)),\"PLEASE SELECT A BANK FROM DEFINED LIST PROVIDED\",\"\")),\"\")","v":""},"No Entry",0]
[null,null,null,null,null,null,null,null,null,null,null,null,"",{"$f":"IF(D899=\"Cash and Deposits\",IF(E899=\"\",\"BANK NAME REQUIRED\",IF(ISERROR(VLOOKUP(E899,'Reference Data'!C:C,1,FALSE)),\"PLEASE SELECT A BANK FROM DEFINED LIST PROVIDED\",\"\")),\"\")","v":""},"No Entry",0]
[null,null,null,null,null,null,null,null,null,null,null,null,"",{"$f":"IF(D900=\"Cash and Deposits\",IF(E900=\"\",\"BANK NAME REQUIRED\",IF(ISERROR(VLOOKUP(E900,'Reference Data'!C:C,1,FALSE)),\"PLEASE SELECT A BANK FROM DEFINED LIST PROVIDED\",\"\")),\"\")","v":""},"No Entry",0]
[null,null,null,null,null,null,null,null,null,null,null,null,{"$f":"IF(K901<>0,IF(B901=\"\",\"ID CODE REQUIRED\",\"\"),\"\")","v":""},{"$f":"IF(D901=\"Cash and Deposits\",IF(E901=\"\",\"BANK NAME REQUIRED\",IF(ISERROR(VLOOKUP(E901,'Reference Data'!C:C,1,FALSE)),\"PLEASE SELECT A BANK FROM DEFINED LIST PROVIDED\",\"\")),\"\")","v":""},{"$f":"IF(K901=0,\"No Entry\",\"\")","v":"No Entry"},{"$f":"IF(K901<>0,IF(A901=\"\",1,0),0)","v":0}]
[null,null,null,null,null,null,null,null,null,null,null,null,"",{"$f":"IF(D902=\"Cash and Deposits\",IF(E902=\"\",\"BANK NAME REQUIRED\",IF(ISERROR(VLOOKUP(E902,'Reference Data'!C:C,1,FALSE)),\"PLEASE SELECT A BANK FROM DEFINED LIST PROVIDED\",\"\")),\"\")","v":""},"No Entry",0]
[null,null,null,null,null,null,null,null,null,null,null,null,"",{"$f":"IF(D903=\"Cash and Deposits\",IF(E903=\"\",\"BANK NAME REQUIRED\",IF(ISERROR(VLOOKUP(E903,'Reference Data'!C:C,1,FALSE)),\"PLEASE SELECT A BANK FROM DEFINED LIST PROVIDED\",\"\")),\"\")","v":""},"No Entry",0]
[null,null,null,null,null,null,null,null,null,null,null,null,"",{"$f":"IF(D904=\"Cash and Deposits\",IF(E904=\"\",\"BANK NAME REQUIRED\",IF(ISERROR(VLOOKUP(E904,'Reference Data'!C:C,1,FALSE)),\"PLEASE SELECT A BANK FROM DEFINED LIST PROVIDED\",\"\")),\"\")","v":""},"No Entry",0]
[null,null,null,null,null,null,null,null,null,null,null,null,"",{"$f":"IF(D905=\"Cash and Deposits\",IF(E905=\"\",\"BANK NAME REQUIRED\",IF(ISERROR(VLOOKUP(E905,'Reference Data'!C:C,1,FALSE)),\"PLEASE SELECT A BANK FROM DEFINED LIST PROVIDED\",\"\")),\"\")","v":""},"No Entry",0]
[null,null,null,null,null,null,null,null,null,null,null,null,"",{"$f":"IF(D906=\"Cash and Deposits\",IF(E906=\"\",\"BANK NAME REQUIRED\",IF(ISERROR(VLOOKUP(E906,'Reference Data'!C:C,1,FALSE)),\"PLEASE SELECT A BANK FROM DEFINED LIST PROVIDED\",\"\")),\"\")","v":""},"No Entry",0]
[null,null,null,null,null,null,null,null,null,null,null,null,"",{"$f":"IF(D907=\"Cash and Deposits\",IF(E907=\"\",\"BANK NAME REQUIRED\",IF(ISERROR(VLOOKUP(E907,'Reference Data'!C:C,1,FALSE)),\"PLEASE SELECT A BANK FROM DEFINED LIST PROVIDED\",\"\")),\"\")","v":""},"No Entry",0]
[null,null,null,null,null,null,null,null,null,null,null,null,"",{"$f":"IF(D908=\"Cash and Deposits\",IF(E908=\"\",\"BANK NAME REQUIRED\",IF(ISERROR(VLOOKUP(E908,'Reference Data'!C:C,1,FALSE)),\"PLEASE SELECT A BANK FROM DEFINED LIST PROVIDED\",\"\")),\"\")","v":""},"No Entry",0]
[null,null,null,null,null,null,null,null,null,null,null,null,"",{"$f":"IF(D909=\"Cash and Deposits\",IF(E909=\"\",\"BANK NAME REQUIRED\",IF(ISERROR(VLOOKUP(E909,'Reference Data'!C:C,1,FALSE)),\"PLEASE SELECT A BANK FROM DEFINED LIST PROVIDED\",\"\")),\"\")","v":""},"No Entry",0]
[null,null,null,null,null,null,null,null,null,null,null,null,"",{"$f":"IF(D910=\"Cash and Deposits\",IF(E910=\"\",\"BANK NAME REQUIRED\",IF(ISERROR(VLOOKUP(E910,'Reference Data'!C:C,1,FALSE)),\"PLEASE SELECT A BANK FROM DEFINED LIST PROVIDED\",\"\")),\"\")","v":""},"No Entry",0]
[null,null,null,null,null,null,null,null,null,null,null,null,"",{"$f":"IF(D911=\"Cash and Deposits\",IF(E911=\"\",\"BANK NAME REQUIRED\",IF(ISERROR(VLOOKUP(E911,'Reference Data'!C:C,1,FALSE)),\"PLEASE SELECT A BANK FROM DEFINED LIST PROVIDED\",\"\")),\"\")","v":""},"No Entry",0]
[null,null,null,null,null,null,null,null,null,null,null,null,"",{"$f":"IF(D912=\"Cash and Deposits\",IF(E912=\"\",\"BANK NAME REQUIRED\",IF(ISERROR(VLOOKUP(E912,'Reference Data'!C:C,1,FALSE)),\"PLEASE SELECT A BANK FROM DEFINED LIST PROVIDED\",\"\")),\"\")","v":""},"No Entry",0]
[null,null,null,null,null,null,null,null,null,null,null,null,"",{"$f":"IF(D913=\"Cash and Deposits\",IF(E913=\"\",\"BANK NAME REQUIRED\",IF(ISERROR(VLOOKUP(E913,'Reference Data'!C:C,1,FALSE)),\"PLEASE SELECT A BANK FROM DEFINED LIST PROVIDED\",\"\")),\"\")","v":""},"No Entry",0]
[null,null,null,null,null,null,null,null,null,null,null,null,"",{"$f":"IF(D914=\"Cash and Deposits\",IF(E914=\"\",\"BANK NAME REQUIRED\",IF(ISERROR(VLOOKUP(E914,'Reference Data'!C:C,1,FALSE)),\"PLEASE SELECT A BANK FROM DEFINED LIST PROVIDED\",\"\")),\"\")","v":""},"No Entry",0]
[null,null,null,null,null,null,null,null,null,null,null,null,"",{"$f":"IF(D915=\"Cash and Deposits\",IF(E915=\"\",\"BANK NAME REQUIRED\",IF(ISERROR(VLOOKUP(E915,'Reference Data'!C:C,1,FALSE)),\"PLEASE SELECT A BANK FROM DEFINED LIST PROVIDED\",\"\")),\"\")","v":""},"No Entry",0]
[null,null,null,null,null,null,null,null,null,null,null,null,"",{"$f":"IF(D916=\"Cash and Deposits\",IF(E916=\"\",\"BANK NAME REQUIRED\",IF(ISERROR(VLOOKUP(E916,'Reference Data'!C:C,1,FALSE)),\"PLEASE SELECT A BANK FROM DEFINED LIST PROVIDED\",\"\")),\"\")","v":""},"No Entry",0]
[null,null,null,null,null,null,null,null,null,null,null,null,"",{"$f":"IF(D917=\"Cash and Deposits\",IF(E917=\"\",\"BANK NAME REQUIRED\",IF(ISERROR(VLOOKUP(E917,'Reference Data'!C:C,1,FALSE)),\"PLEASE SELECT A BANK FROM DEFINED LIST PROVIDED\",\"\")),\"\")","v":""},"No Entry",0]
[null,null,null,null,null,null,null,null,null,null,null,null,"",{"$f":"IF(D918=\"Cash and Deposits\",IF(E918=\"\",\"BANK NAME REQUIRED\",IF(ISERROR(VLOOKUP(E918,'Reference Data'!C:C,1,FALSE)),\"PLEASE SELECT A BANK FROM DEFINED LIST PROVIDED\",\"\")),\"\")","v":""},"No Entry",0]
[null,null,null,null,null,null,null,null,null,null,null,null,"",{"$f":"IF(D919=\"Cash and Deposits\",IF(E919=\"\",\"BANK NAME REQUIRED\",IF(ISERROR(VLOOKUP(E919,'Reference Data'!C:C,1,FALSE)),\"PLEASE SELECT A BANK FROM DEFINED LIST PROVIDED\",\"\")),\"\")","v":""},"No Entry",0]
[null,null,null,null,null,null,null,null,null,null,null,null,"",{"$f":"IF(D920=\"Cash and Deposits\",IF(E920=\"\",\"BANK NAME REQUIRED\",IF(ISERROR(VLOOKUP(E920,'Reference Data'!C:C,1,FALSE)),\"PLEASE SELECT A BANK FROM DEFINED LIST PROVIDED\",\"\")),\"\")","v":""},"No Entry",0]
[null,null,null,null,null,null,null,null,null,null,null,null,"",{"$f":"IF(D921=\"Cash and Deposits\",IF(E921=\"\",\"BANK NAME REQUIRED\",IF(ISERROR(VLOOKUP(E921,'Reference Data'!C:C,1,FALSE)),\"PLEASE SELECT A BANK FROM DEFINED LIST PROVIDED\",\"\")),\"\")","v":""},"No Entry",0]
[null,null,null,null,null,null,null,null,null,null,null,null,"",{"$f":"IF(D922=\"Cash and Deposits\",IF(E922=\"\",\"BANK NAME REQUIRED\",IF(ISERROR(VLOOKUP(E922,'Reference Data'!C:C,1,FALSE)),\"PLEASE SELECT A BANK FROM DEFINED LIST PROVIDED\",\"\")),\"\")","v":""},"No Entry",0]
[null,null,null,null,null,null,null,null,null,null,null,null,"",{"$f":"IF(D923=\"Cash and Deposits\",IF(E923=\"\",\"BANK NAME REQUIRED\",IF(ISERROR(VLOOKUP(E923,'Reference Data'!C:C,1,FALSE)),\"PLEASE SELECT A BANK FROM DEFINED LIST PROVIDED\",\"\")),\"\")","v":""},"No Entry",0]
[null,null,null,null,null,null,null,null,null,null,null,null,"",{"$f":"IF(D924=\"Cash and Deposits\",IF(E924=\"\",\"BANK NAME REQUIRED\",IF(ISERROR(VLOOKUP(E924,'Reference Data'!C:C,1,FALSE)),\"PLEASE SELECT A BANK FROM DEFINED LIST PROVIDED\",\"\")),\"\")","v":""},"No Entry",0]
[null,null,null,null,null,null,null,null,null,null,null,null,"",{"$f":"IF(D925=\"Cash and Deposits\",IF(E925=\"\",\"BANK NAME REQUIRED\",IF(ISERROR(VLOOKUP(E925,'Reference Data'!C:C,1,FALSE)),\"PLEASE SELECT A BANK FROM DEFINED LIST PROVIDED\",\"\")),\"\")","v":""},"No Entry",0]
[null,null,null,null,null,null,null,null,null,null,null,null,"",{"$f":"IF(D926=\"Cash and Deposits\",IF(E926=\"\",\"BANK NAME REQUIRED\",IF(ISERROR(VLOOKUP(E926,'Reference Data'!C:C,1,FALSE)),\"PLEASE SELECT A BANK FROM DEFINED LIST PROVIDED\",\"\")),\"\")","v":""},"No Entry",0]
[null,null,null,null,null,null,null,null,null,null,null,null,"",{"$f":"IF(D927=\"Cash and Deposits\",IF(E927=\"\",\"BANK NAME REQUIRED\",IF(ISERROR(VLOOKUP(E927,'Reference Data'!C:C,1,FALSE)),\"PLEASE SELECT A BANK FROM DEFINED LIST PROVIDED\",\"\")),\"\")","v":""},"No Entry",0]
[null,null,null,null,null,null,null,null,null,null,null,null,"",{"$f":"IF(D928=\"Cash and Deposits\",IF(E928=\"\",\"BANK NAME REQUIRED\",IF(ISERROR(VLOOKUP(E928,'Reference Data'!C:C,1,FALSE)),\"PLEASE SELECT A BANK FROM DEFINED LIST PROVIDED\",\"\")),\"\")","v":""},"No Entry",0]
[null,null,null,null,null,null,null,null,null,null,null,null,"",{"$f":"IF(D929=\"Cash and Deposits\",IF(E929=\"\",\"BANK NAME REQUIRED\",IF(ISERROR(VLOOKUP(E929,'Reference Data'!C:C,1,FALSE)),\"PLEASE SELECT A BANK FROM DEFINED LIST PROVIDED\",\"\")),\"\")","v":""},"No Entry",0]
[null,null,null,null,null,null,null,null,null,null,null,null,"",{"$f":"IF(D930=\"Cash and Deposits\",IF(E930=\"\",\"BANK NAME REQUIRED\",IF(ISERROR(VLOOKUP(E930,'Reference Data'!C:C,1,FALSE)),\"PLEASE SELECT A BANK FROM DEFINED LIST PROVIDED\",\"\")),\"\")","v":""},"No Entry",0]
[null,null,null,null,null,null,null,null,null,null,null,null,"",{"$f":"IF(D931=\"Cash and Deposits\",IF(E931=\"\",\"BANK NAME REQUIRED\",IF(ISERROR(VLOOKUP(E931,'Reference Data'!C:C,1,FALSE)),\"PLEASE SELECT A BANK FROM DEFINED LIST PROVIDED\",\"\")),\"\")","v":""},"No Entry",0]
[null,null,null,null,null,null,null,null,null,null,null,null,"",{"$f":"IF(D932=\"Cash and Deposits\",IF(E932=\"\",\"BANK NAME REQUIRED\",IF(ISERROR(VLOOKUP(E932,'Reference Data'!C:C,1,FALSE)),\"PLEASE SELECT A BANK FROM DEFINED LIST PROVIDED\",\"\")),\"\")","v":""},"No Entry",0]
[null,null,null,null,null,null,null,null,null,null,null,null,"",{"$f":"IF(D933=\"Cash and Deposits\",IF(E933=\"\",\"BANK NAME REQUIRED\",IF(ISERROR(VLOOKUP(E933,'Reference Data'!C:C,1,FALSE)),\"PLEASE SELECT A BANK FROM DEFINED LIST PROVIDED\",\"\")),\"\")","v":""},"No Entry",0]
[null,null,null,null,null,null,null,null,null,null,null,null,"",{"$f":"IF(D934=\"Cash and Deposits\",IF(E934=\"\",\"BANK NAME REQUIRED\",IF(ISERROR(VLOOKUP(E934,'Reference Data'!C:C,1,FALSE)),\"PLEASE SELECT A BANK FROM DEFINED LIST PROVIDED\",\"\")),\"\")","v":""},"No Entry",0]
[null,null,null,null,null,null,null,null,null,null,null,null,"",{"$f":"IF(D935=\"Cash and Deposits\",IF(E935=\"\",\"BANK NAME REQUIRED\",IF(ISERROR(VLOOKUP(E935,'Reference Data'!C:C,1,FALSE)),\"PLEASE SELECT A BANK FROM DEFINED LIST PROVIDED\",\"\")),\"\")","v":""},"No Entry",0]
[null,null,null,null,null,null,null,null,null,null,null,null,"",{"$f":"IF(D936=\"Cash and Deposits\",IF(E936=\"\",\"BANK NAME REQUIRED\",IF(ISERROR(VLOOKUP(E936,'Reference Data'!C:C,1,FALSE)),\"PLEASE SELECT A BANK FROM DEFINED LIST PROVIDED\",\"\")),\"\")","v":""},"No Entry",0]
[null,null,null,null,null,null,null,null,null,null,null,null,"",{"$f":"IF(D937=\"Cash and Deposits\",IF(E937=\"\",\"BANK NAME REQUIRED\",IF(ISERROR(VLOOKUP(E937,'Reference Data'!C:C,1,FALSE)),\"PLEASE SELECT A BANK FROM DEFINED LIST PROVIDED\",\"\")),\"\")","v":""},"No Entry",0]
[null,null,null,null,null,null,null,null,null,null,null,null,"",{"$f":"IF(D938=\"Cash and Deposits\",IF(E938=\"\",\"BANK NAME REQUIRED\",IF(ISERROR(VLOOKUP(E938,'Reference Data'!C:C,1,FALSE)),\"PLEASE SELECT A BANK FROM DEFINED LIST PROVIDED\",\"\")),\"\")","v":""},"No Entry",0]
[null,null,null,null,null,null,null,null,null,null,null,null,"",{"$f":"IF(D939=\"Cash and Deposits\",IF(E939=\"\",\"BANK NAME REQUIRED\",IF(ISERROR(VLOOKUP(E939,'Reference Data'!C:C,1,FALSE)),\"PLEASE SELECT A BANK FROM DEFINED LIST PROVIDED\",\"\")),\"\")","v":""},"No Entry",0]
[null,null,null,null,null,null,null,null,null,null,null,null,"",{"$f":"IF(D940=\"Cash and Deposits\",IF(E940=\"\",\"BANK NAME REQUIRED\",IF(ISERROR(VLOOKUP(E940,'Reference Data'!C:C,1,FALSE)),\"PLEASE SELECT A BANK FROM DEFINED LIST PROVIDED\",\"\")),\"\")","v":""},"No Entry",0]
[null,null,null,null,null,null,null,null,null,null,null,null,"",{"$f":"IF(D941=\"Cash and Deposits\",IF(E941=\"\",\"BANK NAME REQUIRED\",IF(ISERROR(VLOOKUP(E941,'Reference Data'!C:C,1,FALSE)),\"PLEASE SELECT A BANK FROM DEFINED LIST PROVIDED\",\"\")),\"\")","v":""},"No Entry",0]
[null,null,null,null,null,null,null,null,null,null,null,null,"",{"$f":"IF(D942=\"Cash and Deposits\",IF(E942=\"\",\"BANK NAME REQUIRED\",IF(ISERROR(VLOOKUP(E942,'Reference Data'!C:C,1,FALSE)),\"PLEASE SELECT A BANK FROM DEFINED LIST PROVIDED\",\"\")),\"\")","v":""},"No Entry",0]
[null,null,null,null,null,null,null,null,null,null,null,null,"",{"$f":"IF(D943=\"Cash and Deposits\",IF(E943=\"\",\"BANK NAME REQUIRED\",IF(ISERROR(VLOOKUP(E943,'Reference Data'!C:C,1,FALSE)),\"PLEASE SELECT A BANK FROM DEFINED LIST PROVIDED\",\"\")),\"\")","v":""},"No Entry",0]
[null,null,null,null,null,null,null,null,null,null,null,null,"",{"$f":"IF(D944=\"Cash and Deposits\",IF(E944=\"\",\"BANK NAME REQUIRED\",IF(ISERROR(VLOOKUP(E944,'Reference Data'!C:C,1,FALSE)),\"PLEASE SELECT A BANK FROM DEFINED LIST PROVIDED\",\"\")),\"\")","v":""},"No Entry",0]
[null,null,null,null,null,null,null,null,null,null,null,null,"",{"$f":"IF(D945=\"Cash and Deposits\",IF(E945=\"\",\"BANK NAME REQUIRED\",IF(ISERROR(VLOOKUP(E945,'Reference Data'!C:C,1,FALSE)),\"PLEASE SELECT A BANK FROM DEFINED LIST PROVIDED\",\"\")),\"\")","v":""},"No Entry",0]
[null,null,null,null,null,null,null,null,null,null,null,null,"",{"$f":"IF(D946=\"Cash and Deposits\",IF(E946=\"\",\"BANK NAME REQUIRED\",IF(ISERROR(VLOOKUP(E946,'Reference Data'!C:C,1,FALSE)),\"PLEASE SELECT A BANK FROM DEFINED LIST PROVIDED\",\"\")),\"\")","v":""},"No Entry",0]
[null,null,null,null,null,null,null,null,null,null,null,null,"",{"$f":"IF(D947=\"Cash and Deposits\",IF(E947=\"\",\"BANK NAME REQUIRED\",IF(ISERROR(VLOOKUP(E947,'Reference Data'!C:C,1,FALSE)),\"PLEASE SELECT A BANK FROM DEFINED LIST PROVIDED\",\"\")),\"\")","v":""},"No Entry",0]
[null,null,null,null,null,null,null,null,null,null,null,null,"",{"$f":"IF(D948=\"Cash and Deposits\",IF(E948=\"\",\"BANK NAME REQUIRED\",IF(ISERROR(VLOOKUP(E948,'Reference Data'!C:C,1,FALSE)),\"PLEASE SELECT A BANK FROM DEFINED LIST PROVIDED\",\"\")),\"\")","v":""},"No Entry",0]
[null,null,null,null,null,null,null,null,null,null,null,null,"",{"$f":"IF(D949=\"Cash and Deposits\",IF(E949=\"\",\"BANK NAME REQUIRED\",IF(ISERROR(VLOOKUP(E949,'Reference Data'!C:C,1,FALSE)),\"PLEASE SELECT A BANK FROM DEFINED LIST PROVIDED\",\"\")),\"\")","v":""},"No Entry",0]
[null,null,null,null,null,null,null,null,null,null,null,null,"",{"$f":"IF(D950=\"Cash and Deposits\",IF(E950=\"\",\"BANK NAME REQUIRED\",IF(ISERROR(VLOOKUP(E950,'Reference Data'!C:C,1,FALSE)),\"PLEASE SELECT A BANK FROM DEFINED LIST PROVIDED\",\"\")),\"\")","v":""},"No Entry",0]
[null,null,null,null,null,null,null,null,null,null,null,null,"",{"$f":"IF(D951=\"Cash and Deposits\",IF(E951=\"\",\"BANK NAME REQUIRED\",IF(ISERROR(VLOOKUP(E951,'Reference Data'!C:C,1,FALSE)),\"PLEASE SELECT A BANK FROM DEFINED LIST PROVIDED\",\"\")),\"\")","v":""},"No Entry",0]
[null,null,null,null,null,null,null,null,null,null,null,null,"",{"$f":"IF(D952=\"Cash and Deposits\",IF(E952=\"\",\"BANK NAME REQUIRED\",IF(ISERROR(VLOOKUP(E952,'Reference Data'!C:C,1,FALSE)),\"PLEASE SELECT A BANK FROM DEFINED LIST PROVIDED\",\"\")),\"\")","v":""},"No Entry",0]
[null,null,null,null,null,null,null,null,null,null,null,null,"",{"$f":"IF(D953=\"Cash and Deposits\",IF(E953=\"\",\"BANK NAME REQUIRED\",IF(ISERROR(VLOOKUP(E953,'Reference Data'!C:C,1,FALSE)),\"PLEASE SELECT A BANK FROM DEFINED LIST PROVIDED\",\"\")),\"\")","v":""},"No Entry",0]
[null,null,null,null,null,null,null,null,null,null,null,null,"",{"$f":"IF(D954=\"Cash and Deposits\",IF(E954=\"\",\"BANK NAME REQUIRED\",IF(ISERROR(VLOOKUP(E954,'Reference Data'!C:C,1,FALSE)),\"PLEASE SELECT A BANK FROM DEFINED LIST PROVIDED\",\"\")),\"\")","v":""},"No Entry",0]
[null,null,null,null,null,null,null,null,null,null,null,null,"",{"$f":"IF(D955=\"Cash and Deposits\",IF(E955=\"\",\"BANK NAME REQUIRED\",IF(ISERROR(VLOOKUP(E955,'Reference Data'!C:C,1,FALSE)),\"PLEASE SELECT A BANK FROM DEFINED LIST PROVIDED\",\"\")),\"\")","v":""},"No Entry",0]
[null,null,null,null,null,null,null,null,null,null,null,null,"",{"$f":"IF(D956=\"Cash and Deposits\",IF(E956=\"\",\"BANK NAME REQUIRED\",IF(ISERROR(VLOOKUP(E956,'Reference Data'!C:C,1,FALSE)),\"PLEASE SELECT A BANK FROM DEFINED LIST PROVIDED\",\"\")),\"\")","v":""},"No Entry",0]
[null,null,null,null,null,null,null,null,null,null,null,null,"",{"$f":"IF(D957=\"Cash and Deposits\",IF(E957=\"\",\"BANK NAME REQUIRED\",IF(ISERROR(VLOOKUP(E957,'Reference Data'!C:C,1,FALSE)),\"PLEASE SELECT A BANK FROM DEFINED LIST PROVIDED\",\"\")),\"\")","v":""},"No Entry",0]
[null,null,null,null,null,null,null,null,null,null,null,null,"",{"$f":"IF(D958=\"Cash and Deposits\",IF(E958=\"\",\"BANK NAME REQUIRED\",IF(ISERROR(VLOOKUP(E958,'Reference Data'!C:C,1,FALSE)),\"PLEASE SELECT A BANK FROM DEFINED LIST PROVIDED\",\"\")),\"\")","v":""},"No Entry",0]
[null,null,null,null,null,null,null,null,null,null,null,null,"",{"$f":"IF(D959=\"Cash and Deposits\",IF(E959=\"\",\"BANK NAME REQUIRED\",IF(ISERROR(VLOOKUP(E959,'Reference Data'!C:C,1,FALSE)),\"PLEASE SELECT A BANK FROM DEFINED LIST PROVIDED\",\"\")),\"\")","v":""},"No Entry",0]
[null,null,null,null,null,null,null,null,null,null,null,null,"",{"$f":"IF(D960=\"Cash and Deposits\",IF(E960=\"\",\"BANK NAME REQUIRED\",IF(ISERROR(VLOOKUP(E960,'Reference Data'!C:C,1,FALSE)),\"PLEASE SELECT A BANK FROM DEFINED LIST PROVIDED\",\"\")),\"\")","v":""},"No Entry",0]
[null,null,null,null,null,null,null,null,null,null,null,null,"",{"$f":"IF(D961=\"Cash and Deposits\",IF(E961=\"\",\"BANK NAME REQUIRED\",IF(ISERROR(VLOOKUP(E961,'Reference Data'!C:C,1,FALSE)),\"PLEASE SELECT A BANK FROM DEFINED LIST PROVIDED\",\"\")),\"\")","v":""},"No Entry",0]
[null,null,null,null,null,null,null,null,null,null,null,null,"",{"$f":"IF(D962=\"Cash and Deposits\",IF(E962=\"\",\"BANK NAME REQUIRED\",IF(ISERROR(VLOOKUP(E962,'Reference Data'!C:C,1,FALSE)),\"PLEASE SELECT A BANK FROM DEFINED LIST PROVIDED\",\"\")),\"\")","v":""},"No Entry",0]
[null,null,null,null,null,null,null,null,null,null,null,null,"",{"$f":"IF(D963=\"Cash and Deposits\",IF(E963=\"\",\"BANK NAME REQUIRED\",IF(ISERROR(VLOOKUP(E963,'Reference Data'!C:C,1,FALSE)),\"PLEASE SELECT A BANK FROM DEFINED LIST PROVIDED\",\"\")),\"\")","v":""},"No Entry",0]
[null,null,null,null,null,null,null,null,null,null,null,null,"",{"$f":"IF(D964=\"Cash and Deposits\",IF(E964=\"\",\"BANK NAME REQUIRED\",IF(ISERROR(VLOOKUP(E964,'Reference Data'!C:C,1,FALSE)),\"PLEASE SELECT A BANK FROM DEFINED LIST PROVIDED\",\"\")),\"\")","v":""},"No Entry",0]
[null,null,null,null,null,null,null,null,null,null,null,null,{"$f":"IF(K965<>0,IF(B965=\"\",\"ID CODE REQUIRED\",\"\"),\"\")","v":""},{"$f":"IF(D965=\"Cash and Deposits\",IF(E965=\"\",\"BANK NAME REQUIRED\",IF(ISERROR(VLOOKUP(E965,'Reference Data'!C:C,1,FALSE)),\"PLEASE SELECT A BANK FROM DEFINED LIST PROVIDED\",\"\")),\"\")","v":""},{"$f":"IF(K965=0,\"No Entry\",\"\")","v":"No Entry"},{"$f":"IF(K965<>0,IF(A965=\"\",1,0),0)","v":0}]
[null,null,null,null,null,null,null,null,null,null,null,null,"",{"$f":"IF(D966=\"Cash and Deposits\",IF(E966=\"\",\"BANK NAME REQUIRED\",IF(ISERROR(VLOOKUP(E966,'Reference Data'!C:C,1,FALSE)),\"PLEASE SELECT A BANK FROM DEFINED LIST PROVIDED\",\"\")),\"\")","v":""},"No Entry",0]
[null,null,null,null,null,null,null,null,null,null,null,null,"",{"$f":"IF(D967=\"Cash and Deposits\",IF(E967=\"\",\"BANK NAME REQUIRED\",IF(ISERROR(VLOOKUP(E967,'Reference Data'!C:C,1,FALSE)),\"PLEASE SELECT A BANK FROM DEFINED LIST PROVIDED\",\"\")),\"\")","v":""},"No Entry",0]
[null,null,null,null,null,null,null,null,null,null,null,null,"",{"$f":"IF(D968=\"Cash and Deposits\",IF(E968=\"\",\"BANK NAME REQUIRED\",IF(ISERROR(VLOOKUP(E968,'Reference Data'!C:C,1,FALSE)),\"PLEASE SELECT A BANK FROM DEFINED LIST PROVIDED\",\"\")),\"\")","v":""},"No Entry",0]
[null,null,null,null,null,null,null,null,null,null,null,null,"",{"$f":"IF(D969=\"Cash and Deposits\",IF(E969=\"\",\"BANK NAME REQUIRED\",IF(ISERROR(VLOOKUP(E969,'Reference Data'!C:C,1,FALSE)),\"PLEASE SELECT A BANK FROM DEFINED LIST PROVIDED\",\"\")),\"\")","v":""},"No Entry",0]
[null,null,null,null,null,null,null,null,null,null,null,null,"",{"$f":"IF(D970=\"Cash and Deposits\",IF(E970=\"\",\"BANK NAME REQUIRED\",IF(ISERROR(VLOOKUP(E970,'Reference Data'!C:C,1,FALSE)),\"PLEASE SELECT A BANK FROM DEFINED LIST PROVIDED\",\"\")),\"\")","v":""},"No Entry",0]
[null,null,null,null,null,null,null,null,null,null,null,null,"",{"$f":"IF(D971=\"Cash and Deposits\",IF(E971=\"\",\"BANK NAME REQUIRED\",IF(ISERROR(VLOOKUP(E971,'Reference Data'!C:C,1,FALSE)),\"PLEASE SELECT A BANK FROM DEFINED LIST PROVIDED\",\"\")),\"\")","v":""},"No Entry",0]
[null,null,null,null,null,null,null,null,null,null,null,null,"",{"$f":"IF(D972=\"Cash and Deposits\",IF(E972=\"\",\"BANK NAME REQUIRED\",IF(ISERROR(VLOOKUP(E972,'Reference Data'!C:C,1,FALSE)),\"PLEASE SELECT A BANK FROM DEFINED LIST PROVIDED\",\"\")),\"\")","v":""},"No Entry",0]
[null,null,null,null,null,null,null,null,null,null,null,null,"",{"$f":"IF(D973=\"Cash and Deposits\",IF(E973=\"\",\"BANK NAME REQUIRED\",IF(ISERROR(VLOOKUP(E973,'Reference Data'!C:C,1,FALSE)),\"PLEASE SELECT A BANK FROM DEFINED LIST PROVIDED\",\"\")),\"\")","v":""},"No Entry",0]
[null,null,null,null,null,null,null,null,null,null,null,null,"",{"$f":"IF(D974=\"Cash and Deposits\",IF(E974=\"\",\"BANK NAME REQUIRED\",IF(ISERROR(VLOOKUP(E974,'Reference Data'!C:C,1,FALSE)),\"PLEASE SELECT A BANK FROM DEFINED LIST PROVIDED\",\"\")),\"\")","v":""},"No Entry",0]
[null,null,null,null,null,null,null,null,null,null,null,null,"",{"$f":"IF(D975=\"Cash and Deposits\",IF(E975=\"\",\"BANK NAME REQUIRED\",IF(ISERROR(VLOOKUP(E975,'Reference Data'!C:C,1,FALSE)),\"PLEASE SELECT A BANK FROM DEFINED LIST PROVIDED\",\"\")),\"\")","v":""},"No Entry",0]
[null,null,null,null,null,null,null,null,null,null,null,null,"",{"$f":"IF(D976=\"Cash and Deposits\",IF(E976=\"\",\"BANK NAME REQUIRED\",IF(ISERROR(VLOOKUP(E976,'Reference Data'!C:C,1,FALSE)),\"PLEASE SELECT A BANK FROM DEFINED LIST PROVIDED\",\"\")),\"\")","v":""},"No Entry",0]
[null,null,null,null,null,null,null,null,null,null,null,null,"",{"$f":"IF(D977=\"Cash and Deposits\",IF(E977=\"\",\"BANK NAME REQUIRED\",IF(ISERROR(VLOOKUP(E977,'Reference Data'!C:C,1,FALSE)),\"PLEASE SELECT A BANK FROM DEFINED LIST PROVIDED\",\"\")),\"\")","v":""},"No Entry",0]
[null,null,null,null,null,null,null,null,null,null,null,null,"",{"$f":"IF(D978=\"Cash and Deposits\",IF(E978=\"\",\"BANK NAME REQUIRED\",IF(ISERROR(VLOOKUP(E978,'Reference Data'!C:C,1,FALSE)),\"PLEASE SELECT A BANK FROM DEFINED LIST PROVIDED\",\"\")),\"\")","v":""},"No Entry",0]
[null,null,null,null,null,null,null,null,null,null,null,null,"",{"$f":"IF(D979=\"Cash and Deposits\",IF(E979=\"\",\"BANK NAME REQUIRED\",IF(ISERROR(VLOOKUP(E979,'Reference Data'!C:C,1,FALSE)),\"PLEASE SELECT A BANK FROM DEFINED LIST PROVIDED\",\"\")),\"\")","v":""},"No Entry",0]
[null,null,null,null,null,null,null,null,null,null,null,null,"",{"$f":"IF(D980=\"Cash and Deposits\",IF(E980=\"\",\"BANK NAME REQUIRED\",IF(ISERROR(VLOOKUP(E980,'Reference Data'!C:C,1,FALSE)),\"PLEASE SELECT A BANK FROM DEFINED LIST PROVIDED\",\"\")),\"\")","v":""},"No Entry",0]
[null,null,null,null,null,null,null,null,null,null,null,null,"",{"$f":"IF(D981=\"Cash and Deposits\",IF(E981=\"\",\"BANK NAME REQUIRED\",IF(ISERROR(VLOOKUP(E981,'Reference Data'!C:C,1,FALSE)),\"PLEASE SELECT A BANK FROM DEFINED LIST PROVIDED\",\"\")),\"\")","v":""},"No Entry",0]
[null,null,null,null,null,null,null,null,null,null,null,null,"",{"$f":"IF(D982=\"Cash and Deposits\",IF(E982=\"\",\"BANK NAME REQUIRED\",IF(ISERROR(VLOOKUP(E982,'Reference Data'!C:C,1,FALSE)),\"PLEASE SELECT A BANK FROM DEFINED LIST PROVIDED\",\"\")),\"\")","v":""},"No Entry",0]
[null,null,null,null,null,null,null,null,null,null,null,null,"",{"$f":"IF(D983=\"Cash and Deposits\",IF(E983=\"\",\"BANK NAME REQUIRED\",IF(ISERROR(VLOOKUP(E983,'Reference Data'!C:C,1,FALSE)),\"PLEASE SELECT A BANK FROM DEFINED LIST PROVIDED\",\"\")),\"\")","v":""},"No Entry",0]
[null,null,null,null,null,null,null,null,null,null,null,null,"",{"$f":"IF(D984=\"Cash and Deposits\",IF(E984=\"\",\"BANK NAME REQUIRED\",IF(ISERROR(VLOOKUP(E984,'Reference Data'!C:C,1,FALSE)),\"PLEASE SELECT A BANK FROM DEFINED LIST PROVIDED\",\"\")),\"\")","v":""},"No Entry",0]
[null,null,null,null,null,null,null,null,null,null,null,null,"",{"$f":"IF(D985=\"Cash and Deposits\",IF(E985=\"\",\"BANK NAME REQUIRED\",IF(ISERROR(VLOOKUP(E985,'Reference Data'!C:C,1,FALSE)),\"PLEASE SELECT A BANK FROM DEFINED LIST PROVIDED\",\"\")),\"\")","v":""},"No Entry",0]
[null,null,null,null,null,null,null,null,null,null,null,null,"",{"$f":"IF(D986=\"Cash and Deposits\",IF(E986=\"\",\"BANK NAME REQUIRED\",IF(ISERROR(VLOOKUP(E986,'Reference Data'!C:C,1,FALSE)),\"PLEASE SELECT A BANK FROM DEFINED LIST PROVIDED\",\"\")),\"\")","v":""},"No Entry",0]
[null,null,null,null,null,null,null,null,null,null,null,null,"",{"$f":"IF(D987=\"Cash and Deposits\",IF(E987=\"\",\"BANK NAME REQUIRED\",IF(ISERROR(VLOOKUP(E987,'Reference Data'!C:C,1,FALSE)),\"PLEASE SELECT A BANK FROM DEFINED LIST PROVIDED\",\"\")),\"\")","v":""},"No Entry",0]
[null,null,null,null,null,null,null,null,null,null,null,null,"",{"$f":"IF(D988=\"Cash and Deposits\",IF(E988=\"\",\"BANK NAME REQUIRED\",IF(ISERROR(VLOOKUP(E988,'Reference Data'!C:C,1,FALSE)),\"PLEASE SELECT A BANK FROM DEFINED LIST PROVIDED\",\"\")),\"\")","v":""},"No Entry",0]
[null,null,null,null,null,null,null,null,null,null,null,null,"",{"$f":"IF(D989=\"Cash and Deposits\",IF(E989=\"\",\"BANK NAME REQUIRED\",IF(ISERROR(VLOOKUP(E989,'Reference Data'!C:C,1,FALSE)),\"PLEASE SELECT A BANK FROM DEFINED LIST PROVIDED\",\"\")),\"\")","v":""},"No Entry",0]
[null,null,null,null,null,null,null,null,null,null,null,null,"",{"$f":"IF(D990=\"Cash and Deposits\",IF(E990=\"\",\"BANK NAME REQUIRED\",IF(ISERROR(VLOOKUP(E990,'Reference Data'!C:C,1,FALSE)),\"PLEASE SELECT A BANK FROM DEFINED LIST PROVIDED\",\"\")),\"\")","v":""},"No Entry",0]
[null,null,null,null,null,null,null,null,null,null,null,null,"",{"$f":"IF(D991=\"Cash and Deposits\",IF(E991=\"\",\"BANK NAME REQUIRED\",IF(ISERROR(VLOOKUP(E991,'Reference Data'!C:C,1,FALSE)),\"PLEASE SELECT A BANK FROM DEFINED LIST PROVIDED\",\"\")),\"\")","v":""},"No Entry",0]
[null,null,null,null,null,null,null,null,null,null,null,null,"",{"$f":"IF(D992=\"Cash and Deposits\",IF(E992=\"\",\"BANK NAME REQUIRED\",IF(ISERROR(VLOOKUP(E992,'Reference Data'!C:C,1,FALSE)),\"PLEASE SELECT A BANK FROM DEFINED LIST PROVIDED\",\"\")),\"\")","v":""},"No Entry",0]
[null,null,null,null,null,null,null,null,null,null,null,null,"",{"$f":"IF(D993=\"Cash and Deposits\",IF(E993=\"\",\"BANK NAME REQUIRED\",IF(ISERROR(VLOOKUP(E993,'Reference Data'!C:C,1,FALSE)),\"PLEASE SELECT A BANK FROM DEFINED LIST PROVIDED\",\"\")),\"\")","v":""},"No Entry",0]
[null,null,null,null,null,null,null,null,null,null,null,null,"",{"$f":"IF(D994=\"Cash and Deposits\",IF(E994=\"\",\"BANK NAME REQUIRED\",IF(ISERROR(VLOOKUP(E994,'Reference Data'!C:C,1,FALSE)),\"PLEASE SELECT A BANK FROM DEFINED LIST PROVIDED\",\"\")),\"\")","v":""},"No Entry",0]
[null,null,null,null,null,null,null,null,null,null,null,null,"",{"$f":"IF(D995=\"Cash and Deposits\",IF(E995=\"\",\"BANK NAME REQUIRED\",IF(ISERROR(VLOOKUP(E995,'Reference Data'!C:C,1,FALSE)),\"PLEASE SELECT A BANK FROM DEFINED LIST PROVIDED\",\"\")),\"\")","v":""},"No Entry",0]
[null,null,null,null,null,null,null,null,null,null,null,null,"",{"$f":"IF(D996=\"Cash and Deposits\",IF(E996=\"\",\"BANK NAME REQUIRED\",IF(ISERROR(VLOOKUP(E996,'Reference Data'!C:C,1,FALSE)),\"PLEASE SELECT A BANK FROM DEFINED LIST PROVIDED\",\"\")),\"\")","v":""},"No Entry",0]
[null,null,null,null,null,null,null,null,null,null,null,null,"",{"$f":"IF(D997=\"Cash and Deposits\",IF(E997=\"\",\"BANK NAME REQUIRED\",IF(ISERROR(VLOOKUP(E997,'Reference Data'!C:C,1,FALSE)),\"PLEASE SELECT A BANK FROM DEFINED LIST PROVIDED\",\"\")),\"\")","v":""},"No Entry",0]
[null,null,null,null,null,null,null,null,null,null,null,null,"",{"$f":"IF(D998=\"Cash and Deposits\",IF(E998=\"\",\"BANK NAME REQUIRED\",IF(ISERROR(VLOOKUP(E998,'Reference Data'!C:C,1,FALSE)),\"PLEASE SELECT A BANK FROM DEFINED LIST PROVIDED\",\"\")),\"\")","v":""},"No Entry",0]
[null,null,null,null,null,null,null,null,null,null,null,null,"",{"$f":"IF(D999=\"Cash and Deposits\",IF(E999=\"\",\"BANK NAME REQUIRED\",IF(ISERROR(VLOOKUP(E999,'Reference Data'!C:C,1,FALSE)),\"PLEASE SELECT A BANK FROM DEFINED LIST PROVIDED\",\"\")),\"\")","v":""},"No Entry",0]
[null,null,null,null,null,null,null,null,null,null,null,null,"",{"$f":"IF(D1000=\"Cash and Deposits\",IF(E1000=\"\",\"BANK NAME REQUIRED\",IF(ISERROR(VLOOKUP(E1000,'Reference Data'!C:C,1,FALSE)),\"PLEASE SELECT A BANK FROM DEFINED LIST PROVIDED\",\"\")),\"\")","v":""},"No Entry",0]
[null,null,null,null,null,null,null,null,null,null,null,null,"",{"$f":"IF(D1001=\"Cash and Deposits\",IF(E1001=\"\",\"BANK NAME REQUIRED\",IF(ISERROR(VLOOKUP(E1001,'Reference Data'!C:C,1,FALSE)),\"PLEASE SELECT A BANK FROM DEFINED LIST PROVIDED\",\"\")),\"\")","v":""},"No Entry",0]
[null,null,null,null,null,null,null,null,null,null,null,null,"",{"$f":"IF(D1002=\"Cash and Deposits\",IF(E1002=\"\",\"BANK NAME REQUIRED\",IF(ISERROR(VLOOKUP(E1002,'Reference Data'!C:C,1,FALSE)),\"PLEASE SELECT A BANK FROM DEFINED LIST PROVIDED\",\"\")),\"\")","v":""},"No Entry",0]
[null,null,null,null,null,null,null,null,null,null,null,null,"",{"$f":"IF(D1003=\"Cash and Deposits\",IF(E1003=\"\",\"BANK NAME REQUIRED\",IF(ISERROR(VLOOKUP(E1003,'Reference Data'!C:C,1,FALSE)),\"PLEASE SELECT A BANK FROM DEFINED LIST PROVIDED\",\"\")),\"\")","v":""},"No Entry",0]
[null,null,null,null,null,null,null,null,null,null,null,null,"",{"$f":"IF(D1004=\"Cash and Deposits\",IF(E1004=\"\",\"BANK NAME REQUIRED\",IF(ISERROR(VLOOKUP(E1004,'Reference Data'!C:C,1,FALSE)),\"PLEASE SELECT A BANK FROM DEFINED LIST PROVIDED\",\"\")),\"\")","v":""},"No Entry",0]
[null,null,null,null,null,null,null,null,null,null,null,null,"",{"$f":"IF(D1005=\"Cash and Deposits\",IF(E1005=\"\",\"BANK NAME REQUIRED\",IF(ISERROR(VLOOKUP(E1005,'Reference Data'!C:C,1,FALSE)),\"PLEASE SELECT A BANK FROM DEFINED LIST PROVIDED\",\"\")),\"\")","v":""},"No Entry",0]
[null,null,null,null,null,null,null,null,null,null,null,null,"",{"$f":"IF(D1006=\"Cash and Deposits\",IF(E1006=\"\",\"BANK NAME REQUIRED\",IF(ISERROR(VLOOKUP(E1006,'Reference Data'!C:C,1,FALSE)),\"PLEASE SELECT A BANK FROM DEFINED LIST PROVIDED\",\"\")),\"\")","v":""},"No Entry",0]
[null,null,null,null,null,null,null,null,null,null,null,null,"",{"$f":"IF(D1007=\"Cash and Deposits\",IF(E1007=\"\",\"BANK NAME REQUIRED\",IF(ISERROR(VLOOKUP(E1007,'Reference Data'!C:C,1,FALSE)),\"PLEASE SELECT A BANK FROM DEFINED LIST PROVIDED\",\"\")),\"\")","v":""},"No Entry",0]
[null,null,null,null,null,null,null,null,null,null,null,null,"",{"$f":"IF(D1008=\"Cash and Deposits\",IF(E1008=\"\",\"BANK NAME REQUIRED\",IF(ISERROR(VLOOKUP(E1008,'Reference Data'!C:C,1,FALSE)),\"PLEASE SELECT A BANK FROM DEFINED LIST PROVIDED\",\"\")),\"\")","v":""},"No Entry",0]
[null,null,null,null,null,null,null,null,null,null,null,null,"",{"$f":"IF(D1009=\"Cash and Deposits\",IF(E1009=\"\",\"BANK NAME REQUIRED\",IF(ISERROR(VLOOKUP(E1009,'Reference Data'!C:C,1,FALSE)),\"PLEASE SELECT A BANK FROM DEFINED LIST PROVIDED\",\"\")),\"\")","v":""},"No Entry",0]
[null,null,null,null,null,null,null,null,null,null,null,null,"",{"$f":"IF(D1010=\"Cash and Deposits\",IF(E1010=\"\",\"BANK NAME REQUIRED\",IF(ISERROR(VLOOKUP(E1010,'Reference Data'!C:C,1,FALSE)),\"PLEASE SELECT A BANK FROM DEFINED LIST PROVIDED\",\"\")),\"\")","v":""},"No Entry",0]
[null,null,null,null,null,null,null,null,null,null,null,null,"",{"$f":"IF(D1011=\"Cash and Deposits\",IF(E1011=\"\",\"BANK NAME REQUIRED\",IF(ISERROR(VLOOKUP(E1011,'Reference Data'!C:C,1,FALSE)),\"PLEASE SELECT A BANK FROM DEFINED LIST PROVIDED\",\"\")),\"\")","v":""},"No Entry",0]
[null,null,null,null,null,null,null,null,null,null,null,null,"",{"$f":"IF(D1012=\"Cash and Deposits\",IF(E1012=\"\",\"BANK NAME REQUIRED\",IF(ISERROR(VLOOKUP(E1012,'Reference Data'!C:C,1,FALSE)),\"PLEASE SELECT A BANK FROM DEFINED LIST PROVIDED\",\"\")),\"\")","v":""},"No Entry",0]
[null,null,null,null,null,null,null,null,null,null,null,null,"",{"$f":"IF(D1013=\"Cash and Deposits\",IF(E1013=\"\",\"BANK NAME REQUIRED\",IF(ISERROR(VLOOKUP(E1013,'Reference Data'!C:C,1,FALSE)),\"PLEASE SELECT A BANK FROM DEFINED LIST PROVIDED\",\"\")),\"\")","v":""},"No Entry",0]
[null,null,null,null,null,null,null,null,null,null,null,null,"",{"$f":"IF(D1014=\"Cash and Deposits\",IF(E1014=\"\",\"BANK NAME REQUIRED\",IF(ISERROR(VLOOKUP(E1014,'Reference Data'!C:C,1,FALSE)),\"PLEASE SELECT A BANK FROM DEFINED LIST PROVIDED\",\"\")),\"\")","v":""},"No Entry",0]
[null,null,null,null,null,null,null,null,null,null,null,null,"",{"$f":"IF(D1015=\"Cash and Deposits\",IF(E1015=\"\",\"BANK NAME REQUIRED\",IF(ISERROR(VLOOKUP(E1015,'Reference Data'!C:C,1,FALSE)),\"PLEASE SELECT A BANK FROM DEFINED LIST PROVIDED\",\"\")),\"\")","v":""},"No Entry",0]
[null,null,null,null,null,null,null,null,null,null,null,null,"",{"$f":"IF(D1016=\"Cash and Deposits\",IF(E1016=\"\",\"BANK NAME REQUIRED\",IF(ISERROR(VLOOKUP(E1016,'Reference Data'!C:C,1,FALSE)),\"PLEASE SELECT A BANK FROM DEFINED LIST PROVIDED\",\"\")),\"\")","v":""},"No Entry",0]
[null,null,null,null,null,null,null,null,null,null,null,null,"",{"$f":"IF(D1017=\"Cash and Deposits\",IF(E1017=\"\",\"BANK NAME REQUIRED\",IF(ISERROR(VLOOKUP(E1017,'Reference Data'!C:C,1,FALSE)),\"PLEASE SELECT A BANK FROM DEFINED LIST PROVIDED\",\"\")),\"\")","v":""},"No Entry",0]
[null,null,null,null,null,null,null,null,null,null,null,null,"",{"$f":"IF(D1018=\"Cash and Deposits\",IF(E1018=\"\",\"BANK NAME REQUIRED\",IF(ISERROR(VLOOKUP(E1018,'Reference Data'!C:C,1,FALSE)),\"PLEASE SELECT A BANK FROM DEFINED LIST PROVIDED\",\"\")),\"\")","v":""},"No Entry",0]
[null,null,null,null,null,null,null,null,null,null,null,null,"",{"$f":"IF(D1019=\"Cash and Deposits\",IF(E1019=\"\",\"BANK NAME REQUIRED\",IF(ISERROR(VLOOKUP(E1019,'Reference Data'!C:C,1,FALSE)),\"PLEASE SELECT A BANK FROM DEFINED LIST PROVIDED\",\"\")),\"\")","v":""},"No Entry",0]
[null,null,null,null,null,null,null,null,null,null,null,null,"",{"$f":"IF(D1020=\"Cash and Deposits\",IF(E1020=\"\",\"BANK NAME REQUIRED\",IF(ISERROR(VLOOKUP(E1020,'Reference Data'!C:C,1,FALSE)),\"PLEASE SELECT A BANK FROM DEFINED LIST PROVIDED\",\"\")),\"\")","v":""},"No Entry",0]
[null,null,null,null,null,null,null,null,null,null,null,null,"",{"$f":"IF(D1021=\"Cash and Deposits\",IF(E1021=\"\",\"BANK NAME REQUIRED\",IF(ISERROR(VLOOKUP(E1021,'Reference Data'!C:C,1,FALSE)),\"PLEASE SELECT A BANK FROM DEFINED LIST PROVIDED\",\"\")),\"\")","v":""},"No Entry",0]
[null,null,null,null,null,null,null,null,null,null,null,null,"",{"$f":"IF(D1022=\"Cash and Deposits\",IF(E1022=\"\",\"BANK NAME REQUIRED\",IF(ISERROR(VLOOKUP(E1022,'Reference Data'!C:C,1,FALSE)),\"PLEASE SELECT A BANK FROM DEFINED LIST PROVIDED\",\"\")),\"\")","v":""},"No Entry",0]
[null,null,null,null,null,null,null,null,null,null,null,null,"",{"$f":"IF(D1023=\"Cash and Deposits\",IF(E1023=\"\",\"BANK NAME REQUIRED\",IF(ISERROR(VLOOKUP(E1023,'Reference Data'!C:C,1,FALSE)),\"PLEASE SELECT A BANK FROM DEFINED LIST PROVIDED\",\"\")),\"\")","v":""},"No Entry",0]
[null,null,null,null,null,null,null,null,null,null,null,null,"",{"$f":"IF(D1024=\"Cash and Deposits\",IF(E1024=\"\",\"BANK NAME REQUIRED\",IF(ISERROR(VLOOKUP(E1024,'Reference Data'!C:C,1,FALSE)),\"PLEASE SELECT A BANK FROM DEFINED LIST PROVIDED\",\"\")),\"\")","v":""},"No Entry",0]
[null,null,null,null,null,null,null,null,null,null,null,null,"",{"$f":"IF(D1025=\"Cash and Deposits\",IF(E1025=\"\",\"BANK NAME REQUIRED\",IF(ISERROR(VLOOKUP(E1025,'Reference Data'!C:C,1,FALSE)),\"PLEASE SELECT A BANK FROM DEFINED LIST PROVIDED\",\"\")),\"\")","v":""},"No Entry",0]
[null,null,null,null,null,null,null,null,null,null,null,null,"",{"$f":"IF(D1026=\"Cash and Deposits\",IF(E1026=\"\",\"BANK NAME REQUIRED\",IF(ISERROR(VLOOKUP(E1026,'Reference Data'!C:C,1,FALSE)),\"PLEASE SELECT A BANK FROM DEFINED LIST PROVIDED\",\"\")),\"\")","v":""},"No Entry",0]
[null,null,null,null,null,null,null,null,null,null,null,null,"",{"$f":"IF(D1027=\"Cash and Deposits\",IF(E1027=\"\",\"BANK NAME REQUIRED\",IF(ISERROR(VLOOKUP(E1027,'Reference Data'!C:C,1,FALSE)),\"PLEASE SELECT A BANK FROM DEFINED LIST PROVIDED\",\"\")),\"\")","v":""},"No Entry",0]
[null,null,null,null,null,null,null,null,null,null,null,null,"",{"$f":"IF(D1028=\"Cash and Deposits\",IF(E1028=\"\",\"BANK NAME REQUIRED\",IF(ISERROR(VLOOKUP(E1028,'Reference Data'!C:C,1,FALSE)),\"PLEASE SELECT A BANK FROM DEFINED LIST PROVIDED\",\"\")),\"\")","v":""},"No Entry",0]
[null,null,null,null,null,null,null,null,null,null,null,null,{"$f":"IF(K1029<>0,IF(B1029=\"\",\"ID CODE REQUIRED\",\"\"),\"\")","v":""},{"$f":"IF(D1029=\"Cash and Deposits\",IF(E1029=\"\",\"BANK NAME REQUIRED\",IF(ISERROR(VLOOKUP(E1029,'Reference Data'!C:C,1,FALSE)),\"PLEASE SELECT A BANK FROM DEFINED LIST PROVIDED\",\"\")),\"\")","v":""},{"$f":"IF(K1029=0,\"No Entry\",\"\")","v":"No Entry"},{"$f":"IF(K1029<>0,IF(A1029=\"\",1,0),0)","v":0}]
[null,null,null,null,null,null,null,null,null,null,null,null,"",{"$f":"IF(D1030=\"Cash and Deposits\",IF(E1030=\"\",\"BANK NAME REQUIRED\",IF(ISERROR(VLOOKUP(E1030,'Reference Data'!C:C,1,FALSE)),\"PLEASE SELECT A BANK FROM DEFINED LIST PROVIDED\",\"\")),\"\")","v":""},"No Entry",0]
[null,null,null,null,null,null,null,null,null,null,null,null,"",{"$f":"IF(D1031=\"Cash and Deposits\",IF(E1031=\"\",\"BANK NAME REQUIRED\",IF(ISERROR(VLOOKUP(E1031,'Reference Data'!C:C,1,FALSE)),\"PLEASE SELECT A BANK FROM DEFINED LIST PROVIDED\",\"\")),\"\")","v":""},"No Entry",0]
[null,null,null,null,null,null,null,null,null,null,null,null,"",{"$f":"IF(D1032=\"Cash and Deposits\",IF(E1032=\"\",\"BANK NAME REQUIRED\",IF(ISERROR(VLOOKUP(E1032,'Reference Data'!C:C,1,FALSE)),\"PLEASE SELECT A BANK FROM DEFINED LIST PROVIDED\",\"\")),\"\")","v":""},"No Entry",0]
[null,null,null,null,null,null,null,null,null,null,null,null,"",{"$f":"IF(D1033=\"Cash and Deposits\",IF(E1033=\"\",\"BANK NAME REQUIRED\",IF(ISERROR(VLOOKUP(E1033,'Reference Data'!C:C,1,FALSE)),\"PLEASE SELECT A BANK FROM DEFINED LIST PROVIDED\",\"\")),\"\")","v":""},"No Entry",0]
[null,null,null,null,null,null,null,null,null,null,null,null,"",{"$f":"IF(D1034=\"Cash and Deposits\",IF(E1034=\"\",\"BANK NAME REQUIRED\",IF(ISERROR(VLOOKUP(E1034,'Reference Data'!C:C,1,FALSE)),\"PLEASE SELECT A BANK FROM DEFINED LIST PROVIDED\",\"\")),\"\")","v":""},"No Entry",0]
[null,null,null,null,null,null,null,null,null,null,null,null,"",{"$f":"IF(D1035=\"Cash and Deposits\",IF(E1035=\"\",\"BANK NAME REQUIRED\",IF(ISERROR(VLOOKUP(E1035,'Reference Data'!C:C,1,FALSE)),\"PLEASE SELECT A BANK FROM DEFINED LIST PROVIDED\",\"\")),\"\")","v":""},"No Entry",0]
[null,null,null,null,null,null,null,null,null,null,null,null,"",{"$f":"IF(D1036=\"Cash and Deposits\",IF(E1036=\"\",\"BANK NAME REQUIRED\",IF(ISERROR(VLOOKUP(E1036,'Reference Data'!C:C,1,FALSE)),\"PLEASE SELECT A BANK FROM DEFINED LIST PROVIDED\",\"\")),\"\")","v":""},"No Entry",0]
[null,null,null,null,null,null,null,null,null,null,null,null,"",{"$f":"IF(D1037=\"Cash and Deposits\",IF(E1037=\"\",\"BANK NAME REQUIRED\",IF(ISERROR(VLOOKUP(E1037,'Reference Data'!C:C,1,FALSE)),\"PLEASE SELECT A BANK FROM DEFINED LIST PROVIDED\",\"\")),\"\")","v":""},"No Entry",0]
[null,null,null,null,null,null,null,null,null,null,null,null,"",{"$f":"IF(D1038=\"Cash and Deposits\",IF(E1038=\"\",\"BANK NAME REQUIRED\",IF(ISERROR(VLOOKUP(E1038,'Reference Data'!C:C,1,FALSE)),\"PLEASE SELECT A BANK FROM DEFINED LIST PROVIDED\",\"\")),\"\")","v":""},"No Entry",0]
[null,null,null,null,null,null,null,null,null,null,null,null,"",{"$f":"IF(D1039=\"Cash and Deposits\",IF(E1039=\"\",\"BANK NAME REQUIRED\",IF(ISERROR(VLOOKUP(E1039,'Reference Data'!C:C,1,FALSE)),\"PLEASE SELECT A BANK FROM DEFINED LIST PROVIDED\",\"\")),\"\")","v":""},"No Entry",0]
[null,null,null,null,null,null,null,null,null,null,null,null,"",{"$f":"IF(D1040=\"Cash and Deposits\",IF(E1040=\"\",\"BANK NAME REQUIRED\",IF(ISERROR(VLOOKUP(E1040,'Reference Data'!C:C,1,FALSE)),\"PLEASE SELECT A BANK FROM DEFINED LIST PROVIDED\",\"\")),\"\")","v":""},"No Entry",0]
[null,null,null,null,null,null,null,null,null,null,null,null,"",{"$f":"IF(D1041=\"Cash and Deposits\",IF(E1041=\"\",\"BANK NAME REQUIRED\",IF(ISERROR(VLOOKUP(E1041,'Reference Data'!C:C,1,FALSE)),\"PLEASE SELECT A BANK FROM DEFINED LIST PROVIDED\",\"\")),\"\")","v":""},"No Entry",0]
[null,null,null,null,null,null,null,null,null,null,null,null,"",{"$f":"IF(D1042=\"Cash and Deposits\",IF(E1042=\"\",\"BANK NAME REQUIRED\",IF(ISERROR(VLOOKUP(E1042,'Reference Data'!C:C,1,FALSE)),\"PLEASE SELECT A BANK FROM DEFINED LIST PROVIDED\",\"\")),\"\")","v":""},"No Entry",0]
[null,null,null,null,null,null,null,null,null,null,null,null,"",{"$f":"IF(D1043=\"Cash and Deposits\",IF(E1043=\"\",\"BANK NAME REQUIRED\",IF(ISERROR(VLOOKUP(E1043,'Reference Data'!C:C,1,FALSE)),\"PLEASE SELECT A BANK FROM DEFINED LIST PROVIDED\",\"\")),\"\")","v":""},"No Entry",0]
[null,null,null,null,null,null,null,null,null,null,null,null,"",{"$f":"IF(D1044=\"Cash and Deposits\",IF(E1044=\"\",\"BANK NAME REQUIRED\",IF(ISERROR(VLOOKUP(E1044,'Reference Data'!C:C,1,FALSE)),\"PLEASE SELECT A BANK FROM DEFINED LIST PROVIDED\",\"\")),\"\")","v":""},"No Entry",0]
[null,null,null,null,null,null,null,null,null,null,null,null,"",{"$f":"IF(D1045=\"Cash and Deposits\",IF(E1045=\"\",\"BANK NAME REQUIRED\",IF(ISERROR(VLOOKUP(E1045,'Reference Data'!C:C,1,FALSE)),\"PLEASE SELECT A BANK FROM DEFINED LIST PROVIDED\",\"\")),\"\")","v":""},"No Entry",0]
[null,null,null,null,null,null,null,null,null,null,null,null,"",{"$f":"IF(D1046=\"Cash and Deposits\",IF(E1046=\"\",\"BANK NAME REQUIRED\",IF(ISERROR(VLOOKUP(E1046,'Reference Data'!C:C,1,FALSE)),\"PLEASE SELECT A BANK FROM DEFINED LIST PROVIDED\",\"\")),\"\")","v":""},"No Entry",0]
[null,null,null,null,null,null,null,null,null,null,null,null,"",{"$f":"IF(D1047=\"Cash and Deposits\",IF(E1047=\"\",\"BANK NAME REQUIRED\",IF(ISERROR(VLOOKUP(E1047,'Reference Data'!C:C,1,FALSE)),\"PLEASE SELECT A BANK FROM DEFINED LIST PROVIDED\",\"\")),\"\")","v":""},"No Entry",0]
[null,null,null,null,null,null,null,null,null,null,null,null,"",{"$f":"IF(D1048=\"Cash and Deposits\",IF(E1048=\"\",\"BANK NAME REQUIRED\",IF(ISERROR(VLOOKUP(E1048,'Reference Data'!C:C,1,FALSE)),\"PLEASE SELECT A BANK FROM DEFINED LIST PROVIDED\",\"\")),\"\")","v":""},"No Entry",0]
[null,null,null,null,null,null,null,null,null,null,null,null,"",{"$f":"IF(D1049=\"Cash and Deposits\",IF(E1049=\"\",\"BANK NAME REQUIRED\",IF(ISERROR(VLOOKUP(E1049,'Reference Data'!C:C,1,FALSE)),\"PLEASE SELECT A BANK FROM DEFINED LIST PROVIDED\",\"\")),\"\")","v":""},"No Entry",0]
[null,null,null,null,null,null,null,null,null,null,null,null,"",{"$f":"IF(D1050=\"Cash and Deposits\",IF(E1050=\"\",\"BANK NAME REQUIRED\",IF(ISERROR(VLOOKUP(E1050,'Reference Data'!C:C,1,FALSE)),\"PLEASE SELECT A BANK FROM DEFINED LIST PROVIDED\",\"\")),\"\")","v":""},"No Entry",0]
[null,null,null,null,null,null,null,null,null,null,null,null,"",{"$f":"IF(D1051=\"Cash and Deposits\",IF(E1051=\"\",\"BANK NAME REQUIRED\",IF(ISERROR(VLOOKUP(E1051,'Reference Data'!C:C,1,FALSE)),\"PLEASE SELECT A BANK FROM DEFINED LIST PROVIDED\",\"\")),\"\")","v":""},"No Entry",0]
[null,null,null,null,null,null,null,null,null,null,null,null,"",{"$f":"IF(D1052=\"Cash and Deposits\",IF(E1052=\"\",\"BANK NAME REQUIRED\",IF(ISERROR(VLOOKUP(E1052,'Reference Data'!C:C,1,FALSE)),\"PLEASE SELECT A BANK FROM DEFINED LIST PROVIDED\",\"\")),\"\")","v":""},"No Entry",0]
[null,null,null,null,null,null,null,null,null,null,null,null,"",{"$f":"IF(D1053=\"Cash and Deposits\",IF(E1053=\"\",\"BANK NAME REQUIRED\",IF(ISERROR(VLOOKUP(E1053,'Reference Data'!C:C,1,FALSE)),\"PLEASE SELECT A BANK FROM DEFINED LIST PROVIDED\",\"\")),\"\")","v":""},"No Entry",0]
[null,null,null,null,null,null,null,null,null,null,null,null,"",{"$f":"IF(D1054=\"Cash and Deposits\",IF(E1054=\"\",\"BANK NAME REQUIRED\",IF(ISERROR(VLOOKUP(E1054,'Reference Data'!C:C,1,FALSE)),\"PLEASE SELECT A BANK FROM DEFINED LIST PROVIDED\",\"\")),\"\")","v":""},"No Entry",0]
[null,null,null,null,null,null,null,null,null,null,null,null,"",{"$f":"IF(D1055=\"Cash and Deposits\",IF(E1055=\"\",\"BANK NAME REQUIRED\",IF(ISERROR(VLOOKUP(E1055,'Reference Data'!C:C,1,FALSE)),\"PLEASE SELECT A BANK FROM DEFINED LIST PROVIDED\",\"\")),\"\")","v":""},"No Entry",0]
[null,null,null,null,null,null,null,null,null,null,null,null,"",{"$f":"IF(D1056=\"Cash and Deposits\",IF(E1056=\"\",\"BANK NAME REQUIRED\",IF(ISERROR(VLOOKUP(E1056,'Reference Data'!C:C,1,FALSE)),\"PLEASE SELECT A BANK FROM DEFINED LIST PROVIDED\",\"\")),\"\")","v":""},"No Entry",0]
[null,null,null,null,null,null,null,null,null,null,null,null,"",{"$f":"IF(D1057=\"Cash and Deposits\",IF(E1057=\"\",\"BANK NAME REQUIRED\",IF(ISERROR(VLOOKUP(E1057,'Reference Data'!C:C,1,FALSE)),\"PLEASE SELECT A BANK FROM DEFINED LIST PROVIDED\",\"\")),\"\")","v":""},"No Entry",0]
[null,null,null,null,null,null,null,null,null,null,null,null,"",{"$f":"IF(D1058=\"Cash and Deposits\",IF(E1058=\"\",\"BANK NAME REQUIRED\",IF(ISERROR(VLOOKUP(E1058,'Reference Data'!C:C,1,FALSE)),\"PLEASE SELECT A BANK FROM DEFINED LIST PROVIDED\",\"\")),\"\")","v":""},"No Entry",0]
[null,null,null,null,null,null,null,null,null,null,null,null,"",{"$f":"IF(D1059=\"Cash and Deposits\",IF(E1059=\"\",\"BANK NAME REQUIRED\",IF(ISERROR(VLOOKUP(E1059,'Reference Data'!C:C,1,FALSE)),\"PLEASE SELECT A BANK FROM DEFINED LIST PROVIDED\",\"\")),\"\")","v":""},"No Entry",0]
[null,null,null,null,null,null,null,null,null,null,null,null,"",{"$f":"IF(D1060=\"Cash and Deposits\",IF(E1060=\"\",\"BANK NAME REQUIRED\",IF(ISERROR(VLOOKUP(E1060,'Reference Data'!C:C,1,FALSE)),\"PLEASE SELECT A BANK FROM DEFINED LIST PROVIDED\",\"\")),\"\")","v":""},"No Entry",0]
[null,null,null,null,null,null,null,null,null,null,null,null,"",{"$f":"IF(D1061=\"Cash and Deposits\",IF(E1061=\"\",\"BANK NAME REQUIRED\",IF(ISERROR(VLOOKUP(E1061,'Reference Data'!C:C,1,FALSE)),\"PLEASE SELECT A BANK FROM DEFINED LIST PROVIDED\",\"\")),\"\")","v":""},"No Entry",0]
[null,null,null,null,null,null,null,null,null,null,null,null,"",{"$f":"IF(D1062=\"Cash and Deposits\",IF(E1062=\"\",\"BANK NAME REQUIRED\",IF(ISERROR(VLOOKUP(E1062,'Reference Data'!C:C,1,FALSE)),\"PLEASE SELECT A BANK FROM DEFINED LIST PROVIDED\",\"\")),\"\")","v":""},"No Entry",0]
[null,null,null,null,null,null,null,null,null,null,null,null,"",{"$f":"IF(D1063=\"Cash and Deposits\",IF(E1063=\"\",\"BANK NAME REQUIRED\",IF(ISERROR(VLOOKUP(E1063,'Reference Data'!C:C,1,FALSE)),\"PLEASE SELECT A BANK FROM DEFINED LIST PROVIDED\",\"\")),\"\")","v":""},"No Entry",0]
[null,null,null,null,null,null,null,null,null,null,null,null,"",{"$f":"IF(D1064=\"Cash and Deposits\",IF(E1064=\"\",\"BANK NAME REQUIRED\",IF(ISERROR(VLOOKUP(E1064,'Reference Data'!C:C,1,FALSE)),\"PLEASE SELECT A BANK FROM DEFINED LIST PROVIDED\",\"\")),\"\")","v":""},"No Entry",0]
[null,null,null,null,null,null,null,null,null,null,null,null,"",{"$f":"IF(D1065=\"Cash and Deposits\",IF(E1065=\"\",\"BANK NAME REQUIRED\",IF(ISERROR(VLOOKUP(E1065,'Reference Data'!C:C,1,FALSE)),\"PLEASE SELECT A BANK FROM DEFINED LIST PROVIDED\",\"\")),\"\")","v":""},"No Entry",0]
[null,null,null,null,null,null,null,null,null,null,null,null,"",{"$f":"IF(D1066=\"Cash and Deposits\",IF(E1066=\"\",\"BANK NAME REQUIRED\",IF(ISERROR(VLOOKUP(E1066,'Reference Data'!C:C,1,FALSE)),\"PLEASE SELECT A BANK FROM DEFINED LIST PROVIDED\",\"\")),\"\")","v":""},"No Entry",0]
[null,null,null,null,null,null,null,null,null,null,null,null,"",{"$f":"IF(D1067=\"Cash and Deposits\",IF(E1067=\"\",\"BANK NAME REQUIRED\",IF(ISERROR(VLOOKUP(E1067,'Reference Data'!C:C,1,FALSE)),\"PLEASE SELECT A BANK FROM DEFINED LIST PROVIDED\",\"\")),\"\")","v":""},"No Entry",0]
[null,null,null,null,null,null,null,null,null,null,null,null,"",{"$f":"IF(D1068=\"Cash and Deposits\",IF(E1068=\"\",\"BANK NAME REQUIRED\",IF(ISERROR(VLOOKUP(E1068,'Reference Data'!C:C,1,FALSE)),\"PLEASE SELECT A BANK FROM DEFINED LIST PROVIDED\",\"\")),\"\")","v":""},"No Entry",0]
[null,null,null,null,null,null,null,null,null,null,null,null,"",{"$f":"IF(D1069=\"Cash and Deposits\",IF(E1069=\"\",\"BANK NAME REQUIRED\",IF(ISERROR(VLOOKUP(E1069,'Reference Data'!C:C,1,FALSE)),\"PLEASE SELECT A BANK FROM DEFINED LIST PROVIDED\",\"\")),\"\")","v":""},"No Entry",0]
[null,null,null,null,null,null,null,null,null,null,null,null,"",{"$f":"IF(D1070=\"Cash and Deposits\",IF(E1070=\"\",\"BANK NAME REQUIRED\",IF(ISERROR(VLOOKUP(E1070,'Reference Data'!C:C,1,FALSE)),\"PLEASE SELECT A BANK FROM DEFINED LIST PROVIDED\",\"\")),\"\")","v":""},"No Entry",0]
[null,null,null,null,null,null,null,null,null,null,null,null,"",{"$f":"IF(D1071=\"Cash and Deposits\",IF(E1071=\"\",\"BANK NAME REQUIRED\",IF(ISERROR(VLOOKUP(E1071,'Reference Data'!C:C,1,FALSE)),\"PLEASE SELECT A BANK FROM DEFINED LIST PROVIDED\",\"\")),\"\")","v":""},"No Entry",0]
[null,null,null,null,null,null,null,null,null,null,null,null,"",{"$f":"IF(D1072=\"Cash and Deposits\",IF(E1072=\"\",\"BANK NAME REQUIRED\",IF(ISERROR(VLOOKUP(E1072,'Reference Data'!C:C,1,FALSE)),\"PLEASE SELECT A BANK FROM DEFINED LIST PROVIDED\",\"\")),\"\")","v":""},"No Entry",0]
[null,null,null,null,null,null,null,null,null,null,null,null,"",{"$f":"IF(D1073=\"Cash and Deposits\",IF(E1073=\"\",\"BANK NAME REQUIRED\",IF(ISERROR(VLOOKUP(E1073,'Reference Data'!C:C,1,FALSE)),\"PLEASE SELECT A BANK FROM DEFINED LIST PROVIDED\",\"\")),\"\")","v":""},"No Entry",0]
[null,null,null,null,null,null,null,null,null,null,null,null,"",{"$f":"IF(D1074=\"Cash and Deposits\",IF(E1074=\"\",\"BANK NAME REQUIRED\",IF(ISERROR(VLOOKUP(E1074,'Reference Data'!C:C,1,FALSE)),\"PLEASE SELECT A BANK FROM DEFINED LIST PROVIDED\",\"\")),\"\")","v":""},"No Entry",0]
[null,null,null,null,null,null,null,null,null,null,null,null,"",{"$f":"IF(D1075=\"Cash and Deposits\",IF(E1075=\"\",\"BANK NAME REQUIRED\",IF(ISERROR(VLOOKUP(E1075,'Reference Data'!C:C,1,FALSE)),\"PLEASE SELECT A BANK FROM DEFINED LIST PROVIDED\",\"\")),\"\")","v":""},"No Entry",0]
[null,null,null,null,null,null,null,null,null,null,null,null,"",{"$f":"IF(D1076=\"Cash and Deposits\",IF(E1076=\"\",\"BANK NAME REQUIRED\",IF(ISERROR(VLOOKUP(E1076,'Reference Data'!C:C,1,FALSE)),\"PLEASE SELECT A BANK FROM DEFINED LIST PROVIDED\",\"\")),\"\")","v":""},"No Entry",0]
[null,null,null,null,null,null,null,null,null,null,null,null,"",{"$f":"IF(D1077=\"Cash and Deposits\",IF(E1077=\"\",\"BANK NAME REQUIRED\",IF(ISERROR(VLOOKUP(E1077,'Reference Data'!C:C,1,FALSE)),\"PLEASE SELECT A BANK FROM DEFINED LIST PROVIDED\",\"\")),\"\")","v":""},"No Entry",0]
[null,null,null,null,null,null,null,null,null,null,null,null,"",{"$f":"IF(D1078=\"Cash and Deposits\",IF(E1078=\"\",\"BANK NAME REQUIRED\",IF(ISERROR(VLOOKUP(E1078,'Reference Data'!C:C,1,FALSE)),\"PLEASE SELECT A BANK FROM DEFINED LIST PROVIDED\",\"\")),\"\")","v":""},"No Entry",0]
[null,null,null,null,null,null,null,null,null,null,null,null,"",{"$f":"IF(D1079=\"Cash and Deposits\",IF(E1079=\"\",\"BANK NAME REQUIRED\",IF(ISERROR(VLOOKUP(E1079,'Reference Data'!C:C,1,FALSE)),\"PLEASE SELECT A BANK FROM DEFINED LIST PROVIDED\",\"\")),\"\")","v":""},"No Entry",0]
[null,null,null,null,null,null,null,null,null,null,null,null,"",{"$f":"IF(D1080=\"Cash and Deposits\",IF(E1080=\"\",\"BANK NAME REQUIRED\",IF(ISERROR(VLOOKUP(E1080,'Reference Data'!C:C,1,FALSE)),\"PLEASE SELECT A BANK FROM DEFINED LIST PROVIDED\",\"\")),\"\")","v":""},"No Entry",0]
[null,null,null,null,null,null,null,null,null,null,null,null,"",{"$f":"IF(D1081=\"Cash and Deposits\",IF(E1081=\"\",\"BANK NAME REQUIRED\",IF(ISERROR(VLOOKUP(E1081,'Reference Data'!C:C,1,FALSE)),\"PLEASE SELECT A BANK FROM DEFINED LIST PROVIDED\",\"\")),\"\")","v":""},"No Entry",0]
[null,null,null,null,null,null,null,null,null,null,null,null,"",{"$f":"IF(D1082=\"Cash and Deposits\",IF(E1082=\"\",\"BANK NAME REQUIRED\",IF(ISERROR(VLOOKUP(E1082,'Reference Data'!C:C,1,FALSE)),\"PLEASE SELECT A BANK FROM DEFINED LIST PROVIDED\",\"\")),\"\")","v":""},"No Entry",0]
[null,null,null,null,null,null,null,null,null,null,null,null,"",{"$f":"IF(D1083=\"Cash and Deposits\",IF(E1083=\"\",\"BANK NAME REQUIRED\",IF(ISERROR(VLOOKUP(E1083,'Reference Data'!C:C,1,FALSE)),\"PLEASE SELECT A BANK FROM DEFINED LIST PROVIDED\",\"\")),\"\")","v":""},"No Entry",0]
[null,null,null,null,null,null,null,null,null,null,null,null,"",{"$f":"IF(D1084=\"Cash and Deposits\",IF(E1084=\"\",\"BANK NAME REQUIRED\",IF(ISERROR(VLOOKUP(E1084,'Reference Data'!C:C,1,FALSE)),\"PLEASE SELECT A BANK FROM DEFINED LIST PROVIDED\",\"\")),\"\")","v":""},"No Entry",0]
[null,null,null,null,null,null,null,null,null,null,null,null,"",{"$f":"IF(D1085=\"Cash and Deposits\",IF(E1085=\"\",\"BANK NAME REQUIRED\",IF(ISERROR(VLOOKUP(E1085,'Reference Data'!C:C,1,FALSE)),\"PLEASE SELECT A BANK FROM DEFINED LIST PROVIDED\",\"\")),\"\")","v":""},"No Entry",0]
[null,null,null,null,null,null,null,null,null,null,null,null,"",{"$f":"IF(D1086=\"Cash and Deposits\",IF(E1086=\"\",\"BANK NAME REQUIRED\",IF(ISERROR(VLOOKUP(E1086,'Reference Data'!C:C,1,FALSE)),\"PLEASE SELECT A BANK FROM DEFINED LIST PROVIDED\",\"\")),\"\")","v":""},"No Entry",0]
[null,null,null,null,null,null,null,null,null,null,null,null,"",{"$f":"IF(D1087=\"Cash and Deposits\",IF(E1087=\"\",\"BANK NAME REQUIRED\",IF(ISERROR(VLOOKUP(E1087,'Reference Data'!C:C,1,FALSE)),\"PLEASE SELECT A BANK FROM DEFINED LIST PROVIDED\",\"\")),\"\")","v":""},"No Entry",0]
[null,null,null,null,null,null,null,null,null,null,null,null,"",{"$f":"IF(D1088=\"Cash and Deposits\",IF(E1088=\"\",\"BANK NAME REQUIRED\",IF(ISERROR(VLOOKUP(E1088,'Reference Data'!C:C,1,FALSE)),\"PLEASE SELECT A BANK FROM DEFINED LIST PROVIDED\",\"\")),\"\")","v":""},"No Entry",0]
[null,null,null,null,null,null,null,null,null,null,null,null,"",{"$f":"IF(D1089=\"Cash and Deposits\",IF(E1089=\"\",\"BANK NAME REQUIRED\",IF(ISERROR(VLOOKUP(E1089,'Reference Data'!C:C,1,FALSE)),\"PLEASE SELECT A BANK FROM DEFINED LIST PROVIDED\",\"\")),\"\")","v":""},"No Entry",0]
[null,null,null,null,null,null,null,null,null,null,null,null,"",{"$f":"IF(D1090=\"Cash and Deposits\",IF(E1090=\"\",\"BANK NAME REQUIRED\",IF(ISERROR(VLOOKUP(E1090,'Reference Data'!C:C,1,FALSE)),\"PLEASE SELECT A BANK FROM DEFINED LIST PROVIDED\",\"\")),\"\")","v":""},"No Entry",0]
[null,null,null,null,null,null,null,null,null,null,null,null,"",{"$f":"IF(D1091=\"Cash and Deposits\",IF(E1091=\"\",\"BANK NAME REQUIRED\",IF(ISERROR(VLOOKUP(E1091,'Reference Data'!C:C,1,FALSE)),\"PLEASE SELECT A BANK FROM DEFINED LIST PROVIDED\",\"\")),\"\")","v":""},"No Entry",0]
[null,null,null,null,null,null,null,null,null,null,null,null,"",{"$f":"IF(D1092=\"Cash and Deposits\",IF(E1092=\"\",\"BANK NAME REQUIRED\",IF(ISERROR(VLOOKUP(E1092,'Reference Data'!C:C,1,FALSE)),\"PLEASE SELECT A BANK FROM DEFINED LIST PROVIDED\",\"\")),\"\")","v":""},"No Entry",0]
[null,null,null,null,null,null,null,null,null,null,null,null,{"$f":"IF(K1093<>0,IF(B1093=\"\",\"ID CODE REQUIRED\",\"\"),\"\")","v":""},{"$f":"IF(D1093=\"Cash and Deposits\",IF(E1093=\"\",\"BANK NAME REQUIRED\",IF(ISERROR(VLOOKUP(E1093,'Reference Data'!C:C,1,FALSE)),\"PLEASE SELECT A BANK FROM DEFINED LIST PROVIDED\",\"\")),\"\")","v":""},{"$f":"IF(K1093=0,\"No Entry\",\"\")","v":"No Entry"},{"$f":"IF(K1093<>0,IF(A1093=\"\",1,0),0)","v":0}]
[null,null,null,null,null,null,null,null,null,null,null,null,"",{"$f":"IF(D1094=\"Cash and Deposits\",IF(E1094=\"\",\"BANK NAME REQUIRED\",IF(ISERROR(VLOOKUP(E1094,'Reference Data'!C:C,1,FALSE)),\"PLEASE SELECT A BANK FROM DEFINED LIST PROVIDED\",\"\")),\"\")","v":""},"No Entry",0]
[null,null,null,null,null,null,null,null,null,null,null,null,"",{"$f":"IF(D1095=\"Cash and Deposits\",IF(E1095=\"\",\"BANK NAME REQUIRED\",IF(ISERROR(VLOOKUP(E1095,'Reference Data'!C:C,1,FALSE)),\"PLEASE SELECT A BANK FROM DEFINED LIST PROVIDED\",\"\")),\"\")","v":""},"No Entry",0]
[null,null,null,null,null,null,null,null,null,null,null,null,"",{"$f":"IF(D1096=\"Cash and Deposits\",IF(E1096=\"\",\"BANK NAME REQUIRED\",IF(ISERROR(VLOOKUP(E1096,'Reference Data'!C:C,1,FALSE)),\"PLEASE SELECT A BANK FROM DEFINED LIST PROVIDED\",\"\")),\"\")","v":""},"No Entry",0]
[null,null,null,null,null,null,null,null,null,null,null,null,"",{"$f":"IF(D1097=\"Cash and Deposits\",IF(E1097=\"\",\"BANK NAME REQUIRED\",IF(ISERROR(VLOOKUP(E1097,'Reference Data'!C:C,1,FALSE)),\"PLEASE SELECT A BANK FROM DEFINED LIST PROVIDED\",\"\")),\"\")","v":""},"No Entry",0]
[null,null,null,null,null,null,null,null,null,null,null,null,"",{"$f":"IF(D1098=\"Cash and Deposits\",IF(E1098=\"\",\"BANK NAME REQUIRED\",IF(ISERROR(VLOOKUP(E1098,'Reference Data'!C:C,1,FALSE)),\"PLEASE SELECT A BANK FROM DEFINED LIST PROVIDED\",\"\")),\"\")","v":""},"No Entry",0]
[null,null,null,null,null,null,null,null,null,null,null,null,"",{"$f":"IF(D1099=\"Cash and Deposits\",IF(E1099=\"\",\"BANK NAME REQUIRED\",IF(ISERROR(VLOOKUP(E1099,'Reference Data'!C:C,1,FALSE)),\"PLEASE SELECT A BANK FROM DEFINED LIST PROVIDED\",\"\")),\"\")","v":""},"No Entry",0]
[null,null,null,null,null,null,null,null,null,null,null,null,"",{"$f":"IF(D1100=\"Cash and Deposits\",IF(E1100=\"\",\"BANK NAME REQUIRED\",IF(ISERROR(VLOOKUP(E1100,'Reference Data'!C:C,1,FALSE)),\"PLEASE SELECT A BANK FROM DEFINED LIST PROVIDED\",\"\")),\"\")","v":""},"No Entry",0]
[null,null,null,null,null,null,null,null,null,null,null,null,"",{"$f":"IF(D1101=\"Cash and Deposits\",IF(E1101=\"\",\"BANK NAME REQUIRED\",IF(ISERROR(VLOOKUP(E1101,'Reference Data'!C:C,1,FALSE)),\"PLEASE SELECT A BANK FROM DEFINED LIST PROVIDED\",\"\")),\"\")","v":""},"No Entry",0]
[null,null,null,null,null,null,null,null,null,null,null,null,"",{"$f":"IF(D1102=\"Cash and Deposits\",IF(E1102=\"\",\"BANK NAME REQUIRED\",IF(ISERROR(VLOOKUP(E1102,'Reference Data'!C:C,1,FALSE)),\"PLEASE SELECT A BANK FROM DEFINED LIST PROVIDED\",\"\")),\"\")","v":""},"No Entry",0]
[null,null,null,null,null,null,null,null,null,null,null,null,"",{"$f":"IF(D1103=\"Cash and Deposits\",IF(E1103=\"\",\"BANK NAME REQUIRED\",IF(ISERROR(VLOOKUP(E1103,'Reference Data'!C:C,1,FALSE)),\"PLEASE SELECT A BANK FROM DEFINED LIST PROVIDED\",\"\")),\"\")","v":""},"No Entry",0]
[null,null,null,null,null,null,null,null,null,null,null,null,"",{"$f":"IF(D1104=\"Cash and Deposits\",IF(E1104=\"\",\"BANK NAME REQUIRED\",IF(ISERROR(VLOOKUP(E1104,'Reference Data'!C:C,1,FALSE)),\"PLEASE SELECT A BANK FROM DEFINED LIST PROVIDED\",\"\")),\"\")","v":""},"No Entry",0]
[null,null,null,null,null,null,null,null,null,null,null,null,"",{"$f":"IF(D1105=\"Cash and Deposits\",IF(E1105=\"\",\"BANK NAME REQUIRED\",IF(ISERROR(VLOOKUP(E1105,'Reference Data'!C:C,1,FALSE)),\"PLEASE SELECT A BANK FROM DEFINED LIST PROVIDED\",\"\")),\"\")","v":""},"No Entry",0]
[null,null,null,null,null,null,null,null,null,null,null,null,"",{"$f":"IF(D1106=\"Cash and Deposits\",IF(E1106=\"\",\"BANK NAME REQUIRED\",IF(ISERROR(VLOOKUP(E1106,'Reference Data'!C:C,1,FALSE)),\"PLEASE SELECT A BANK FROM DEFINED LIST PROVIDED\",\"\")),\"\")","v":""},"No Entry",0]
[null,null,null,null,null,null,null,null,null,null,null,null,"",{"$f":"IF(D1107=\"Cash and Deposits\",IF(E1107=\"\",\"BANK NAME REQUIRED\",IF(ISERROR(VLOOKUP(E1107,'Reference Data'!C:C,1,FALSE)),\"PLEASE SELECT A BANK FROM DEFINED LIST PROVIDED\",\"\")),\"\")","v":""},"No Entry",0]
[null,null,null,null,null,null,null,null,null,null,null,null,"",{"$f":"IF(D1108=\"Cash and Deposits\",IF(E1108=\"\",\"BANK NAME REQUIRED\",IF(ISERROR(VLOOKUP(E1108,'Reference Data'!C:C,1,FALSE)),\"PLEASE SELECT A BANK FROM DEFINED LIST PROVIDED\",\"\")),\"\")","v":""},"No Entry",0]
[null,null,null,null,null,null,null,null,null,null,null,null,"",{"$f":"IF(D1109=\"Cash and Deposits\",IF(E1109=\"\",\"BANK NAME REQUIRED\",IF(ISERROR(VLOOKUP(E1109,'Reference Data'!C:C,1,FALSE)),\"PLEASE SELECT A BANK FROM DEFINED LIST PROVIDED\",\"\")),\"\")","v":""},"No Entry",0]
[null,null,null,null,null,null,null,null,null,null,null,null,"",{"$f":"IF(D1110=\"Cash and Deposits\",IF(E1110=\"\",\"BANK NAME REQUIRED\",IF(ISERROR(VLOOKUP(E1110,'Reference Data'!C:C,1,FALSE)),\"PLEASE SELECT A BANK FROM DEFINED LIST PROVIDED\",\"\")),\"\")","v":""},"No Entry",0]
[null,null,null,null,null,null,null,null,null,null,null,null,"",{"$f":"IF(D1111=\"Cash and Deposits\",IF(E1111=\"\",\"BANK NAME REQUIRED\",IF(ISERROR(VLOOKUP(E1111,'Reference Data'!C:C,1,FALSE)),\"PLEASE SELECT A BANK FROM DEFINED LIST PROVIDED\",\"\")),\"\")","v":""},"No Entry",0]
[null,null,null,null,null,null,null,null,null,null,null,null,"",{"$f":"IF(D1112=\"Cash and Deposits\",IF(E1112=\"\",\"BANK NAME REQUIRED\",IF(ISERROR(VLOOKUP(E1112,'Reference Data'!C:C,1,FALSE)),\"PLEASE SELECT A BANK FROM DEFINED LIST PROVIDED\",\"\")),\"\")","v":""},"No Entry",0]
[null,null,null,null,null,null,null,null,null,null,null,null,"",{"$f":"IF(D1113=\"Cash and Deposits\",IF(E1113=\"\",\"BANK NAME REQUIRED\",IF(ISERROR(VLOOKUP(E1113,'Reference Data'!C:C,1,FALSE)),\"PLEASE SELECT A BANK FROM DEFINED LIST PROVIDED\",\"\")),\"\")","v":""},"No Entry",0]
[null,null,null,null,null,null,null,null,null,null,null,null,"",{"$f":"IF(D1114=\"Cash and Deposits\",IF(E1114=\"\",\"BANK NAME REQUIRED\",IF(ISERROR(VLOOKUP(E1114,'Reference Data'!C:C,1,FALSE)),\"PLEASE SELECT A BANK FROM DEFINED LIST PROVIDED\",\"\")),\"\")","v":""},"No Entry",0]
[null,null,null,null,null,null,null,null,null,null,null,null,"",{"$f":"IF(D1115=\"Cash and Deposits\",IF(E1115=\"\",\"BANK NAME REQUIRED\",IF(ISERROR(VLOOKUP(E1115,'Reference Data'!C:C,1,FALSE)),\"PLEASE SELECT A BANK FROM DEFINED LIST PROVIDED\",\"\")),\"\")","v":""},"No Entry",0]
[null,null,null,null,null,null,null,null,null,null,null,null,"",{"$f":"IF(D1116=\"Cash and Deposits\",IF(E1116=\"\",\"BANK NAME REQUIRED\",IF(ISERROR(VLOOKUP(E1116,'Reference Data'!C:C,1,FALSE)),\"PLEASE SELECT A BANK FROM DEFINED LIST PROVIDED\",\"\")),\"\")","v":""},"No Entry",0]
[null,null,null,null,null,null,null,null,null,null,null,null,"",{"$f":"IF(D1117=\"Cash and Deposits\",IF(E1117=\"\",\"BANK NAME REQUIRED\",IF(ISERROR(VLOOKUP(E1117,'Reference Data'!C:C,1,FALSE)),\"PLEASE SELECT A BANK FROM DEFINED LIST PROVIDED\",\"\")),\"\")","v":""},"No Entry",0]
[null,null,null,null,null,null,null,null,null,null,null,null,"",{"$f":"IF(D1118=\"Cash and Deposits\",IF(E1118=\"\",\"BANK NAME REQUIRED\",IF(ISERROR(VLOOKUP(E1118,'Reference Data'!C:C,1,FALSE)),\"PLEASE SELECT A BANK FROM DEFINED LIST PROVIDED\",\"\")),\"\")","v":""},"No Entry",0]
[null,null,null,null,null,null,null,null,null,null,null,null,"",{"$f":"IF(D1119=\"Cash and Deposits\",IF(E1119=\"\",\"BANK NAME REQUIRED\",IF(ISERROR(VLOOKUP(E1119,'Reference Data'!C:C,1,FALSE)),\"PLEASE SELECT A BANK FROM DEFINED LIST PROVIDED\",\"\")),\"\")","v":""},"No Entry",0]
[null,null,null,null,null,null,null,null,null,null,null,null,"",{"$f":"IF(D1120=\"Cash and Deposits\",IF(E1120=\"\",\"BANK NAME REQUIRED\",IF(ISERROR(VLOOKUP(E1120,'Reference Data'!C:C,1,FALSE)),\"PLEASE SELECT A BANK FROM DEFINED LIST PROVIDED\",\"\")),\"\")","v":""},"No Entry",0]
[null,null,null,null,null,null,null,null,null,null,null,null,"",{"$f":"IF(D1121=\"Cash and Deposits\",IF(E1121=\"\",\"BANK NAME REQUIRED\",IF(ISERROR(VLOOKUP(E1121,'Reference Data'!C:C,1,FALSE)),\"PLEASE SELECT A BANK FROM DEFINED LIST PROVIDED\",\"\")),\"\")","v":""},"No Entry",0]
[null,null,null,null,null,null,null,null,null,null,null,null,"",{"$f":"IF(D1122=\"Cash and Deposits\",IF(E1122=\"\",\"BANK NAME REQUIRED\",IF(ISERROR(VLOOKUP(E1122,'Reference Data'!C:C,1,FALSE)),\"PLEASE SELECT A BANK FROM DEFINED LIST PROVIDED\",\"\")),\"\")","v":""},"No Entry",0]
[null,null,null,null,null,null,null,null,null,null,null,null,"",{"$f":"IF(D1123=\"Cash and Deposits\",IF(E1123=\"\",\"BANK NAME REQUIRED\",IF(ISERROR(VLOOKUP(E1123,'Reference Data'!C:C,1,FALSE)),\"PLEASE SELECT A BANK FROM DEFINED LIST PROVIDED\",\"\")),\"\")","v":""},"No Entry",0]
[null,null,null,null,null,null,null,null,null,null,null,null,"",{"$f":"IF(D1124=\"Cash and Deposits\",IF(E1124=\"\",\"BANK NAME REQUIRED\",IF(ISERROR(VLOOKUP(E1124,'Reference Data'!C:C,1,FALSE)),\"PLEASE SELECT A BANK FROM DEFINED LIST PROVIDED\",\"\")),\"\")","v":""},"No Entry",0]
[null,null,null,null,null,null,null,null,null,null,null,null,"",{"$f":"IF(D1125=\"Cash and Deposits\",IF(E1125=\"\",\"BANK NAME REQUIRED\",IF(ISERROR(VLOOKUP(E1125,'Reference Data'!C:C,1,FALSE)),\"PLEASE SELECT A BANK FROM DEFINED LIST PROVIDED\",\"\")),\"\")","v":""},"No Entry",0]
[null,null,null,null,null,null,null,null,null,null,null,null,"",{"$f":"IF(D1126=\"Cash and Deposits\",IF(E1126=\"\",\"BANK NAME REQUIRED\",IF(ISERROR(VLOOKUP(E1126,'Reference Data'!C:C,1,FALSE)),\"PLEASE SELECT A BANK FROM DEFINED LIST PROVIDED\",\"\")),\"\")","v":""},"No Entry",0]
[null,null,null,null,null,null,null,null,null,null,null,null,"",{"$f":"IF(D1127=\"Cash and Deposits\",IF(E1127=\"\",\"BANK NAME REQUIRED\",IF(ISERROR(VLOOKUP(E1127,'Reference Data'!C:C,1,FALSE)),\"PLEASE SELECT A BANK FROM DEFINED LIST PROVIDED\",\"\")),\"\")","v":""},"No Entry",0]
[null,null,null,null,null,null,null,null,null,null,null,null,"",{"$f":"IF(D1128=\"Cash and Deposits\",IF(E1128=\"\",\"BANK NAME REQUIRED\",IF(ISERROR(VLOOKUP(E1128,'Reference Data'!C:C,1,FALSE)),\"PLEASE SELECT A BANK FROM DEFINED LIST PROVIDED\",\"\")),\"\")","v":""},"No Entry",0]
[null,null,null,null,null,null,null,null,null,null,null,null,"",{"$f":"IF(D1129=\"Cash and Deposits\",IF(E1129=\"\",\"BANK NAME REQUIRED\",IF(ISERROR(VLOOKUP(E1129,'Reference Data'!C:C,1,FALSE)),\"PLEASE SELECT A BANK FROM DEFINED LIST PROVIDED\",\"\")),\"\")","v":""},"No Entry",0]
[null,null,null,null,null,null,null,null,null,null,null,null,"",{"$f":"IF(D1130=\"Cash and Deposits\",IF(E1130=\"\",\"BANK NAME REQUIRED\",IF(ISERROR(VLOOKUP(E1130,'Reference Data'!C:C,1,FALSE)),\"PLEASE SELECT A BANK FROM DEFINED LIST PROVIDED\",\"\")),\"\")","v":""},"No Entry",0]
[null,null,null,null,null,null,null,null,null,null,null,null,"",{"$f":"IF(D1131=\"Cash and Deposits\",IF(E1131=\"\",\"BANK NAME REQUIRED\",IF(ISERROR(VLOOKUP(E1131,'Reference Data'!C:C,1,FALSE)),\"PLEASE SELECT A BANK FROM DEFINED LIST PROVIDED\",\"\")),\"\")","v":""},"No Entry",0]
[null,null,null,null,null,null,null,null,null,null,null,null,"",{"$f":"IF(D1132=\"Cash and Deposits\",IF(E1132=\"\",\"BANK NAME REQUIRED\",IF(ISERROR(VLOOKUP(E1132,'Reference Data'!C:C,1,FALSE)),\"PLEASE SELECT A BANK FROM DEFINED LIST PROVIDED\",\"\")),\"\")","v":""},"No Entry",0]
[null,null,null,null,null,null,null,null,null,null,null,null,"",{"$f":"IF(D1133=\"Cash and Deposits\",IF(E1133=\"\",\"BANK NAME REQUIRED\",IF(ISERROR(VLOOKUP(E1133,'Reference Data'!C:C,1,FALSE)),\"PLEASE SELECT A BANK FROM DEFINED LIST PROVIDED\",\"\")),\"\")","v":""},"No Entry",0]
[null,null,null,null,null,null,null,null,null,null,null,null,"",{"$f":"IF(D1134=\"Cash and Deposits\",IF(E1134=\"\",\"BANK NAME REQUIRED\",IF(ISERROR(VLOOKUP(E1134,'Reference Data'!C:C,1,FALSE)),\"PLEASE SELECT A BANK FROM DEFINED LIST PROVIDED\",\"\")),\"\")","v":""},"No Entry",0]
[null,null,null,null,null,null,null,null,null,null,null,null,"",{"$f":"IF(D1135=\"Cash and Deposits\",IF(E1135=\"\",\"BANK NAME REQUIRED\",IF(ISERROR(VLOOKUP(E1135,'Reference Data'!C:C,1,FALSE)),\"PLEASE SELECT A BANK FROM DEFINED LIST PROVIDED\",\"\")),\"\")","v":""},"No Entry",0]
[null,null,null,null,null,null,null,null,null,null,null,null,"",{"$f":"IF(D1136=\"Cash and Deposits\",IF(E1136=\"\",\"BANK NAME REQUIRED\",IF(ISERROR(VLOOKUP(E1136,'Reference Data'!C:C,1,FALSE)),\"PLEASE SELECT A BANK FROM DEFINED LIST PROVIDED\",\"\")),\"\")","v":""},"No Entry",0]
[null,null,null,null,null,null,null,null,null,null,null,null,"",{"$f":"IF(D1137=\"Cash and Deposits\",IF(E1137=\"\",\"BANK NAME REQUIRED\",IF(ISERROR(VLOOKUP(E1137,'Reference Data'!C:C,1,FALSE)),\"PLEASE SELECT A BANK FROM DEFINED LIST PROVIDED\",\"\")),\"\")","v":""},"No Entry",0]
[null,null,null,null,null,null,null,null,null,null,null,null,"",{"$f":"IF(D1138=\"Cash and Deposits\",IF(E1138=\"\",\"BANK NAME REQUIRED\",IF(ISERROR(VLOOKUP(E1138,'Reference Data'!C:C,1,FALSE)),\"PLEASE SELECT A BANK FROM DEFINED LIST PROVIDED\",\"\")),\"\")","v":""},"No Entry",0]
[null,null,null,null,null,null,null,null,null,null,null,null,"",{"$f":"IF(D1139=\"Cash and Deposits\",IF(E1139=\"\",\"BANK NAME REQUIRED\",IF(ISERROR(VLOOKUP(E1139,'Reference Data'!C:C,1,FALSE)),\"PLEASE SELECT A BANK FROM DEFINED LIST PROVIDED\",\"\")),\"\")","v":""},"No Entry",0]
[null,null,null,null,null,null,null,null,null,null,null,null,"",{"$f":"IF(D1140=\"Cash and Deposits\",IF(E1140=\"\",\"BANK NAME REQUIRED\",IF(ISERROR(VLOOKUP(E1140,'Reference Data'!C:C,1,FALSE)),\"PLEASE SELECT A BANK FROM DEFINED LIST PROVIDED\",\"\")),\"\")","v":""},"No Entry",0]
[null,null,null,null,null,null,null,null,null,null,null,null,"",{"$f":"IF(D1141=\"Cash and Deposits\",IF(E1141=\"\",\"BANK NAME REQUIRED\",IF(ISERROR(VLOOKUP(E1141,'Reference Data'!C:C,1,FALSE)),\"PLEASE SELECT A BANK FROM DEFINED LIST PROVIDED\",\"\")),\"\")","v":""},"No Entry",0]
[null,null,null,null,null,null,null,null,null,null,null,null,"",{"$f":"IF(D1142=\"Cash and Deposits\",IF(E1142=\"\",\"BANK NAME REQUIRED\",IF(ISERROR(VLOOKUP(E1142,'Reference Data'!C:C,1,FALSE)),\"PLEASE SELECT A BANK FROM DEFINED LIST PROVIDED\",\"\")),\"\")","v":""},"No Entry",0]
[null,null,null,null,null,null,null,null,null,null,null,null,"",{"$f":"IF(D1143=\"Cash and Deposits\",IF(E1143=\"\",\"BANK NAME REQUIRED\",IF(ISERROR(VLOOKUP(E1143,'Reference Data'!C:C,1,FALSE)),\"PLEASE SELECT A BANK FROM DEFINED LIST PROVIDED\",\"\")),\"\")","v":""},"No Entry",0]
[null,null,null,null,null,null,null,null,null,null,null,null,"",{"$f":"IF(D1144=\"Cash and Deposits\",IF(E1144=\"\",\"BANK NAME REQUIRED\",IF(ISERROR(VLOOKUP(E1144,'Reference Data'!C:C,1,FALSE)),\"PLEASE SELECT A BANK FROM DEFINED LIST PROVIDED\",\"\")),\"\")","v":""},"No Entry",0]
[null,null,null,null,null,null,null,null,null,null,null,null,"",{"$f":"IF(D1145=\"Cash and Deposits\",IF(E1145=\"\",\"BANK NAME REQUIRED\",IF(ISERROR(VLOOKUP(E1145,'Reference Data'!C:C,1,FALSE)),\"PLEASE SELECT A BANK FROM DEFINED LIST PROVIDED\",\"\")),\"\")","v":""},"No Entry",0]
[null,null,null,null,null,null,null,null,null,null,null,null,"",{"$f":"IF(D1146=\"Cash and Deposits\",IF(E1146=\"\",\"BANK NAME REQUIRED\",IF(ISERROR(VLOOKUP(E1146,'Reference Data'!C:C,1,FALSE)),\"PLEASE SELECT A BANK FROM DEFINED LIST PROVIDED\",\"\")),\"\")","v":""},"No Entry",0]
[null,null,null,null,null,null,null,null,null,null,null,null,"",{"$f":"IF(D1147=\"Cash and Deposits\",IF(E1147=\"\",\"BANK NAME REQUIRED\",IF(ISERROR(VLOOKUP(E1147,'Reference Data'!C:C,1,FALSE)),\"PLEASE SELECT A BANK FROM DEFINED LIST PROVIDED\",\"\")),\"\")","v":""},"No Entry",0]
[null,null,null,null,null,null,null,null,null,null,null,null,"",{"$f":"IF(D1148=\"Cash and Deposits\",IF(E1148=\"\",\"BANK NAME REQUIRED\",IF(ISERROR(VLOOKUP(E1148,'Reference Data'!C:C,1,FALSE)),\"PLEASE SELECT A BANK FROM DEFINED LIST PROVIDED\",\"\")),\"\")","v":""},"No Entry",0]
[null,null,null,null,null,null,null,null,null,null,null,null,"",{"$f":"IF(D1149=\"Cash and Deposits\",IF(E1149=\"\",\"BANK NAME REQUIRED\",IF(ISERROR(VLOOKUP(E1149,'Reference Data'!C:C,1,FALSE)),\"PLEASE SELECT A BANK FROM DEFINED LIST PROVIDED\",\"\")),\"\")","v":""},"No Entry",0]
[null,null,null,null,null,null,null,null,null,null,null,null,"",{"$f":"IF(D1150=\"Cash and Deposits\",IF(E1150=\"\",\"BANK NAME REQUIRED\",IF(ISERROR(VLOOKUP(E1150,'Reference Data'!C:C,1,FALSE)),\"PLEASE SELECT A BANK FROM DEFINED LIST PROVIDED\",\"\")),\"\")","v":""},"No Entry",0]
[null,null,null,null,null,null,null,null,null,null,null,null,"",{"$f":"IF(D1151=\"Cash and Deposits\",IF(E1151=\"\",\"BANK NAME REQUIRED\",IF(ISERROR(VLOOKUP(E1151,'Reference Data'!C:C,1,FALSE)),\"PLEASE SELECT A BANK FROM DEFINED LIST PROVIDED\",\"\")),\"\")","v":""},"No Entry",0]
[null,null,null,null,null,null,null,null,null,null,null,null,"",{"$f":"IF(D1152=\"Cash and Deposits\",IF(E1152=\"\",\"BANK NAME REQUIRED\",IF(ISERROR(VLOOKUP(E1152,'Reference Data'!C:C,1,FALSE)),\"PLEASE SELECT A BANK FROM DEFINED LIST PROVIDED\",\"\")),\"\")","v":""},"No Entry",0]
[null,null,null,null,null,null,null,null,null,null,null,null,"",{"$f":"IF(D1153=\"Cash and Deposits\",IF(E1153=\"\",\"BANK NAME REQUIRED\",IF(ISERROR(VLOOKUP(E1153,'Reference Data'!C:C,1,FALSE)),\"PLEASE SELECT A BANK FROM DEFINED LIST PROVIDED\",\"\")),\"\")","v":""},"No Entry",0]
[null,null,null,null,null,null,null,null,null,null,null,null,"",{"$f":"IF(D1154=\"Cash and Deposits\",IF(E1154=\"\",\"BANK NAME REQUIRED\",IF(ISERROR(VLOOKUP(E1154,'Reference Data'!C:C,1,FALSE)),\"PLEASE SELECT A BANK FROM DEFINED LIST PROVIDED\",\"\")),\"\")","v":""},"No Entry",0]
[null,null,null,null,null,null,null,null,null,null,null,null,"",{"$f":"IF(D1155=\"Cash and Deposits\",IF(E1155=\"\",\"BANK NAME REQUIRED\",IF(ISERROR(VLOOKUP(E1155,'Reference Data'!C:C,1,FALSE)),\"PLEASE SELECT A BANK FROM DEFINED LIST PROVIDED\",\"\")),\"\")","v":""},"No Entry",0]
[null,null,null,null,null,null,null,null,null,null,null,null,"",{"$f":"IF(D1156=\"Cash and Deposits\",IF(E1156=\"\",\"BANK NAME REQUIRED\",IF(ISERROR(VLOOKUP(E1156,'Reference Data'!C:C,1,FALSE)),\"PLEASE SELECT A BANK FROM DEFINED LIST PROVIDED\",\"\")),\"\")","v":""},"No Entry",0]
[null,null,null,null,null,null,null,null,null,null,null,null,{"$f":"IF(K1157<>0,IF(B1157=\"\",\"ID CODE REQUIRED\",\"\"),\"\")","v":""},{"$f":"IF(D1157=\"Cash and Deposits\",IF(E1157=\"\",\"BANK NAME REQUIRED\",IF(ISERROR(VLOOKUP(E1157,'Reference Data'!C:C,1,FALSE)),\"PLEASE SELECT A BANK FROM DEFINED LIST PROVIDED\",\"\")),\"\")","v":""},{"$f":"IF(K1157=0,\"No Entry\",\"\")","v":"No Entry"},{"$f":"IF(K1157<>0,IF(A1157=\"\",1,0),0)","v":0}]
[null,null,null,null,null,null,null,null,null,null,null,null,"",{"$f":"IF(D1158=\"Cash and Deposits\",IF(E1158=\"\",\"BANK NAME REQUIRED\",IF(ISERROR(VLOOKUP(E1158,'Reference Data'!C:C,1,FALSE)),\"PLEASE SELECT A BANK FROM DEFINED LIST PROVIDED\",\"\")),\"\")","v":""},"No Entry",0]
[null,null,null,null,null,null,null,null,null,null,null,null,"",{"$f":"IF(D1159=\"Cash and Deposits\",IF(E1159=\"\",\"BANK NAME REQUIRED\",IF(ISERROR(VLOOKUP(E1159,'Reference Data'!C:C,1,FALSE)),\"PLEASE SELECT A BANK FROM DEFINED LIST PROVIDED\",\"\")),\"\")","v":""},"No Entry",0]
[null,null,null,null,null,null,null,null,null,null,null,null,"",{"$f":"IF(D1160=\"Cash and Deposits\",IF(E1160=\"\",\"BANK NAME REQUIRED\",IF(ISERROR(VLOOKUP(E1160,'Reference Data'!C:C,1,FALSE)),\"PLEASE SELECT A BANK FROM DEFINED LIST PROVIDED\",\"\")),\"\")","v":""},"No Entry",0]
[null,null,null,null,null,null,null,null,null,null,null,null,"",{"$f":"IF(D1161=\"Cash and Deposits\",IF(E1161=\"\",\"BANK NAME REQUIRED\",IF(ISERROR(VLOOKUP(E1161,'Reference Data'!C:C,1,FALSE)),\"PLEASE SELECT A BANK FROM DEFINED LIST PROVIDED\",\"\")),\"\")","v":""},"No Entry",0]
[null,null,null,null,null,null,null,null,null,null,null,null,"",{"$f":"IF(D1162=\"Cash and Deposits\",IF(E1162=\"\",\"BANK NAME REQUIRED\",IF(ISERROR(VLOOKUP(E1162,'Reference Data'!C:C,1,FALSE)),\"PLEASE SELECT A BANK FROM DEFINED LIST PROVIDED\",\"\")),\"\")","v":""},"No Entry",0]
[null,null,null,null,null,null,null,null,null,null,null,null,"",{"$f":"IF(D1163=\"Cash and Deposits\",IF(E1163=\"\",\"BANK NAME REQUIRED\",IF(ISERROR(VLOOKUP(E1163,'Reference Data'!C:C,1,FALSE)),\"PLEASE SELECT A BANK FROM DEFINED LIST PROVIDED\",\"\")),\"\")","v":""},"No Entry",0]
[null,null,null,null,null,null,null,null,null,null,null,null,"",{"$f":"IF(D1164=\"Cash and Deposits\",IF(E1164=\"\",\"BANK NAME REQUIRED\",IF(ISERROR(VLOOKUP(E1164,'Reference Data'!C:C,1,FALSE)),\"PLEASE SELECT A BANK FROM DEFINED LIST PROVIDED\",\"\")),\"\")","v":""},"No Entry",0]
[null,null,null,null,null,null,null,null,null,null,null,null,"",{"$f":"IF(D1165=\"Cash and Deposits\",IF(E1165=\"\",\"BANK NAME REQUIRED\",IF(ISERROR(VLOOKUP(E1165,'Reference Data'!C:C,1,FALSE)),\"PLEASE SELECT A BANK FROM DEFINED LIST PROVIDED\",\"\")),\"\")","v":""},"No Entry",0]
[null,null,null,null,null,null,null,null,null,null,null,null,"",{"$f":"IF(D1166=\"Cash and Deposits\",IF(E1166=\"\",\"BANK NAME REQUIRED\",IF(ISERROR(VLOOKUP(E1166,'Reference Data'!C:C,1,FALSE)),\"PLEASE SELECT A BANK FROM DEFINED LIST PROVIDED\",\"\")),\"\")","v":""},"No Entry",0]
[null,null,null,null,null,null,null,null,null,null,null,null,"",{"$f":"IF(D1167=\"Cash and Deposits\",IF(E1167=\"\",\"BANK NAME REQUIRED\",IF(ISERROR(VLOOKUP(E1167,'Reference Data'!C:C,1,FALSE)),\"PLEASE SELECT A BANK FROM DEFINED LIST PROVIDED\",\"\")),\"\")","v":""},"No Entry",0]
[null,null,null,null,null,null,null,null,null,null,null,null,"",{"$f":"IF(D1168=\"Cash and Deposits\",IF(E1168=\"\",\"BANK NAME REQUIRED\",IF(ISERROR(VLOOKUP(E1168,'Reference Data'!C:C,1,FALSE)),\"PLEASE SELECT A BANK FROM DEFINED LIST PROVIDED\",\"\")),\"\")","v":""},"No Entry",0]
[null,null,null,null,null,null,null,null,null,null,null,null,"",{"$f":"IF(D1169=\"Cash and Deposits\",IF(E1169=\"\",\"BANK NAME REQUIRED\",IF(ISERROR(VLOOKUP(E1169,'Reference Data'!C:C,1,FALSE)),\"PLEASE SELECT A BANK FROM DEFINED LIST PROVIDED\",\"\")),\"\")","v":""},"No Entry",0]
[null,null,null,null,null,null,null,null,null,null,null,null,"",{"$f":"IF(D1170=\"Cash and Deposits\",IF(E1170=\"\",\"BANK NAME REQUIRED\",IF(ISERROR(VLOOKUP(E1170,'Reference Data'!C:C,1,FALSE)),\"PLEASE SELECT A BANK FROM DEFINED LIST PROVIDED\",\"\")),\"\")","v":""},"No Entry",0]
[null,null,null,null,null,null,null,null,null,null,null,null,"",{"$f":"IF(D1171=\"Cash and Deposits\",IF(E1171=\"\",\"BANK NAME REQUIRED\",IF(ISERROR(VLOOKUP(E1171,'Reference Data'!C:C,1,FALSE)),\"PLEASE SELECT A BANK FROM DEFINED LIST PROVIDED\",\"\")),\"\")","v":""},"No Entry",0]
[null,null,null,null,null,null,null,null,null,null,null,null,"",{"$f":"IF(D1172=\"Cash and Deposits\",IF(E1172=\"\",\"BANK NAME REQUIRED\",IF(ISERROR(VLOOKUP(E1172,'Reference Data'!C:C,1,FALSE)),\"PLEASE SELECT A BANK FROM DEFINED LIST PROVIDED\",\"\")),\"\")","v":""},"No Entry",0]
[null,null,null,null,null,null,null,null,null,null,null,null,"",{"$f":"IF(D1173=\"Cash and Deposits\",IF(E1173=\"\",\"BANK NAME REQUIRED\",IF(ISERROR(VLOOKUP(E1173,'Reference Data'!C:C,1,FALSE)),\"PLEASE SELECT A BANK FROM DEFINED LIST PROVIDED\",\"\")),\"\")","v":""},"No Entry",0]
[null,null,null,null,null,null,null,null,null,null,null,null,"",{"$f":"IF(D1174=\"Cash and Deposits\",IF(E1174=\"\",\"BANK NAME REQUIRED\",IF(ISERROR(VLOOKUP(E1174,'Reference Data'!C:C,1,FALSE)),\"PLEASE SELECT A BANK FROM DEFINED LIST PROVIDED\",\"\")),\"\")","v":""},"No Entry",0]
[null,null,null,null,null,null,null,null,null,null,null,null,"",{"$f":"IF(D1175=\"Cash and Deposits\",IF(E1175=\"\",\"BANK NAME REQUIRED\",IF(ISERROR(VLOOKUP(E1175,'Reference Data'!C:C,1,FALSE)),\"PLEASE SELECT A BANK FROM DEFINED LIST PROVIDED\",\"\")),\"\")","v":""},"No Entry",0]
[null,null,null,null,null,null,null,null,null,null,null,null,"",{"$f":"IF(D1176=\"Cash and Deposits\",IF(E1176=\"\",\"BANK NAME REQUIRED\",IF(ISERROR(VLOOKUP(E1176,'Reference Data'!C:C,1,FALSE)),\"PLEASE SELECT A BANK FROM DEFINED LIST PROVIDED\",\"\")),\"\")","v":""},"No Entry",0]
[null,null,null,null,null,null,null,null,null,null,null,null,"",{"$f":"IF(D1177=\"Cash and Deposits\",IF(E1177=\"\",\"BANK NAME REQUIRED\",IF(ISERROR(VLOOKUP(E1177,'Reference Data'!C:C,1,FALSE)),\"PLEASE SELECT A BANK FROM DEFINED LIST PROVIDED\",\"\")),\"\")","v":""},"No Entry",0]
[null,null,null,null,null,null,null,null,null,null,null,null,"",{"$f":"IF(D1178=\"Cash and Deposits\",IF(E1178=\"\",\"BANK NAME REQUIRED\",IF(ISERROR(VLOOKUP(E1178,'Reference Data'!C:C,1,FALSE)),\"PLEASE SELECT A BANK FROM DEFINED LIST PROVIDED\",\"\")),\"\")","v":""},"No Entry",0]
[null,null,null,null,null,null,null,null,null,null,null,null,"",{"$f":"IF(D1179=\"Cash and Deposits\",IF(E1179=\"\",\"BANK NAME REQUIRED\",IF(ISERROR(VLOOKUP(E1179,'Reference Data'!C:C,1,FALSE)),\"PLEASE SELECT A BANK FROM DEFINED LIST PROVIDED\",\"\")),\"\")","v":""},"No Entry",0]
[null,null,null,null,null,null,null,null,null,null,null,null,"",{"$f":"IF(D1180=\"Cash and Deposits\",IF(E1180=\"\",\"BANK NAME REQUIRED\",IF(ISERROR(VLOOKUP(E1180,'Reference Data'!C:C,1,FALSE)),\"PLEASE SELECT A BANK FROM DEFINED LIST PROVIDED\",\"\")),\"\")","v":""},"No Entry",0]
[null,null,null,null,null,null,null,null,null,null,null,null,"",{"$f":"IF(D1181=\"Cash and Deposits\",IF(E1181=\"\",\"BANK NAME REQUIRED\",IF(ISERROR(VLOOKUP(E1181,'Reference Data'!C:C,1,FALSE)),\"PLEASE SELECT A BANK FROM DEFINED LIST PROVIDED\",\"\")),\"\")","v":""},"No Entry",0]
[null,null,null,null,null,null,null,null,null,null,null,null,"",{"$f":"IF(D1182=\"Cash and Deposits\",IF(E1182=\"\",\"BANK NAME REQUIRED\",IF(ISERROR(VLOOKUP(E1182,'Reference Data'!C:C,1,FALSE)),\"PLEASE SELECT A BANK FROM DEFINED LIST PROVIDED\",\"\")),\"\")","v":""},"No Entry",0]
[null,null,null,null,null,null,null,null,null,null,null,null,"",{"$f":"IF(D1183=\"Cash and Deposits\",IF(E1183=\"\",\"BANK NAME REQUIRED\",IF(ISERROR(VLOOKUP(E1183,'Reference Data'!C:C,1,FALSE)),\"PLEASE SELECT A BANK FROM DEFINED LIST PROVIDED\",\"\")),\"\")","v":""},"No Entry",0]
[null,null,null,null,null,null,null,null,null,null,null,null,"",{"$f":"IF(D1184=\"Cash and Deposits\",IF(E1184=\"\",\"BANK NAME REQUIRED\",IF(ISERROR(VLOOKUP(E1184,'Reference Data'!C:C,1,FALSE)),\"PLEASE SELECT A BANK FROM DEFINED LIST PROVIDED\",\"\")),\"\")","v":""},"No Entry",0]
[null,null,null,null,null,null,null,null,null,null,null,null,"",{"$f":"IF(D1185=\"Cash and Deposits\",IF(E1185=\"\",\"BANK NAME REQUIRED\",IF(ISERROR(VLOOKUP(E1185,'Reference Data'!C:C,1,FALSE)),\"PLEASE SELECT A BANK FROM DEFINED LIST PROVIDED\",\"\")),\"\")","v":""},"No Entry",0]
[null,null,null,null,null,null,null,null,null,null,null,null,"",{"$f":"IF(D1186=\"Cash and Deposits\",IF(E1186=\"\",\"BANK NAME REQUIRED\",IF(ISERROR(VLOOKUP(E1186,'Reference Data'!C:C,1,FALSE)),\"PLEASE SELECT A BANK FROM DEFINED LIST PROVIDED\",\"\")),\"\")","v":""},"No Entry",0]
[null,null,null,null,null,null,null,null,null,null,null,null,"",{"$f":"IF(D1187=\"Cash and Deposits\",IF(E1187=\"\",\"BANK NAME REQUIRED\",IF(ISERROR(VLOOKUP(E1187,'Reference Data'!C:C,1,FALSE)),\"PLEASE SELECT A BANK FROM DEFINED LIST PROVIDED\",\"\")),\"\")","v":""},"No Entry",0]
[null,null,null,null,null,null,null,null,null,null,null,null,"",{"$f":"IF(D1188=\"Cash and Deposits\",IF(E1188=\"\",\"BANK NAME REQUIRED\",IF(ISERROR(VLOOKUP(E1188,'Reference Data'!C:C,1,FALSE)),\"PLEASE SELECT A BANK FROM DEFINED LIST PROVIDED\",\"\")),\"\")","v":""},"No Entry",0]
[null,null,null,null,null,null,null,null,null,null,null,null,"",{"$f":"IF(D1189=\"Cash and Deposits\",IF(E1189=\"\",\"BANK NAME REQUIRED\",IF(ISERROR(VLOOKUP(E1189,'Reference Data'!C:C,1,FALSE)),\"PLEASE SELECT A BANK FROM DEFINED LIST PROVIDED\",\"\")),\"\")","v":""},"No Entry",0]
[null,null,null,null,null,null,null,null,null,null,null,null,"",{"$f":"IF(D1190=\"Cash and Deposits\",IF(E1190=\"\",\"BANK NAME REQUIRED\",IF(ISERROR(VLOOKUP(E1190,'Reference Data'!C:C,1,FALSE)),\"PLEASE SELECT A BANK FROM DEFINED LIST PROVIDED\",\"\")),\"\")","v":""},"No Entry",0]
[null,null,null,null,null,null,null,null,null,null,null,null,"",{"$f":"IF(D1191=\"Cash and Deposits\",IF(E1191=\"\",\"BANK NAME REQUIRED\",IF(ISERROR(VLOOKUP(E1191,'Reference Data'!C:C,1,FALSE)),\"PLEASE SELECT A BANK FROM DEFINED LIST PROVIDED\",\"\")),\"\")","v":""},"No Entry",0]
[null,null,null,null,null,null,null,null,null,null,null,null,"",{"$f":"IF(D1192=\"Cash and Deposits\",IF(E1192=\"\",\"BANK NAME REQUIRED\",IF(ISERROR(VLOOKUP(E1192,'Reference Data'!C:C,1,FALSE)),\"PLEASE SELECT A BANK FROM DEFINED LIST PROVIDED\",\"\")),\"\")","v":""},"No Entry",0]
[null,null,null,null,null,null,null,null,null,null,null,null,"",{"$f":"IF(D1193=\"Cash and Deposits\",IF(E1193=\"\",\"BANK NAME REQUIRED\",IF(ISERROR(VLOOKUP(E1193,'Reference Data'!C:C,1,FALSE)),\"PLEASE SELECT A BANK FROM DEFINED LIST PROVIDED\",\"\")),\"\")","v":""},"No Entry",0]
[null,null,null,null,null,null,null,null,null,null,null,null,"",{"$f":"IF(D1194=\"Cash and Deposits\",IF(E1194=\"\",\"BANK NAME REQUIRED\",IF(ISERROR(VLOOKUP(E1194,'Reference Data'!C:C,1,FALSE)),\"PLEASE SELECT A BANK FROM DEFINED LIST PROVIDED\",\"\")),\"\")","v":""},"No Entry",0]
[null,null,null,null,null,null,null,null,null,null,null,null,"",{"$f":"IF(D1195=\"Cash and Deposits\",IF(E1195=\"\",\"BANK NAME REQUIRED\",IF(ISERROR(VLOOKUP(E1195,'Reference Data'!C:C,1,FALSE)),\"PLEASE SELECT A BANK FROM DEFINED LIST PROVIDED\",\"\")),\"\")","v":""},"No Entry",0]
[null,null,null,null,null,null,null,null,null,null,null,null,"",{"$f":"IF(D1196=\"Cash and Deposits\",IF(E1196=\"\",\"BANK NAME REQUIRED\",IF(ISERROR(VLOOKUP(E1196,'Reference Data'!C:C,1,FALSE)),\"PLEASE SELECT A BANK FROM DEFINED LIST PROVIDED\",\"\")),\"\")","v":""},"No Entry",0]
[null,null,null,null,null,null,null,null,null,null,null,null,"",{"$f":"IF(D1197=\"Cash and Deposits\",IF(E1197=\"\",\"BANK NAME REQUIRED\",IF(ISERROR(VLOOKUP(E1197,'Reference Data'!C:C,1,FALSE)),\"PLEASE SELECT A BANK FROM DEFINED LIST PROVIDED\",\"\")),\"\")","v":""},"No Entry",0]
[null,null,null,null,null,null,null,null,null,null,null,null,"",{"$f":"IF(D1198=\"Cash and Deposits\",IF(E1198=\"\",\"BANK NAME REQUIRED\",IF(ISERROR(VLOOKUP(E1198,'Reference Data'!C:C,1,FALSE)),\"PLEASE SELECT A BANK FROM DEFINED LIST PROVIDED\",\"\")),\"\")","v":""},"No Entry",0]
[null,null,null,null,null,null,null,null,null,null,null,null,"",{"$f":"IF(D1199=\"Cash and Deposits\",IF(E1199=\"\",\"BANK NAME REQUIRED\",IF(ISERROR(VLOOKUP(E1199,'Reference Data'!C:C,1,FALSE)),\"PLEASE SELECT A BANK FROM DEFINED LIST PROVIDED\",\"\")),\"\")","v":""},"No Entry",0]
[null,null,null,null,null,null,null,null,null,null,null,null,"",{"$f":"IF(D1200=\"Cash and Deposits\",IF(E1200=\"\",\"BANK NAME REQUIRED\",IF(ISERROR(VLOOKUP(E1200,'Reference Data'!C:C,1,FALSE)),\"PLEASE SELECT A BANK FROM DEFINED LIST PROVIDED\",\"\")),\"\")","v":""},"No Entry",0]
[null,null,null,null,null,null,null,null,null,null,null,null,"",{"$f":"IF(D1201=\"Cash and Deposits\",IF(E1201=\"\",\"BANK NAME REQUIRED\",IF(ISERROR(VLOOKUP(E1201,'Reference Data'!C:C,1,FALSE)),\"PLEASE SELECT A BANK FROM DEFINED LIST PROVIDED\",\"\")),\"\")","v":""},"No Entry",0]
[null,null,null,null,null,null,null,null,null,null,null,null,"",{"$f":"IF(D1202=\"Cash and Deposits\",IF(E1202=\"\",\"BANK NAME REQUIRED\",IF(ISERROR(VLOOKUP(E1202,'Reference Data'!C:C,1,FALSE)),\"PLEASE SELECT A BANK FROM DEFINED LIST PROVIDED\",\"\")),\"\")","v":""},"No Entry",0]
[null,null,null,null,null,null,null,null,null,null,null,null,"",{"$f":"IF(D1203=\"Cash and Deposits\",IF(E1203=\"\",\"BANK NAME REQUIRED\",IF(ISERROR(VLOOKUP(E1203,'Reference Data'!C:C,1,FALSE)),\"PLEASE SELECT A BANK FROM DEFINED LIST PROVIDED\",\"\")),\"\")","v":""},"No Entry",0]
[null,null,null,null,null,null,null,null,null,null,null,null,"",{"$f":"IF(D1204=\"Cash and Deposits\",IF(E1204=\"\",\"BANK NAME REQUIRED\",IF(ISERROR(VLOOKUP(E1204,'Reference Data'!C:C,1,FALSE)),\"PLEASE SELECT A BANK FROM DEFINED LIST PROVIDED\",\"\")),\"\")","v":""},"No Entry",0]
[null,null,null,null,null,null,null,null,null,null,null,null,"",{"$f":"IF(D1205=\"Cash and Deposits\",IF(E1205=\"\",\"BANK NAME REQUIRED\",IF(ISERROR(VLOOKUP(E1205,'Reference Data'!C:C,1,FALSE)),\"PLEASE SELECT A BANK FROM DEFINED LIST PROVIDED\",\"\")),\"\")","v":""},"No Entry",0]
[null,null,null,null,null,null,null,null,null,null,null,null,"",{"$f":"IF(D1206=\"Cash and Deposits\",IF(E1206=\"\",\"BANK NAME REQUIRED\",IF(ISERROR(VLOOKUP(E1206,'Reference Data'!C:C,1,FALSE)),\"PLEASE SELECT A BANK FROM DEFINED LIST PROVIDED\",\"\")),\"\")","v":""},"No Entry",0]
[null,null,null,null,null,null,null,null,null,null,null,null,"",{"$f":"IF(D1207=\"Cash and Deposits\",IF(E1207=\"\",\"BANK NAME REQUIRED\",IF(ISERROR(VLOOKUP(E1207,'Reference Data'!C:C,1,FALSE)),\"PLEASE SELECT A BANK FROM DEFINED LIST PROVIDED\",\"\")),\"\")","v":""},"No Entry",0]
[null,null,null,null,null,null,null,null,null,null,null,null,"",{"$f":"IF(D1208=\"Cash and Deposits\",IF(E1208=\"\",\"BANK NAME REQUIRED\",IF(ISERROR(VLOOKUP(E1208,'Reference Data'!C:C,1,FALSE)),\"PLEASE SELECT A BANK FROM DEFINED LIST PROVIDED\",\"\")),\"\")","v":""},"No Entry",0]
[null,null,null,null,null,null,null,null,null,null,null,null,"",{"$f":"IF(D1209=\"Cash and Deposits\",IF(E1209=\"\",\"BANK NAME REQUIRED\",IF(ISERROR(VLOOKUP(E1209,'Reference Data'!C:C,1,FALSE)),\"PLEASE SELECT A BANK FROM DEFINED LIST PROVIDED\",\"\")),\"\")","v":""},"No Entry",0]
[null,null,null,null,null,null,null,null,null,null,null,null,"",{"$f":"IF(D1210=\"Cash and Deposits\",IF(E1210=\"\",\"BANK NAME REQUIRED\",IF(ISERROR(VLOOKUP(E1210,'Reference Data'!C:C,1,FALSE)),\"PLEASE SELECT A BANK FROM DEFINED LIST PROVIDED\",\"\")),\"\")","v":""},"No Entry",0]
[null,null,null,null,null,null,null,null,null,null,null,null,"",{"$f":"IF(D1211=\"Cash and Deposits\",IF(E1211=\"\",\"BANK NAME REQUIRED\",IF(ISERROR(VLOOKUP(E1211,'Reference Data'!C:C,1,FALSE)),\"PLEASE SELECT A BANK FROM DEFINED LIST PROVIDED\",\"\")),\"\")","v":""},"No Entry",0]
[null,null,null,null,null,null,null,null,null,null,null,null,"",{"$f":"IF(D1212=\"Cash and Deposits\",IF(E1212=\"\",\"BANK NAME REQUIRED\",IF(ISERROR(VLOOKUP(E1212,'Reference Data'!C:C,1,FALSE)),\"PLEASE SELECT A BANK FROM DEFINED LIST PROVIDED\",\"\")),\"\")","v":""},"No Entry",0]
[null,null,null,null,null,null,null,null,null,null,null,null,"",{"$f":"IF(D1213=\"Cash and Deposits\",IF(E1213=\"\",\"BANK NAME REQUIRED\",IF(ISERROR(VLOOKUP(E1213,'Reference Data'!C:C,1,FALSE)),\"PLEASE SELECT A BANK FROM DEFINED LIST PROVIDED\",\"\")),\"\")","v":""},"No Entry",0]
[null,null,null,null,null,null,null,null,null,null,null,null,"",{"$f":"IF(D1214=\"Cash and Deposits\",IF(E1214=\"\",\"BANK NAME REQUIRED\",IF(ISERROR(VLOOKUP(E1214,'Reference Data'!C:C,1,FALSE)),\"PLEASE SELECT A BANK FROM DEFINED LIST PROVIDED\",\"\")),\"\")","v":""},"No Entry",0]
[null,null,null,null,null,null,null,null,null,null,null,null,"",{"$f":"IF(D1215=\"Cash and Deposits\",IF(E1215=\"\",\"BANK NAME REQUIRED\",IF(ISERROR(VLOOKUP(E1215,'Reference Data'!C:C,1,FALSE)),\"PLEASE SELECT A BANK FROM DEFINED LIST PROVIDED\",\"\")),\"\")","v":""},"No Entry",0]
[null,null,null,null,null,null,null,null,null,null,null,null,"",{"$f":"IF(D1216=\"Cash and Deposits\",IF(E1216=\"\",\"BANK NAME REQUIRED\",IF(ISERROR(VLOOKUP(E1216,'Reference Data'!C:C,1,FALSE)),\"PLEASE SELECT A BANK FROM DEFINED LIST PROVIDED\",\"\")),\"\")","v":""},"No Entry",0]
[null,null,null,null,null,null,null,null,null,null,null,null,"",{"$f":"IF(D1217=\"Cash and Deposits\",IF(E1217=\"\",\"BANK NAME REQUIRED\",IF(ISERROR(VLOOKUP(E1217,'Reference Data'!C:C,1,FALSE)),\"PLEASE SELECT A BANK FROM DEFINED LIST PROVIDED\",\"\")),\"\")","v":""},"No Entry",0]
[null,null,null,null,null,null,null,null,null,null,null,null,"",{"$f":"IF(D1218=\"Cash and Deposits\",IF(E1218=\"\",\"BANK NAME REQUIRED\",IF(ISERROR(VLOOKUP(E1218,'Reference Data'!C:C,1,FALSE)),\"PLEASE SELECT A BANK FROM DEFINED LIST PROVIDED\",\"\")),\"\")","v":""},"No Entry",0]
[null,null,null,null,null,null,null,null,null,null,null,null,"",{"$f":"IF(D1219=\"Cash and Deposits\",IF(E1219=\"\",\"BANK NAME REQUIRED\",IF(ISERROR(VLOOKUP(E1219,'Reference Data'!C:C,1,FALSE)),\"PLEASE SELECT A BANK FROM DEFINED LIST PROVIDED\",\"\")),\"\")","v":""},"No Entry",0]
[null,null,null,null,null,null,null,null,null,null,null,null,"",{"$f":"IF(D1220=\"Cash and Deposits\",IF(E1220=\"\",\"BANK NAME REQUIRED\",IF(ISERROR(VLOOKUP(E1220,'Reference Data'!C:C,1,FALSE)),\"PLEASE SELECT A BANK FROM DEFINED LIST PROVIDED\",\"\")),\"\")","v":""},"No Entry",0]
[null,null,null,null,null,null,null,null,null,null,null,null,{"$f":"IF(K1221<>0,IF(B1221=\"\",\"ID CODE REQUIRED\",\"\"),\"\")","v":""},{"$f":"IF(D1221=\"Cash and Deposits\",IF(E1221=\"\",\"BANK NAME REQUIRED\",IF(ISERROR(VLOOKUP(E1221,'Reference Data'!C:C,1,FALSE)),\"PLEASE SELECT A BANK FROM DEFINED LIST PROVIDED\",\"\")),\"\")","v":""},{"$f":"IF(K1221=0,\"No Entry\",\"\")","v":"No Entry"},{"$f":"IF(K1221<>0,IF(A1221=\"\",1,0),0)","v":0}]
[null,null,null,null,null,null,null,null,null,null,null,null,"",{"$f":"IF(D1222=\"Cash and Deposits\",IF(E1222=\"\",\"BANK NAME REQUIRED\",IF(ISERROR(VLOOKUP(E1222,'Reference Data'!C:C,1,FALSE)),\"PLEASE SELECT A BANK FROM DEFINED LIST PROVIDED\",\"\")),\"\")","v":""},"No Entry",0]
[null,null,null,null,null,null,null,null,null,null,null,null,"",{"$f":"IF(D1223=\"Cash and Deposits\",IF(E1223=\"\",\"BANK NAME REQUIRED\",IF(ISERROR(VLOOKUP(E1223,'Reference Data'!C:C,1,FALSE)),\"PLEASE SELECT A BANK FROM DEFINED LIST PROVIDED\",\"\")),\"\")","v":""},"No Entry",0]
[null,null,null,null,null,null,null,null,null,null,null,null,"",{"$f":"IF(D1224=\"Cash and Deposits\",IF(E1224=\"\",\"BANK NAME REQUIRED\",IF(ISERROR(VLOOKUP(E1224,'Reference Data'!C:C,1,FALSE)),\"PLEASE SELECT A BANK FROM DEFINED LIST PROVIDED\",\"\")),\"\")","v":""},"No Entry",0]
[null,null,null,null,null,null,null,null,null,null,null,null,"",{"$f":"IF(D1225=\"Cash and Deposits\",IF(E1225=\"\",\"BANK NAME REQUIRED\",IF(ISERROR(VLOOKUP(E1225,'Reference Data'!C:C,1,FALSE)),\"PLEASE SELECT A BANK FROM DEFINED LIST PROVIDED\",\"\")),\"\")","v":""},"No Entry",0]
[null,null,null,null,null,null,null,null,null,null,null,null,"",{"$f":"IF(D1226=\"Cash and Deposits\",IF(E1226=\"\",\"BANK NAME REQUIRED\",IF(ISERROR(VLOOKUP(E1226,'Reference Data'!C:C,1,FALSE)),\"PLEASE SELECT A BANK FROM DEFINED LIST PROVIDED\",\"\")),\"\")","v":""},"No Entry",0]
[null,null,null,null,null,null,null,null,null,null,null,null,"",{"$f":"IF(D1227=\"Cash and Deposits\",IF(E1227=\"\",\"BANK NAME REQUIRED\",IF(ISERROR(VLOOKUP(E1227,'Reference Data'!C:C,1,FALSE)),\"PLEASE SELECT A BANK FROM DEFINED LIST PROVIDED\",\"\")),\"\")","v":""},"No Entry",0]
[null,null,null,null,null,null,null,null,null,null,null,null,"",{"$f":"IF(D1228=\"Cash and Deposits\",IF(E1228=\"\",\"BANK NAME REQUIRED\",IF(ISERROR(VLOOKUP(E1228,'Reference Data'!C:C,1,FALSE)),\"PLEASE SELECT A BANK FROM DEFINED LIST PROVIDED\",\"\")),\"\")","v":""},"No Entry",0]
[null,null,null,null,null,null,null,null,null,null,null,null,"",{"$f":"IF(D1229=\"Cash and Deposits\",IF(E1229=\"\",\"BANK NAME REQUIRED\",IF(ISERROR(VLOOKUP(E1229,'Reference Data'!C:C,1,FALSE)),\"PLEASE SELECT A BANK FROM DEFINED LIST PROVIDED\",\"\")),\"\")","v":""},"No Entry",0]
[null,null,null,null,null,null,null,null,null,null,null,null,"",{"$f":"IF(D1230=\"Cash and Deposits\",IF(E1230=\"\",\"BANK NAME REQUIRED\",IF(ISERROR(VLOOKUP(E1230,'Reference Data'!C:C,1,FALSE)),\"PLEASE SELECT A BANK FROM DEFINED LIST PROVIDED\",\"\")),\"\")","v":""},"No Entry",0]
[null,null,null,null,null,null,null,null,null,null,null,null,"",{"$f":"IF(D1231=\"Cash and Deposits\",IF(E1231=\"\",\"BANK NAME REQUIRED\",IF(ISERROR(VLOOKUP(E1231,'Reference Data'!C:C,1,FALSE)),\"PLEASE SELECT A BANK FROM DEFINED LIST PROVIDED\",\"\")),\"\")","v":""},"No Entry",0]
[null,null,null,null,null,null,null,null,null,null,null,null,"",{"$f":"IF(D1232=\"Cash and Deposits\",IF(E1232=\"\",\"BANK NAME REQUIRED\",IF(ISERROR(VLOOKUP(E1232,'Reference Data'!C:C,1,FALSE)),\"PLEASE SELECT A BANK FROM DEFINED LIST PROVIDED\",\"\")),\"\")","v":""},"No Entry",0]
[null,null,null,null,null,null,null,null,null,null,null,null,"",{"$f":"IF(D1233=\"Cash and Deposits\",IF(E1233=\"\",\"BANK NAME REQUIRED\",IF(ISERROR(VLOOKUP(E1233,'Reference Data'!C:C,1,FALSE)),\"PLEASE SELECT A BANK FROM DEFINED LIST PROVIDED\",\"\")),\"\")","v":""},"No Entry",0]
[null,null,null,null,null,null,null,null,null,null,null,null,"",{"$f":"IF(D1234=\"Cash and Deposits\",IF(E1234=\"\",\"BANK NAME REQUIRED\",IF(ISERROR(VLOOKUP(E1234,'Reference Data'!C:C,1,FALSE)),\"PLEASE SELECT A BANK FROM DEFINED LIST PROVIDED\",\"\")),\"\")","v":""},"No Entry",0]
[null,null,null,null,null,null,null,null,null,null,null,null,"",{"$f":"IF(D1235=\"Cash and Deposits\",IF(E1235=\"\",\"BANK NAME REQUIRED\",IF(ISERROR(VLOOKUP(E1235,'Reference Data'!C:C,1,FALSE)),\"PLEASE SELECT A BANK FROM DEFINED LIST PROVIDED\",\"\")),\"\")","v":""},"No Entry",0]
[null,null,null,null,null,null,null,null,null,null,null,null,"",{"$f":"IF(D1236=\"Cash and Deposits\",IF(E1236=\"\",\"BANK NAME REQUIRED\",IF(ISERROR(VLOOKUP(E1236,'Reference Data'!C:C,1,FALSE)),\"PLEASE SELECT A BANK FROM DEFINED LIST PROVIDED\",\"\")),\"\")","v":""},"No Entry",0]
[null,null,null,null,null,null,null,null,null,null,null,null,"",{"$f":"IF(D1237=\"Cash and Deposits\",IF(E1237=\"\",\"BANK NAME REQUIRED\",IF(ISERROR(VLOOKUP(E1237,'Reference Data'!C:C,1,FALSE)),\"PLEASE SELECT A BANK FROM DEFINED LIST PROVIDED\",\"\")),\"\")","v":""},"No Entry",0]
[null,null,null,null,null,null,null,null,null,null,null,null,"",{"$f":"IF(D1238=\"Cash and Deposits\",IF(E1238=\"\",\"BANK NAME REQUIRED\",IF(ISERROR(VLOOKUP(E1238,'Reference Data'!C:C,1,FALSE)),\"PLEASE SELECT A BANK FROM DEFINED LIST PROVIDED\",\"\")),\"\")","v":""},"No Entry",0]
[null,null,null,null,null,null,null,null,null,null,null,null,"",{"$f":"IF(D1239=\"Cash and Deposits\",IF(E1239=\"\",\"BANK NAME REQUIRED\",IF(ISERROR(VLOOKUP(E1239,'Reference Data'!C:C,1,FALSE)),\"PLEASE SELECT A BANK FROM DEFINED LIST PROVIDED\",\"\")),\"\")","v":""},"No Entry",0]
[null,null,null,null,null,null,null,null,null,null,null,null,"",{"$f":"IF(D1240=\"Cash and Deposits\",IF(E1240=\"\",\"BANK NAME REQUIRED\",IF(ISERROR(VLOOKUP(E1240,'Reference Data'!C:C,1,FALSE)),\"PLEASE SELECT A BANK FROM DEFINED LIST PROVIDED\",\"\")),\"\")","v":""},"No Entry",0]
[null,null,null,null,null,null,null,null,null,null,null,null,"",{"$f":"IF(D1241=\"Cash and Deposits\",IF(E1241=\"\",\"BANK NAME REQUIRED\",IF(ISERROR(VLOOKUP(E1241,'Reference Data'!C:C,1,FALSE)),\"PLEASE SELECT A BANK FROM DEFINED LIST PROVIDED\",\"\")),\"\")","v":""},"No Entry",0]
[null,null,null,null,null,null,null,null,null,null,null,null,"",{"$f":"IF(D1242=\"Cash and Deposits\",IF(E1242=\"\",\"BANK NAME REQUIRED\",IF(ISERROR(VLOOKUP(E1242,'Reference Data'!C:C,1,FALSE)),\"PLEASE SELECT A BANK FROM DEFINED LIST PROVIDED\",\"\")),\"\")","v":""},"No Entry",0]
[null,null,null,null,null,null,null,null,null,null,null,null,"",{"$f":"IF(D1243=\"Cash and Deposits\",IF(E1243=\"\",\"BANK NAME REQUIRED\",IF(ISERROR(VLOOKUP(E1243,'Reference Data'!C:C,1,FALSE)),\"PLEASE SELECT A BANK FROM DEFINED LIST PROVIDED\",\"\")),\"\")","v":""},"No Entry",0]
[null,null,null,null,null,null,null,null,null,null,null,null,"",{"$f":"IF(D1244=\"Cash and Deposits\",IF(E1244=\"\",\"BANK NAME REQUIRED\",IF(ISERROR(VLOOKUP(E1244,'Reference Data'!C:C,1,FALSE)),\"PLEASE SELECT A BANK FROM DEFINED LIST PROVIDED\",\"\")),\"\")","v":""},"No Entry",0]
[null,null,null,null,null,null,null,null,null,null,null,null,"",{"$f":"IF(D1245=\"Cash and Deposits\",IF(E1245=\"\",\"BANK NAME REQUIRED\",IF(ISERROR(VLOOKUP(E1245,'Reference Data'!C:C,1,FALSE)),\"PLEASE SELECT A BANK FROM DEFINED LIST PROVIDED\",\"\")),\"\")","v":""},"No Entry",0]
[null,null,null,null,null,null,null,null,null,null,null,null,"",{"$f":"IF(D1246=\"Cash and Deposits\",IF(E1246=\"\",\"BANK NAME REQUIRED\",IF(ISERROR(VLOOKUP(E1246,'Reference Data'!C:C,1,FALSE)),\"PLEASE SELECT A BANK FROM DEFINED LIST PROVIDED\",\"\")),\"\")","v":""},"No Entry",0]
[null,null,null,null,null,null,null,null,null,null,null,null,"",{"$f":"IF(D1247=\"Cash and Deposits\",IF(E1247=\"\",\"BANK NAME REQUIRED\",IF(ISERROR(VLOOKUP(E1247,'Reference Data'!C:C,1,FALSE)),\"PLEASE SELECT A BANK FROM DEFINED LIST PROVIDED\",\"\")),\"\")","v":""},"No Entry",0]
[null,null,null,null,null,null,null,null,null,null,null,null,"",{"$f":"IF(D1248=\"Cash and Deposits\",IF(E1248=\"\",\"BANK NAME REQUIRED\",IF(ISERROR(VLOOKUP(E1248,'Reference Data'!C:C,1,FALSE)),\"PLEASE SELECT A BANK FROM DEFINED LIST PROVIDED\",\"\")),\"\")","v":""},"No Entry",0]
[null,null,null,null,null,null,null,null,null,null,null,null,"",{"$f":"IF(D1249=\"Cash and Deposits\",IF(E1249=\"\",\"BANK NAME REQUIRED\",IF(ISERROR(VLOOKUP(E1249,'Reference Data'!C:C,1,FALSE)),\"PLEASE SELECT A BANK FROM DEFINED LIST PROVIDED\",\"\")),\"\")","v":""},"No Entry",0]
[null,null,null,null,null,null,null,null,null,null,null,null,"",{"$f":"IF(D1250=\"Cash and Deposits\",IF(E1250=\"\",\"BANK NAME REQUIRED\",IF(ISERROR(VLOOKUP(E1250,'Reference Data'!C:C,1,FALSE)),\"PLEASE SELECT A BANK FROM DEFINED LIST PROVIDED\",\"\")),\"\")","v":""},"No Entry",0]
[null,null,null,null,null,null,null,null,null,null,null,null,"",{"$f":"IF(D1251=\"Cash and Deposits\",IF(E1251=\"\",\"BANK NAME REQUIRED\",IF(ISERROR(VLOOKUP(E1251,'Reference Data'!C:C,1,FALSE)),\"PLEASE SELECT A BANK FROM DEFINED LIST PROVIDED\",\"\")),\"\")","v":""},"No Entry",0]
[null,null,null,null,null,null,null,null,null,null,null,null,"",{"$f":"IF(D1252=\"Cash and Deposits\",IF(E1252=\"\",\"BANK NAME REQUIRED\",IF(ISERROR(VLOOKUP(E1252,'Reference Data'!C:C,1,FALSE)),\"PLEASE SELECT A BANK FROM DEFINED LIST PROVIDED\",\"\")),\"\")","v":""},"No Entry",0]
[null,null,null,null,null,null,null,null,null,null,null,null,"",{"$f":"IF(D1253=\"Cash and Deposits\",IF(E1253=\"\",\"BANK NAME REQUIRED\",IF(ISERROR(VLOOKUP(E1253,'Reference Data'!C:C,1,FALSE)),\"PLEASE SELECT A BANK FROM DEFINED LIST PROVIDED\",\"\")),\"\")","v":""},"No Entry",0]
[null,null,null,null,null,null,null,null,null,null,null,null,"",{"$f":"IF(D1254=\"Cash and Deposits\",IF(E1254=\"\",\"BANK NAME REQUIRED\",IF(ISERROR(VLOOKUP(E1254,'Reference Data'!C:C,1,FALSE)),\"PLEASE SELECT A BANK FROM DEFINED LIST PROVIDED\",\"\")),\"\")","v":""},"No Entry",0]
[null,null,null,null,null,null,null,null,null,null,null,null,"",{"$f":"IF(D1255=\"Cash and Deposits\",IF(E1255=\"\",\"BANK NAME REQUIRED\",IF(ISERROR(VLOOKUP(E1255,'Reference Data'!C:C,1,FALSE)),\"PLEASE SELECT A BANK FROM DEFINED LIST PROVIDED\",\"\")),\"\")","v":""},"No Entry",0]
[null,null,null,null,null,null,null,null,null,null,null,null,"",{"$f":"IF(D1256=\"Cash and Deposits\",IF(E1256=\"\",\"BANK NAME REQUIRED\",IF(ISERROR(VLOOKUP(E1256,'Reference Data'!C:C,1,FALSE)),\"PLEASE SELECT A BANK FROM DEFINED LIST PROVIDED\",\"\")),\"\")","v":""},"No Entry",0]
[null,null,null,null,null,null,null,null,null,null,null,null,"",{"$f":"IF(D1257=\"Cash and Deposits\",IF(E1257=\"\",\"BANK NAME REQUIRED\",IF(ISERROR(VLOOKUP(E1257,'Reference Data'!C:C,1,FALSE)),\"PLEASE SELECT A BANK FROM DEFINED LIST PROVIDED\",\"\")),\"\")","v":""},"No Entry",0]
[null,null,null,null,null,null,null,null,null,null,null,null,"",{"$f":"IF(D1258=\"Cash and Deposits\",IF(E1258=\"\",\"BANK NAME REQUIRED\",IF(ISERROR(VLOOKUP(E1258,'Reference Data'!C:C,1,FALSE)),\"PLEASE SELECT A BANK FROM DEFINED LIST PROVIDED\",\"\")),\"\")","v":""},"No Entry",0]
[null,null,null,null,null,null,null,null,null,null,null,null,"",{"$f":"IF(D1259=\"Cash and Deposits\",IF(E1259=\"\",\"BANK NAME REQUIRED\",IF(ISERROR(VLOOKUP(E1259,'Reference Data'!C:C,1,FALSE)),\"PLEASE SELECT A BANK FROM DEFINED LIST PROVIDED\",\"\")),\"\")","v":""},"No Entry",0]
[null,null,null,null,null,null,null,null,null,null,null,null,"",{"$f":"IF(D1260=\"Cash and Deposits\",IF(E1260=\"\",\"BANK NAME REQUIRED\",IF(ISERROR(VLOOKUP(E1260,'Reference Data'!C:C,1,FALSE)),\"PLEASE SELECT A BANK FROM DEFINED LIST PROVIDED\",\"\")),\"\")","v":""},"No Entry",0]
[null,null,null,null,null,null,null,null,null,null,null,null,"",{"$f":"IF(D1261=\"Cash and Deposits\",IF(E1261=\"\",\"BANK NAME REQUIRED\",IF(ISERROR(VLOOKUP(E1261,'Reference Data'!C:C,1,FALSE)),\"PLEASE SELECT A BANK FROM DEFINED LIST PROVIDED\",\"\")),\"\")","v":""},"No Entry",0]
[null,null,null,null,null,null,null,null,null,null,null,null,"",{"$f":"IF(D1262=\"Cash and Deposits\",IF(E1262=\"\",\"BANK NAME REQUIRED\",IF(ISERROR(VLOOKUP(E1262,'Reference Data'!C:C,1,FALSE)),\"PLEASE SELECT A BANK FROM DEFINED LIST PROVIDED\",\"\")),\"\")","v":""},"No Entry",0]
[null,null,null,null,null,null,null,null,null,null,null,null,"",{"$f":"IF(D1263=\"Cash and Deposits\",IF(E1263=\"\",\"BANK NAME REQUIRED\",IF(ISERROR(VLOOKUP(E1263,'Reference Data'!C:C,1,FALSE)),\"PLEASE SELECT A BANK FROM DEFINED LIST PROVIDED\",\"\")),\"\")","v":""},"No Entry",0]
[null,null,null,null,null,null,null,null,null,null,null,null,"",{"$f":"IF(D1264=\"Cash and Deposits\",IF(E1264=\"\",\"BANK NAME REQUIRED\",IF(ISERROR(VLOOKUP(E1264,'Reference Data'!C:C,1,FALSE)),\"PLEASE SELECT A BANK FROM DEFINED LIST PROVIDED\",\"\")),\"\")","v":""},"No Entry",0]
[null,null,null,null,null,null,null,null,null,null,null,null,"",{"$f":"IF(D1265=\"Cash and Deposits\",IF(E1265=\"\",\"BANK NAME REQUIRED\",IF(ISERROR(VLOOKUP(E1265,'Reference Data'!C:C,1,FALSE)),\"PLEASE SELECT A BANK FROM DEFINED LIST PROVIDED\",\"\")),\"\")","v":""},"No Entry",0]
[null,null,null,null,null,null,null,null,null,null,null,null,"",{"$f":"IF(D1266=\"Cash and Deposits\",IF(E1266=\"\",\"BANK NAME REQUIRED\",IF(ISERROR(VLOOKUP(E1266,'Reference Data'!C:C,1,FALSE)),\"PLEASE SELECT A BANK FROM DEFINED LIST PROVIDED\",\"\")),\"\")","v":""},"No Entry",0]
[null,null,null,null,null,null,null,null,null,null,null,null,"",{"$f":"IF(D1267=\"Cash and Deposits\",IF(E1267=\"\",\"BANK NAME REQUIRED\",IF(ISERROR(VLOOKUP(E1267,'Reference Data'!C:C,1,FALSE)),\"PLEASE SELECT A BANK FROM DEFINED LIST PROVIDED\",\"\")),\"\")","v":""},"No Entry",0]
[null,null,null,null,null,null,null,null,null,null,null,null,"",{"$f":"IF(D1268=\"Cash and Deposits\",IF(E1268=\"\",\"BANK NAME REQUIRED\",IF(ISERROR(VLOOKUP(E1268,'Reference Data'!C:C,1,FALSE)),\"PLEASE SELECT A BANK FROM DEFINED LIST PROVIDED\",\"\")),\"\")","v":""},"No Entry",0]
[null,null,null,null,null,null,null,null,null,null,null,null,"",{"$f":"IF(D1269=\"Cash and Deposits\",IF(E1269=\"\",\"BANK NAME REQUIRED\",IF(ISERROR(VLOOKUP(E1269,'Reference Data'!C:C,1,FALSE)),\"PLEASE SELECT A BANK FROM DEFINED LIST PROVIDED\",\"\")),\"\")","v":""},"No Entry",0]
[null,null,null,null,null,null,null,null,null,null,null,null,"",{"$f":"IF(D1270=\"Cash and Deposits\",IF(E1270=\"\",\"BANK NAME REQUIRED\",IF(ISERROR(VLOOKUP(E1270,'Reference Data'!C:C,1,FALSE)),\"PLEASE SELECT A BANK FROM DEFINED LIST PROVIDED\",\"\")),\"\")","v":""},"No Entry",0]
[null,null,null,null,null,null,null,null,null,null,null,null,"",{"$f":"IF(D1271=\"Cash and Deposits\",IF(E1271=\"\",\"BANK NAME REQUIRED\",IF(ISERROR(VLOOKUP(E1271,'Reference Data'!C:C,1,FALSE)),\"PLEASE SELECT A BANK FROM DEFINED LIST PROVIDED\",\"\")),\"\")","v":""},"No Entry",0]
[null,null,null,null,null,null,null,null,null,null,null,null,"",{"$f":"IF(D1272=\"Cash and Deposits\",IF(E1272=\"\",\"BANK NAME REQUIRED\",IF(ISERROR(VLOOKUP(E1272,'Reference Data'!C:C,1,FALSE)),\"PLEASE SELECT A BANK FROM DEFINED LIST PROVIDED\",\"\")),\"\")","v":""},"No Entry",0]
[null,null,null,null,null,null,null,null,null,null,null,null,"",{"$f":"IF(D1273=\"Cash and Deposits\",IF(E1273=\"\",\"BANK NAME REQUIRED\",IF(ISERROR(VLOOKUP(E1273,'Reference Data'!C:C,1,FALSE)),\"PLEASE SELECT A BANK FROM DEFINED LIST PROVIDED\",\"\")),\"\")","v":""},"No Entry",0]
[null,null,null,null,null,null,null,null,null,null,null,null,"",{"$f":"IF(D1274=\"Cash and Deposits\",IF(E1274=\"\",\"BANK NAME REQUIRED\",IF(ISERROR(VLOOKUP(E1274,'Reference Data'!C:C,1,FALSE)),\"PLEASE SELECT A BANK FROM DEFINED LIST PROVIDED\",\"\")),\"\")","v":""},"No Entry",0]
[null,null,null,null,null,null,null,null,null,null,null,null,"",{"$f":"IF(D1275=\"Cash and Deposits\",IF(E1275=\"\",\"BANK NAME REQUIRED\",IF(ISERROR(VLOOKUP(E1275,'Reference Data'!C:C,1,FALSE)),\"PLEASE SELECT A BANK FROM DEFINED LIST PROVIDED\",\"\")),\"\")","v":""},"No Entry",0]
[null,null,null,null,null,null,null,null,null,null,null,null,"",{"$f":"IF(D1276=\"Cash and Deposits\",IF(E1276=\"\",\"BANK NAME REQUIRED\",IF(ISERROR(VLOOKUP(E1276,'Reference Data'!C:C,1,FALSE)),\"PLEASE SELECT A BANK FROM DEFINED LIST PROVIDED\",\"\")),\"\")","v":""},"No Entry",0]
[null,null,null,null,null,null,null,null,null,null,null,null,"",{"$f":"IF(D1277=\"Cash and Deposits\",IF(E1277=\"\",\"BANK NAME REQUIRED\",IF(ISERROR(VLOOKUP(E1277,'Reference Data'!C:C,1,FALSE)),\"PLEASE SELECT A BANK FROM DEFINED LIST PROVIDED\",\"\")),\"\")","v":""},"No Entry",0]
[null,null,null,null,null,null,null,null,null,null,null,null,"",{"$f":"IF(D1278=\"Cash and Deposits\",IF(E1278=\"\",\"BANK NAME REQUIRED\",IF(ISERROR(VLOOKUP(E1278,'Reference Data'!C:C,1,FALSE)),\"PLEASE SELECT A BANK FROM DEFINED LIST PROVIDED\",\"\")),\"\")","v":""},"No Entry",0]
[null,null,null,null,null,null,null,null,null,null,null,null,"",{"$f":"IF(D1279=\"Cash and Deposits\",IF(E1279=\"\",\"BANK NAME REQUIRED\",IF(ISERROR(VLOOKUP(E1279,'Reference Data'!C:C,1,FALSE)),\"PLEASE SELECT A BANK FROM DEFINED LIST PROVIDED\",\"\")),\"\")","v":""},"No Entry",0]
[null,null,null,null,null,null,null,null,null,null,null,null,"",{"$f":"IF(D1280=\"Cash and Deposits\",IF(E1280=\"\",\"BANK NAME REQUIRED\",IF(ISERROR(VLOOKUP(E1280,'Reference Data'!C:C,1,FALSE)),\"PLEASE SELECT A BANK FROM DEFINED LIST PROVIDED\",\"\")),\"\")","v":""},"No Entry",0]
[null,null,null,null,null,null,null,null,null,null,null,null,"",{"$f":"IF(D1281=\"Cash and Deposits\",IF(E1281=\"\",\"BANK NAME REQUIRED\",IF(ISERROR(VLOOKUP(E1281,'Reference Data'!C:C,1,FALSE)),\"PLEASE SELECT A BANK FROM DEFINED LIST PROVIDED\",\"\")),\"\")","v":""},"No Entry",0]
[null,null,null,null,null,null,null,null,null,null,null,null,"",{"$f":"IF(D1282=\"Cash and Deposits\",IF(E1282=\"\",\"BANK NAME REQUIRED\",IF(ISERROR(VLOOKUP(E1282,'Reference Data'!C:C,1,FALSE)),\"PLEASE SELECT A BANK FROM DEFINED LIST PROVIDED\",\"\")),\"\")","v":""},"No Entry",0]
[null,null,null,null,null,null,null,null,null,null,null,null,"",{"$f":"IF(D1283=\"Cash and Deposits\",IF(E1283=\"\",\"BANK NAME REQUIRED\",IF(ISERROR(VLOOKUP(E1283,'Reference Data'!C:C,1,FALSE)),\"PLEASE SELECT A BANK FROM DEFINED LIST PROVIDED\",\"\")),\"\")","v":""},"No Entry",0]
[null,null,null,null,null,null,null,null,null,null,null,null,"",{"$f":"IF(D1284=\"Cash and Deposits\",IF(E1284=\"\",\"BANK NAME REQUIRED\",IF(ISERROR(VLOOKUP(E1284,'Reference Data'!C:C,1,FALSE)),\"PLEASE SELECT A BANK FROM DEFINED LIST PROVIDED\",\"\")),\"\")","v":""},"No Entry",0]
[null,null,null,null,null,null,null,null,null,null,null,null,{"$f":"IF(K1285<>0,IF(B1285=\"\",\"ID CODE REQUIRED\",\"\"),\"\")","v":""},{"$f":"IF(D1285=\"Cash and Deposits\",IF(E1285=\"\",\"BANK NAME REQUIRED\",IF(ISERROR(VLOOKUP(E1285,'Reference Data'!C:C,1,FALSE)),\"PLEASE SELECT A BANK FROM DEFINED LIST PROVIDED\",\"\")),\"\")","v":""},{"$f":"IF(K1285=0,\"No Entry\",\"\")","v":"No Entry"},{"$f":"IF(K1285<>0,IF(A1285=\"\",1,0),0)","v":0}]
[null,null,null,null,null,null,null,null,null,null,null,null,"",{"$f":"IF(D1286=\"Cash and Deposits\",IF(E1286=\"\",\"BANK NAME REQUIRED\",IF(ISERROR(VLOOKUP(E1286,'Reference Data'!C:C,1,FALSE)),\"PLEASE SELECT A BANK FROM DEFINED LIST PROVIDED\",\"\")),\"\")","v":""},"No Entry",0]
[null,null,null,null,null,null,null,null,null,null,null,null,"",{"$f":"IF(D1287=\"Cash and Deposits\",IF(E1287=\"\",\"BANK NAME REQUIRED\",IF(ISERROR(VLOOKUP(E1287,'Reference Data'!C:C,1,FALSE)),\"PLEASE SELECT A BANK FROM DEFINED LIST PROVIDED\",\"\")),\"\")","v":""},"No Entry",0]
[null,null,null,null,null,null,null,null,null,null,null,null,"",{"$f":"IF(D1288=\"Cash and Deposits\",IF(E1288=\"\",\"BANK NAME REQUIRED\",IF(ISERROR(VLOOKUP(E1288,'Reference Data'!C:C,1,FALSE)),\"PLEASE SELECT A BANK FROM DEFINED LIST PROVIDED\",\"\")),\"\")","v":""},"No Entry",0]
[null,null,null,null,null,null,null,null,null,null,null,null,"",{"$f":"IF(D1289=\"Cash and Deposits\",IF(E1289=\"\",\"BANK NAME REQUIRED\",IF(ISERROR(VLOOKUP(E1289,'Reference Data'!C:C,1,FALSE)),\"PLEASE SELECT A BANK FROM DEFINED LIST PROVIDED\",\"\")),\"\")","v":""},"No Entry",0]
[null,null,null,null,null,null,null,null,null,null,null,null,"",{"$f":"IF(D1290=\"Cash and Deposits\",IF(E1290=\"\",\"BANK NAME REQUIRED\",IF(ISERROR(VLOOKUP(E1290,'Reference Data'!C:C,1,FALSE)),\"PLEASE SELECT A BANK FROM DEFINED LIST PROVIDED\",\"\")),\"\")","v":""},"No Entry",0]
[null,null,null,null,null,null,null,null,null,null,null,null,"",{"$f":"IF(D1291=\"Cash and Deposits\",IF(E1291=\"\",\"BANK NAME REQUIRED\",IF(ISERROR(VLOOKUP(E1291,'Reference Data'!C:C,1,FALSE)),\"PLEASE SELECT A BANK FROM DEFINED LIST PROVIDED\",\"\")),\"\")","v":""},"No Entry",0]
[null,null,null,null,null,null,null,null,null,null,null,null,"",{"$f":"IF(D1292=\"Cash and Deposits\",IF(E1292=\"\",\"BANK NAME REQUIRED\",IF(ISERROR(VLOOKUP(E1292,'Reference Data'!C:C,1,FALSE)),\"PLEASE SELECT A BANK FROM DEFINED LIST PROVIDED\",\"\")),\"\")","v":""},"No Entry",0]
[null,null,null,null,null,null,null,null,null,null,null,null,"",{"$f":"IF(D1293=\"Cash and Deposits\",IF(E1293=\"\",\"BANK NAME REQUIRED\",IF(ISERROR(VLOOKUP(E1293,'Reference Data'!C:C,1,FALSE)),\"PLEASE SELECT A BANK FROM DEFINED LIST PROVIDED\",\"\")),\"\")","v":""},"No Entry",0]
[null,null,null,null,null,null,null,null,null,null,null,null,"",{"$f":"IF(D1294=\"Cash and Deposits\",IF(E1294=\"\",\"BANK NAME REQUIRED\",IF(ISERROR(VLOOKUP(E1294,'Reference Data'!C:C,1,FALSE)),\"PLEASE SELECT A BANK FROM DEFINED LIST PROVIDED\",\"\")),\"\")","v":""},"No Entry",0]
[null,null,null,null,null,null,null,null,null,null,null,null,"",{"$f":"IF(D1295=\"Cash and Deposits\",IF(E1295=\"\",\"BANK NAME REQUIRED\",IF(ISERROR(VLOOKUP(E1295,'Reference Data'!C:C,1,FALSE)),\"PLEASE SELECT A BANK FROM DEFINED LIST PROVIDED\",\"\")),\"\")","v":""},"No Entry",0]
[null,null,null,null,null,null,null,null,null,null,null,null,"",{"$f":"IF(D1296=\"Cash and Deposits\",IF(E1296=\"\",\"BANK NAME REQUIRED\",IF(ISERROR(VLOOKUP(E1296,'Reference Data'!C:C,1,FALSE)),\"PLEASE SELECT A BANK FROM DEFINED LIST PROVIDED\",\"\")),\"\")","v":""},"No Entry",0]
[null,null,null,null,null,null,null,null,null,null,null,null,"",{"$f":"IF(D1297=\"Cash and Deposits\",IF(E1297=\"\",\"BANK NAME REQUIRED\",IF(ISERROR(VLOOKUP(E1297,'Reference Data'!C:C,1,FALSE)),\"PLEASE SELECT A BANK FROM DEFINED LIST PROVIDED\",\"\")),\"\")","v":""},"No Entry",0]
[null,null,null,null,null,null,null,null,null,null,null,null,"",{"$f":"IF(D1298=\"Cash and Deposits\",IF(E1298=\"\",\"BANK NAME REQUIRED\",IF(ISERROR(VLOOKUP(E1298,'Reference Data'!C:C,1,FALSE)),\"PLEASE SELECT A BANK FROM DEFINED LIST PROVIDED\",\"\")),\"\")","v":""},"No Entry",0]
[null,null,null,null,null,null,null,null,null,null,null,null,"",{"$f":"IF(D1299=\"Cash and Deposits\",IF(E1299=\"\",\"BANK NAME REQUIRED\",IF(ISERROR(VLOOKUP(E1299,'Reference Data'!C:C,1,FALSE)),\"PLEASE SELECT A BANK FROM DEFINED LIST PROVIDED\",\"\")),\"\")","v":""},"No Entry",0]
[null,null,null,null,null,null,null,null,null,null,null,null,"",{"$f":"IF(D1300=\"Cash and Deposits\",IF(E1300=\"\",\"BANK NAME REQUIRED\",IF(ISERROR(VLOOKUP(E1300,'Reference Data'!C:C,1,FALSE)),\"PLEASE SELECT A BANK FROM DEFINED LIST PROVIDED\",\"\")),\"\")","v":""},"No Entry",0]
[null,null,null,null,null,null,null,null,null,null,null,null,"",{"$f":"IF(D1301=\"Cash and Deposits\",IF(E1301=\"\",\"BANK NAME REQUIRED\",IF(ISERROR(VLOOKUP(E1301,'Reference Data'!C:C,1,FALSE)),\"PLEASE SELECT A BANK FROM DEFINED LIST PROVIDED\",\"\")),\"\")","v":""},"No Entry",0]
[null,null,null,null,null,null,null,null,null,null,null,null,"",{"$f":"IF(D1302=\"Cash and Deposits\",IF(E1302=\"\",\"BANK NAME REQUIRED\",IF(ISERROR(VLOOKUP(E1302,'Reference Data'!C:C,1,FALSE)),\"PLEASE SELECT A BANK FROM DEFINED LIST PROVIDED\",\"\")),\"\")","v":""},"No Entry",0]
[null,null,null,null,null,null,null,null,null,null,null,null,"",{"$f":"IF(D1303=\"Cash and Deposits\",IF(E1303=\"\",\"BANK NAME REQUIRED\",IF(ISERROR(VLOOKUP(E1303,'Reference Data'!C:C,1,FALSE)),\"PLEASE SELECT A BANK FROM DEFINED LIST PROVIDED\",\"\")),\"\")","v":""},"No Entry",0]
[null,null,null,null,null,null,null,null,null,null,null,null,"",{"$f":"IF(D1304=\"Cash and Deposits\",IF(E1304=\"\",\"BANK NAME REQUIRED\",IF(ISERROR(VLOOKUP(E1304,'Reference Data'!C:C,1,FALSE)),\"PLEASE SELECT A BANK FROM DEFINED LIST PROVIDED\",\"\")),\"\")","v":""},"No Entry",0]
[null,null,null,null,null,null,null,null,null,null,null,null,"",{"$f":"IF(D1305=\"Cash and Deposits\",IF(E1305=\"\",\"BANK NAME REQUIRED\",IF(ISERROR(VLOOKUP(E1305,'Reference Data'!C:C,1,FALSE)),\"PLEASE SELECT A BANK FROM DEFINED LIST PROVIDED\",\"\")),\"\")","v":""},"No Entry",0]
[null,null,null,null,null,null,null,null,null,null,null,null,"",{"$f":"IF(D1306=\"Cash and Deposits\",IF(E1306=\"\",\"BANK NAME REQUIRED\",IF(ISERROR(VLOOKUP(E1306,'Reference Data'!C:C,1,FALSE)),\"PLEASE SELECT A BANK FROM DEFINED LIST PROVIDED\",\"\")),\"\")","v":""},"No Entry",0]
[null,null,null,null,null,null,null,null,null,null,null,null,"",{"$f":"IF(D1307=\"Cash and Deposits\",IF(E1307=\"\",\"BANK NAME REQUIRED\",IF(ISERROR(VLOOKUP(E1307,'Reference Data'!C:C,1,FALSE)),\"PLEASE SELECT A BANK FROM DEFINED LIST PROVIDED\",\"\")),\"\")","v":""},"No Entry",0]
[null,null,null,null,null,null,null,null,null,null,null,null,"",{"$f":"IF(D1308=\"Cash and Deposits\",IF(E1308=\"\",\"BANK NAME REQUIRED\",IF(ISERROR(VLOOKUP(E1308,'Reference Data'!C:C,1,FALSE)),\"PLEASE SELECT A BANK FROM DEFINED LIST PROVIDED\",\"\")),\"\")","v":""},"No Entry",0]
[null,null,null,null,null,null,null,null,null,null,null,null,"",{"$f":"IF(D1309=\"Cash and Deposits\",IF(E1309=\"\",\"BANK NAME REQUIRED\",IF(ISERROR(VLOOKUP(E1309,'Reference Data'!C:C,1,FALSE)),\"PLEASE SELECT A BANK FROM DEFINED LIST PROVIDED\",\"\")),\"\")","v":""},"No Entry",0]
[null,null,null,null,null,null,null,null,null,null,null,null,"",{"$f":"IF(D1310=\"Cash and Deposits\",IF(E1310=\"\",\"BANK NAME REQUIRED\",IF(ISERROR(VLOOKUP(E1310,'Reference Data'!C:C,1,FALSE)),\"PLEASE SELECT A BANK FROM DEFINED LIST PROVIDED\",\"\")),\"\")","v":""},"No Entry",0]
[null,null,null,null,null,null,null,null,null,null,null,null,"",{"$f":"IF(D1311=\"Cash and Deposits\",IF(E1311=\"\",\"BANK NAME REQUIRED\",IF(ISERROR(VLOOKUP(E1311,'Reference Data'!C:C,1,FALSE)),\"PLEASE SELECT A BANK FROM DEFINED LIST PROVIDED\",\"\")),\"\")","v":""},"No Entry",0]
[null,null,null,null,null,null,null,null,null,null,null,null,"",{"$f":"IF(D1312=\"Cash and Deposits\",IF(E1312=\"\",\"BANK NAME REQUIRED\",IF(ISERROR(VLOOKUP(E1312,'Reference Data'!C:C,1,FALSE)),\"PLEASE SELECT A BANK FROM DEFINED LIST PROVIDED\",\"\")),\"\")","v":""},"No Entry",0]
[null,null,null,null,null,null,null,null,null,null,null,null,"",{"$f":"IF(D1313=\"Cash and Deposits\",IF(E1313=\"\",\"BANK NAME REQUIRED\",IF(ISERROR(VLOOKUP(E1313,'Reference Data'!C:C,1,FALSE)),\"PLEASE SELECT A BANK FROM DEFINED LIST PROVIDED\",\"\")),\"\")","v":""},"No Entry",0]
[null,null,null,null,null,null,null,null,null,null,null,null,"",{"$f":"IF(D1314=\"Cash and Deposits\",IF(E1314=\"\",\"BANK NAME REQUIRED\",IF(ISERROR(VLOOKUP(E1314,'Reference Data'!C:C,1,FALSE)),\"PLEASE SELECT A BANK FROM DEFINED LIST PROVIDED\",\"\")),\"\")","v":""},"No Entry",0]
[null,null,null,null,null,null,null,null,null,null,null,null,"",{"$f":"IF(D1315=\"Cash and Deposits\",IF(E1315=\"\",\"BANK NAME REQUIRED\",IF(ISERROR(VLOOKUP(E1315,'Reference Data'!C:C,1,FALSE)),\"PLEASE SELECT A BANK FROM DEFINED LIST PROVIDED\",\"\")),\"\")","v":""},"No Entry",0]
[null,null,null,null,null,null,null,null,null,null,null,null,"",{"$f":"IF(D1316=\"Cash and Deposits\",IF(E1316=\"\",\"BANK NAME REQUIRED\",IF(ISERROR(VLOOKUP(E1316,'Reference Data'!C:C,1,FALSE)),\"PLEASE SELECT A BANK FROM DEFINED LIST PROVIDED\",\"\")),\"\")","v":""},"No Entry",0]
[null,null,null,null,null,null,null,null,null,null,null,null,"",{"$f":"IF(D1317=\"Cash and Deposits\",IF(E1317=\"\",\"BANK NAME REQUIRED\",IF(ISERROR(VLOOKUP(E1317,'Reference Data'!C:C,1,FALSE)),\"PLEASE SELECT A BANK FROM DEFINED LIST PROVIDED\",\"\")),\"\")","v":""},"No Entry",0]
[null,null,null,null,null,null,null,null,null,null,null,null,"",{"$f":"IF(D1318=\"Cash and Deposits\",IF(E1318=\"\",\"BANK NAME REQUIRED\",IF(ISERROR(VLOOKUP(E1318,'Reference Data'!C:C,1,FALSE)),\"PLEASE SELECT A BANK FROM DEFINED LIST PROVIDED\",\"\")),\"\")","v":""},"No Entry",0]
[null,null,null,null,null,null,null,null,null,null,null,null,"",{"$f":"IF(D1319=\"Cash and Deposits\",IF(E1319=\"\",\"BANK NAME REQUIRED\",IF(ISERROR(VLOOKUP(E1319,'Reference Data'!C:C,1,FALSE)),\"PLEASE SELECT A BANK FROM DEFINED LIST PROVIDED\",\"\")),\"\")","v":""},"No Entry",0]
[null,null,null,null,null,null,null,null,null,null,null,null,"",{"$f":"IF(D1320=\"Cash and Deposits\",IF(E1320=\"\",\"BANK NAME REQUIRED\",IF(ISERROR(VLOOKUP(E1320,'Reference Data'!C:C,1,FALSE)),\"PLEASE SELECT A BANK FROM DEFINED LIST PROVIDED\",\"\")),\"\")","v":""},"No Entry",0]
[null,null,null,null,null,null,null,null,null,null,null,null,"",{"$f":"IF(D1321=\"Cash and Deposits\",IF(E1321=\"\",\"BANK NAME REQUIRED\",IF(ISERROR(VLOOKUP(E1321,'Reference Data'!C:C,1,FALSE)),\"PLEASE SELECT A BANK FROM DEFINED LIST PROVIDED\",\"\")),\"\")","v":""},"No Entry",0]
[null,null,null,null,null,null,null,null,null,null,null,null,"",{"$f":"IF(D1322=\"Cash and Deposits\",IF(E1322=\"\",\"BANK NAME REQUIRED\",IF(ISERROR(VLOOKUP(E1322,'Reference Data'!C:C,1,FALSE)),\"PLEASE SELECT A BANK FROM DEFINED LIST PROVIDED\",\"\")),\"\")","v":""},"No Entry",0]
[null,null,null,null,null,null,null,null,null,null,null,null,"",{"$f":"IF(D1323=\"Cash and Deposits\",IF(E1323=\"\",\"BANK NAME REQUIRED\",IF(ISERROR(VLOOKUP(E1323,'Reference Data'!C:C,1,FALSE)),\"PLEASE SELECT A BANK FROM DEFINED LIST PROVIDED\",\"\")),\"\")","v":""},"No Entry",0]
[null,null,null,null,null,null,null,null,null,null,null,null,"",{"$f":"IF(D1324=\"Cash and Deposits\",IF(E1324=\"\",\"BANK NAME REQUIRED\",IF(ISERROR(VLOOKUP(E1324,'Reference Data'!C:C,1,FALSE)),\"PLEASE SELECT A BANK FROM DEFINED LIST PROVIDED\",\"\")),\"\")","v":""},"No Entry",0]
[null,null,null,null,null,null,null,null,null,null,null,null,"",{"$f":"IF(D1325=\"Cash and Deposits\",IF(E1325=\"\",\"BANK NAME REQUIRED\",IF(ISERROR(VLOOKUP(E1325,'Reference Data'!C:C,1,FALSE)),\"PLEASE SELECT A BANK FROM DEFINED LIST PROVIDED\",\"\")),\"\")","v":""},"No Entry",0]
[null,null,null,null,null,null,null,null,null,null,null,null,"",{"$f":"IF(D1326=\"Cash and Deposits\",IF(E1326=\"\",\"BANK NAME REQUIRED\",IF(ISERROR(VLOOKUP(E1326,'Reference Data'!C:C,1,FALSE)),\"PLEASE SELECT A BANK FROM DEFINED LIST PROVIDED\",\"\")),\"\")","v":""},"No Entry",0]
[null,null,null,null,null,null,null,null,null,null,null,null,"",{"$f":"IF(D1327=\"Cash and Deposits\",IF(E1327=\"\",\"BANK NAME REQUIRED\",IF(ISERROR(VLOOKUP(E1327,'Reference Data'!C:C,1,FALSE)),\"PLEASE SELECT A BANK FROM DEFINED LIST PROVIDED\",\"\")),\"\")","v":""},"No Entry",0]
[null,null,null,null,null,null,null,null,null,null,null,null,"",{"$f":"IF(D1328=\"Cash and Deposits\",IF(E1328=\"\",\"BANK NAME REQUIRED\",IF(ISERROR(VLOOKUP(E1328,'Reference Data'!C:C,1,FALSE)),\"PLEASE SELECT A BANK FROM DEFINED LIST PROVIDED\",\"\")),\"\")","v":""},"No Entry",0]
[null,null,null,null,null,null,null,null,null,null,null,null,"",{"$f":"IF(D1329=\"Cash and Deposits\",IF(E1329=\"\",\"BANK NAME REQUIRED\",IF(ISERROR(VLOOKUP(E1329,'Reference Data'!C:C,1,FALSE)),\"PLEASE SELECT A BANK FROM DEFINED LIST PROVIDED\",\"\")),\"\")","v":""},"No Entry",0]
[null,null,null,null,null,null,null,null,null,null,null,null,"",{"$f":"IF(D1330=\"Cash and Deposits\",IF(E1330=\"\",\"BANK NAME REQUIRED\",IF(ISERROR(VLOOKUP(E1330,'Reference Data'!C:C,1,FALSE)),\"PLEASE SELECT A BANK FROM DEFINED LIST PROVIDED\",\"\")),\"\")","v":""},"No Entry",0]
[null,null,null,null,null,null,null,null,null,null,null,null,"",{"$f":"IF(D1331=\"Cash and Deposits\",IF(E1331=\"\",\"BANK NAME REQUIRED\",IF(ISERROR(VLOOKUP(E1331,'Reference Data'!C:C,1,FALSE)),\"PLEASE SELECT A BANK FROM DEFINED LIST PROVIDED\",\"\")),\"\")","v":""},"No Entry",0]
[null,null,null,null,null,null,null,null,null,null,null,null,"",{"$f":"IF(D1332=\"Cash and Deposits\",IF(E1332=\"\",\"BANK NAME REQUIRED\",IF(ISERROR(VLOOKUP(E1332,'Reference Data'!C:C,1,FALSE)),\"PLEASE SELECT A BANK FROM DEFINED LIST PROVIDED\",\"\")),\"\")","v":""},"No Entry",0]
[null,null,null,null,null,null,null,null,null,null,null,null,"",{"$f":"IF(D1333=\"Cash and Deposits\",IF(E1333=\"\",\"BANK NAME REQUIRED\",IF(ISERROR(VLOOKUP(E1333,'Reference Data'!C:C,1,FALSE)),\"PLEASE SELECT A BANK FROM DEFINED LIST PROVIDED\",\"\")),\"\")","v":""},"No Entry",0]
[null,null,null,null,null,null,null,null,null,null,null,null,"",{"$f":"IF(D1334=\"Cash and Deposits\",IF(E1334=\"\",\"BANK NAME REQUIRED\",IF(ISERROR(VLOOKUP(E1334,'Reference Data'!C:C,1,FALSE)),\"PLEASE SELECT A BANK FROM DEFINED LIST PROVIDED\",\"\")),\"\")","v":""},"No Entry",0]
[null,null,null,null,null,null,null,null,null,null,null,null,"",{"$f":"IF(D1335=\"Cash and Deposits\",IF(E1335=\"\",\"BANK NAME REQUIRED\",IF(ISERROR(VLOOKUP(E1335,'Reference Data'!C:C,1,FALSE)),\"PLEASE SELECT A BANK FROM DEFINED LIST PROVIDED\",\"\")),\"\")","v":""},"No Entry",0]
[null,null,null,null,null,null,null,null,null,null,null,null,"",{"$f":"IF(D1336=\"Cash and Deposits\",IF(E1336=\"\",\"BANK NAME REQUIRED\",IF(ISERROR(VLOOKUP(E1336,'Reference Data'!C:C,1,FALSE)),\"PLEASE SELECT A BANK FROM DEFINED LIST PROVIDED\",\"\")),\"\")","v":""},"No Entry",0]
[null,null,null,null,null,null,null,null,null,null,null,null,"",{"$f":"IF(D1337=\"Cash and Deposits\",IF(E1337=\"\",\"BANK NAME REQUIRED\",IF(ISERROR(VLOOKUP(E1337,'Reference Data'!C:C,1,FALSE)),\"PLEASE SELECT A BANK FROM DEFINED LIST PROVIDED\",\"\")),\"\")","v":""},"No Entry",0]
[null,null,null,null,null,null,null,null,null,null,null,null,"",{"$f":"IF(D1338=\"Cash and Deposits\",IF(E1338=\"\",\"BANK NAME REQUIRED\",IF(ISERROR(VLOOKUP(E1338,'Reference Data'!C:C,1,FALSE)),\"PLEASE SELECT A BANK FROM DEFINED LIST PROVIDED\",\"\")),\"\")","v":""},"No Entry",0]
[null,null,null,null,null,null,null,null,null,null,null,null,"",{"$f":"IF(D1339=\"Cash and Deposits\",IF(E1339=\"\",\"BANK NAME REQUIRED\",IF(ISERROR(VLOOKUP(E1339,'Reference Data'!C:C,1,FALSE)),\"PLEASE SELECT A BANK FROM DEFINED LIST PROVIDED\",\"\")),\"\")","v":""},"No Entry",0]
[null,null,null,null,null,null,null,null,null,null,null,null,"",{"$f":"IF(D1340=\"Cash and Deposits\",IF(E1340=\"\",\"BANK NAME REQUIRED\",IF(ISERROR(VLOOKUP(E1340,'Reference Data'!C:C,1,FALSE)),\"PLEASE SELECT A BANK FROM DEFINED LIST PROVIDED\",\"\")),\"\")","v":""},"No Entry",0]
[null,null,null,null,null,null,null,null,null,null,null,null,"",{"$f":"IF(D1341=\"Cash and Deposits\",IF(E1341=\"\",\"BANK NAME REQUIRED\",IF(ISERROR(VLOOKUP(E1341,'Reference Data'!C:C,1,FALSE)),\"PLEASE SELECT A BANK FROM DEFINED LIST PROVIDED\",\"\")),\"\")","v":""},"No Entry",0]
[null,null,null,null,null,null,null,null,null,null,null,null,"",{"$f":"IF(D1342=\"Cash and Deposits\",IF(E1342=\"\",\"BANK NAME REQUIRED\",IF(ISERROR(VLOOKUP(E1342,'Reference Data'!C:C,1,FALSE)),\"PLEASE SELECT A BANK FROM DEFINED LIST PROVIDED\",\"\")),\"\")","v":""},"No Entry",0]
[null,null,null,null,null,null,null,null,null,null,null,null,"",{"$f":"IF(D1343=\"Cash and Deposits\",IF(E1343=\"\",\"BANK NAME REQUIRED\",IF(ISERROR(VLOOKUP(E1343,'Reference Data'!C:C,1,FALSE)),\"PLEASE SELECT A BANK FROM DEFINED LIST PROVIDED\",\"\")),\"\")","v":""},"No Entry",0]
[null,null,null,null,null,null,null,null,null,null,null,null,"",{"$f":"IF(D1344=\"Cash and Deposits\",IF(E1344=\"\",\"BANK NAME REQUIRED\",IF(ISERROR(VLOOKUP(E1344,'Reference Data'!C:C,1,FALSE)),\"PLEASE SELECT A BANK FROM DEFINED LIST PROVIDED\",\"\")),\"\")","v":""},"No Entry",0]
[null,null,null,null,null,null,null,null,null,null,null,null,"",{"$f":"IF(D1345=\"Cash and Deposits\",IF(E1345=\"\",\"BANK NAME REQUIRED\",IF(ISERROR(VLOOKUP(E1345,'Reference Data'!C:C,1,FALSE)),\"PLEASE SELECT A BANK FROM DEFINED LIST PROVIDED\",\"\")),\"\")","v":""},"No Entry",0]
[null,null,null,null,null,null,null,null,null,null,null,null,"",{"$f":"IF(D1346=\"Cash and Deposits\",IF(E1346=\"\",\"BANK NAME REQUIRED\",IF(ISERROR(VLOOKUP(E1346,'Reference Data'!C:C,1,FALSE)),\"PLEASE SELECT A BANK FROM DEFINED LIST PROVIDED\",\"\")),\"\")","v":""},"No Entry",0]
[null,null,null,null,null,null,null,null,null,null,null,null,"",{"$f":"IF(D1347=\"Cash and Deposits\",IF(E1347=\"\",\"BANK NAME REQUIRED\",IF(ISERROR(VLOOKUP(E1347,'Reference Data'!C:C,1,FALSE)),\"PLEASE SELECT A BANK FROM DEFINED LIST PROVIDED\",\"\")),\"\")","v":""},"No Entry",0]
[null,null,null,null,null,null,null,null,null,null,null,null,"",{"$f":"IF(D1348=\"Cash and Deposits\",IF(E1348=\"\",\"BANK NAME REQUIRED\",IF(ISERROR(VLOOKUP(E1348,'Reference Data'!C:C,1,FALSE)),\"PLEASE SELECT A BANK FROM DEFINED LIST PROVIDED\",\"\")),\"\")","v":""},"No Entry",0]
[null,null,null,null,null,null,null,null,null,null,null,null,{"$f":"IF(K1349<>0,IF(B1349=\"\",\"ID CODE REQUIRED\",\"\"),\"\")","v":""},{"$f":"IF(D1349=\"Cash and Deposits\",IF(E1349=\"\",\"BANK NAME REQUIRED\",IF(ISERROR(VLOOKUP(E1349,'Reference Data'!C:C,1,FALSE)),\"PLEASE SELECT A BANK FROM DEFINED LIST PROVIDED\",\"\")),\"\")","v":""},{"$f":"IF(K1349=0,\"No Entry\",\"\")","v":"No Entry"},{"$f":"IF(K1349<>0,IF(A1349=\"\",1,0),0)","v":0}]
[null,null,null,null,null,null,null,null,null,null,null,null,"",{"$f":"IF(D1350=\"Cash and Deposits\",IF(E1350=\"\",\"BANK NAME REQUIRED\",IF(ISERROR(VLOOKUP(E1350,'Reference Data'!C:C,1,FALSE)),\"PLEASE SELECT A BANK FROM DEFINED LIST PROVIDED\",\"\")),\"\")","v":""},"No Entry",0]
[null,null,null,null,null,null,null,null,null,null,null,null,"",{"$f":"IF(D1351=\"Cash and Deposits\",IF(E1351=\"\",\"BANK NAME REQUIRED\",IF(ISERROR(VLOOKUP(E1351,'Reference Data'!C:C,1,FALSE)),\"PLEASE SELECT A BANK FROM DEFINED LIST PROVIDED\",\"\")),\"\")","v":""},"No Entry",0]
[null,null,null,null,null,null,null,null,null,null,null,null,"",{"$f":"IF(D1352=\"Cash and Deposits\",IF(E1352=\"\",\"BANK NAME REQUIRED\",IF(ISERROR(VLOOKUP(E1352,'Reference Data'!C:C,1,FALSE)),\"PLEASE SELECT A BANK FROM DEFINED LIST PROVIDED\",\"\")),\"\")","v":""},"No Entry",0]
[null,null,null,null,null,null,null,null,null,null,null,null,"",{"$f":"IF(D1353=\"Cash and Deposits\",IF(E1353=\"\",\"BANK NAME REQUIRED\",IF(ISERROR(VLOOKUP(E1353,'Reference Data'!C:C,1,FALSE)),\"PLEASE SELECT A BANK FROM DEFINED LIST PROVIDED\",\"\")),\"\")","v":""},"No Entry",0]
[null,null,null,null,null,null,null,null,null,null,null,null,"",{"$f":"IF(D1354=\"Cash and Deposits\",IF(E1354=\"\",\"BANK NAME REQUIRED\",IF(ISERROR(VLOOKUP(E1354,'Reference Data'!C:C,1,FALSE)),\"PLEASE SELECT A BANK FROM DEFINED LIST PROVIDED\",\"\")),\"\")","v":""},"No Entry",0]
[null,null,null,null,null,null,null,null,null,null,null,null,"",{"$f":"IF(D1355=\"Cash and Deposits\",IF(E1355=\"\",\"BANK NAME REQUIRED\",IF(ISERROR(VLOOKUP(E1355,'Reference Data'!C:C,1,FALSE)),\"PLEASE SELECT A BANK FROM DEFINED LIST PROVIDED\",\"\")),\"\")","v":""},"No Entry",0]
[null,null,null,null,null,null,null,null,null,null,null,null,"",{"$f":"IF(D1356=\"Cash and Deposits\",IF(E1356=\"\",\"BANK NAME REQUIRED\",IF(ISERROR(VLOOKUP(E1356,'Reference Data'!C:C,1,FALSE)),\"PLEASE SELECT A BANK FROM DEFINED LIST PROVIDED\",\"\")),\"\")","v":""},"No Entry",0]
[null,null,null,null,null,null,null,null,null,null,null,null,"",{"$f":"IF(D1357=\"Cash and Deposits\",IF(E1357=\"\",\"BANK NAME REQUIRED\",IF(ISERROR(VLOOKUP(E1357,'Reference Data'!C:C,1,FALSE)),\"PLEASE SELECT A BANK FROM DEFINED LIST PROVIDED\",\"\")),\"\")","v":""},"No Entry",0]
[null,null,null,null,null,null,null,null,null,null,null,null,"",{"$f":"IF(D1358=\"Cash and Deposits\",IF(E1358=\"\",\"BANK NAME REQUIRED\",IF(ISERROR(VLOOKUP(E1358,'Reference Data'!C:C,1,FALSE)),\"PLEASE SELECT A BANK FROM DEFINED LIST PROVIDED\",\"\")),\"\")","v":""},"No Entry",0]
[null,null,null,null,null,null,null,null,null,null,null,null,"",{"$f":"IF(D1359=\"Cash and Deposits\",IF(E1359=\"\",\"BANK NAME REQUIRED\",IF(ISERROR(VLOOKUP(E1359,'Reference Data'!C:C,1,FALSE)),\"PLEASE SELECT A BANK FROM DEFINED LIST PROVIDED\",\"\")),\"\")","v":""},"No Entry",0]
[null,null,null,null,null,null,null,null,null,null,null,null,"",{"$f":"IF(D1360=\"Cash and Deposits\",IF(E1360=\"\",\"BANK NAME REQUIRED\",IF(ISERROR(VLOOKUP(E1360,'Reference Data'!C:C,1,FALSE)),\"PLEASE SELECT A BANK FROM DEFINED LIST PROVIDED\",\"\")),\"\")","v":""},"No Entry",0]
[null,null,null,null,null,null,null,null,null,null,null,null,"",{"$f":"IF(D1361=\"Cash and Deposits\",IF(E1361=\"\",\"BANK NAME REQUIRED\",IF(ISERROR(VLOOKUP(E1361,'Reference Data'!C:C,1,FALSE)),\"PLEASE SELECT A BANK FROM DEFINED LIST PROVIDED\",\"\")),\"\")","v":""},"No Entry",0]
[null,null,null,null,null,null,null,null,null,null,null,null,"",{"$f":"IF(D1362=\"Cash and Deposits\",IF(E1362=\"\",\"BANK NAME REQUIRED\",IF(ISERROR(VLOOKUP(E1362,'Reference Data'!C:C,1,FALSE)),\"PLEASE SELECT A BANK FROM DEFINED LIST PROVIDED\",\"\")),\"\")","v":""},"No Entry",0]
[null,null,null,null,null,null,null,null,null,null,null,null,"",{"$f":"IF(D1363=\"Cash and Deposits\",IF(E1363=\"\",\"BANK NAME REQUIRED\",IF(ISERROR(VLOOKUP(E1363,'Reference Data'!C:C,1,FALSE)),\"PLEASE SELECT A BANK FROM DEFINED LIST PROVIDED\",\"\")),\"\")","v":""},"No Entry",0]
[null,null,null,null,null,null,null,null,null,null,null,null,"",{"$f":"IF(D1364=\"Cash and Deposits\",IF(E1364=\"\",\"BANK NAME REQUIRED\",IF(ISERROR(VLOOKUP(E1364,'Reference Data'!C:C,1,FALSE)),\"PLEASE SELECT A BANK FROM DEFINED LIST PROVIDED\",\"\")),\"\")","v":""},"No Entry",0]
[null,null,null,null,null,null,null,null,null,null,null,null,"",{"$f":"IF(D1365=\"Cash and Deposits\",IF(E1365=\"\",\"BANK NAME REQUIRED\",IF(ISERROR(VLOOKUP(E1365,'Reference Data'!C:C,1,FALSE)),\"PLEASE SELECT A BANK FROM DEFINED LIST PROVIDED\",\"\")),\"\")","v":""},"No Entry",0]
[null,null,null,null,null,null,null,null,null,null,null,null,"",{"$f":"IF(D1366=\"Cash and Deposits\",IF(E1366=\"\",\"BANK NAME REQUIRED\",IF(ISERROR(VLOOKUP(E1366,'Reference Data'!C:C,1,FALSE)),\"PLEASE SELECT A BANK FROM DEFINED LIST PROVIDED\",\"\")),\"\")","v":""},"No Entry",0]
[null,null,null,null,null,null,null,null,null,null,null,null,"",{"$f":"IF(D1367=\"Cash and Deposits\",IF(E1367=\"\",\"BANK NAME REQUIRED\",IF(ISERROR(VLOOKUP(E1367,'Reference Data'!C:C,1,FALSE)),\"PLEASE SELECT A BANK FROM DEFINED LIST PROVIDED\",\"\")),\"\")","v":""},"No Entry",0]
[null,null,null,null,null,null,null,null,null,null,null,null,"",{"$f":"IF(D1368=\"Cash and Deposits\",IF(E1368=\"\",\"BANK NAME REQUIRED\",IF(ISERROR(VLOOKUP(E1368,'Reference Data'!C:C,1,FALSE)),\"PLEASE SELECT A BANK FROM DEFINED LIST PROVIDED\",\"\")),\"\")","v":""},"No Entry",0]
[null,null,null,null,null,null,null,null,null,null,null,null,"",{"$f":"IF(D1369=\"Cash and Deposits\",IF(E1369=\"\",\"BANK NAME REQUIRED\",IF(ISERROR(VLOOKUP(E1369,'Reference Data'!C:C,1,FALSE)),\"PLEASE SELECT A BANK FROM DEFINED LIST PROVIDED\",\"\")),\"\")","v":""},"No Entry",0]
[null,null,null,null,null,null,null,null,null,null,null,null,"",{"$f":"IF(D1370=\"Cash and Deposits\",IF(E1370=\"\",\"BANK NAME REQUIRED\",IF(ISERROR(VLOOKUP(E1370,'Reference Data'!C:C,1,FALSE)),\"PLEASE SELECT A BANK FROM DEFINED LIST PROVIDED\",\"\")),\"\")","v":""},"No Entry",0]
[null,null,null,null,null,null,null,null,null,null,null,null,"",{"$f":"IF(D1371=\"Cash and Deposits\",IF(E1371=\"\",\"BANK NAME REQUIRED\",IF(ISERROR(VLOOKUP(E1371,'Reference Data'!C:C,1,FALSE)),\"PLEASE SELECT A BANK FROM DEFINED LIST PROVIDED\",\"\")),\"\")","v":""},"No Entry",0]
[null,null,null,null,null,null,null,null,null,null,null,null,"",{"$f":"IF(D1372=\"Cash and Deposits\",IF(E1372=\"\",\"BANK NAME REQUIRED\",IF(ISERROR(VLOOKUP(E1372,'Reference Data'!C:C,1,FALSE)),\"PLEASE SELECT A BANK FROM DEFINED LIST PROVIDED\",\"\")),\"\")","v":""},"No Entry",0]
[null,null,null,null,null,null,null,null,null,null,null,null,"",{"$f":"IF(D1373=\"Cash and Deposits\",IF(E1373=\"\",\"BANK NAME REQUIRED\",IF(ISERROR(VLOOKUP(E1373,'Reference Data'!C:C,1,FALSE)),\"PLEASE SELECT A BANK FROM DEFINED LIST PROVIDED\",\"\")),\"\")","v":""},"No Entry",0]
[null,null,null,null,null,null,null,null,null,null,null,null,"",{"$f":"IF(D1374=\"Cash and Deposits\",IF(E1374=\"\",\"BANK NAME REQUIRED\",IF(ISERROR(VLOOKUP(E1374,'Reference Data'!C:C,1,FALSE)),\"PLEASE SELECT A BANK FROM DEFINED LIST PROVIDED\",\"\")),\"\")","v":""},"No Entry",0]
[null,null,null,null,null,null,null,null,null,null,null,null,"",{"$f":"IF(D1375=\"Cash and Deposits\",IF(E1375=\"\",\"BANK NAME REQUIRED\",IF(ISERROR(VLOOKUP(E1375,'Reference Data'!C:C,1,FALSE)),\"PLEASE SELECT A BANK FROM DEFINED LIST PROVIDED\",\"\")),\"\")","v":""},"No Entry",0]
[null,null,null,null,null,null,null,null,null,null,null,null,"",{"$f":"IF(D1376=\"Cash and Deposits\",IF(E1376=\"\",\"BANK NAME REQUIRED\",IF(ISERROR(VLOOKUP(E1376,'Reference Data'!C:C,1,FALSE)),\"PLEASE SELECT A BANK FROM DEFINED LIST PROVIDED\",\"\")),\"\")","v":""},"No Entry",0]
[null,null,null,null,null,null,null,null,null,null,null,null,"",{"$f":"IF(D1377=\"Cash and Deposits\",IF(E1377=\"\",\"BANK NAME REQUIRED\",IF(ISERROR(VLOOKUP(E1377,'Reference Data'!C:C,1,FALSE)),\"PLEASE SELECT A BANK FROM DEFINED LIST PROVIDED\",\"\")),\"\")","v":""},"No Entry",0]
[null,null,null,null,null,null,null,null,null,null,null,null,"",{"$f":"IF(D1378=\"Cash and Deposits\",IF(E1378=\"\",\"BANK NAME REQUIRED\",IF(ISERROR(VLOOKUP(E1378,'Reference Data'!C:C,1,FALSE)),\"PLEASE SELECT A BANK FROM DEFINED LIST PROVIDED\",\"\")),\"\")","v":""},"No Entry",0]
[null,null,null,null,null,null,null,null,null,null,null,null,"",{"$f":"IF(D1379=\"Cash and Deposits\",IF(E1379=\"\",\"BANK NAME REQUIRED\",IF(ISERROR(VLOOKUP(E1379,'Reference Data'!C:C,1,FALSE)),\"PLEASE SELECT A BANK FROM DEFINED LIST PROVIDED\",\"\")),\"\")","v":""},"No Entry",0]
[null,null,null,null,null,null,null,null,null,null,null,null,"",{"$f":"IF(D1380=\"Cash and Deposits\",IF(E1380=\"\",\"BANK NAME REQUIRED\",IF(ISERROR(VLOOKUP(E1380,'Reference Data'!C:C,1,FALSE)),\"PLEASE SELECT A BANK FROM DEFINED LIST PROVIDED\",\"\")),\"\")","v":""},"No Entry",0]
[null,null,null,null,null,null,null,null,null,null,null,null,"",{"$f":"IF(D1381=\"Cash and Deposits\",IF(E1381=\"\",\"BANK NAME REQUIRED\",IF(ISERROR(VLOOKUP(E1381,'Reference Data'!C:C,1,FALSE)),\"PLEASE SELECT A BANK FROM DEFINED LIST PROVIDED\",\"\")),\"\")","v":""},"No Entry",0]
[null,null,null,null,null,null,null,null,null,null,null,null,"",{"$f":"IF(D1382=\"Cash and Deposits\",IF(E1382=\"\",\"BANK NAME REQUIRED\",IF(ISERROR(VLOOKUP(E1382,'Reference Data'!C:C,1,FALSE)),\"PLEASE SELECT A BANK FROM DEFINED LIST PROVIDED\",\"\")),\"\")","v":""},"No Entry",0]
[null,null,null,null,null,null,null,null,null,null,null,null,"",{"$f":"IF(D1383=\"Cash and Deposits\",IF(E1383=\"\",\"BANK NAME REQUIRED\",IF(ISERROR(VLOOKUP(E1383,'Reference Data'!C:C,1,FALSE)),\"PLEASE SELECT A BANK FROM DEFINED LIST PROVIDED\",\"\")),\"\")","v":""},"No Entry",0]
[null,null,null,null,null,null,null,null,null,null,null,null,"",{"$f":"IF(D1384=\"Cash and Deposits\",IF(E1384=\"\",\"BANK NAME REQUIRED\",IF(ISERROR(VLOOKUP(E1384,'Reference Data'!C:C,1,FALSE)),\"PLEASE SELECT A BANK FROM DEFINED LIST PROVIDED\",\"\")),\"\")","v":""},"No Entry",0]
[null,null,null,null,null,null,null,null,null,null,null,null,"",{"$f":"IF(D1385=\"Cash and Deposits\",IF(E1385=\"\",\"BANK NAME REQUIRED\",IF(ISERROR(VLOOKUP(E1385,'Reference Data'!C:C,1,FALSE)),\"PLEASE SELECT A BANK FROM DEFINED LIST PROVIDED\",\"\")),\"\")","v":""},"No Entry",0]
[null,null,null,null,null,null,null,null,null,null,null,null,"",{"$f":"IF(D1386=\"Cash and Deposits\",IF(E1386=\"\",\"BANK NAME REQUIRED\",IF(ISERROR(VLOOKUP(E1386,'Reference Data'!C:C,1,FALSE)),\"PLEASE SELECT A BANK FROM DEFINED LIST PROVIDED\",\"\")),\"\")","v":""},"No Entry",0]
[null,null,null,null,null,null,null,null,null,null,null,null,"",{"$f":"IF(D1387=\"Cash and Deposits\",IF(E1387=\"\",\"BANK NAME REQUIRED\",IF(ISERROR(VLOOKUP(E1387,'Reference Data'!C:C,1,FALSE)),\"PLEASE SELECT A BANK FROM DEFINED LIST PROVIDED\",\"\")),\"\")","v":""},"No Entry",0]
[null,null,null,null,null,null,null,null,null,null,null,null,"",{"$f":"IF(D1388=\"Cash and Deposits\",IF(E1388=\"\",\"BANK NAME REQUIRED\",IF(ISERROR(VLOOKUP(E1388,'Reference Data'!C:C,1,FALSE)),\"PLEASE SELECT A BANK FROM DEFINED LIST PROVIDED\",\"\")),\"\")","v":""},"No Entry",0]
[null,null,null,null,null,null,null,null,null,null,null,null,"",{"$f":"IF(D1389=\"Cash and Deposits\",IF(E1389=\"\",\"BANK NAME REQUIRED\",IF(ISERROR(VLOOKUP(E1389,'Reference Data'!C:C,1,FALSE)),\"PLEASE SELECT A BANK FROM DEFINED LIST PROVIDED\",\"\")),\"\")","v":""},"No Entry",0]
[null,null,null,null,null,null,null,null,null,null,null,null,"",{"$f":"IF(D1390=\"Cash and Deposits\",IF(E1390=\"\",\"BANK NAME REQUIRED\",IF(ISERROR(VLOOKUP(E1390,'Reference Data'!C:C,1,FALSE)),\"PLEASE SELECT A BANK FROM DEFINED LIST PROVIDED\",\"\")),\"\")","v":""},"No Entry",0]
[null,null,null,null,null,null,null,null,null,null,null,null,"",{"$f":"IF(D1391=\"Cash and Deposits\",IF(E1391=\"\",\"BANK NAME REQUIRED\",IF(ISERROR(VLOOKUP(E1391,'Reference Data'!C:C,1,FALSE)),\"PLEASE SELECT A BANK FROM DEFINED LIST PROVIDED\",\"\")),\"\")","v":""},"No Entry",0]
[null,null,null,null,null,null,null,null,null,null,null,null,"",{"$f":"IF(D1392=\"Cash and Deposits\",IF(E1392=\"\",\"BANK NAME REQUIRED\",IF(ISERROR(VLOOKUP(E1392,'Reference Data'!C:C,1,FALSE)),\"PLEASE SELECT A BANK FROM DEFINED LIST PROVIDED\",\"\")),\"\")","v":""},"No Entry",0]
[null,null,null,null,null,null,null,null,null,null,null,null,"",{"$f":"IF(D1393=\"Cash and Deposits\",IF(E1393=\"\",\"BANK NAME REQUIRED\",IF(ISERROR(VLOOKUP(E1393,'Reference Data'!C:C,1,FALSE)),\"PLEASE SELECT A BANK FROM DEFINED LIST PROVIDED\",\"\")),\"\")","v":""},"No Entry",0]
[null,null,null,null,null,null,null,null,null,null,null,null,"",{"$f":"IF(D1394=\"Cash and Deposits\",IF(E1394=\"\",\"BANK NAME REQUIRED\",IF(ISERROR(VLOOKUP(E1394,'Reference Data'!C:C,1,FALSE)),\"PLEASE SELECT A BANK FROM DEFINED LIST PROVIDED\",\"\")),\"\")","v":""},"No Entry",0]
[null,null,null,null,null,null,null,null,null,null,null,null,"",{"$f":"IF(D1395=\"Cash and Deposits\",IF(E1395=\"\",\"BANK NAME REQUIRED\",IF(ISERROR(VLOOKUP(E1395,'Reference Data'!C:C,1,FALSE)),\"PLEASE SELECT A BANK FROM DEFINED LIST PROVIDED\",\"\")),\"\")","v":""},"No Entry",0]
[null,null,null,null,null,null,null,null,null,null,null,null,"",{"$f":"IF(D1396=\"Cash and Deposits\",IF(E1396=\"\",\"BANK NAME REQUIRED\",IF(ISERROR(VLOOKUP(E1396,'Reference Data'!C:C,1,FALSE)),\"PLEASE SELECT A BANK FROM DEFINED LIST PROVIDED\",\"\")),\"\")","v":""},"No Entry",0]
[null,null,null,null,null,null,null,null,null,null,null,null,"",{"$f":"IF(D1397=\"Cash and Deposits\",IF(E1397=\"\",\"BANK NAME REQUIRED\",IF(ISERROR(VLOOKUP(E1397,'Reference Data'!C:C,1,FALSE)),\"PLEASE SELECT A BANK FROM DEFINED LIST PROVIDED\",\"\")),\"\")","v":""},"No Entry",0]
[null,null,null,null,null,null,null,null,null,null,null,null,"",{"$f":"IF(D1398=\"Cash and Deposits\",IF(E1398=\"\",\"BANK NAME REQUIRED\",IF(ISERROR(VLOOKUP(E1398,'Reference Data'!C:C,1,FALSE)),\"PLEASE SELECT A BANK FROM DEFINED LIST PROVIDED\",\"\")),\"\")","v":""},"No Entry",0]
[null,null,null,null,null,null,null,null,null,null,null,null,"",{"$f":"IF(D1399=\"Cash and Deposits\",IF(E1399=\"\",\"BANK NAME REQUIRED\",IF(ISERROR(VLOOKUP(E1399,'Reference Data'!C:C,1,FALSE)),\"PLEASE SELECT A BANK FROM DEFINED LIST PROVIDED\",\"\")),\"\")","v":""},"No Entry",0]
[null,null,null,null,null,null,null,null,null,null,null,null,"",{"$f":"IF(D1400=\"Cash and Deposits\",IF(E1400=\"\",\"BANK NAME REQUIRED\",IF(ISERROR(VLOOKUP(E1400,'Reference Data'!C:C,1,FALSE)),\"PLEASE SELECT A BANK FROM DEFINED LIST PROVIDED\",\"\")),\"\")","v":""},"No Entry",0]
[null,null,null,null,null,null,null,null,null,null,null,null,"",{"$f":"IF(D1401=\"Cash and Deposits\",IF(E1401=\"\",\"BANK NAME REQUIRED\",IF(ISERROR(VLOOKUP(E1401,'Reference Data'!C:C,1,FALSE)),\"PLEASE SELECT A BANK FROM DEFINED LIST PROVIDED\",\"\")),\"\")","v":""},"No Entry",0]
[null,null,null,null,null,null,null,null,null,null,null,null,"",{"$f":"IF(D1402=\"Cash and Deposits\",IF(E1402=\"\",\"BANK NAME REQUIRED\",IF(ISERROR(VLOOKUP(E1402,'Reference Data'!C:C,1,FALSE)),\"PLEASE SELECT A BANK FROM DEFINED LIST PROVIDED\",\"\")),\"\")","v":""},"No Entry",0]
[null,null,null,null,null,null,null,null,null,null,null,null,"",{"$f":"IF(D1403=\"Cash and Deposits\",IF(E1403=\"\",\"BANK NAME REQUIRED\",IF(ISERROR(VLOOKUP(E1403,'Reference Data'!C:C,1,FALSE)),\"PLEASE SELECT A BANK FROM DEFINED LIST PROVIDED\",\"\")),\"\")","v":""},"No Entry",0]
[null,null,null,null,null,null,null,null,null,null,null,null,"",{"$f":"IF(D1404=\"Cash and Deposits\",IF(E1404=\"\",\"BANK NAME REQUIRED\",IF(ISERROR(VLOOKUP(E1404,'Reference Data'!C:C,1,FALSE)),\"PLEASE SELECT A BANK FROM DEFINED LIST PROVIDED\",\"\")),\"\")","v":""},"No Entry",0]
[null,null,null,null,null,null,null,null,null,null,null,null,"",{"$f":"IF(D1405=\"Cash and Deposits\",IF(E1405=\"\",\"BANK NAME REQUIRED\",IF(ISERROR(VLOOKUP(E1405,'Reference Data'!C:C,1,FALSE)),\"PLEASE SELECT A BANK FROM DEFINED LIST PROVIDED\",\"\")),\"\")","v":""},"No Entry",0]
[null,null,null,null,null,null,null,null,null,null,null,null,"",{"$f":"IF(D1406=\"Cash and Deposits\",IF(E1406=\"\",\"BANK NAME REQUIRED\",IF(ISERROR(VLOOKUP(E1406,'Reference Data'!C:C,1,FALSE)),\"PLEASE SELECT A BANK FROM DEFINED LIST PROVIDED\",\"\")),\"\")","v":""},"No Entry",0]
[null,null,null,null,null,null,null,null,null,null,null,null,"",{"$f":"IF(D1407=\"Cash and Deposits\",IF(E1407=\"\",\"BANK NAME REQUIRED\",IF(ISERROR(VLOOKUP(E1407,'Reference Data'!C:C,1,FALSE)),\"PLEASE SELECT A BANK FROM DEFINED LIST PROVIDED\",\"\")),\"\")","v":""},"No Entry",0]
[null,null,null,null,null,null,null,null,null,null,null,null,"",{"$f":"IF(D1408=\"Cash and Deposits\",IF(E1408=\"\",\"BANK NAME REQUIRED\",IF(ISERROR(VLOOKUP(E1408,'Reference Data'!C:C,1,FALSE)),\"PLEASE SELECT A BANK FROM DEFINED LIST PROVIDED\",\"\")),\"\")","v":""},"No Entry",0]
[null,null,null,null,null,null,null,null,null,null,null,null,"",{"$f":"IF(D1409=\"Cash and Deposits\",IF(E1409=\"\",\"BANK NAME REQUIRED\",IF(ISERROR(VLOOKUP(E1409,'Reference Data'!C:C,1,FALSE)),\"PLEASE SELECT A BANK FROM DEFINED LIST PROVIDED\",\"\")),\"\")","v":""},"No Entry",0]
[null,null,null,null,null,null,null,null,null,null,null,null,"",{"$f":"IF(D1410=\"Cash and Deposits\",IF(E1410=\"\",\"BANK NAME REQUIRED\",IF(ISERROR(VLOOKUP(E1410,'Reference Data'!C:C,1,FALSE)),\"PLEASE SELECT A BANK FROM DEFINED LIST PROVIDED\",\"\")),\"\")","v":""},"No Entry",0]
[null,null,null,null,null,null,null,null,null,null,null,null,"",{"$f":"IF(D1411=\"Cash and Deposits\",IF(E1411=\"\",\"BANK NAME REQUIRED\",IF(ISERROR(VLOOKUP(E1411,'Reference Data'!C:C,1,FALSE)),\"PLEASE SELECT A BANK FROM DEFINED LIST PROVIDED\",\"\")),\"\")","v":""},"No Entry",0]
[null,null,null,null,null,null,null,null,null,null,null,null,"",{"$f":"IF(D1412=\"Cash and Deposits\",IF(E1412=\"\",\"BANK NAME REQUIRED\",IF(ISERROR(VLOOKUP(E1412,'Reference Data'!C:C,1,FALSE)),\"PLEASE SELECT A BANK FROM DEFINED LIST PROVIDED\",\"\")),\"\")","v":""},"No Entry",0]
[null,null,null,null,null,null,null,null,null,null,null,null,{"$f":"IF(K1413<>0,IF(B1413=\"\",\"ID CODE REQUIRED\",\"\"),\"\")","v":""},{"$f":"IF(D1413=\"Cash and Deposits\",IF(E1413=\"\",\"BANK NAME REQUIRED\",IF(ISERROR(VLOOKUP(E1413,'Reference Data'!C:C,1,FALSE)),\"PLEASE SELECT A BANK FROM DEFINED LIST PROVIDED\",\"\")),\"\")","v":""},{"$f":"IF(K1413=0,\"No Entry\",\"\")","v":"No Entry"},{"$f":"IF(K1413<>0,IF(A1413=\"\",1,0),0)","v":0}]
[null,null,null,null,null,null,null,null,null,null,null,null,"",{"$f":"IF(D1414=\"Cash and Deposits\",IF(E1414=\"\",\"BANK NAME REQUIRED\",IF(ISERROR(VLOOKUP(E1414,'Reference Data'!C:C,1,FALSE)),\"PLEASE SELECT A BANK FROM DEFINED LIST PROVIDED\",\"\")),\"\")","v":""},"No Entry",0]
[null,null,null,null,null,null,null,null,null,null,null,null,"",{"$f":"IF(D1415=\"Cash and Deposits\",IF(E1415=\"\",\"BANK NAME REQUIRED\",IF(ISERROR(VLOOKUP(E1415,'Reference Data'!C:C,1,FALSE)),\"PLEASE SELECT A BANK FROM DEFINED LIST PROVIDED\",\"\")),\"\")","v":""},"No Entry",0]
[null,null,null,null,null,null,null,null,null,null,null,null,"",{"$f":"IF(D1416=\"Cash and Deposits\",IF(E1416=\"\",\"BANK NAME REQUIRED\",IF(ISERROR(VLOOKUP(E1416,'Reference Data'!C:C,1,FALSE)),\"PLEASE SELECT A BANK FROM DEFINED LIST PROVIDED\",\"\")),\"\")","v":""},"No Entry",0]
[null,null,null,null,null,null,null,null,null,null,null,null,"",{"$f":"IF(D1417=\"Cash and Deposits\",IF(E1417=\"\",\"BANK NAME REQUIRED\",IF(ISERROR(VLOOKUP(E1417,'Reference Data'!C:C,1,FALSE)),\"PLEASE SELECT A BANK FROM DEFINED LIST PROVIDED\",\"\")),\"\")","v":""},"No Entry",0]
[null,null,null,null,null,null,null,null,null,null,null,null,"",{"$f":"IF(D1418=\"Cash and Deposits\",IF(E1418=\"\",\"BANK NAME REQUIRED\",IF(ISERROR(VLOOKUP(E1418,'Reference Data'!C:C,1,FALSE)),\"PLEASE SELECT A BANK FROM DEFINED LIST PROVIDED\",\"\")),\"\")","v":""},"No Entry",0]
[null,null,null,null,null,null,null,null,null,null,null,null,"",{"$f":"IF(D1419=\"Cash and Deposits\",IF(E1419=\"\",\"BANK NAME REQUIRED\",IF(ISERROR(VLOOKUP(E1419,'Reference Data'!C:C,1,FALSE)),\"PLEASE SELECT A BANK FROM DEFINED LIST PROVIDED\",\"\")),\"\")","v":""},"No Entry",0]
[null,null,null,null,null,null,null,null,null,null,null,null,"",{"$f":"IF(D1420=\"Cash and Deposits\",IF(E1420=\"\",\"BANK NAME REQUIRED\",IF(ISERROR(VLOOKUP(E1420,'Reference Data'!C:C,1,FALSE)),\"PLEASE SELECT A BANK FROM DEFINED LIST PROVIDED\",\"\")),\"\")","v":""},"No Entry",0]
[null,null,null,null,null,null,null,null,null,null,null,null,"",{"$f":"IF(D1421=\"Cash and Deposits\",IF(E1421=\"\",\"BANK NAME REQUIRED\",IF(ISERROR(VLOOKUP(E1421,'Reference Data'!C:C,1,FALSE)),\"PLEASE SELECT A BANK FROM DEFINED LIST PROVIDED\",\"\")),\"\")","v":""},"No Entry",0]
[null,null,null,null,null,null,null,null,null,null,null,null,"",{"$f":"IF(D1422=\"Cash and Deposits\",IF(E1422=\"\",\"BANK NAME REQUIRED\",IF(ISERROR(VLOOKUP(E1422,'Reference Data'!C:C,1,FALSE)),\"PLEASE SELECT A BANK FROM DEFINED LIST PROVIDED\",\"\")),\"\")","v":""},"No Entry",0]
[null,null,null,null,null,null,null,null,null,null,null,null,"",{"$f":"IF(D1423=\"Cash and Deposits\",IF(E1423=\"\",\"BANK NAME REQUIRED\",IF(ISERROR(VLOOKUP(E1423,'Reference Data'!C:C,1,FALSE)),\"PLEASE SELECT A BANK FROM DEFINED LIST PROVIDED\",\"\")),\"\")","v":""},"No Entry",0]
[null,null,null,null,null,null,null,null,null,null,null,null,"",{"$f":"IF(D1424=\"Cash and Deposits\",IF(E1424=\"\",\"BANK NAME REQUIRED\",IF(ISERROR(VLOOKUP(E1424,'Reference Data'!C:C,1,FALSE)),\"PLEASE SELECT A BANK FROM DEFINED LIST PROVIDED\",\"\")),\"\")","v":""},"No Entry",0]
[null,null,null,null,null,null,null,null,null,null,null,null,"",{"$f":"IF(D1425=\"Cash and Deposits\",IF(E1425=\"\",\"BANK NAME REQUIRED\",IF(ISERROR(VLOOKUP(E1425,'Reference Data'!C:C,1,FALSE)),\"PLEASE SELECT A BANK FROM DEFINED LIST PROVIDED\",\"\")),\"\")","v":""},"No Entry",0]
[null,null,null,null,null,null,null,null,null,null,null,null,"",{"$f":"IF(D1426=\"Cash and Deposits\",IF(E1426=\"\",\"BANK NAME REQUIRED\",IF(ISERROR(VLOOKUP(E1426,'Reference Data'!C:C,1,FALSE)),\"PLEASE SELECT A BANK FROM DEFINED LIST PROVIDED\",\"\")),\"\")","v":""},"No Entry",0]
[null,null,null,null,null,null,null,null,null,null,null,null,"",{"$f":"IF(D1427=\"Cash and Deposits\",IF(E1427=\"\",\"BANK NAME REQUIRED\",IF(ISERROR(VLOOKUP(E1427,'Reference Data'!C:C,1,FALSE)),\"PLEASE SELECT A BANK FROM DEFINED LIST PROVIDED\",\"\")),\"\")","v":""},"No Entry",0]
[null,null,null,null,null,null,null,null,null,null,null,null,"",{"$f":"IF(D1428=\"Cash and Deposits\",IF(E1428=\"\",\"BANK NAME REQUIRED\",IF(ISERROR(VLOOKUP(E1428,'Reference Data'!C:C,1,FALSE)),\"PLEASE SELECT A BANK FROM DEFINED LIST PROVIDED\",\"\")),\"\")","v":""},"No Entry",0]
[null,null,null,null,null,null,null,null,null,null,null,null,"",{"$f":"IF(D1429=\"Cash and Deposits\",IF(E1429=\"\",\"BANK NAME REQUIRED\",IF(ISERROR(VLOOKUP(E1429,'Reference Data'!C:C,1,FALSE)),\"PLEASE SELECT A BANK FROM DEFINED LIST PROVIDED\",\"\")),\"\")","v":""},"No Entry",0]
[null,null,null,null,null,null,null,null,null,null,null,null,"",{"$f":"IF(D1430=\"Cash and Deposits\",IF(E1430=\"\",\"BANK NAME REQUIRED\",IF(ISERROR(VLOOKUP(E1430,'Reference Data'!C:C,1,FALSE)),\"PLEASE SELECT A BANK FROM DEFINED LIST PROVIDED\",\"\")),\"\")","v":""},"No Entry",0]
[null,null,null,null,null,null,null,null,null,null,null,null,"",{"$f":"IF(D1431=\"Cash and Deposits\",IF(E1431=\"\",\"BANK NAME REQUIRED\",IF(ISERROR(VLOOKUP(E1431,'Reference Data'!C:C,1,FALSE)),\"PLEASE SELECT A BANK FROM DEFINED LIST PROVIDED\",\"\")),\"\")","v":""},"No Entry",0]
[null,null,null,null,null,null,null,null,null,null,null,null,"",{"$f":"IF(D1432=\"Cash and Deposits\",IF(E1432=\"\",\"BANK NAME REQUIRED\",IF(ISERROR(VLOOKUP(E1432,'Reference Data'!C:C,1,FALSE)),\"PLEASE SELECT A BANK FROM DEFINED LIST PROVIDED\",\"\")),\"\")","v":""},"No Entry",0]
[null,null,null,null,null,null,null,null,null,null,null,null,"",{"$f":"IF(D1433=\"Cash and Deposits\",IF(E1433=\"\",\"BANK NAME REQUIRED\",IF(ISERROR(VLOOKUP(E1433,'Reference Data'!C:C,1,FALSE)),\"PLEASE SELECT A BANK FROM DEFINED LIST PROVIDED\",\"\")),\"\")","v":""},"No Entry",0]
[null,null,null,null,null,null,null,null,null,null,null,null,"",{"$f":"IF(D1434=\"Cash and Deposits\",IF(E1434=\"\",\"BANK NAME REQUIRED\",IF(ISERROR(VLOOKUP(E1434,'Reference Data'!C:C,1,FALSE)),\"PLEASE SELECT A BANK FROM DEFINED LIST PROVIDED\",\"\")),\"\")","v":""},"No Entry",0]
[null,null,null,null,null,null,null,null,null,null,null,null,"",{"$f":"IF(D1435=\"Cash and Deposits\",IF(E1435=\"\",\"BANK NAME REQUIRED\",IF(ISERROR(VLOOKUP(E1435,'Reference Data'!C:C,1,FALSE)),\"PLEASE SELECT A BANK FROM DEFINED LIST PROVIDED\",\"\")),\"\")","v":""},"No Entry",0]
[null,null,null,null,null,null,null,null,null,null,null,null,"",{"$f":"IF(D1436=\"Cash and Deposits\",IF(E1436=\"\",\"BANK NAME REQUIRED\",IF(ISERROR(VLOOKUP(E1436,'Reference Data'!C:C,1,FALSE)),\"PLEASE SELECT A BANK FROM DEFINED LIST PROVIDED\",\"\")),\"\")","v":""},"No Entry",0]
[null,null,null,null,null,null,null,null,null,null,null,null,"",{"$f":"IF(D1437=\"Cash and Deposits\",IF(E1437=\"\",\"BANK NAME REQUIRED\",IF(ISERROR(VLOOKUP(E1437,'Reference Data'!C:C,1,FALSE)),\"PLEASE SELECT A BANK FROM DEFINED LIST PROVIDED\",\"\")),\"\")","v":""},"No Entry",0]
[null,null,null,null,null,null,null,null,null,null,null,null,"",{"$f":"IF(D1438=\"Cash and Deposits\",IF(E1438=\"\",\"BANK NAME REQUIRED\",IF(ISERROR(VLOOKUP(E1438,'Reference Data'!C:C,1,FALSE)),\"PLEASE SELECT A BANK FROM DEFINED LIST PROVIDED\",\"\")),\"\")","v":""},"No Entry",0]
[null,null,null,null,null,null,null,null,null,null,null,null,"",{"$f":"IF(D1439=\"Cash and Deposits\",IF(E1439=\"\",\"BANK NAME REQUIRED\",IF(ISERROR(VLOOKUP(E1439,'Reference Data'!C:C,1,FALSE)),\"PLEASE SELECT A BANK FROM DEFINED LIST PROVIDED\",\"\")),\"\")","v":""},"No Entry",0]
[null,null,null,null,null,null,null,null,null,null,null,null,"",{"$f":"IF(D1440=\"Cash and Deposits\",IF(E1440=\"\",\"BANK NAME REQUIRED\",IF(ISERROR(VLOOKUP(E1440,'Reference Data'!C:C,1,FALSE)),\"PLEASE SELECT A BANK FROM DEFINED LIST PROVIDED\",\"\")),\"\")","v":""},"No Entry",0]
[null,null,null,null,null,null,null,null,null,null,null,null,"",{"$f":"IF(D1441=\"Cash and Deposits\",IF(E1441=\"\",\"BANK NAME REQUIRED\",IF(ISERROR(VLOOKUP(E1441,'Reference Data'!C:C,1,FALSE)),\"PLEASE SELECT A BANK FROM DEFINED LIST PROVIDED\",\"\")),\"\")","v":""},"No Entry",0]
[null,null,null,null,null,null,null,null,null,null,null,null,"",{"$f":"IF(D1442=\"Cash and Deposits\",IF(E1442=\"\",\"BANK NAME REQUIRED\",IF(ISERROR(VLOOKUP(E1442,'Reference Data'!C:C,1,FALSE)),\"PLEASE SELECT A BANK FROM DEFINED LIST PROVIDED\",\"\")),\"\")","v":""},"No Entry",0]
[null,null,null,null,null,null,null,null,null,null,null,null,"",{"$f":"IF(D1443=\"Cash and Deposits\",IF(E1443=\"\",\"BANK NAME REQUIRED\",IF(ISERROR(VLOOKUP(E1443,'Reference Data'!C:C,1,FALSE)),\"PLEASE SELECT A BANK FROM DEFINED LIST PROVIDED\",\"\")),\"\")","v":""},"No Entry",0]
[null,null,null,null,null,null,null,null,null,null,null,null,"",{"$f":"IF(D1444=\"Cash and Deposits\",IF(E1444=\"\",\"BANK NAME REQUIRED\",IF(ISERROR(VLOOKUP(E1444,'Reference Data'!C:C,1,FALSE)),\"PLEASE SELECT A BANK FROM DEFINED LIST PROVIDED\",\"\")),\"\")","v":""},"No Entry",0]
[null,null,null,null,null,null,null,null,null,null,null,null,"",{"$f":"IF(D1445=\"Cash and Deposits\",IF(E1445=\"\",\"BANK NAME REQUIRED\",IF(ISERROR(VLOOKUP(E1445,'Reference Data'!C:C,1,FALSE)),\"PLEASE SELECT A BANK FROM DEFINED LIST PROVIDED\",\"\")),\"\")","v":""},"No Entry",0]
[null,null,null,null,null,null,null,null,null,null,null,null,"",{"$f":"IF(D1446=\"Cash and Deposits\",IF(E1446=\"\",\"BANK NAME REQUIRED\",IF(ISERROR(VLOOKUP(E1446,'Reference Data'!C:C,1,FALSE)),\"PLEASE SELECT A BANK FROM DEFINED LIST PROVIDED\",\"\")),\"\")","v":""},"No Entry",0]
[null,null,null,null,null,null,null,null,null,null,null,null,"",{"$f":"IF(D1447=\"Cash and Deposits\",IF(E1447=\"\",\"BANK NAME REQUIRED\",IF(ISERROR(VLOOKUP(E1447,'Reference Data'!C:C,1,FALSE)),\"PLEASE SELECT A BANK FROM DEFINED LIST PROVIDED\",\"\")),\"\")","v":""},"No Entry",0]
[null,null,null,null,null,null,null,null,null,null,null,null,"",{"$f":"IF(D1448=\"Cash and Deposits\",IF(E1448=\"\",\"BANK NAME REQUIRED\",IF(ISERROR(VLOOKUP(E1448,'Reference Data'!C:C,1,FALSE)),\"PLEASE SELECT A BANK FROM DEFINED LIST PROVIDED\",\"\")),\"\")","v":""},"No Entry",0]
[null,null,null,null,null,null,null,null,null,null,null,null,"",{"$f":"IF(D1449=\"Cash and Deposits\",IF(E1449=\"\",\"BANK NAME REQUIRED\",IF(ISERROR(VLOOKUP(E1449,'Reference Data'!C:C,1,FALSE)),\"PLEASE SELECT A BANK FROM DEFINED LIST PROVIDED\",\"\")),\"\")","v":""},"No Entry",0]
[null,null,null,null,null,null,null,null,null,null,null,null,"",{"$f":"IF(D1450=\"Cash and Deposits\",IF(E1450=\"\",\"BANK NAME REQUIRED\",IF(ISERROR(VLOOKUP(E1450,'Reference Data'!C:C,1,FALSE)),\"PLEASE SELECT A BANK FROM DEFINED LIST PROVIDED\",\"\")),\"\")","v":""},"No Entry",0]
[null,null,null,null,null,null,null,null,null,null,null,null,"",{"$f":"IF(D1451=\"Cash and Deposits\",IF(E1451=\"\",\"BANK NAME REQUIRED\",IF(ISERROR(VLOOKUP(E1451,'Reference Data'!C:C,1,FALSE)),\"PLEASE SELECT A BANK FROM DEFINED LIST PROVIDED\",\"\")),\"\")","v":""},"No Entry",0]
[null,null,null,null,null,null,null,null,null,null,null,null,"",{"$f":"IF(D1452=\"Cash and Deposits\",IF(E1452=\"\",\"BANK NAME REQUIRED\",IF(ISERROR(VLOOKUP(E1452,'Reference Data'!C:C,1,FALSE)),\"PLEASE SELECT A BANK FROM DEFINED LIST PROVIDED\",\"\")),\"\")","v":""},"No Entry",0]
[null,null,null,null,null,null,null,null,null,null,null,null,"",{"$f":"IF(D1453=\"Cash and Deposits\",IF(E1453=\"\",\"BANK NAME REQUIRED\",IF(ISERROR(VLOOKUP(E1453,'Reference Data'!C:C,1,FALSE)),\"PLEASE SELECT A BANK FROM DEFINED LIST PROVIDED\",\"\")),\"\")","v":""},"No Entry",0]
[null,null,null,null,null,null,null,null,null,null,null,null,"",{"$f":"IF(D1454=\"Cash and Deposits\",IF(E1454=\"\",\"BANK NAME REQUIRED\",IF(ISERROR(VLOOKUP(E1454,'Reference Data'!C:C,1,FALSE)),\"PLEASE SELECT A BANK FROM DEFINED LIST PROVIDED\",\"\")),\"\")","v":""},"No Entry",0]
[null,null,null,null,null,null,null,null,null,null,null,null,"",{"$f":"IF(D1455=\"Cash and Deposits\",IF(E1455=\"\",\"BANK NAME REQUIRED\",IF(ISERROR(VLOOKUP(E1455,'Reference Data'!C:C,1,FALSE)),\"PLEASE SELECT A BANK FROM DEFINED LIST PROVIDED\",\"\")),\"\")","v":""},"No Entry",0]
[null,null,null,null,null,null,null,null,null,null,null,null,"",{"$f":"IF(D1456=\"Cash and Deposits\",IF(E1456=\"\",\"BANK NAME REQUIRED\",IF(ISERROR(VLOOKUP(E1456,'Reference Data'!C:C,1,FALSE)),\"PLEASE SELECT A BANK FROM DEFINED LIST PROVIDED\",\"\")),\"\")","v":""},"No Entry",0]
[null,null,null,null,null,null,null,null,null,null,null,null,"",{"$f":"IF(D1457=\"Cash and Deposits\",IF(E1457=\"\",\"BANK NAME REQUIRED\",IF(ISERROR(VLOOKUP(E1457,'Reference Data'!C:C,1,FALSE)),\"PLEASE SELECT A BANK FROM DEFINED LIST PROVIDED\",\"\")),\"\")","v":""},"No Entry",0]
[null,null,null,null,null,null,null,null,null,null,null,null,"",{"$f":"IF(D1458=\"Cash and Deposits\",IF(E1458=\"\",\"BANK NAME REQUIRED\",IF(ISERROR(VLOOKUP(E1458,'Reference Data'!C:C,1,FALSE)),\"PLEASE SELECT A BANK FROM DEFINED LIST PROVIDED\",\"\")),\"\")","v":""},"No Entry",0]
[null,null,null,null,null,null,null,null,null,null,null,null,"",{"$f":"IF(D1459=\"Cash and Deposits\",IF(E1459=\"\",\"BANK NAME REQUIRED\",IF(ISERROR(VLOOKUP(E1459,'Reference Data'!C:C,1,FALSE)),\"PLEASE SELECT A BANK FROM DEFINED LIST PROVIDED\",\"\")),\"\")","v":""},"No Entry",0]
[null,null,null,null,null,null,null,null,null,null,null,null,"",{"$f":"IF(D1460=\"Cash and Deposits\",IF(E1460=\"\",\"BANK NAME REQUIRED\",IF(ISERROR(VLOOKUP(E1460,'Reference Data'!C:C,1,FALSE)),\"PLEASE SELECT A BANK FROM DEFINED LIST PROVIDED\",\"\")),\"\")","v":""},"No Entry",0]
[null,null,null,null,null,null,null,null,null,null,null,null,"",{"$f":"IF(D1461=\"Cash and Deposits\",IF(E1461=\"\",\"BANK NAME REQUIRED\",IF(ISERROR(VLOOKUP(E1461,'Reference Data'!C:C,1,FALSE)),\"PLEASE SELECT A BANK FROM DEFINED LIST PROVIDED\",\"\")),\"\")","v":""},"No Entry",0]
[null,null,null,null,null,null,null,null,null,null,null,null,"",{"$f":"IF(D1462=\"Cash and Deposits\",IF(E1462=\"\",\"BANK NAME REQUIRED\",IF(ISERROR(VLOOKUP(E1462,'Reference Data'!C:C,1,FALSE)),\"PLEASE SELECT A BANK FROM DEFINED LIST PROVIDED\",\"\")),\"\")","v":""},"No Entry",0]
[null,null,null,null,null,null,null,null,null,null,null,null,"",{"$f":"IF(D1463=\"Cash and Deposits\",IF(E1463=\"\",\"BANK NAME REQUIRED\",IF(ISERROR(VLOOKUP(E1463,'Reference Data'!C:C,1,FALSE)),\"PLEASE SELECT A BANK FROM DEFINED LIST PROVIDED\",\"\")),\"\")","v":""},"No Entry",0]
[null,null,null,null,null,null,null,null,null,null,null,null,"",{"$f":"IF(D1464=\"Cash and Deposits\",IF(E1464=\"\",\"BANK NAME REQUIRED\",IF(ISERROR(VLOOKUP(E1464,'Reference Data'!C:C,1,FALSE)),\"PLEASE SELECT A BANK FROM DEFINED LIST PROVIDED\",\"\")),\"\")","v":""},"No Entry",0]
[null,null,null,null,null,null,null,null,null,null,null,null,"",{"$f":"IF(D1465=\"Cash and Deposits\",IF(E1465=\"\",\"BANK NAME REQUIRED\",IF(ISERROR(VLOOKUP(E1465,'Reference Data'!C:C,1,FALSE)),\"PLEASE SELECT A BANK FROM DEFINED LIST PROVIDED\",\"\")),\"\")","v":""},"No Entry",0]
[null,null,null,null,null,null,null,null,null,null,null,null,"",{"$f":"IF(D1466=\"Cash and Deposits\",IF(E1466=\"\",\"BANK NAME REQUIRED\",IF(ISERROR(VLOOKUP(E1466,'Reference Data'!C:C,1,FALSE)),\"PLEASE SELECT A BANK FROM DEFINED LIST PROVIDED\",\"\")),\"\")","v":""},"No Entry",0]
[null,null,null,null,null,null,null,null,null,null,null,null,"",{"$f":"IF(D1467=\"Cash and Deposits\",IF(E1467=\"\",\"BANK NAME REQUIRED\",IF(ISERROR(VLOOKUP(E1467,'Reference Data'!C:C,1,FALSE)),\"PLEASE SELECT A BANK FROM DEFINED LIST PROVIDED\",\"\")),\"\")","v":""},"No Entry",0]
[null,null,null,null,null,null,null,null,null,null,null,null,"",{"$f":"IF(D1468=\"Cash and Deposits\",IF(E1468=\"\",\"BANK NAME REQUIRED\",IF(ISERROR(VLOOKUP(E1468,'Reference Data'!C:C,1,FALSE)),\"PLEASE SELECT A BANK FROM DEFINED LIST PROVIDED\",\"\")),\"\")","v":""},"No Entry",0]
[null,null,null,null,null,null,null,null,null,null,null,null,"",{"$f":"IF(D1469=\"Cash and Deposits\",IF(E1469=\"\",\"BANK NAME REQUIRED\",IF(ISERROR(VLOOKUP(E1469,'Reference Data'!C:C,1,FALSE)),\"PLEASE SELECT A BANK FROM DEFINED LIST PROVIDED\",\"\")),\"\")","v":""},"No Entry",0]
[null,null,null,null,null,null,null,null,null,null,null,null,"",{"$f":"IF(D1470=\"Cash and Deposits\",IF(E1470=\"\",\"BANK NAME REQUIRED\",IF(ISERROR(VLOOKUP(E1470,'Reference Data'!C:C,1,FALSE)),\"PLEASE SELECT A BANK FROM DEFINED LIST PROVIDED\",\"\")),\"\")","v":""},"No Entry",0]
[null,null,null,null,null,null,null,null,null,null,null,null,"",{"$f":"IF(D1471=\"Cash and Deposits\",IF(E1471=\"\",\"BANK NAME REQUIRED\",IF(ISERROR(VLOOKUP(E1471,'Reference Data'!C:C,1,FALSE)),\"PLEASE SELECT A BANK FROM DEFINED LIST PROVIDED\",\"\")),\"\")","v":""},"No Entry",0]
[null,null,null,null,null,null,null,null,null,null,null,null,"",{"$f":"IF(D1472=\"Cash and Deposits\",IF(E1472=\"\",\"BANK NAME REQUIRED\",IF(ISERROR(VLOOKUP(E1472,'Reference Data'!C:C,1,FALSE)),\"PLEASE SELECT A BANK FROM DEFINED LIST PROVIDED\",\"\")),\"\")","v":""},"No Entry",0]
[null,null,null,null,null,null,null,null,null,null,null,null,"",{"$f":"IF(D1473=\"Cash and Deposits\",IF(E1473=\"\",\"BANK NAME REQUIRED\",IF(ISERROR(VLOOKUP(E1473,'Reference Data'!C:C,1,FALSE)),\"PLEASE SELECT A BANK FROM DEFINED LIST PROVIDED\",\"\")),\"\")","v":""},"No Entry",0]
[null,null,null,null,null,null,null,null,null,null,null,null,"",{"$f":"IF(D1474=\"Cash and Deposits\",IF(E1474=\"\",\"BANK NAME REQUIRED\",IF(ISERROR(VLOOKUP(E1474,'Reference Data'!C:C,1,FALSE)),\"PLEASE SELECT A BANK FROM DEFINED LIST PROVIDED\",\"\")),\"\")","v":""},"No Entry",0]
[null,null,null,null,null,null,null,null,null,null,null,null,"",{"$f":"IF(D1475=\"Cash and Deposits\",IF(E1475=\"\",\"BANK NAME REQUIRED\",IF(ISERROR(VLOOKUP(E1475,'Reference Data'!C:C,1,FALSE)),\"PLEASE SELECT A BANK FROM DEFINED LIST PROVIDED\",\"\")),\"\")","v":""},"No Entry",0]
[null,null,null,null,null,null,null,null,null,null,null,null,"",{"$f":"IF(D1476=\"Cash and Deposits\",IF(E1476=\"\",\"BANK NAME REQUIRED\",IF(ISERROR(VLOOKUP(E1476,'Reference Data'!C:C,1,FALSE)),\"PLEASE SELECT A BANK FROM DEFINED LIST PROVIDED\",\"\")),\"\")","v":""},"No Entry",0]
[null,null,null,null,null,null,null,null,null,null,null,null,{"$f":"IF(K1477<>0,IF(B1477=\"\",\"ID CODE REQUIRED\",\"\"),\"\")","v":""},{"$f":"IF(D1477=\"Cash and Deposits\",IF(E1477=\"\",\"BANK NAME REQUIRED\",IF(ISERROR(VLOOKUP(E1477,'Reference Data'!C:C,1,FALSE)),\"PLEASE SELECT A BANK FROM DEFINED LIST PROVIDED\",\"\")),\"\")","v":""},{"$f":"IF(K1477=0,\"No Entry\",\"\")","v":"No Entry"},{"$f":"IF(K1477<>0,IF(A1477=\"\",1,0),0)","v":0}]
[null,null,null,null,null,null,null,null,null,null,null,null,"",{"$f":"IF(D1478=\"Cash and Deposits\",IF(E1478=\"\",\"BANK NAME REQUIRED\",IF(ISERROR(VLOOKUP(E1478,'Reference Data'!C:C,1,FALSE)),\"PLEASE SELECT A BANK FROM DEFINED LIST PROVIDED\",\"\")),\"\")","v":""},"No Entry",0]
[null,null,null,null,null,null,null,null,null,null,null,null,"",{"$f":"IF(D1479=\"Cash and Deposits\",IF(E1479=\"\",\"BANK NAME REQUIRED\",IF(ISERROR(VLOOKUP(E1479,'Reference Data'!C:C,1,FALSE)),\"PLEASE SELECT A BANK FROM DEFINED LIST PROVIDED\",\"\")),\"\")","v":""},"No Entry",0]
[null,null,null,null,null,null,null,null,null,null,null,null,"",{"$f":"IF(D1480=\"Cash and Deposits\",IF(E1480=\"\",\"BANK NAME REQUIRED\",IF(ISERROR(VLOOKUP(E1480,'Reference Data'!C:C,1,FALSE)),\"PLEASE SELECT A BANK FROM DEFINED LIST PROVIDED\",\"\")),\"\")","v":""},"No Entry",0]
[null,null,null,null,null,null,null,null,null,null,null,null,"",{"$f":"IF(D1481=\"Cash and Deposits\",IF(E1481=\"\",\"BANK NAME REQUIRED\",IF(ISERROR(VLOOKUP(E1481,'Reference Data'!C:C,1,FALSE)),\"PLEASE SELECT A BANK FROM DEFINED LIST PROVIDED\",\"\")),\"\")","v":""},"No Entry",0]
[null,null,null,null,null,null,null,null,null,null,null,null,"",{"$f":"IF(D1482=\"Cash and Deposits\",IF(E1482=\"\",\"BANK NAME REQUIRED\",IF(ISERROR(VLOOKUP(E1482,'Reference Data'!C:C,1,FALSE)),\"PLEASE SELECT A BANK FROM DEFINED LIST PROVIDED\",\"\")),\"\")","v":""},"No Entry",0]
[null,null,null,null,null,null,null,null,null,null,null,null,"",{"$f":"IF(D1483=\"Cash and Deposits\",IF(E1483=\"\",\"BANK NAME REQUIRED\",IF(ISERROR(VLOOKUP(E1483,'Reference Data'!C:C,1,FALSE)),\"PLEASE SELECT A BANK FROM DEFINED LIST PROVIDED\",\"\")),\"\")","v":""},"No Entry",0]
[null,null,null,null,null,null,null,null,null,null,null,null,"",{"$f":"IF(D1484=\"Cash and Deposits\",IF(E1484=\"\",\"BANK NAME REQUIRED\",IF(ISERROR(VLOOKUP(E1484,'Reference Data'!C:C,1,FALSE)),\"PLEASE SELECT A BANK FROM DEFINED LIST PROVIDED\",\"\")),\"\")","v":""},"No Entry",0]
[null,null,null,null,null,null,null,null,null,null,null,null,"",{"$f":"IF(D1485=\"Cash and Deposits\",IF(E1485=\"\",\"BANK NAME REQUIRED\",IF(ISERROR(VLOOKUP(E1485,'Reference Data'!C:C,1,FALSE)),\"PLEASE SELECT A BANK FROM DEFINED LIST PROVIDED\",\"\")),\"\")","v":""},"No Entry",0]
[null,null,null,null,null,null,null,null,null,null,null,null,"",{"$f":"IF(D1486=\"Cash and Deposits\",IF(E1486=\"\",\"BANK NAME REQUIRED\",IF(ISERROR(VLOOKUP(E1486,'Reference Data'!C:C,1,FALSE)),\"PLEASE SELECT A BANK FROM DEFINED LIST PROVIDED\",\"\")),\"\")","v":""},"No Entry",0]
[null,null,null,null,null,null,null,null,null,null,null,null,"",{"$f":"IF(D1487=\"Cash and Deposits\",IF(E1487=\"\",\"BANK NAME REQUIRED\",IF(ISERROR(VLOOKUP(E1487,'Reference Data'!C:C,1,FALSE)),\"PLEASE SELECT A BANK FROM DEFINED LIST PROVIDED\",\"\")),\"\")","v":""},"No Entry",0]
[null,null,null,null,null,null,null,null,null,null,null,null,"",{"$f":"IF(D1488=\"Cash and Deposits\",IF(E1488=\"\",\"BANK NAME REQUIRED\",IF(ISERROR(VLOOKUP(E1488,'Reference Data'!C:C,1,FALSE)),\"PLEASE SELECT A BANK FROM DEFINED LIST PROVIDED\",\"\")),\"\")","v":""},"No Entry",0]
[null,null,null,null,null,null,null,null,null,null,null,null,"",{"$f":"IF(D1489=\"Cash and Deposits\",IF(E1489=\"\",\"BANK NAME REQUIRED\",IF(ISERROR(VLOOKUP(E1489,'Reference Data'!C:C,1,FALSE)),\"PLEASE SELECT A BANK FROM DEFINED LIST PROVIDED\",\"\")),\"\")","v":""},"No Entry",0]
[null,null,null,null,null,null,null,null,null,null,null,null,"",{"$f":"IF(D1490=\"Cash and Deposits\",IF(E1490=\"\",\"BANK NAME REQUIRED\",IF(ISERROR(VLOOKUP(E1490,'Reference Data'!C:C,1,FALSE)),\"PLEASE SELECT A BANK FROM DEFINED LIST PROVIDED\",\"\")),\"\")","v":""},"No Entry",0]
[null,null,null,null,null,null,null,null,null,null,null,null,"",{"$f":"IF(D1491=\"Cash and Deposits\",IF(E1491=\"\",\"BANK NAME REQUIRED\",IF(ISERROR(VLOOKUP(E1491,'Reference Data'!C:C,1,FALSE)),\"PLEASE SELECT A BANK FROM DEFINED LIST PROVIDED\",\"\")),\"\")","v":""},"No Entry",0]
[null,null,null,null,null,null,null,null,null,null,null,null,"",{"$f":"IF(D1492=\"Cash and Deposits\",IF(E1492=\"\",\"BANK NAME REQUIRED\",IF(ISERROR(VLOOKUP(E1492,'Reference Data'!C:C,1,FALSE)),\"PLEASE SELECT A BANK FROM DEFINED LIST PROVIDED\",\"\")),\"\")","v":""},"No Entry",0]
[null,null,null,null,null,null,null,null,null,null,null,null,"",{"$f":"IF(D1493=\"Cash and Deposits\",IF(E1493=\"\",\"BANK NAME REQUIRED\",IF(ISERROR(VLOOKUP(E1493,'Reference Data'!C:C,1,FALSE)),\"PLEASE SELECT A BANK FROM DEFINED LIST PROVIDED\",\"\")),\"\")","v":""},"No Entry",0]
[null,null,null,null,null,null,null,null,null,null,null,null,"",{"$f":"IF(D1494=\"Cash and Deposits\",IF(E1494=\"\",\"BANK NAME REQUIRED\",IF(ISERROR(VLOOKUP(E1494,'Reference Data'!C:C,1,FALSE)),\"PLEASE SELECT A BANK FROM DEFINED LIST PROVIDED\",\"\")),\"\")","v":""},"No Entry",0]
[null,null,null,null,null,null,null,null,null,null,null,null,"",{"$f":"IF(D1495=\"Cash and Deposits\",IF(E1495=\"\",\"BANK NAME REQUIRED\",IF(ISERROR(VLOOKUP(E1495,'Reference Data'!C:C,1,FALSE)),\"PLEASE SELECT A BANK FROM DEFINED LIST PROVIDED\",\"\")),\"\")","v":""},"No Entry",0]
[null,null,null,null,null,null,null,null,null,null,null,null,"",{"$f":"IF(D1496=\"Cash and Deposits\",IF(E1496=\"\",\"BANK NAME REQUIRED\",IF(ISERROR(VLOOKUP(E1496,'Reference Data'!C:C,1,FALSE)),\"PLEASE SELECT A BANK FROM DEFINED LIST PROVIDED\",\"\")),\"\")","v":""},"No Entry",0]
[null,null,null,null,null,null,null,null,null,null,null,null,"",{"$f":"IF(D1497=\"Cash and Deposits\",IF(E1497=\"\",\"BANK NAME REQUIRED\",IF(ISERROR(VLOOKUP(E1497,'Reference Data'!C:C,1,FALSE)),\"PLEASE SELECT A BANK FROM DEFINED LIST PROVIDED\",\"\")),\"\")","v":""},"No Entry",0]
[null,null,null,null,null,null,null,null,null,null,null,null,"",{"$f":"IF(D1498=\"Cash and Deposits\",IF(E1498=\"\",\"BANK NAME REQUIRED\",IF(ISERROR(VLOOKUP(E1498,'Reference Data'!C:C,1,FALSE)),\"PLEASE SELECT A BANK FROM DEFINED LIST PROVIDED\",\"\")),\"\")","v":""},"No Entry",0]
[null,null,null,null,null,null,null,null,null,null,null,null,"",{"$f":"IF(D1499=\"Cash and Deposits\",IF(E1499=\"\",\"BANK NAME REQUIRED\",IF(ISERROR(VLOOKUP(E1499,'Reference Data'!C:C,1,FALSE)),\"PLEASE SELECT A BANK FROM DEFINED LIST PROVIDED\",\"\")),\"\")","v":""},"No Entry",0]
[null,null,null,null,null,null,null,null,null,null,null,null,"",{"$f":"IF(D1500=\"Cash and Deposits\",IF(E1500=\"\",\"BANK NAME REQUIRED\",IF(ISERROR(VLOOKUP(E1500,'Reference Data'!C:C,1,FALSE)),\"PLEASE SELECT A BANK FROM DEFINED LIST PROVIDED\",\"\")),\"\")","v":""},"No Entry",0]
[null,null,null,null,null,null,null,null,null,null,null,null,"",{"$f":"IF(D1501=\"Cash and Deposits\",IF(E1501=\"\",\"BANK NAME REQUIRED\",IF(ISERROR(VLOOKUP(E1501,'Reference Data'!C:C,1,FALSE)),\"PLEASE SELECT A BANK FROM DEFINED LIST PROVIDED\",\"\")),\"\")","v":""},"No Entry",0]
[null,null,null,null,null,null,null,null,null,null,null,null,"",{"$f":"IF(D1502=\"Cash and Deposits\",IF(E1502=\"\",\"BANK NAME REQUIRED\",IF(ISERROR(VLOOKUP(E1502,'Reference Data'!C:C,1,FALSE)),\"PLEASE SELECT A BANK FROM DEFINED LIST PROVIDED\",\"\")),\"\")","v":""},"No Entry",0]
[null,null,null,null,null,null,null,null,null,null,null,null,"",{"$f":"IF(D1503=\"Cash and Deposits\",IF(E1503=\"\",\"BANK NAME REQUIRED\",IF(ISERROR(VLOOKUP(E1503,'Reference Data'!C:C,1,FALSE)),\"PLEASE SELECT A BANK FROM DEFINED LIST PROVIDED\",\"\")),\"\")","v":""},"No Entry",0]
[null,null,null,null,null,null,null,null,null,null,null,null,"",{"$f":"IF(D1504=\"Cash and Deposits\",IF(E1504=\"\",\"BANK NAME REQUIRED\",IF(ISERROR(VLOOKUP(E1504,'Reference Data'!C:C,1,FALSE)),\"PLEASE SELECT A BANK FROM DEFINED LIST PROVIDED\",\"\")),\"\")","v":""},"No Entry",0]
[null,null,null,null,null,null,null,null,null,null,null,null,"",{"$f":"IF(D1505=\"Cash and Deposits\",IF(E1505=\"\",\"BANK NAME REQUIRED\",IF(ISERROR(VLOOKUP(E1505,'Reference Data'!C:C,1,FALSE)),\"PLEASE SELECT A BANK FROM DEFINED LIST PROVIDED\",\"\")),\"\")","v":""},"No Entry",0]
[null,null,null,null,null,null,null,null,null,null,null,null,"",{"$f":"IF(D1506=\"Cash and Deposits\",IF(E1506=\"\",\"BANK NAME REQUIRED\",IF(ISERROR(VLOOKUP(E1506,'Reference Data'!C:C,1,FALSE)),\"PLEASE SELECT A BANK FROM DEFINED LIST PROVIDED\",\"\")),\"\")","v":""},"No Entry",0]
[null,null,null,null,null,null,null,null,null,null,null,null,"",{"$f":"IF(D1507=\"Cash and Deposits\",IF(E1507=\"\",\"BANK NAME REQUIRED\",IF(ISERROR(VLOOKUP(E1507,'Reference Data'!C:C,1,FALSE)),\"PLEASE SELECT A BANK FROM DEFINED LIST PROVIDED\",\"\")),\"\")","v":""},"No Entry",0]
[null,null,null,null,null,null,null,null,null,null,null,null,"",{"$f":"IF(D1508=\"Cash and Deposits\",IF(E1508=\"\",\"BANK NAME REQUIRED\",IF(ISERROR(VLOOKUP(E1508,'Reference Data'!C:C,1,FALSE)),\"PLEASE SELECT A BANK FROM DEFINED LIST PROVIDED\",\"\")),\"\")","v":""},"No Entry",0]
[null,null,null,null,null,null,null,null,null,null,null,null,"",{"$f":"IF(D1509=\"Cash and Deposits\",IF(E1509=\"\",\"BANK NAME REQUIRED\",IF(ISERROR(VLOOKUP(E1509,'Reference Data'!C:C,1,FALSE)),\"PLEASE SELECT A BANK FROM DEFINED LIST PROVIDED\",\"\")),\"\")","v":""},"No Entry",0]
[null,null,null,null,null,null,null,null,null,null,null,null,"",{"$f":"IF(D1510=\"Cash and Deposits\",IF(E1510=\"\",\"BANK NAME REQUIRED\",IF(ISERROR(VLOOKUP(E1510,'Reference Data'!C:C,1,FALSE)),\"PLEASE SELECT A BANK FROM DEFINED LIST PROVIDED\",\"\")),\"\")","v":""},"No Entry",0]
[null,null,null,null,null,null,null,null,null,null,null,null,"",{"$f":"IF(D1511=\"Cash and Deposits\",IF(E1511=\"\",\"BANK NAME REQUIRED\",IF(ISERROR(VLOOKUP(E1511,'Reference Data'!C:C,1,FALSE)),\"PLEASE SELECT A BANK FROM DEFINED LIST PROVIDED\",\"\")),\"\")","v":""},"No Entry",0]
[null,null,null,null,null,null,null,null,null,null,null,null,"",{"$f":"IF(D1512=\"Cash and Deposits\",IF(E1512=\"\",\"BANK NAME REQUIRED\",IF(ISERROR(VLOOKUP(E1512,'Reference Data'!C:C,1,FALSE)),\"PLEASE SELECT A BANK FROM DEFINED LIST PROVIDED\",\"\")),\"\")","v":""},"No Entry",0]
[null,null,null,null,null,null,null,null,null,null,null,null,"",{"$f":"IF(D1513=\"Cash and Deposits\",IF(E1513=\"\",\"BANK NAME REQUIRED\",IF(ISERROR(VLOOKUP(E1513,'Reference Data'!C:C,1,FALSE)),\"PLEASE SELECT A BANK FROM DEFINED LIST PROVIDED\",\"\")),\"\")","v":""},"No Entry",0]
[null,null,null,null,null,null,null,null,null,null,null,null,"",{"$f":"IF(D1514=\"Cash and Deposits\",IF(E1514=\"\",\"BANK NAME REQUIRED\",IF(ISERROR(VLOOKUP(E1514,'Reference Data'!C:C,1,FALSE)),\"PLEASE SELECT A BANK FROM DEFINED LIST PROVIDED\",\"\")),\"\")","v":""},"No Entry",0]
[null,null,null,null,null,null,null,null,null,null,null,null,"",{"$f":"IF(D1515=\"Cash and Deposits\",IF(E1515=\"\",\"BANK NAME REQUIRED\",IF(ISERROR(VLOOKUP(E1515,'Reference Data'!C:C,1,FALSE)),\"PLEASE SELECT A BANK FROM DEFINED LIST PROVIDED\",\"\")),\"\")","v":""},"No Entry",0]
[null,null,null,null,null,null,null,null,null,null,null,null,"",{"$f":"IF(D1516=\"Cash and Deposits\",IF(E1516=\"\",\"BANK NAME REQUIRED\",IF(ISERROR(VLOOKUP(E1516,'Reference Data'!C:C,1,FALSE)),\"PLEASE SELECT A BANK FROM DEFINED LIST PROVIDED\",\"\")),\"\")","v":""},"No Entry",0]
[null,null,null,null,null,null,null,null,null,null,null,null,"",{"$f":"IF(D1517=\"Cash and Deposits\",IF(E1517=\"\",\"BANK NAME REQUIRED\",IF(ISERROR(VLOOKUP(E1517,'Reference Data'!C:C,1,FALSE)),\"PLEASE SELECT A BANK FROM DEFINED LIST PROVIDED\",\"\")),\"\")","v":""},"No Entry",0]
[null,null,null,null,null,null,null,null,null,null,null,null,"",{"$f":"IF(D1518=\"Cash and Deposits\",IF(E1518=\"\",\"BANK NAME REQUIRED\",IF(ISERROR(VLOOKUP(E1518,'Reference Data'!C:C,1,FALSE)),\"PLEASE SELECT A BANK FROM DEFINED LIST PROVIDED\",\"\")),\"\")","v":""},"No Entry",0]
[null,null,null,null,null,null,null,null,null,null,null,null,"",{"$f":"IF(D1519=\"Cash and Deposits\",IF(E1519=\"\",\"BANK NAME REQUIRED\",IF(ISERROR(VLOOKUP(E1519,'Reference Data'!C:C,1,FALSE)),\"PLEASE SELECT A BANK FROM DEFINED LIST PROVIDED\",\"\")),\"\")","v":""},"No Entry",0]
[null,null,null,null,null,null,null,null,null,null,null,null,"",{"$f":"IF(D1520=\"Cash and Deposits\",IF(E1520=\"\",\"BANK NAME REQUIRED\",IF(ISERROR(VLOOKUP(E1520,'Reference Data'!C:C,1,FALSE)),\"PLEASE SELECT A BANK FROM DEFINED LIST PROVIDED\",\"\")),\"\")","v":""},"No Entry",0]
[null,null,null,null,null,null,null,null,null,null,null,null,"",{"$f":"IF(D1521=\"Cash and Deposits\",IF(E1521=\"\",\"BANK NAME REQUIRED\",IF(ISERROR(VLOOKUP(E1521,'Reference Data'!C:C,1,FALSE)),\"PLEASE SELECT A BANK FROM DEFINED LIST PROVIDED\",\"\")),\"\")","v":""},"No Entry",0]
[null,null,null,null,null,null,null,null,null,null,null,null,"",{"$f":"IF(D1522=\"Cash and Deposits\",IF(E1522=\"\",\"BANK NAME REQUIRED\",IF(ISERROR(VLOOKUP(E1522,'Reference Data'!C:C,1,FALSE)),\"PLEASE SELECT A BANK FROM DEFINED LIST PROVIDED\",\"\")),\"\")","v":""},"No Entry",0]
[null,null,null,null,null,null,null,null,null,null,null,null,"",{"$f":"IF(D1523=\"Cash and Deposits\",IF(E1523=\"\",\"BANK NAME REQUIRED\",IF(ISERROR(VLOOKUP(E1523,'Reference Data'!C:C,1,FALSE)),\"PLEASE SELECT A BANK FROM DEFINED LIST PROVIDED\",\"\")),\"\")","v":""},"No Entry",0]
[null,null,null,null,null,null,null,null,null,null,null,null,"",{"$f":"IF(D1524=\"Cash and Deposits\",IF(E1524=\"\",\"BANK NAME REQUIRED\",IF(ISERROR(VLOOKUP(E1524,'Reference Data'!C:C,1,FALSE)),\"PLEASE SELECT A BANK FROM DEFINED LIST PROVIDED\",\"\")),\"\")","v":""},"No Entry",0]
[null,null,null,null,null,null,null,null,null,null,null,null,"",{"$f":"IF(D1525=\"Cash and Deposits\",IF(E1525=\"\",\"BANK NAME REQUIRED\",IF(ISERROR(VLOOKUP(E1525,'Reference Data'!C:C,1,FALSE)),\"PLEASE SELECT A BANK FROM DEFINED LIST PROVIDED\",\"\")),\"\")","v":""},"No Entry",0]
[null,null,null,null,null,null,null,null,null,null,null,null,"",{"$f":"IF(D1526=\"Cash and Deposits\",IF(E1526=\"\",\"BANK NAME REQUIRED\",IF(ISERROR(VLOOKUP(E1526,'Reference Data'!C:C,1,FALSE)),\"PLEASE SELECT A BANK FROM DEFINED LIST PROVIDED\",\"\")),\"\")","v":""},"No Entry",0]
[null,null,null,null,null,null,null,null,null,null,null,null,"",{"$f":"IF(D1527=\"Cash and Deposits\",IF(E1527=\"\",\"BANK NAME REQUIRED\",IF(ISERROR(VLOOKUP(E1527,'Reference Data'!C:C,1,FALSE)),\"PLEASE SELECT A BANK FROM DEFINED LIST PROVIDED\",\"\")),\"\")","v":""},"No Entry",0]
[null,null,null,null,null,null,null,null,null,null,null,null,"",{"$f":"IF(D1528=\"Cash and Deposits\",IF(E1528=\"\",\"BANK NAME REQUIRED\",IF(ISERROR(VLOOKUP(E1528,'Reference Data'!C:C,1,FALSE)),\"PLEASE SELECT A BANK FROM DEFINED LIST PROVIDED\",\"\")),\"\")","v":""},"No Entry",0]
[null,null,null,null,null,null,null,null,null,null,null,null,"",{"$f":"IF(D1529=\"Cash and Deposits\",IF(E1529=\"\",\"BANK NAME REQUIRED\",IF(ISERROR(VLOOKUP(E1529,'Reference Data'!C:C,1,FALSE)),\"PLEASE SELECT A BANK FROM DEFINED LIST PROVIDED\",\"\")),\"\")","v":""},"No Entry",0]
[null,null,null,null,null,null,null,null,null,null,null,null,"",{"$f":"IF(D1530=\"Cash and Deposits\",IF(E1530=\"\",\"BANK NAME REQUIRED\",IF(ISERROR(VLOOKUP(E1530,'Reference Data'!C:C,1,FALSE)),\"PLEASE SELECT A BANK FROM DEFINED LIST PROVIDED\",\"\")),\"\")","v":""},"No Entry",0]
[null,null,null,null,null,null,null,null,null,null,null,null,"",{"$f":"IF(D1531=\"Cash and Deposits\",IF(E1531=\"\",\"BANK NAME REQUIRED\",IF(ISERROR(VLOOKUP(E1531,'Reference Data'!C:C,1,FALSE)),\"PLEASE SELECT A BANK FROM DEFINED LIST PROVIDED\",\"\")),\"\")","v":""},"No Entry",0]
[null,null,null,null,null,null,null,null,null,null,null,null,"",{"$f":"IF(D1532=\"Cash and Deposits\",IF(E1532=\"\",\"BANK NAME REQUIRED\",IF(ISERROR(VLOOKUP(E1532,'Reference Data'!C:C,1,FALSE)),\"PLEASE SELECT A BANK FROM DEFINED LIST PROVIDED\",\"\")),\"\")","v":""},"No Entry",0]
[null,null,null,null,null,null,null,null,null,null,null,null,"",{"$f":"IF(D1533=\"Cash and Deposits\",IF(E1533=\"\",\"BANK NAME REQUIRED\",IF(ISERROR(VLOOKUP(E1533,'Reference Data'!C:C,1,FALSE)),\"PLEASE SELECT A BANK FROM DEFINED LIST PROVIDED\",\"\")),\"\")","v":""},"No Entry",0]
[null,null,null,null,null,null,null,null,null,null,null,null,"",{"$f":"IF(D1534=\"Cash and Deposits\",IF(E1534=\"\",\"BANK NAME REQUIRED\",IF(ISERROR(VLOOKUP(E1534,'Reference Data'!C:C,1,FALSE)),\"PLEASE SELECT A BANK FROM DEFINED LIST PROVIDED\",\"\")),\"\")","v":""},"No Entry",0]
[null,null,null,null,null,null,null,null,null,null,null,null,"",{"$f":"IF(D1535=\"Cash and Deposits\",IF(E1535=\"\",\"BANK NAME REQUIRED\",IF(ISERROR(VLOOKUP(E1535,'Reference Data'!C:C,1,FALSE)),\"PLEASE SELECT A BANK FROM DEFINED LIST PROVIDED\",\"\")),\"\")","v":""},"No Entry",0]
[null,null,null,null,null,null,null,null,null,null,null,null,"",{"$f":"IF(D1536=\"Cash and Deposits\",IF(E1536=\"\",\"BANK NAME REQUIRED\",IF(ISERROR(VLOOKUP(E1536,'Reference Data'!C:C,1,FALSE)),\"PLEASE SELECT A BANK FROM DEFINED LIST PROVIDED\",\"\")),\"\")","v":""},"No Entry",0]
[null,null,null,null,null,null,null,null,null,null,null,null,"",{"$f":"IF(D1537=\"Cash and Deposits\",IF(E1537=\"\",\"BANK NAME REQUIRED\",IF(ISERROR(VLOOKUP(E1537,'Reference Data'!C:C,1,FALSE)),\"PLEASE SELECT A BANK FROM DEFINED LIST PROVIDED\",\"\")),\"\")","v":""},"No Entry",0]
[null,null,null,null,null,null,null,null,null,null,null,null,"",{"$f":"IF(D1538=\"Cash and Deposits\",IF(E1538=\"\",\"BANK NAME REQUIRED\",IF(ISERROR(VLOOKUP(E1538,'Reference Data'!C:C,1,FALSE)),\"PLEASE SELECT A BANK FROM DEFINED LIST PROVIDED\",\"\")),\"\")","v":""},"No Entry",0]
[null,null,null,null,null,null,null,null,null,null,null,null,"",{"$f":"IF(D1539=\"Cash and Deposits\",IF(E1539=\"\",\"BANK NAME REQUIRED\",IF(ISERROR(VLOOKUP(E1539,'Reference Data'!C:C,1,FALSE)),\"PLEASE SELECT A BANK FROM DEFINED LIST PROVIDED\",\"\")),\"\")","v":""},"No Entry",0]
[null,null,null,null,null,null,null,null,null,null,null,null,"",{"$f":"IF(D1540=\"Cash and Deposits\",IF(E1540=\"\",\"BANK NAME REQUIRED\",IF(ISERROR(VLOOKUP(E1540,'Reference Data'!C:C,1,FALSE)),\"PLEASE SELECT A BANK FROM DEFINED LIST PROVIDED\",\"\")),\"\")","v":""},"No Entry",0]
[null,null,null,null,null,null,null,null,null,null,null,null,{"$f":"IF(K1541<>0,IF(B1541=\"\",\"ID CODE REQUIRED\",\"\"),\"\")","v":""},{"$f":"IF(D1541=\"Cash and Deposits\",IF(E1541=\"\",\"BANK NAME REQUIRED\",IF(ISERROR(VLOOKUP(E1541,'Reference Data'!C:C,1,FALSE)),\"PLEASE SELECT A BANK FROM DEFINED LIST PROVIDED\",\"\")),\"\")","v":""},{"$f":"IF(K1541=0,\"No Entry\",\"\")","v":"No Entry"},{"$f":"IF(K1541<>0,IF(A1541=\"\",1,0),0)","v":0}]
[null,null,null,null,null,null,null,null,null,null,null,null,"",{"$f":"IF(D1542=\"Cash and Deposits\",IF(E1542=\"\",\"BANK NAME REQUIRED\",IF(ISERROR(VLOOKUP(E1542,'Reference Data'!C:C,1,FALSE)),\"PLEASE SELECT A BANK FROM DEFINED LIST PROVIDED\",\"\")),\"\")","v":""},"No Entry",0]
[null,null,null,null,null,null,null,null,null,null,null,null,"",{"$f":"IF(D1543=\"Cash and Deposits\",IF(E1543=\"\",\"BANK NAME REQUIRED\",IF(ISERROR(VLOOKUP(E1543,'Reference Data'!C:C,1,FALSE)),\"PLEASE SELECT A BANK FROM DEFINED LIST PROVIDED\",\"\")),\"\")","v":""},"No Entry",0]
[null,null,null,null,null,null,null,null,null,null,null,null,"",{"$f":"IF(D1544=\"Cash and Deposits\",IF(E1544=\"\",\"BANK NAME REQUIRED\",IF(ISERROR(VLOOKUP(E1544,'Reference Data'!C:C,1,FALSE)),\"PLEASE SELECT A BANK FROM DEFINED LIST PROVIDED\",\"\")),\"\")","v":""},"No Entry",0]
[null,null,null,null,null,null,null,null,null,null,null,null,"",{"$f":"IF(D1545=\"Cash and Deposits\",IF(E1545=\"\",\"BANK NAME REQUIRED\",IF(ISERROR(VLOOKUP(E1545,'Reference Data'!C:C,1,FALSE)),\"PLEASE SELECT A BANK FROM DEFINED LIST PROVIDED\",\"\")),\"\")","v":""},"No Entry",0]
[null,null,null,null,null,null,null,null,null,null,null,null,"",{"$f":"IF(D1546=\"Cash and Deposits\",IF(E1546=\"\",\"BANK NAME REQUIRED\",IF(ISERROR(VLOOKUP(E1546,'Reference Data'!C:C,1,FALSE)),\"PLEASE SELECT A BANK FROM DEFINED LIST PROVIDED\",\"\")),\"\")","v":""},"No Entry",0]
[null,null,null,null,null,null,null,null,null,null,null,null,"",{"$f":"IF(D1547=\"Cash and Deposits\",IF(E1547=\"\",\"BANK NAME REQUIRED\",IF(ISERROR(VLOOKUP(E1547,'Reference Data'!C:C,1,FALSE)),\"PLEASE SELECT A BANK FROM DEFINED LIST PROVIDED\",\"\")),\"\")","v":""},"No Entry",0]
[null,null,null,null,null,null,null,null,null,null,null,null,"",{"$f":"IF(D1548=\"Cash and Deposits\",IF(E1548=\"\",\"BANK NAME REQUIRED\",IF(ISERROR(VLOOKUP(E1548,'Reference Data'!C:C,1,FALSE)),\"PLEASE SELECT A BANK FROM DEFINED LIST PROVIDED\",\"\")),\"\")","v":""},"No Entry",0]
[null,null,null,null,null,null,null,null,null,null,null,null,"",{"$f":"IF(D1549=\"Cash and Deposits\",IF(E1549=\"\",\"BANK NAME REQUIRED\",IF(ISERROR(VLOOKUP(E1549,'Reference Data'!C:C,1,FALSE)),\"PLEASE SELECT A BANK FROM DEFINED LIST PROVIDED\",\"\")),\"\")","v":""},"No Entry",0]
[null,null,null,null,null,null,null,null,null,null,null,null,"",{"$f":"IF(D1550=\"Cash and Deposits\",IF(E1550=\"\",\"BANK NAME REQUIRED\",IF(ISERROR(VLOOKUP(E1550,'Reference Data'!C:C,1,FALSE)),\"PLEASE SELECT A BANK FROM DEFINED LIST PROVIDED\",\"\")),\"\")","v":""},"No Entry",0]
[null,null,null,null,null,null,null,null,null,null,null,null,"",{"$f":"IF(D1551=\"Cash and Deposits\",IF(E1551=\"\",\"BANK NAME REQUIRED\",IF(ISERROR(VLOOKUP(E1551,'Reference Data'!C:C,1,FALSE)),\"PLEASE SELECT A BANK FROM DEFINED LIST PROVIDED\",\"\")),\"\")","v":""},"No Entry",0]
[null,null,null,null,null,null,null,null,null,null,null,null,"",{"$f":"IF(D1552=\"Cash and Deposits\",IF(E1552=\"\",\"BANK NAME REQUIRED\",IF(ISERROR(VLOOKUP(E1552,'Reference Data'!C:C,1,FALSE)),\"PLEASE SELECT A BANK FROM DEFINED LIST PROVIDED\",\"\")),\"\")","v":""},"No Entry",0]
[null,null,null,null,null,null,null,null,null,null,null,null,"",{"$f":"IF(D1553=\"Cash and Deposits\",IF(E1553=\"\",\"BANK NAME REQUIRED\",IF(ISERROR(VLOOKUP(E1553,'Reference Data'!C:C,1,FALSE)),\"PLEASE SELECT A BANK FROM DEFINED LIST PROVIDED\",\"\")),\"\")","v":""},"No Entry",0]
[null,null,null,null,null,null,null,null,null,null,null,null,"",{"$f":"IF(D1554=\"Cash and Deposits\",IF(E1554=\"\",\"BANK NAME REQUIRED\",IF(ISERROR(VLOOKUP(E1554,'Reference Data'!C:C,1,FALSE)),\"PLEASE SELECT A BANK FROM DEFINED LIST PROVIDED\",\"\")),\"\")","v":""},"No Entry",0]
[null,null,null,null,null,null,null,null,null,null,null,null,"",{"$f":"IF(D1555=\"Cash and Deposits\",IF(E1555=\"\",\"BANK NAME REQUIRED\",IF(ISERROR(VLOOKUP(E1555,'Reference Data'!C:C,1,FALSE)),\"PLEASE SELECT A BANK FROM DEFINED LIST PROVIDED\",\"\")),\"\")","v":""},"No Entry",0]
[null,null,null,null,null,null,null,null,null,null,null,null,"",{"$f":"IF(D1556=\"Cash and Deposits\",IF(E1556=\"\",\"BANK NAME REQUIRED\",IF(ISERROR(VLOOKUP(E1556,'Reference Data'!C:C,1,FALSE)),\"PLEASE SELECT A BANK FROM DEFINED LIST PROVIDED\",\"\")),\"\")","v":""},"No Entry",0]
[null,null,null,null,null,null,null,null,null,null,null,null,"",{"$f":"IF(D1557=\"Cash and Deposits\",IF(E1557=\"\",\"BANK NAME REQUIRED\",IF(ISERROR(VLOOKUP(E1557,'Reference Data'!C:C,1,FALSE)),\"PLEASE SELECT A BANK FROM DEFINED LIST PROVIDED\",\"\")),\"\")","v":""},"No Entry",0]
[null,null,null,null,null,null,null,null,null,null,null,null,"",{"$f":"IF(D1558=\"Cash and Deposits\",IF(E1558=\"\",\"BANK NAME REQUIRED\",IF(ISERROR(VLOOKUP(E1558,'Reference Data'!C:C,1,FALSE)),\"PLEASE SELECT A BANK FROM DEFINED LIST PROVIDED\",\"\")),\"\")","v":""},"No Entry",0]
[null,null,null,null,null,null,null,null,null,null,null,null,"",{"$f":"IF(D1559=\"Cash and Deposits\",IF(E1559=\"\",\"BANK NAME REQUIRED\",IF(ISERROR(VLOOKUP(E1559,'Reference Data'!C:C,1,FALSE)),\"PLEASE SELECT A BANK FROM DEFINED LIST PROVIDED\",\"\")),\"\")","v":""},"No Entry",0]
[null,null,null,null,null,null,null,null,null,null,null,null,"",{"$f":"IF(D1560=\"Cash and Deposits\",IF(E1560=\"\",\"BANK NAME REQUIRED\",IF(ISERROR(VLOOKUP(E1560,'Reference Data'!C:C,1,FALSE)),\"PLEASE SELECT A BANK FROM DEFINED LIST PROVIDED\",\"\")),\"\")","v":""},"No Entry",0]
[null,null,null,null,null,null,null,null,null,null,null,null,"",{"$f":"IF(D1561=\"Cash and Deposits\",IF(E1561=\"\",\"BANK NAME REQUIRED\",IF(ISERROR(VLOOKUP(E1561,'Reference Data'!C:C,1,FALSE)),\"PLEASE SELECT A BANK FROM DEFINED LIST PROVIDED\",\"\")),\"\")","v":""},"No Entry",0]
[null,null,null,null,null,null,null,null,null,null,null,null,"",{"$f":"IF(D1562=\"Cash and Deposits\",IF(E1562=\"\",\"BANK NAME REQUIRED\",IF(ISERROR(VLOOKUP(E1562,'Reference Data'!C:C,1,FALSE)),\"PLEASE SELECT A BANK FROM DEFINED LIST PROVIDED\",\"\")),\"\")","v":""},"No Entry",0]
[null,null,null,null,null,null,null,null,null,null,null,null,"",{"$f":"IF(D1563=\"Cash and Deposits\",IF(E1563=\"\",\"BANK NAME REQUIRED\",IF(ISERROR(VLOOKUP(E1563,'Reference Data'!C:C,1,FALSE)),\"PLEASE SELECT A BANK FROM DEFINED LIST PROVIDED\",\"\")),\"\")","v":""},"No Entry",0]
[null,null,null,null,null,null,null,null,null,null,null,null,"",{"$f":"IF(D1564=\"Cash and Deposits\",IF(E1564=\"\",\"BANK NAME REQUIRED\",IF(ISERROR(VLOOKUP(E1564,'Reference Data'!C:C,1,FALSE)),\"PLEASE SELECT A BANK FROM DEFINED LIST PROVIDED\",\"\")),\"\")","v":""},"No Entry",0]
[null,null,null,null,null,null,null,null,null,null,null,null,"",{"$f":"IF(D1565=\"Cash and Deposits\",IF(E1565=\"\",\"BANK NAME REQUIRED\",IF(ISERROR(VLOOKUP(E1565,'Reference Data'!C:C,1,FALSE)),\"PLEASE SELECT A BANK FROM DEFINED LIST PROVIDED\",\"\")),\"\")","v":""},"No Entry",0]
[null,null,null,null,null,null,null,null,null,null,null,null,"",{"$f":"IF(D1566=\"Cash and Deposits\",IF(E1566=\"\",\"BANK NAME REQUIRED\",IF(ISERROR(VLOOKUP(E1566,'Reference Data'!C:C,1,FALSE)),\"PLEASE SELECT A BANK FROM DEFINED LIST PROVIDED\",\"\")),\"\")","v":""},"No Entry",0]
[null,null,null,null,null,null,null,null,null,null,null,null,"",{"$f":"IF(D1567=\"Cash and Deposits\",IF(E1567=\"\",\"BANK NAME REQUIRED\",IF(ISERROR(VLOOKUP(E1567,'Reference Data'!C:C,1,FALSE)),\"PLEASE SELECT A BANK FROM DEFINED LIST PROVIDED\",\"\")),\"\")","v":""},"No Entry",0]
[null,null,null,null,null,null,null,null,null,null,null,null,"",{"$f":"IF(D1568=\"Cash and Deposits\",IF(E1568=\"\",\"BANK NAME REQUIRED\",IF(ISERROR(VLOOKUP(E1568,'Reference Data'!C:C,1,FALSE)),\"PLEASE SELECT A BANK FROM DEFINED LIST PROVIDED\",\"\")),\"\")","v":""},"No Entry",0]
[null,null,null,null,null,null,null,null,null,null,null,null,"",{"$f":"IF(D1569=\"Cash and Deposits\",IF(E1569=\"\",\"BANK NAME REQUIRED\",IF(ISERROR(VLOOKUP(E1569,'Reference Data'!C:C,1,FALSE)),\"PLEASE SELECT A BANK FROM DEFINED LIST PROVIDED\",\"\")),\"\")","v":""},"No Entry",0]
[null,null,null,null,null,null,null,null,null,null,null,null,"",{"$f":"IF(D1570=\"Cash and Deposits\",IF(E1570=\"\",\"BANK NAME REQUIRED\",IF(ISERROR(VLOOKUP(E1570,'Reference Data'!C:C,1,FALSE)),\"PLEASE SELECT A BANK FROM DEFINED LIST PROVIDED\",\"\")),\"\")","v":""},"No Entry",0]
[null,null,null,null,null,null,null,null,null,null,null,null,"",{"$f":"IF(D1571=\"Cash and Deposits\",IF(E1571=\"\",\"BANK NAME REQUIRED\",IF(ISERROR(VLOOKUP(E1571,'Reference Data'!C:C,1,FALSE)),\"PLEASE SELECT A BANK FROM DEFINED LIST PROVIDED\",\"\")),\"\")","v":""},"No Entry",0]
[null,null,null,null,null,null,null,null,null,null,null,null,"",{"$f":"IF(D1572=\"Cash and Deposits\",IF(E1572=\"\",\"BANK NAME REQUIRED\",IF(ISERROR(VLOOKUP(E1572,'Reference Data'!C:C,1,FALSE)),\"PLEASE SELECT A BANK FROM DEFINED LIST PROVIDED\",\"\")),\"\")","v":""},"No Entry",0]
[null,null,null,null,null,null,null,null,null,null,null,null,"",{"$f":"IF(D1573=\"Cash and Deposits\",IF(E1573=\"\",\"BANK NAME REQUIRED\",IF(ISERROR(VLOOKUP(E1573,'Reference Data'!C:C,1,FALSE)),\"PLEASE SELECT A BANK FROM DEFINED LIST PROVIDED\",\"\")),\"\")","v":""},"No Entry",0]
[null,null,null,null,null,null,null,null,null,null,null,null,"",{"$f":"IF(D1574=\"Cash and Deposits\",IF(E1574=\"\",\"BANK NAME REQUIRED\",IF(ISERROR(VLOOKUP(E1574,'Reference Data'!C:C,1,FALSE)),\"PLEASE SELECT A BANK FROM DEFINED LIST PROVIDED\",\"\")),\"\")","v":""},"No Entry",0]
[null,null,null,null,null,null,null,null,null,null,null,null,"",{"$f":"IF(D1575=\"Cash and Deposits\",IF(E1575=\"\",\"BANK NAME REQUIRED\",IF(ISERROR(VLOOKUP(E1575,'Reference Data'!C:C,1,FALSE)),\"PLEASE SELECT A BANK FROM DEFINED LIST PROVIDED\",\"\")),\"\")","v":""},"No Entry",0]
[null,null,null,null,null,null,null,null,null,null,null,null,"",{"$f":"IF(D1576=\"Cash and Deposits\",IF(E1576=\"\",\"BANK NAME REQUIRED\",IF(ISERROR(VLOOKUP(E1576,'Reference Data'!C:C,1,FALSE)),\"PLEASE SELECT A BANK FROM DEFINED LIST PROVIDED\",\"\")),\"\")","v":""},"No Entry",0]
[null,null,null,null,null,null,null,null,null,null,null,null,"",{"$f":"IF(D1577=\"Cash and Deposits\",IF(E1577=\"\",\"BANK NAME REQUIRED\",IF(ISERROR(VLOOKUP(E1577,'Reference Data'!C:C,1,FALSE)),\"PLEASE SELECT A BANK FROM DEFINED LIST PROVIDED\",\"\")),\"\")","v":""},"No Entry",0]
[null,null,null,null,null,null,null,null,null,null,null,null,"",{"$f":"IF(D1578=\"Cash and Deposits\",IF(E1578=\"\",\"BANK NAME REQUIRED\",IF(ISERROR(VLOOKUP(E1578,'Reference Data'!C:C,1,FALSE)),\"PLEASE SELECT A BANK FROM DEFINED LIST PROVIDED\",\"\")),\"\")","v":""},"No Entry",0]
[null,null,null,null,null,null,null,null,null,null,null,null,"",{"$f":"IF(D1579=\"Cash and Deposits\",IF(E1579=\"\",\"BANK NAME REQUIRED\",IF(ISERROR(VLOOKUP(E1579,'Reference Data'!C:C,1,FALSE)),\"PLEASE SELECT A BANK FROM DEFINED LIST PROVIDED\",\"\")),\"\")","v":""},"No Entry",0]
[null,null,null,null,null,null,null,null,null,null,null,null,"",{"$f":"IF(D1580=\"Cash and Deposits\",IF(E1580=\"\",\"BANK NAME REQUIRED\",IF(ISERROR(VLOOKUP(E1580,'Reference Data'!C:C,1,FALSE)),\"PLEASE SELECT A BANK FROM DEFINED LIST PROVIDED\",\"\")),\"\")","v":""},"No Entry",0]
[null,null,null,null,null,null,null,null,null,null,null,null,"",{"$f":"IF(D1581=\"Cash and Deposits\",IF(E1581=\"\",\"BANK NAME REQUIRED\",IF(ISERROR(VLOOKUP(E1581,'Reference Data'!C:C,1,FALSE)),\"PLEASE SELECT A BANK FROM DEFINED LIST PROVIDED\",\"\")),\"\")","v":""},"No Entry",0]
[null,null,null,null,null,null,null,null,null,null,null,null,"",{"$f":"IF(D1582=\"Cash and Deposits\",IF(E1582=\"\",\"BANK NAME REQUIRED\",IF(ISERROR(VLOOKUP(E1582,'Reference Data'!C:C,1,FALSE)),\"PLEASE SELECT A BANK FROM DEFINED LIST PROVIDED\",\"\")),\"\")","v":""},"No Entry",0]
[null,null,null,null,null,null,null,null,null,null,null,null,"",{"$f":"IF(D1583=\"Cash and Deposits\",IF(E1583=\"\",\"BANK NAME REQUIRED\",IF(ISERROR(VLOOKUP(E1583,'Reference Data'!C:C,1,FALSE)),\"PLEASE SELECT A BANK FROM DEFINED LIST PROVIDED\",\"\")),\"\")","v":""},"No Entry",0]
[null,null,null,null,null,null,null,null,null,null,null,null,"",{"$f":"IF(D1584=\"Cash and Deposits\",IF(E1584=\"\",\"BANK NAME REQUIRED\",IF(ISERROR(VLOOKUP(E1584,'Reference Data'!C:C,1,FALSE)),\"PLEASE SELECT A BANK FROM DEFINED LIST PROVIDED\",\"\")),\"\")","v":""},"No Entry",0]
[null,null,null,null,null,null,null,null,null,null,null,null,"",{"$f":"IF(D1585=\"Cash and Deposits\",IF(E1585=\"\",\"BANK NAME REQUIRED\",IF(ISERROR(VLOOKUP(E1585,'Reference Data'!C:C,1,FALSE)),\"PLEASE SELECT A BANK FROM DEFINED LIST PROVIDED\",\"\")),\"\")","v":""},"No Entry",0]
[null,null,null,null,null,null,null,null,null,null,null,null,"",{"$f":"IF(D1586=\"Cash and Deposits\",IF(E1586=\"\",\"BANK NAME REQUIRED\",IF(ISERROR(VLOOKUP(E1586,'Reference Data'!C:C,1,FALSE)),\"PLEASE SELECT A BANK FROM DEFINED LIST PROVIDED\",\"\")),\"\")","v":""},"No Entry",0]
[null,null,null,null,null,null,null,null,null,null,null,null,"",{"$f":"IF(D1587=\"Cash and Deposits\",IF(E1587=\"\",\"BANK NAME REQUIRED\",IF(ISERROR(VLOOKUP(E1587,'Reference Data'!C:C,1,FALSE)),\"PLEASE SELECT A BANK FROM DEFINED LIST PROVIDED\",\"\")),\"\")","v":""},"No Entry",0]
[null,null,null,null,null,null,null,null,null,null,null,null,"",{"$f":"IF(D1588=\"Cash and Deposits\",IF(E1588=\"\",\"BANK NAME REQUIRED\",IF(ISERROR(VLOOKUP(E1588,'Reference Data'!C:C,1,FALSE)),\"PLEASE SELECT A BANK FROM DEFINED LIST PROVIDED\",\"\")),\"\")","v":""},"No Entry",0]
[null,null,null,null,null,null,null,null,null,null,null,null,"",{"$f":"IF(D1589=\"Cash and Deposits\",IF(E1589=\"\",\"BANK NAME REQUIRED\",IF(ISERROR(VLOOKUP(E1589,'Reference Data'!C:C,1,FALSE)),\"PLEASE SELECT A BANK FROM DEFINED LIST PROVIDED\",\"\")),\"\")","v":""},"No Entry",0]
[null,null,null,null,null,null,null,null,null,null,null,null,"",{"$f":"IF(D1590=\"Cash and Deposits\",IF(E1590=\"\",\"BANK NAME REQUIRED\",IF(ISERROR(VLOOKUP(E1590,'Reference Data'!C:C,1,FALSE)),\"PLEASE SELECT A BANK FROM DEFINED LIST PROVIDED\",\"\")),\"\")","v":""},"No Entry",0]
[null,null,null,null,null,null,null,null,null,null,null,null,"",{"$f":"IF(D1591=\"Cash and Deposits\",IF(E1591=\"\",\"BANK NAME REQUIRED\",IF(ISERROR(VLOOKUP(E1591,'Reference Data'!C:C,1,FALSE)),\"PLEASE SELECT A BANK FROM DEFINED LIST PROVIDED\",\"\")),\"\")","v":""},"No Entry",0]
[null,null,null,null,null,null,null,null,null,null,null,null,"",{"$f":"IF(D1592=\"Cash and Deposits\",IF(E1592=\"\",\"BANK NAME REQUIRED\",IF(ISERROR(VLOOKUP(E1592,'Reference Data'!C:C,1,FALSE)),\"PLEASE SELECT A BANK FROM DEFINED LIST PROVIDED\",\"\")),\"\")","v":""},"No Entry",0]
[null,null,null,null,null,null,null,null,null,null,null,null,"",{"$f":"IF(D1593=\"Cash and Deposits\",IF(E1593=\"\",\"BANK NAME REQUIRED\",IF(ISERROR(VLOOKUP(E1593,'Reference Data'!C:C,1,FALSE)),\"PLEASE SELECT A BANK FROM DEFINED LIST PROVIDED\",\"\")),\"\")","v":""},"No Entry",0]
[null,null,null,null,null,null,null,null,null,null,null,null,"",{"$f":"IF(D1594=\"Cash and Deposits\",IF(E1594=\"\",\"BANK NAME REQUIRED\",IF(ISERROR(VLOOKUP(E1594,'Reference Data'!C:C,1,FALSE)),\"PLEASE SELECT A BANK FROM DEFINED LIST PROVIDED\",\"\")),\"\")","v":""},"No Entry",0]
[null,null,null,null,null,null,null,null,null,null,null,null,"",{"$f":"IF(D1595=\"Cash and Deposits\",IF(E1595=\"\",\"BANK NAME REQUIRED\",IF(ISERROR(VLOOKUP(E1595,'Reference Data'!C:C,1,FALSE)),\"PLEASE SELECT A BANK FROM DEFINED LIST PROVIDED\",\"\")),\"\")","v":""},"No Entry",0]
[null,null,null,null,null,null,null,null,null,null,null,null,"",{"$f":"IF(D1596=\"Cash and Deposits\",IF(E1596=\"\",\"BANK NAME REQUIRED\",IF(ISERROR(VLOOKUP(E1596,'Reference Data'!C:C,1,FALSE)),\"PLEASE SELECT A BANK FROM DEFINED LIST PROVIDED\",\"\")),\"\")","v":""},"No Entry",0]
[null,null,null,null,null,null,null,null,null,null,null,null,"",{"$f":"IF(D1597=\"Cash and Deposits\",IF(E1597=\"\",\"BANK NAME REQUIRED\",IF(ISERROR(VLOOKUP(E1597,'Reference Data'!C:C,1,FALSE)),\"PLEASE SELECT A BANK FROM DEFINED LIST PROVIDED\",\"\")),\"\")","v":""},"No Entry",0]
[null,null,null,null,null,null,null,null,null,null,null,null,"",{"$f":"IF(D1598=\"Cash and Deposits\",IF(E1598=\"\",\"BANK NAME REQUIRED\",IF(ISERROR(VLOOKUP(E1598,'Reference Data'!C:C,1,FALSE)),\"PLEASE SELECT A BANK FROM DEFINED LIST PROVIDED\",\"\")),\"\")","v":""},"No Entry",0]
[null,null,null,null,null,null,null,null,null,null,null,null,"",{"$f":"IF(D1599=\"Cash and Deposits\",IF(E1599=\"\",\"BANK NAME REQUIRED\",IF(ISERROR(VLOOKUP(E1599,'Reference Data'!C:C,1,FALSE)),\"PLEASE SELECT A BANK FROM DEFINED LIST PROVIDED\",\"\")),\"\")","v":""},"No Entry",0]
[null,null,null,null,null,null,null,null,null,null,null,null,"",{"$f":"IF(D1600=\"Cash and Deposits\",IF(E1600=\"\",\"BANK NAME REQUIRED\",IF(ISERROR(VLOOKUP(E1600,'Reference Data'!C:C,1,FALSE)),\"PLEASE SELECT A BANK FROM DEFINED LIST PROVIDED\",\"\")),\"\")","v":""},"No Entry",0]
[null,null,null,null,null,null,null,null,null,null,null,null,"",{"$f":"IF(D1601=\"Cash and Deposits\",IF(E1601=\"\",\"BANK NAME REQUIRED\",IF(ISERROR(VLOOKUP(E1601,'Reference Data'!C:C,1,FALSE)),\"PLEASE SELECT A BANK FROM DEFINED LIST PROVIDED\",\"\")),\"\")","v":""},"No Entry",0]
[null,null,null,null,null,null,null,null,null,null,null,null,"",{"$f":"IF(D1602=\"Cash and Deposits\",IF(E1602=\"\",\"BANK NAME REQUIRED\",IF(ISERROR(VLOOKUP(E1602,'Reference Data'!C:C,1,FALSE)),\"PLEASE SELECT A BANK FROM DEFINED LIST PROVIDED\",\"\")),\"\")","v":""},"No Entry",0]
[null,null,null,null,null,null,null,null,null,null,null,null,"",{"$f":"IF(D1603=\"Cash and Deposits\",IF(E1603=\"\",\"BANK NAME REQUIRED\",IF(ISERROR(VLOOKUP(E1603,'Reference Data'!C:C,1,FALSE)),\"PLEASE SELECT A BANK FROM DEFINED LIST PROVIDED\",\"\")),\"\")","v":""},"No Entry",0]
[null,null,null,null,null,null,null,null,null,null,null,null,"",{"$f":"IF(D1604=\"Cash and Deposits\",IF(E1604=\"\",\"BANK NAME REQUIRED\",IF(ISERROR(VLOOKUP(E1604,'Reference Data'!C:C,1,FALSE)),\"PLEASE SELECT A BANK FROM DEFINED LIST PROVIDED\",\"\")),\"\")","v":""},"No Entry",0]
[null,null,null,null,null,null,null,null,null,null,null,null,{"$f":"IF(K1605<>0,IF(B1605=\"\",\"ID CODE REQUIRED\",\"\"),\"\")","v":""},{"$f":"IF(D1605=\"Cash and Deposits\",IF(E1605=\"\",\"BANK NAME REQUIRED\",IF(ISERROR(VLOOKUP(E1605,'Reference Data'!C:C,1,FALSE)),\"PLEASE SELECT A BANK FROM DEFINED LIST PROVIDED\",\"\")),\"\")","v":""},{"$f":"IF(K1605=0,\"No Entry\",\"\")","v":"No Entry"},{"$f":"IF(K1605<>0,IF(A1605=\"\",1,0),0)","v":0}]
[null,null,null,null,null,null,null,null,null,null,null,null,"",{"$f":"IF(D1606=\"Cash and Deposits\",IF(E1606=\"\",\"BANK NAME REQUIRED\",IF(ISERROR(VLOOKUP(E1606,'Reference Data'!C:C,1,FALSE)),\"PLEASE SELECT A BANK FROM DEFINED LIST PROVIDED\",\"\")),\"\")","v":""},"No Entry",0]
[null,null,null,null,null,null,null,null,null,null,null,null,"",{"$f":"IF(D1607=\"Cash and Deposits\",IF(E1607=\"\",\"BANK NAME REQUIRED\",IF(ISERROR(VLOOKUP(E1607,'Reference Data'!C:C,1,FALSE)),\"PLEASE SELECT A BANK FROM DEFINED LIST PROVIDED\",\"\")),\"\")","v":""},"No Entry",0]
[null,null,null,null,null,null,null,null,null,null,null,null,"",{"$f":"IF(D1608=\"Cash and Deposits\",IF(E1608=\"\",\"BANK NAME REQUIRED\",IF(ISERROR(VLOOKUP(E1608,'Reference Data'!C:C,1,FALSE)),\"PLEASE SELECT A BANK FROM DEFINED LIST PROVIDED\",\"\")),\"\")","v":""},"No Entry",0]
[null,null,null,null,null,null,null,null,null,null,null,null,"",{"$f":"IF(D1609=\"Cash and Deposits\",IF(E1609=\"\",\"BANK NAME REQUIRED\",IF(ISERROR(VLOOKUP(E1609,'Reference Data'!C:C,1,FALSE)),\"PLEASE SELECT A BANK FROM DEFINED LIST PROVIDED\",\"\")),\"\")","v":""},"No Entry",0]
[null,null,null,null,null,null,null,null,null,null,null,null,"",{"$f":"IF(D1610=\"Cash and Deposits\",IF(E1610=\"\",\"BANK NAME REQUIRED\",IF(ISERROR(VLOOKUP(E1610,'Reference Data'!C:C,1,FALSE)),\"PLEASE SELECT A BANK FROM DEFINED LIST PROVIDED\",\"\")),\"\")","v":""},"No Entry",0]
[null,null,null,null,null,null,null,null,null,null,null,null,"",{"$f":"IF(D1611=\"Cash and Deposits\",IF(E1611=\"\",\"BANK NAME REQUIRED\",IF(ISERROR(VLOOKUP(E1611,'Reference Data'!C:C,1,FALSE)),\"PLEASE SELECT A BANK FROM DEFINED LIST PROVIDED\",\"\")),\"\")","v":""},"No Entry",0]
[null,null,null,null,null,null,null,null,null,null,null,null,"",{"$f":"IF(D1612=\"Cash and Deposits\",IF(E1612=\"\",\"BANK NAME REQUIRED\",IF(ISERROR(VLOOKUP(E1612,'Reference Data'!C:C,1,FALSE)),\"PLEASE SELECT A BANK FROM DEFINED LIST PROVIDED\",\"\")),\"\")","v":""},"No Entry",0]
[null,null,null,null,null,null,null,null,null,null,null,null,"",{"$f":"IF(D1613=\"Cash and Deposits\",IF(E1613=\"\",\"BANK NAME REQUIRED\",IF(ISERROR(VLOOKUP(E1613,'Reference Data'!C:C,1,FALSE)),\"PLEASE SELECT A BANK FROM DEFINED LIST PROVIDED\",\"\")),\"\")","v":""},"No Entry",0]
[null,null,null,null,null,null,null,null,null,null,null,null,"",{"$f":"IF(D1614=\"Cash and Deposits\",IF(E1614=\"\",\"BANK NAME REQUIRED\",IF(ISERROR(VLOOKUP(E1614,'Reference Data'!C:C,1,FALSE)),\"PLEASE SELECT A BANK FROM DEFINED LIST PROVIDED\",\"\")),\"\")","v":""},"No Entry",0]
[null,null,null,null,null,null,null,null,null,null,null,null,"",{"$f":"IF(D1615=\"Cash and Deposits\",IF(E1615=\"\",\"BANK NAME REQUIRED\",IF(ISERROR(VLOOKUP(E1615,'Reference Data'!C:C,1,FALSE)),\"PLEASE SELECT A BANK FROM DEFINED LIST PROVIDED\",\"\")),\"\")","v":""},"No Entry",0]
[null,null,null,null,null,null,null,null,null,null,null,null,"",{"$f":"IF(D1616=\"Cash and Deposits\",IF(E1616=\"\",\"BANK NAME REQUIRED\",IF(ISERROR(VLOOKUP(E1616,'Reference Data'!C:C,1,FALSE)),\"PLEASE SELECT A BANK FROM DEFINED LIST PROVIDED\",\"\")),\"\")","v":""},"No Entry",0]
[null,null,null,null,null,null,null,null,null,null,null,null,"",{"$f":"IF(D1617=\"Cash and Deposits\",IF(E1617=\"\",\"BANK NAME REQUIRED\",IF(ISERROR(VLOOKUP(E1617,'Reference Data'!C:C,1,FALSE)),\"PLEASE SELECT A BANK FROM DEFINED LIST PROVIDED\",\"\")),\"\")","v":""},"No Entry",0]
[null,null,null,null,null,null,null,null,null,null,null,null,"",{"$f":"IF(D1618=\"Cash and Deposits\",IF(E1618=\"\",\"BANK NAME REQUIRED\",IF(ISERROR(VLOOKUP(E1618,'Reference Data'!C:C,1,FALSE)),\"PLEASE SELECT A BANK FROM DEFINED LIST PROVIDED\",\"\")),\"\")","v":""},"No Entry",0]
[null,null,null,null,null,null,null,null,null,null,null,null,"",{"$f":"IF(D1619=\"Cash and Deposits\",IF(E1619=\"\",\"BANK NAME REQUIRED\",IF(ISERROR(VLOOKUP(E1619,'Reference Data'!C:C,1,FALSE)),\"PLEASE SELECT A BANK FROM DEFINED LIST PROVIDED\",\"\")),\"\")","v":""},"No Entry",0]
[null,null,null,null,null,null,null,null,null,null,null,null,"",{"$f":"IF(D1620=\"Cash and Deposits\",IF(E1620=\"\",\"BANK NAME REQUIRED\",IF(ISERROR(VLOOKUP(E1620,'Reference Data'!C:C,1,FALSE)),\"PLEASE SELECT A BANK FROM DEFINED LIST PROVIDED\",\"\")),\"\")","v":""},"No Entry",0]
[null,null,null,null,null,null,null,null,null,null,null,null,"",{"$f":"IF(D1621=\"Cash and Deposits\",IF(E1621=\"\",\"BANK NAME REQUIRED\",IF(ISERROR(VLOOKUP(E1621,'Reference Data'!C:C,1,FALSE)),\"PLEASE SELECT A BANK FROM DEFINED LIST PROVIDED\",\"\")),\"\")","v":""},"No Entry",0]
[null,null,null,null,null,null,null,null,null,null,null,null,"",{"$f":"IF(D1622=\"Cash and Deposits\",IF(E1622=\"\",\"BANK NAME REQUIRED\",IF(ISERROR(VLOOKUP(E1622,'Reference Data'!C:C,1,FALSE)),\"PLEASE SELECT A BANK FROM DEFINED LIST PROVIDED\",\"\")),\"\")","v":""},"No Entry",0]
[null,null,null,null,null,null,null,null,null,null,null,null,"",{"$f":"IF(D1623=\"Cash and Deposits\",IF(E1623=\"\",\"BANK NAME REQUIRED\",IF(ISERROR(VLOOKUP(E1623,'Reference Data'!C:C,1,FALSE)),\"PLEASE SELECT A BANK FROM DEFINED LIST PROVIDED\",\"\")),\"\")","v":""},"No Entry",0]
[null,null,null,null,null,null,null,null,null,null,null,null,"",{"$f":"IF(D1624=\"Cash and Deposits\",IF(E1624=\"\",\"BANK NAME REQUIRED\",IF(ISERROR(VLOOKUP(E1624,'Reference Data'!C:C,1,FALSE)),\"PLEASE SELECT A BANK FROM DEFINED LIST PROVIDED\",\"\")),\"\")","v":""},"No Entry",0]
[null,null,null,null,null,null,null,null,null,null,null,null,"",{"$f":"IF(D1625=\"Cash and Deposits\",IF(E1625=\"\",\"BANK NAME REQUIRED\",IF(ISERROR(VLOOKUP(E1625,'Reference Data'!C:C,1,FALSE)),\"PLEASE SELECT A BANK FROM DEFINED LIST PROVIDED\",\"\")),\"\")","v":""},"No Entry",0]
[null,null,null,null,null,null,null,null,null,null,null,null,"",{"$f":"IF(D1626=\"Cash and Deposits\",IF(E1626=\"\",\"BANK NAME REQUIRED\",IF(ISERROR(VLOOKUP(E1626,'Reference Data'!C:C,1,FALSE)),\"PLEASE SELECT A BANK FROM DEFINED LIST PROVIDED\",\"\")),\"\")","v":""},"No Entry",0]
[null,null,null,null,null,null,null,null,null,null,null,null,"",{"$f":"IF(D1627=\"Cash and Deposits\",IF(E1627=\"\",\"BANK NAME REQUIRED\",IF(ISERROR(VLOOKUP(E1627,'Reference Data'!C:C,1,FALSE)),\"PLEASE SELECT A BANK FROM DEFINED LIST PROVIDED\",\"\")),\"\")","v":""},"No Entry",0]
[null,null,null,null,null,null,null,null,null,null,null,null,"",{"$f":"IF(D1628=\"Cash and Deposits\",IF(E1628=\"\",\"BANK NAME REQUIRED\",IF(ISERROR(VLOOKUP(E1628,'Reference Data'!C:C,1,FALSE)),\"PLEASE SELECT A BANK FROM DEFINED LIST PROVIDED\",\"\")),\"\")","v":""},"No Entry",0]
[null,null,null,null,null,null,null,null,null,null,null,null,"",{"$f":"IF(D1629=\"Cash and Deposits\",IF(E1629=\"\",\"BANK NAME REQUIRED\",IF(ISERROR(VLOOKUP(E1629,'Reference Data'!C:C,1,FALSE)),\"PLEASE SELECT A BANK FROM DEFINED LIST PROVIDED\",\"\")),\"\")","v":""},"No Entry",0]
[null,null,null,null,null,null,null,null,null,null,null,null,"",{"$f":"IF(D1630=\"Cash and Deposits\",IF(E1630=\"\",\"BANK NAME REQUIRED\",IF(ISERROR(VLOOKUP(E1630,'Reference Data'!C:C,1,FALSE)),\"PLEASE SELECT A BANK FROM DEFINED LIST PROVIDED\",\"\")),\"\")","v":""},"No Entry",0]
[null,null,null,null,null,null,null,null,null,null,null,null,"",{"$f":"IF(D1631=\"Cash and Deposits\",IF(E1631=\"\",\"BANK NAME REQUIRED\",IF(ISERROR(VLOOKUP(E1631,'Reference Data'!C:C,1,FALSE)),\"PLEASE SELECT A BANK FROM DEFINED LIST PROVIDED\",\"\")),\"\")","v":""},"No Entry",0]
[null,null,null,null,null,null,null,null,null,null,null,null,"",{"$f":"IF(D1632=\"Cash and Deposits\",IF(E1632=\"\",\"BANK NAME REQUIRED\",IF(ISERROR(VLOOKUP(E1632,'Reference Data'!C:C,1,FALSE)),\"PLEASE SELECT A BANK FROM DEFINED LIST PROVIDED\",\"\")),\"\")","v":""},"No Entry",0]
[null,null,null,null,null,null,null,null,null,null,null,null,"",{"$f":"IF(D1633=\"Cash and Deposits\",IF(E1633=\"\",\"BANK NAME REQUIRED\",IF(ISERROR(VLOOKUP(E1633,'Reference Data'!C:C,1,FALSE)),\"PLEASE SELECT A BANK FROM DEFINED LIST PROVIDED\",\"\")),\"\")","v":""},"No Entry",0]
[null,null,null,null,null,null,null,null,null,null,null,null,"",{"$f":"IF(D1634=\"Cash and Deposits\",IF(E1634=\"\",\"BANK NAME REQUIRED\",IF(ISERROR(VLOOKUP(E1634,'Reference Data'!C:C,1,FALSE)),\"PLEASE SELECT A BANK FROM DEFINED LIST PROVIDED\",\"\")),\"\")","v":""},"No Entry",0]
[null,null,null,null,null,null,null,null,null,null,null,null,"",{"$f":"IF(D1635=\"Cash and Deposits\",IF(E1635=\"\",\"BANK NAME REQUIRED\",IF(ISERROR(VLOOKUP(E1635,'Reference Data'!C:C,1,FALSE)),\"PLEASE SELECT A BANK FROM DEFINED LIST PROVIDED\",\"\")),\"\")","v":""},"No Entry",0]
[null,null,null,null,null,null,null,null,null,null,null,null,"",{"$f":"IF(D1636=\"Cash and Deposits\",IF(E1636=\"\",\"BANK NAME REQUIRED\",IF(ISERROR(VLOOKUP(E1636,'Reference Data'!C:C,1,FALSE)),\"PLEASE SELECT A BANK FROM DEFINED LIST PROVIDED\",\"\")),\"\")","v":""},"No Entry",0]
[null,null,null,null,null,null,null,null,null,null,null,null,"",{"$f":"IF(D1637=\"Cash and Deposits\",IF(E1637=\"\",\"BANK NAME REQUIRED\",IF(ISERROR(VLOOKUP(E1637,'Reference Data'!C:C,1,FALSE)),\"PLEASE SELECT A BANK FROM DEFINED LIST PROVIDED\",\"\")),\"\")","v":""},"No Entry",0]
[null,null,null,null,null,null,null,null,null,null,null,null,"",{"$f":"IF(D1638=\"Cash and Deposits\",IF(E1638=\"\",\"BANK NAME REQUIRED\",IF(ISERROR(VLOOKUP(E1638,'Reference Data'!C:C,1,FALSE)),\"PLEASE SELECT A BANK FROM DEFINED LIST PROVIDED\",\"\")),\"\")","v":""},"No Entry",0]
[null,null,null,null,null,null,null,null,null,null,null,null,"",{"$f":"IF(D1639=\"Cash and Deposits\",IF(E1639=\"\",\"BANK NAME REQUIRED\",IF(ISERROR(VLOOKUP(E1639,'Reference Data'!C:C,1,FALSE)),\"PLEASE SELECT A BANK FROM DEFINED LIST PROVIDED\",\"\")),\"\")","v":""},"No Entry",0]
[null,null,null,null,null,null,null,null,null,null,null,null,"",{"$f":"IF(D1640=\"Cash and Deposits\",IF(E1640=\"\",\"BANK NAME REQUIRED\",IF(ISERROR(VLOOKUP(E1640,'Reference Data'!C:C,1,FALSE)),\"PLEASE SELECT A BANK FROM DEFINED LIST PROVIDED\",\"\")),\"\")","v":""},"No Entry",0]
[null,null,null,null,null,null,null,null,null,null,null,null,"",{"$f":"IF(D1641=\"Cash and Deposits\",IF(E1641=\"\",\"BANK NAME REQUIRED\",IF(ISERROR(VLOOKUP(E1641,'Reference Data'!C:C,1,FALSE)),\"PLEASE SELECT A BANK FROM DEFINED LIST PROVIDED\",\"\")),\"\")","v":""},"No Entry",0]
[null,null,null,null,null,null,null,null,null,null,null,null,"",{"$f":"IF(D1642=\"Cash and Deposits\",IF(E1642=\"\",\"BANK NAME REQUIRED\",IF(ISERROR(VLOOKUP(E1642,'Reference Data'!C:C,1,FALSE)),\"PLEASE SELECT A BANK FROM DEFINED LIST PROVIDED\",\"\")),\"\")","v":""},"No Entry",0]
[null,null,null,null,null,null,null,null,null,null,null,null,"",{"$f":"IF(D1643=\"Cash and Deposits\",IF(E1643=\"\",\"BANK NAME REQUIRED\",IF(ISERROR(VLOOKUP(E1643,'Reference Data'!C:C,1,FALSE)),\"PLEASE SELECT A BANK FROM DEFINED LIST PROVIDED\",\"\")),\"\")","v":""},"No Entry",0]
[null,null,null,null,null,null,null,null,null,null,null,null,"",{"$f":"IF(D1644=\"Cash and Deposits\",IF(E1644=\"\",\"BANK NAME REQUIRED\",IF(ISERROR(VLOOKUP(E1644,'Reference Data'!C:C,1,FALSE)),\"PLEASE SELECT A BANK FROM DEFINED LIST PROVIDED\",\"\")),\"\")","v":""},"No Entry",0]
[null,null,null,null,null,null,null,null,null,null,null,null,"",{"$f":"IF(D1645=\"Cash and Deposits\",IF(E1645=\"\",\"BANK NAME REQUIRED\",IF(ISERROR(VLOOKUP(E1645,'Reference Data'!C:C,1,FALSE)),\"PLEASE SELECT A BANK FROM DEFINED LIST PROVIDED\",\"\")),\"\")","v":""},"No Entry",0]
[null,null,null,null,null,null,null,null,null,null,null,null,"",{"$f":"IF(D1646=\"Cash and Deposits\",IF(E1646=\"\",\"BANK NAME REQUIRED\",IF(ISERROR(VLOOKUP(E1646,'Reference Data'!C:C,1,FALSE)),\"PLEASE SELECT A BANK FROM DEFINED LIST PROVIDED\",\"\")),\"\")","v":""},"No Entry",0]
[null,null,null,null,null,null,null,null,null,null,null,null,"",{"$f":"IF(D1647=\"Cash and Deposits\",IF(E1647=\"\",\"BANK NAME REQUIRED\",IF(ISERROR(VLOOKUP(E1647,'Reference Data'!C:C,1,FALSE)),\"PLEASE SELECT A BANK FROM DEFINED LIST PROVIDED\",\"\")),\"\")","v":""},"No Entry",0]
[null,null,null,null,null,null,null,null,null,null,null,null,"",{"$f":"IF(D1648=\"Cash and Deposits\",IF(E1648=\"\",\"BANK NAME REQUIRED\",IF(ISERROR(VLOOKUP(E1648,'Reference Data'!C:C,1,FALSE)),\"PLEASE SELECT A BANK FROM DEFINED LIST PROVIDED\",\"\")),\"\")","v":""},"No Entry",0]
[null,null,null,null,null,null,null,null,null,null,null,null,"",{"$f":"IF(D1649=\"Cash and Deposits\",IF(E1649=\"\",\"BANK NAME REQUIRED\",IF(ISERROR(VLOOKUP(E1649,'Reference Data'!C:C,1,FALSE)),\"PLEASE SELECT A BANK FROM DEFINED LIST PROVIDED\",\"\")),\"\")","v":""},"No Entry",0]
[null,null,null,null,null,null,null,null,null,null,null,null,"",{"$f":"IF(D1650=\"Cash and Deposits\",IF(E1650=\"\",\"BANK NAME REQUIRED\",IF(ISERROR(VLOOKUP(E1650,'Reference Data'!C:C,1,FALSE)),\"PLEASE SELECT A BANK FROM DEFINED LIST PROVIDED\",\"\")),\"\")","v":""},"No Entry",0]
[null,null,null,null,null,null,null,null,null,null,null,null,"",{"$f":"IF(D1651=\"Cash and Deposits\",IF(E1651=\"\",\"BANK NAME REQUIRED\",IF(ISERROR(VLOOKUP(E1651,'Reference Data'!C:C,1,FALSE)),\"PLEASE SELECT A BANK FROM DEFINED LIST PROVIDED\",\"\")),\"\")","v":""},"No Entry",0]
[null,null,null,null,null,null,null,null,null,null,null,null,"",{"$f":"IF(D1652=\"Cash and Deposits\",IF(E1652=\"\",\"BANK NAME REQUIRED\",IF(ISERROR(VLOOKUP(E1652,'Reference Data'!C:C,1,FALSE)),\"PLEASE SELECT A BANK FROM DEFINED LIST PROVIDED\",\"\")),\"\")","v":""},"No Entry",0]
[null,null,null,null,null,null,null,null,null,null,null,null,"",{"$f":"IF(D1653=\"Cash and Deposits\",IF(E1653=\"\",\"BANK NAME REQUIRED\",IF(ISERROR(VLOOKUP(E1653,'Reference Data'!C:C,1,FALSE)),\"PLEASE SELECT A BANK FROM DEFINED LIST PROVIDED\",\"\")),\"\")","v":""},"No Entry",0]
[null,null,null,null,null,null,null,null,null,null,null,null,"",{"$f":"IF(D1654=\"Cash and Deposits\",IF(E1654=\"\",\"BANK NAME REQUIRED\",IF(ISERROR(VLOOKUP(E1654,'Reference Data'!C:C,1,FALSE)),\"PLEASE SELECT A BANK FROM DEFINED LIST PROVIDED\",\"\")),\"\")","v":""},"No Entry",0]
[null,null,null,null,null,null,null,null,null,null,null,null,"",{"$f":"IF(D1655=\"Cash and Deposits\",IF(E1655=\"\",\"BANK NAME REQUIRED\",IF(ISERROR(VLOOKUP(E1655,'Reference Data'!C:C,1,FALSE)),\"PLEASE SELECT A BANK FROM DEFINED LIST PROVIDED\",\"\")),\"\")","v":""},"No Entry",0]
[null,null,null,null,null,null,null,null,null,null,null,null,"",{"$f":"IF(D1656=\"Cash and Deposits\",IF(E1656=\"\",\"BANK NAME REQUIRED\",IF(ISERROR(VLOOKUP(E1656,'Reference Data'!C:C,1,FALSE)),\"PLEASE SELECT A BANK FROM DEFINED LIST PROVIDED\",\"\")),\"\")","v":""},"No Entry",0]
[null,null,null,null,null,null,null,null,null,null,null,null,"",{"$f":"IF(D1657=\"Cash and Deposits\",IF(E1657=\"\",\"BANK NAME REQUIRED\",IF(ISERROR(VLOOKUP(E1657,'Reference Data'!C:C,1,FALSE)),\"PLEASE SELECT A BANK FROM DEFINED LIST PROVIDED\",\"\")),\"\")","v":""},"No Entry",0]
[null,null,null,null,null,null,null,null,null,null,null,null,"",{"$f":"IF(D1658=\"Cash and Deposits\",IF(E1658=\"\",\"BANK NAME REQUIRED\",IF(ISERROR(VLOOKUP(E1658,'Reference Data'!C:C,1,FALSE)),\"PLEASE SELECT A BANK FROM DEFINED LIST PROVIDED\",\"\")),\"\")","v":""},"No Entry",0]
[null,null,null,null,null,null,null,null,null,null,null,null,"",{"$f":"IF(D1659=\"Cash and Deposits\",IF(E1659=\"\",\"BANK NAME REQUIRED\",IF(ISERROR(VLOOKUP(E1659,'Reference Data'!C:C,1,FALSE)),\"PLEASE SELECT A BANK FROM DEFINED LIST PROVIDED\",\"\")),\"\")","v":""},"No Entry",0]
[null,null,null,null,null,null,null,null,null,null,null,null,"",{"$f":"IF(D1660=\"Cash and Deposits\",IF(E1660=\"\",\"BANK NAME REQUIRED\",IF(ISERROR(VLOOKUP(E1660,'Reference Data'!C:C,1,FALSE)),\"PLEASE SELECT A BANK FROM DEFINED LIST PROVIDED\",\"\")),\"\")","v":""},"No Entry",0]
[null,null,null,null,null,null,null,null,null,null,null,null,"",{"$f":"IF(D1661=\"Cash and Deposits\",IF(E1661=\"\",\"BANK NAME REQUIRED\",IF(ISERROR(VLOOKUP(E1661,'Reference Data'!C:C,1,FALSE)),\"PLEASE SELECT A BANK FROM DEFINED LIST PROVIDED\",\"\")),\"\")","v":""},"No Entry",0]
[null,null,null,null,null,null,null,null,null,null,null,null,"",{"$f":"IF(D1662=\"Cash and Deposits\",IF(E1662=\"\",\"BANK NAME REQUIRED\",IF(ISERROR(VLOOKUP(E1662,'Reference Data'!C:C,1,FALSE)),\"PLEASE SELECT A BANK FROM DEFINED LIST PROVIDED\",\"\")),\"\")","v":""},"No Entry",0]
[null,null,null,null,null,null,null,null,null,null,null,null,"",{"$f":"IF(D1663=\"Cash and Deposits\",IF(E1663=\"\",\"BANK NAME REQUIRED\",IF(ISERROR(VLOOKUP(E1663,'Reference Data'!C:C,1,FALSE)),\"PLEASE SELECT A BANK FROM DEFINED LIST PROVIDED\",\"\")),\"\")","v":""},"No Entry",0]
[null,null,null,null,null,null,null,null,null,null,null,null,"",{"$f":"IF(D1664=\"Cash and Deposits\",IF(E1664=\"\",\"BANK NAME REQUIRED\",IF(ISERROR(VLOOKUP(E1664,'Reference Data'!C:C,1,FALSE)),\"PLEASE SELECT A BANK FROM DEFINED LIST PROVIDED\",\"\")),\"\")","v":""},"No Entry",0]
[null,null,null,null,null,null,null,null,null,null,null,null,"",{"$f":"IF(D1665=\"Cash and Deposits\",IF(E1665=\"\",\"BANK NAME REQUIRED\",IF(ISERROR(VLOOKUP(E1665,'Reference Data'!C:C,1,FALSE)),\"PLEASE SELECT A BANK FROM DEFINED LIST PROVIDED\",\"\")),\"\")","v":""},"No Entry",0]
[null,null,null,null,null,null,null,null,null,null,null,null,"",{"$f":"IF(D1666=\"Cash and Deposits\",IF(E1666=\"\",\"BANK NAME REQUIRED\",IF(ISERROR(VLOOKUP(E1666,'Reference Data'!C:C,1,FALSE)),\"PLEASE SELECT A BANK FROM DEFINED LIST PROVIDED\",\"\")),\"\")","v":""},"No Entry",0]
[null,null,null,null,null,null,null,null,null,null,null,null,"",{"$f":"IF(D1667=\"Cash and Deposits\",IF(E1667=\"\",\"BANK NAME REQUIRED\",IF(ISERROR(VLOOKUP(E1667,'Reference Data'!C:C,1,FALSE)),\"PLEASE SELECT A BANK FROM DEFINED LIST PROVIDED\",\"\")),\"\")","v":""},"No Entry",0]
[null,null,null,null,null,null,null,null,null,null,null,null,"",{"$f":"IF(D1668=\"Cash and Deposits\",IF(E1668=\"\",\"BANK NAME REQUIRED\",IF(ISERROR(VLOOKUP(E1668,'Reference Data'!C:C,1,FALSE)),\"PLEASE SELECT A BANK FROM DEFINED LIST PROVIDED\",\"\")),\"\")","v":""},"No Entry",0]
[null,null,null,null,null,null,null,null,null,null,null,null,{"$f":"IF(K1669<>0,IF(B1669=\"\",\"ID CODE REQUIRED\",\"\"),\"\")","v":""},{"$f":"IF(D1669=\"Cash and Deposits\",IF(E1669=\"\",\"BANK NAME REQUIRED\",IF(ISERROR(VLOOKUP(E1669,'Reference Data'!C:C,1,FALSE)),\"PLEASE SELECT A BANK FROM DEFINED LIST PROVIDED\",\"\")),\"\")","v":""},{"$f":"IF(K1669=0,\"No Entry\",\"\")","v":"No Entry"},{"$f":"IF(K1669<>0,IF(A1669=\"\",1,0),0)","v":0}]
[null,null,null,null,null,null,null,null,null,null,null,null,"",{"$f":"IF(D1670=\"Cash and Deposits\",IF(E1670=\"\",\"BANK NAME REQUIRED\",IF(ISERROR(VLOOKUP(E1670,'Reference Data'!C:C,1,FALSE)),\"PLEASE SELECT A BANK FROM DEFINED LIST PROVIDED\",\"\")),\"\")","v":""},"No Entry",0]
[null,null,null,null,null,null,null,null,null,null,null,null,"",{"$f":"IF(D1671=\"Cash and Deposits\",IF(E1671=\"\",\"BANK NAME REQUIRED\",IF(ISERROR(VLOOKUP(E1671,'Reference Data'!C:C,1,FALSE)),\"PLEASE SELECT A BANK FROM DEFINED LIST PROVIDED\",\"\")),\"\")","v":""},"No Entry",0]
[null,null,null,null,null,null,null,null,null,null,null,null,"",{"$f":"IF(D1672=\"Cash and Deposits\",IF(E1672=\"\",\"BANK NAME REQUIRED\",IF(ISERROR(VLOOKUP(E1672,'Reference Data'!C:C,1,FALSE)),\"PLEASE SELECT A BANK FROM DEFINED LIST PROVIDED\",\"\")),\"\")","v":""},"No Entry",0]
[null,null,null,null,null,null,null,null,null,null,null,null,"",{"$f":"IF(D1673=\"Cash and Deposits\",IF(E1673=\"\",\"BANK NAME REQUIRED\",IF(ISERROR(VLOOKUP(E1673,'Reference Data'!C:C,1,FALSE)),\"PLEASE SELECT A BANK FROM DEFINED LIST PROVIDED\",\"\")),\"\")","v":""},"No Entry",0]
[null,null,null,null,null,null,null,null,null,null,null,null,"",{"$f":"IF(D1674=\"Cash and Deposits\",IF(E1674=\"\",\"BANK NAME REQUIRED\",IF(ISERROR(VLOOKUP(E1674,'Reference Data'!C:C,1,FALSE)),\"PLEASE SELECT A BANK FROM DEFINED LIST PROVIDED\",\"\")),\"\")","v":""},"No Entry",0]
[null,null,null,null,null,null,null,null,null,null,null,null,"",{"$f":"IF(D1675=\"Cash and Deposits\",IF(E1675=\"\",\"BANK NAME REQUIRED\",IF(ISERROR(VLOOKUP(E1675,'Reference Data'!C:C,1,FALSE)),\"PLEASE SELECT A BANK FROM DEFINED LIST PROVIDED\",\"\")),\"\")","v":""},"No Entry",0]
[null,null,null,null,null,null,null,null,null,null,null,null,"",{"$f":"IF(D1676=\"Cash and Deposits\",IF(E1676=\"\",\"BANK NAME REQUIRED\",IF(ISERROR(VLOOKUP(E1676,'Reference Data'!C:C,1,FALSE)),\"PLEASE SELECT A BANK FROM DEFINED LIST PROVIDED\",\"\")),\"\")","v":""},"No Entry",0]
[null,null,null,null,null,null,null,null,null,null,null,null,"",{"$f":"IF(D1677=\"Cash and Deposits\",IF(E1677=\"\",\"BANK NAME REQUIRED\",IF(ISERROR(VLOOKUP(E1677,'Reference Data'!C:C,1,FALSE)),\"PLEASE SELECT A BANK FROM DEFINED LIST PROVIDED\",\"\")),\"\")","v":""},"No Entry",0]
[null,null,null,null,null,null,null,null,null,null,null,null,"",{"$f":"IF(D1678=\"Cash and Deposits\",IF(E1678=\"\",\"BANK NAME REQUIRED\",IF(ISERROR(VLOOKUP(E1678,'Reference Data'!C:C,1,FALSE)),\"PLEASE SELECT A BANK FROM DEFINED LIST PROVIDED\",\"\")),\"\")","v":""},"No Entry",0]
[null,null,null,null,null,null,null,null,null,null,null,null,"",{"$f":"IF(D1679=\"Cash and Deposits\",IF(E1679=\"\",\"BANK NAME REQUIRED\",IF(ISERROR(VLOOKUP(E1679,'Reference Data'!C:C,1,FALSE)),\"PLEASE SELECT A BANK FROM DEFINED LIST PROVIDED\",\"\")),\"\")","v":""},"No Entry",0]
[null,null,null,null,null,null,null,null,null,null,null,null,"",{"$f":"IF(D1680=\"Cash and Deposits\",IF(E1680=\"\",\"BANK NAME REQUIRED\",IF(ISERROR(VLOOKUP(E1680,'Reference Data'!C:C,1,FALSE)),\"PLEASE SELECT A BANK FROM DEFINED LIST PROVIDED\",\"\")),\"\")","v":""},"No Entry",0]
[null,null,null,null,null,null,null,null,null,null,null,null,"",{"$f":"IF(D1681=\"Cash and Deposits\",IF(E1681=\"\",\"BANK NAME REQUIRED\",IF(ISERROR(VLOOKUP(E1681,'Reference Data'!C:C,1,FALSE)),\"PLEASE SELECT A BANK FROM DEFINED LIST PROVIDED\",\"\")),\"\")","v":""},"No Entry",0]
[null,null,null,null,null,null,null,null,null,null,null,null,"",{"$f":"IF(D1682=\"Cash and Deposits\",IF(E1682=\"\",\"BANK NAME REQUIRED\",IF(ISERROR(VLOOKUP(E1682,'Reference Data'!C:C,1,FALSE)),\"PLEASE SELECT A BANK FROM DEFINED LIST PROVIDED\",\"\")),\"\")","v":""},"No Entry",0]
[null,null,null,null,null,null,null,null,null,null,null,null,"",{"$f":"IF(D1683=\"Cash and Deposits\",IF(E1683=\"\",\"BANK NAME REQUIRED\",IF(ISERROR(VLOOKUP(E1683,'Reference Data'!C:C,1,FALSE)),\"PLEASE SELECT A BANK FROM DEFINED LIST PROVIDED\",\"\")),\"\")","v":""},"No Entry",0]
[null,null,null,null,null,null,null,null,null,null,null,null,"",{"$f":"IF(D1684=\"Cash and Deposits\",IF(E1684=\"\",\"BANK NAME REQUIRED\",IF(ISERROR(VLOOKUP(E1684,'Reference Data'!C:C,1,FALSE)),\"PLEASE SELECT A BANK FROM DEFINED LIST PROVIDED\",\"\")),\"\")","v":""},"No Entry",0]
[null,null,null,null,null,null,null,null,null,null,null,null,"",{"$f":"IF(D1685=\"Cash and Deposits\",IF(E1685=\"\",\"BANK NAME REQUIRED\",IF(ISERROR(VLOOKUP(E1685,'Reference Data'!C:C,1,FALSE)),\"PLEASE SELECT A BANK FROM DEFINED LIST PROVIDED\",\"\")),\"\")","v":""},"No Entry",0]
[null,null,null,null,null,null,null,null,null,null,null,null,"",{"$f":"IF(D1686=\"Cash and Deposits\",IF(E1686=\"\",\"BANK NAME REQUIRED\",IF(ISERROR(VLOOKUP(E1686,'Reference Data'!C:C,1,FALSE)),\"PLEASE SELECT A BANK FROM DEFINED LIST PROVIDED\",\"\")),\"\")","v":""},"No Entry",0]
[null,null,null,null,null,null,null,null,null,null,null,null,"",{"$f":"IF(D1687=\"Cash and Deposits\",IF(E1687=\"\",\"BANK NAME REQUIRED\",IF(ISERROR(VLOOKUP(E1687,'Reference Data'!C:C,1,FALSE)),\"PLEASE SELECT A BANK FROM DEFINED LIST PROVIDED\",\"\")),\"\")","v":""},"No Entry",0]
[null,null,null,null,null,null,null,null,null,null,null,null,"",{"$f":"IF(D1688=\"Cash and Deposits\",IF(E1688=\"\",\"BANK NAME REQUIRED\",IF(ISERROR(VLOOKUP(E1688,'Reference Data'!C:C,1,FALSE)),\"PLEASE SELECT A BANK FROM DEFINED LIST PROVIDED\",\"\")),\"\")","v":""},"No Entry",0]
[null,null,null,null,null,null,null,null,null,null,null,null,"",{"$f":"IF(D1689=\"Cash and Deposits\",IF(E1689=\"\",\"BANK NAME REQUIRED\",IF(ISERROR(VLOOKUP(E1689,'Reference Data'!C:C,1,FALSE)),\"PLEASE SELECT A BANK FROM DEFINED LIST PROVIDED\",\"\")),\"\")","v":""},"No Entry",0]
[null,null,null,null,null,null,null,null,null,null,null,null,"",{"$f":"IF(D1690=\"Cash and Deposits\",IF(E1690=\"\",\"BANK NAME REQUIRED\",IF(ISERROR(VLOOKUP(E1690,'Reference Data'!C:C,1,FALSE)),\"PLEASE SELECT A BANK FROM DEFINED LIST PROVIDED\",\"\")),\"\")","v":""},"No Entry",0]
[null,null,null,null,null,null,null,null,null,null,null,null,"",{"$f":"IF(D1691=\"Cash and Deposits\",IF(E1691=\"\",\"BANK NAME REQUIRED\",IF(ISERROR(VLOOKUP(E1691,'Reference Data'!C:C,1,FALSE)),\"PLEASE SELECT A BANK FROM DEFINED LIST PROVIDED\",\"\")),\"\")","v":""},"No Entry",0]
[null,null,null,null,null,null,null,null,null,null,null,null,"",{"$f":"IF(D1692=\"Cash and Deposits\",IF(E1692=\"\",\"BANK NAME REQUIRED\",IF(ISERROR(VLOOKUP(E1692,'Reference Data'!C:C,1,FALSE)),\"PLEASE SELECT A BANK FROM DEFINED LIST PROVIDED\",\"\")),\"\")","v":""},"No Entry",0]
[null,null,null,null,null,null,null,null,null,null,null,null,"",{"$f":"IF(D1693=\"Cash and Deposits\",IF(E1693=\"\",\"BANK NAME REQUIRED\",IF(ISERROR(VLOOKUP(E1693,'Reference Data'!C:C,1,FALSE)),\"PLEASE SELECT A BANK FROM DEFINED LIST PROVIDED\",\"\")),\"\")","v":""},"No Entry",0]
[null,null,null,null,null,null,null,null,null,null,null,null,"",{"$f":"IF(D1694=\"Cash and Deposits\",IF(E1694=\"\",\"BANK NAME REQUIRED\",IF(ISERROR(VLOOKUP(E1694,'Reference Data'!C:C,1,FALSE)),\"PLEASE SELECT A BANK FROM DEFINED LIST PROVIDED\",\"\")),\"\")","v":""},"No Entry",0]
[null,null,null,null,null,null,null,null,null,null,null,null,"",{"$f":"IF(D1695=\"Cash and Deposits\",IF(E1695=\"\",\"BANK NAME REQUIRED\",IF(ISERROR(VLOOKUP(E1695,'Reference Data'!C:C,1,FALSE)),\"PLEASE SELECT A BANK FROM DEFINED LIST PROVIDED\",\"\")),\"\")","v":""},"No Entry",0]
[null,null,null,null,null,null,null,null,null,null,null,null,"",{"$f":"IF(D1696=\"Cash and Deposits\",IF(E1696=\"\",\"BANK NAME REQUIRED\",IF(ISERROR(VLOOKUP(E1696,'Reference Data'!C:C,1,FALSE)),\"PLEASE SELECT A BANK FROM DEFINED LIST PROVIDED\",\"\")),\"\")","v":""},"No Entry",0]
[null,null,null,null,null,null,null,null,null,null,null,null,"",{"$f":"IF(D1697=\"Cash and Deposits\",IF(E1697=\"\",\"BANK NAME REQUIRED\",IF(ISERROR(VLOOKUP(E1697,'Reference Data'!C:C,1,FALSE)),\"PLEASE SELECT A BANK FROM DEFINED LIST PROVIDED\",\"\")),\"\")","v":""},"No Entry",0]
[null,null,null,null,null,null,null,null,null,null,null,null,"",{"$f":"IF(D1698=\"Cash and Deposits\",IF(E1698=\"\",\"BANK NAME REQUIRED\",IF(ISERROR(VLOOKUP(E1698,'Reference Data'!C:C,1,FALSE)),\"PLEASE SELECT A BANK FROM DEFINED LIST PROVIDED\",\"\")),\"\")","v":""},"No Entry",0]
[null,null,null,null,null,null,null,null,null,null,null,null,"",{"$f":"IF(D1699=\"Cash and Deposits\",IF(E1699=\"\",\"BANK NAME REQUIRED\",IF(ISERROR(VLOOKUP(E1699,'Reference Data'!C:C,1,FALSE)),\"PLEASE SELECT A BANK FROM DEFINED LIST PROVIDED\",\"\")),\"\")","v":""},"No Entry",0]
[null,null,null,null,null,null,null,null,null,null,null,null,"",{"$f":"IF(D1700=\"Cash and Deposits\",IF(E1700=\"\",\"BANK NAME REQUIRED\",IF(ISERROR(VLOOKUP(E1700,'Reference Data'!C:C,1,FALSE)),\"PLEASE SELECT A BANK FROM DEFINED LIST PROVIDED\",\"\")),\"\")","v":""},"No Entry",0]
[null,null,null,null,null,null,null,null,null,null,null,null,"",{"$f":"IF(D1701=\"Cash and Deposits\",IF(E1701=\"\",\"BANK NAME REQUIRED\",IF(ISERROR(VLOOKUP(E1701,'Reference Data'!C:C,1,FALSE)),\"PLEASE SELECT A BANK FROM DEFINED LIST PROVIDED\",\"\")),\"\")","v":""},"No Entry",0]
[null,null,null,null,null,null,null,null,null,null,null,null,"",{"$f":"IF(D1702=\"Cash and Deposits\",IF(E1702=\"\",\"BANK NAME REQUIRED\",IF(ISERROR(VLOOKUP(E1702,'Reference Data'!C:C,1,FALSE)),\"PLEASE SELECT A BANK FROM DEFINED LIST PROVIDED\",\"\")),\"\")","v":""},"No Entry",0]
[null,null,null,null,null,null,null,null,null,null,null,null,"",{"$f":"IF(D1703=\"Cash and Deposits\",IF(E1703=\"\",\"BANK NAME REQUIRED\",IF(ISERROR(VLOOKUP(E1703,'Reference Data'!C:C,1,FALSE)),\"PLEASE SELECT A BANK FROM DEFINED LIST PROVIDED\",\"\")),\"\")","v":""},"No Entry",0]
[null,null,null,null,null,null,null,null,null,null,null,null,"",{"$f":"IF(D1704=\"Cash and Deposits\",IF(E1704=\"\",\"BANK NAME REQUIRED\",IF(ISERROR(VLOOKUP(E1704,'Reference Data'!C:C,1,FALSE)),\"PLEASE SELECT A BANK FROM DEFINED LIST PROVIDED\",\"\")),\"\")","v":""},"No Entry",0]
[null,null,null,null,null,null,null,null,null,null,null,null,"",{"$f":"IF(D1705=\"Cash and Deposits\",IF(E1705=\"\",\"BANK NAME REQUIRED\",IF(ISERROR(VLOOKUP(E1705,'Reference Data'!C:C,1,FALSE)),\"PLEASE SELECT A BANK FROM DEFINED LIST PROVIDED\",\"\")),\"\")","v":""},"No Entry",0]
[null,null,null,null,null,null,null,null,null,null,null,null,"",{"$f":"IF(D1706=\"Cash and Deposits\",IF(E1706=\"\",\"BANK NAME REQUIRED\",IF(ISERROR(VLOOKUP(E1706,'Reference Data'!C:C,1,FALSE)),\"PLEASE SELECT A BANK FROM DEFINED LIST PROVIDED\",\"\")),\"\")","v":""},"No Entry",0]
[null,null,null,null,null,null,null,null,null,null,null,null,"",{"$f":"IF(D1707=\"Cash and Deposits\",IF(E1707=\"\",\"BANK NAME REQUIRED\",IF(ISERROR(VLOOKUP(E1707,'Reference Data'!C:C,1,FALSE)),\"PLEASE SELECT A BANK FROM DEFINED LIST PROVIDED\",\"\")),\"\")","v":""},"No Entry",0]
[null,null,null,null,null,null,null,null,null,null,null,null,"",{"$f":"IF(D1708=\"Cash and Deposits\",IF(E1708=\"\",\"BANK NAME REQUIRED\",IF(ISERROR(VLOOKUP(E1708,'Reference Data'!C:C,1,FALSE)),\"PLEASE SELECT A BANK FROM DEFINED LIST PROVIDED\",\"\")),\"\")","v":""},"No Entry",0]
[null,null,null,null,null,null,null,null,null,null,null,null,"",{"$f":"IF(D1709=\"Cash and Deposits\",IF(E1709=\"\",\"BANK NAME REQUIRED\",IF(ISERROR(VLOOKUP(E1709,'Reference Data'!C:C,1,FALSE)),\"PLEASE SELECT A BANK FROM DEFINED LIST PROVIDED\",\"\")),\"\")","v":""},"No Entry",0]
[null,null,null,null,null,null,null,null,null,null,null,null,"",{"$f":"IF(D1710=\"Cash and Deposits\",IF(E1710=\"\",\"BANK NAME REQUIRED\",IF(ISERROR(VLOOKUP(E1710,'Reference Data'!C:C,1,FALSE)),\"PLEASE SELECT A BANK FROM DEFINED LIST PROVIDED\",\"\")),\"\")","v":""},"No Entry",0]
[null,null,null,null,null,null,null,null,null,null,null,null,"",{"$f":"IF(D1711=\"Cash and Deposits\",IF(E1711=\"\",\"BANK NAME REQUIRED\",IF(ISERROR(VLOOKUP(E1711,'Reference Data'!C:C,1,FALSE)),\"PLEASE SELECT A BANK FROM DEFINED LIST PROVIDED\",\"\")),\"\")","v":""},"No Entry",0]
[null,null,null,null,null,null,null,null,null,null,null,null,"",{"$f":"IF(D1712=\"Cash and Deposits\",IF(E1712=\"\",\"BANK NAME REQUIRED\",IF(ISERROR(VLOOKUP(E1712,'Reference Data'!C:C,1,FALSE)),\"PLEASE SELECT A BANK FROM DEFINED LIST PROVIDED\",\"\")),\"\")","v":""},"No Entry",0]
[null,null,null,null,null,null,null,null,null,null,null,null,"",{"$f":"IF(D1713=\"Cash and Deposits\",IF(E1713=\"\",\"BANK NAME REQUIRED\",IF(ISERROR(VLOOKUP(E1713,'Reference Data'!C:C,1,FALSE)),\"PLEASE SELECT A BANK FROM DEFINED LIST PROVIDED\",\"\")),\"\")","v":""},"No Entry",0]
[null,null,null,null,null,null,null,null,null,null,null,null,"",{"$f":"IF(D1714=\"Cash and Deposits\",IF(E1714=\"\",\"BANK NAME REQUIRED\",IF(ISERROR(VLOOKUP(E1714,'Reference Data'!C:C,1,FALSE)),\"PLEASE SELECT A BANK FROM DEFINED LIST PROVIDED\",\"\")),\"\")","v":""},"No Entry",0]
[null,null,null,null,null,null,null,null,null,null,null,null,"",{"$f":"IF(D1715=\"Cash and Deposits\",IF(E1715=\"\",\"BANK NAME REQUIRED\",IF(ISERROR(VLOOKUP(E1715,'Reference Data'!C:C,1,FALSE)),\"PLEASE SELECT A BANK FROM DEFINED LIST PROVIDED\",\"\")),\"\")","v":""},"No Entry",0]
[null,null,null,null,null,null,null,null,null,null,null,null,"",{"$f":"IF(D1716=\"Cash and Deposits\",IF(E1716=\"\",\"BANK NAME REQUIRED\",IF(ISERROR(VLOOKUP(E1716,'Reference Data'!C:C,1,FALSE)),\"PLEASE SELECT A BANK FROM DEFINED LIST PROVIDED\",\"\")),\"\")","v":""},"No Entry",0]
[null,null,null,null,null,null,null,null,null,null,null,null,"",{"$f":"IF(D1717=\"Cash and Deposits\",IF(E1717=\"\",\"BANK NAME REQUIRED\",IF(ISERROR(VLOOKUP(E1717,'Reference Data'!C:C,1,FALSE)),\"PLEASE SELECT A BANK FROM DEFINED LIST PROVIDED\",\"\")),\"\")","v":""},"No Entry",0]
[null,null,null,null,null,null,null,null,null,null,null,null,"",{"$f":"IF(D1718=\"Cash and Deposits\",IF(E1718=\"\",\"BANK NAME REQUIRED\",IF(ISERROR(VLOOKUP(E1718,'Reference Data'!C:C,1,FALSE)),\"PLEASE SELECT A BANK FROM DEFINED LIST PROVIDED\",\"\")),\"\")","v":""},"No Entry",0]
[null,null,null,null,null,null,null,null,null,null,null,null,"",{"$f":"IF(D1719=\"Cash and Deposits\",IF(E1719=\"\",\"BANK NAME REQUIRED\",IF(ISERROR(VLOOKUP(E1719,'Reference Data'!C:C,1,FALSE)),\"PLEASE SELECT A BANK FROM DEFINED LIST PROVIDED\",\"\")),\"\")","v":""},"No Entry",0]
[null,null,null,null,null,null,null,null,null,null,null,null,"",{"$f":"IF(D1720=\"Cash and Deposits\",IF(E1720=\"\",\"BANK NAME REQUIRED\",IF(ISERROR(VLOOKUP(E1720,'Reference Data'!C:C,1,FALSE)),\"PLEASE SELECT A BANK FROM DEFINED LIST PROVIDED\",\"\")),\"\")","v":""},"No Entry",0]
[null,null,null,null,null,null,null,null,null,null,null,null,"",{"$f":"IF(D1721=\"Cash and Deposits\",IF(E1721=\"\",\"BANK NAME REQUIRED\",IF(ISERROR(VLOOKUP(E1721,'Reference Data'!C:C,1,FALSE)),\"PLEASE SELECT A BANK FROM DEFINED LIST PROVIDED\",\"\")),\"\")","v":""},"No Entry",0]
[null,null,null,null,null,null,null,null,null,null,null,null,"",{"$f":"IF(D1722=\"Cash and Deposits\",IF(E1722=\"\",\"BANK NAME REQUIRED\",IF(ISERROR(VLOOKUP(E1722,'Reference Data'!C:C,1,FALSE)),\"PLEASE SELECT A BANK FROM DEFINED LIST PROVIDED\",\"\")),\"\")","v":""},"No Entry",0]
[null,null,null,null,null,null,null,null,null,null,null,null,"",{"$f":"IF(D1723=\"Cash and Deposits\",IF(E1723=\"\",\"BANK NAME REQUIRED\",IF(ISERROR(VLOOKUP(E1723,'Reference Data'!C:C,1,FALSE)),\"PLEASE SELECT A BANK FROM DEFINED LIST PROVIDED\",\"\")),\"\")","v":""},"No Entry",0]
[null,null,null,null,null,null,null,null,null,null,null,null,"",{"$f":"IF(D1724=\"Cash and Deposits\",IF(E1724=\"\",\"BANK NAME REQUIRED\",IF(ISERROR(VLOOKUP(E1724,'Reference Data'!C:C,1,FALSE)),\"PLEASE SELECT A BANK FROM DEFINED LIST PROVIDED\",\"\")),\"\")","v":""},"No Entry",0]
[null,null,null,null,null,null,null,null,null,null,null,null,"",{"$f":"IF(D1725=\"Cash and Deposits\",IF(E1725=\"\",\"BANK NAME REQUIRED\",IF(ISERROR(VLOOKUP(E1725,'Reference Data'!C:C,1,FALSE)),\"PLEASE SELECT A BANK FROM DEFINED LIST PROVIDED\",\"\")),\"\")","v":""},"No Entry",0]
[null,null,null,null,null,null,null,null,null,null,null,null,"",{"$f":"IF(D1726=\"Cash and Deposits\",IF(E1726=\"\",\"BANK NAME REQUIRED\",IF(ISERROR(VLOOKUP(E1726,'Reference Data'!C:C,1,FALSE)),\"PLEASE SELECT A BANK FROM DEFINED LIST PROVIDED\",\"\")),\"\")","v":""},"No Entry",0]
[null,null,null,null,null,null,null,null,null,null,null,null,"",{"$f":"IF(D1727=\"Cash and Deposits\",IF(E1727=\"\",\"BANK NAME REQUIRED\",IF(ISERROR(VLOOKUP(E1727,'Reference Data'!C:C,1,FALSE)),\"PLEASE SELECT A BANK FROM DEFINED LIST PROVIDED\",\"\")),\"\")","v":""},"No Entry",0]
[null,null,null,null,null,null,null,null,null,null,null,null,"",{"$f":"IF(D1728=\"Cash and Deposits\",IF(E1728=\"\",\"BANK NAME REQUIRED\",IF(ISERROR(VLOOKUP(E1728,'Reference Data'!C:C,1,FALSE)),\"PLEASE SELECT A BANK FROM DEFINED LIST PROVIDED\",\"\")),\"\")","v":""},"No Entry",0]
[null,null,null,null,null,null,null,null,null,null,null,null,"",{"$f":"IF(D1729=\"Cash and Deposits\",IF(E1729=\"\",\"BANK NAME REQUIRED\",IF(ISERROR(VLOOKUP(E1729,'Reference Data'!C:C,1,FALSE)),\"PLEASE SELECT A BANK FROM DEFINED LIST PROVIDED\",\"\")),\"\")","v":""},"No Entry",0]
[null,null,null,null,null,null,null,null,null,null,null,null,"",{"$f":"IF(D1730=\"Cash and Deposits\",IF(E1730=\"\",\"BANK NAME REQUIRED\",IF(ISERROR(VLOOKUP(E1730,'Reference Data'!C:C,1,FALSE)),\"PLEASE SELECT A BANK FROM DEFINED LIST PROVIDED\",\"\")),\"\")","v":""},"No Entry",0]
[null,null,null,null,null,null,null,null,null,null,null,null,"",{"$f":"IF(D1731=\"Cash and Deposits\",IF(E1731=\"\",\"BANK NAME REQUIRED\",IF(ISERROR(VLOOKUP(E1731,'Reference Data'!C:C,1,FALSE)),\"PLEASE SELECT A BANK FROM DEFINED LIST PROVIDED\",\"\")),\"\")","v":""},"No Entry",0]
[null,null,null,null,null,null,null,null,null,null,null,null,"",{"$f":"IF(D1732=\"Cash and Deposits\",IF(E1732=\"\",\"BANK NAME REQUIRED\",IF(ISERROR(VLOOKUP(E1732,'Reference Data'!C:C,1,FALSE)),\"PLEASE SELECT A BANK FROM DEFINED LIST PROVIDED\",\"\")),\"\")","v":""},"No Entry",0]
[null,null,null,null,null,null,null,null,null,null,null,null,{"$f":"IF(K1733<>0,IF(B1733=\"\",\"ID CODE REQUIRED\",\"\"),\"\")","v":""},{"$f":"IF(D1733=\"Cash and Deposits\",IF(E1733=\"\",\"BANK NAME REQUIRED\",IF(ISERROR(VLOOKUP(E1733,'Reference Data'!C:C,1,FALSE)),\"PLEASE SELECT A BANK FROM DEFINED LIST PROVIDED\",\"\")),\"\")","v":""},{"$f":"IF(K1733=0,\"No Entry\",\"\")","v":"No Entry"},{"$f":"IF(K1733<>0,IF(A1733=\"\",1,0),0)","v":0}]
[null,null,null,null,null,null,null,null,null,null,null,null,"",{"$f":"IF(D1734=\"Cash and Deposits\",IF(E1734=\"\",\"BANK NAME REQUIRED\",IF(ISERROR(VLOOKUP(E1734,'Reference Data'!C:C,1,FALSE)),\"PLEASE SELECT A BANK FROM DEFINED LIST PROVIDED\",\"\")),\"\")","v":""},"No Entry",0]
[null,null,null,null,null,null,null,null,null,null,null,null,"",{"$f":"IF(D1735=\"Cash and Deposits\",IF(E1735=\"\",\"BANK NAME REQUIRED\",IF(ISERROR(VLOOKUP(E1735,'Reference Data'!C:C,1,FALSE)),\"PLEASE SELECT A BANK FROM DEFINED LIST PROVIDED\",\"\")),\"\")","v":""},"No Entry",0]
[null,null,null,null,null,null,null,null,null,null,null,null,"",{"$f":"IF(D1736=\"Cash and Deposits\",IF(E1736=\"\",\"BANK NAME REQUIRED\",IF(ISERROR(VLOOKUP(E1736,'Reference Data'!C:C,1,FALSE)),\"PLEASE SELECT A BANK FROM DEFINED LIST PROVIDED\",\"\")),\"\")","v":""},"No Entry",0]
[null,null,null,null,null,null,null,null,null,null,null,null,"",{"$f":"IF(D1737=\"Cash and Deposits\",IF(E1737=\"\",\"BANK NAME REQUIRED\",IF(ISERROR(VLOOKUP(E1737,'Reference Data'!C:C,1,FALSE)),\"PLEASE SELECT A BANK FROM DEFINED LIST PROVIDED\",\"\")),\"\")","v":""},"No Entry",0]
[null,null,null,null,null,null,null,null,null,null,null,null,"",{"$f":"IF(D1738=\"Cash and Deposits\",IF(E1738=\"\",\"BANK NAME REQUIRED\",IF(ISERROR(VLOOKUP(E1738,'Reference Data'!C:C,1,FALSE)),\"PLEASE SELECT A BANK FROM DEFINED LIST PROVIDED\",\"\")),\"\")","v":""},"No Entry",0]
[null,null,null,null,null,null,null,null,null,null,null,null,"",{"$f":"IF(D1739=\"Cash and Deposits\",IF(E1739=\"\",\"BANK NAME REQUIRED\",IF(ISERROR(VLOOKUP(E1739,'Reference Data'!C:C,1,FALSE)),\"PLEASE SELECT A BANK FROM DEFINED LIST PROVIDED\",\"\")),\"\")","v":""},"No Entry",0]
[null,null,null,null,null,null,null,null,null,null,null,null,"",{"$f":"IF(D1740=\"Cash and Deposits\",IF(E1740=\"\",\"BANK NAME REQUIRED\",IF(ISERROR(VLOOKUP(E1740,'Reference Data'!C:C,1,FALSE)),\"PLEASE SELECT A BANK FROM DEFINED LIST PROVIDED\",\"\")),\"\")","v":""},"No Entry",0]
[null,null,null,null,null,null,null,null,null,null,null,null,"",{"$f":"IF(D1741=\"Cash and Deposits\",IF(E1741=\"\",\"BANK NAME REQUIRED\",IF(ISERROR(VLOOKUP(E1741,'Reference Data'!C:C,1,FALSE)),\"PLEASE SELECT A BANK FROM DEFINED LIST PROVIDED\",\"\")),\"\")","v":""},"No Entry",0]
[null,null,null,null,null,null,null,null,null,null,null,null,"",{"$f":"IF(D1742=\"Cash and Deposits\",IF(E1742=\"\",\"BANK NAME REQUIRED\",IF(ISERROR(VLOOKUP(E1742,'Reference Data'!C:C,1,FALSE)),\"PLEASE SELECT A BANK FROM DEFINED LIST PROVIDED\",\"\")),\"\")","v":""},"No Entry",0]
[null,null,null,null,null,null,null,null,null,null,null,null,"",{"$f":"IF(D1743=\"Cash and Deposits\",IF(E1743=\"\",\"BANK NAME REQUIRED\",IF(ISERROR(VLOOKUP(E1743,'Reference Data'!C:C,1,FALSE)),\"PLEASE SELECT A BANK FROM DEFINED LIST PROVIDED\",\"\")),\"\")","v":""},"No Entry",0]
[null,null,null,null,null,null,null,null,null,null,null,null,"",{"$f":"IF(D1744=\"Cash and Deposits\",IF(E1744=\"\",\"BANK NAME REQUIRED\",IF(ISERROR(VLOOKUP(E1744,'Reference Data'!C:C,1,FALSE)),\"PLEASE SELECT A BANK FROM DEFINED LIST PROVIDED\",\"\")),\"\")","v":""},"No Entry",0]
[null,null,null,null,null,null,null,null,null,null,null,null,"",{"$f":"IF(D1745=\"Cash and Deposits\",IF(E1745=\"\",\"BANK NAME REQUIRED\",IF(ISERROR(VLOOKUP(E1745,'Reference Data'!C:C,1,FALSE)),\"PLEASE SELECT A BANK FROM DEFINED LIST PROVIDED\",\"\")),\"\")","v":""},"No Entry",0]
[null,null,null,null,null,null,null,null,null,null,null,null,"",{"$f":"IF(D1746=\"Cash and Deposits\",IF(E1746=\"\",\"BANK NAME REQUIRED\",IF(ISERROR(VLOOKUP(E1746,'Reference Data'!C:C,1,FALSE)),\"PLEASE SELECT A BANK FROM DEFINED LIST PROVIDED\",\"\")),\"\")","v":""},"No Entry",0]
[null,null,null,null,null,null,null,null,null,null,null,null,"",{"$f":"IF(D1747=\"Cash and Deposits\",IF(E1747=\"\",\"BANK NAME REQUIRED\",IF(ISERROR(VLOOKUP(E1747,'Reference Data'!C:C,1,FALSE)),\"PLEASE SELECT A BANK FROM DEFINED LIST PROVIDED\",\"\")),\"\")","v":""},"No Entry",0]
[null,null,null,null,null,null,null,null,null,null,null,null,"",{"$f":"IF(D1748=\"Cash and Deposits\",IF(E1748=\"\",\"BANK NAME REQUIRED\",IF(ISERROR(VLOOKUP(E1748,'Reference Data'!C:C,1,FALSE)),\"PLEASE SELECT A BANK FROM DEFINED LIST PROVIDED\",\"\")),\"\")","v":""},"No Entry",0]
[null,null,null,null,null,null,null,null,null,null,null,null,"",{"$f":"IF(D1749=\"Cash and Deposits\",IF(E1749=\"\",\"BANK NAME REQUIRED\",IF(ISERROR(VLOOKUP(E1749,'Reference Data'!C:C,1,FALSE)),\"PLEASE SELECT A BANK FROM DEFINED LIST PROVIDED\",\"\")),\"\")","v":""},"No Entry",0]
[null,null,null,null,null,null,null,null,null,null,null,null,"",{"$f":"IF(D1750=\"Cash and Deposits\",IF(E1750=\"\",\"BANK NAME REQUIRED\",IF(ISERROR(VLOOKUP(E1750,'Reference Data'!C:C,1,FALSE)),\"PLEASE SELECT A BANK FROM DEFINED LIST PROVIDED\",\"\")),\"\")","v":""},"No Entry",0]
[null,null,null,null,null,null,null,null,null,null,null,null,"",{"$f":"IF(D1751=\"Cash and Deposits\",IF(E1751=\"\",\"BANK NAME REQUIRED\",IF(ISERROR(VLOOKUP(E1751,'Reference Data'!C:C,1,FALSE)),\"PLEASE SELECT A BANK FROM DEFINED LIST PROVIDED\",\"\")),\"\")","v":""},"No Entry",0]
[null,null,null,null,null,null,null,null,null,null,null,null,"",{"$f":"IF(D1752=\"Cash and Deposits\",IF(E1752=\"\",\"BANK NAME REQUIRED\",IF(ISERROR(VLOOKUP(E1752,'Reference Data'!C:C,1,FALSE)),\"PLEASE SELECT A BANK FROM DEFINED LIST PROVIDED\",\"\")),\"\")","v":""},"No Entry",0]
[null,null,null,null,null,null,null,null,null,null,null,null,"",{"$f":"IF(D1753=\"Cash and Deposits\",IF(E1753=\"\",\"BANK NAME REQUIRED\",IF(ISERROR(VLOOKUP(E1753,'Reference Data'!C:C,1,FALSE)),\"PLEASE SELECT A BANK FROM DEFINED LIST PROVIDED\",\"\")),\"\")","v":""},"No Entry",0]
[null,null,null,null,null,null,null,null,null,null,null,null,"",{"$f":"IF(D1754=\"Cash and Deposits\",IF(E1754=\"\",\"BANK NAME REQUIRED\",IF(ISERROR(VLOOKUP(E1754,'Reference Data'!C:C,1,FALSE)),\"PLEASE SELECT A BANK FROM DEFINED LIST PROVIDED\",\"\")),\"\")","v":""},"No Entry",0]
[null,null,null,null,null,null,null,null,null,null,null,null,"",{"$f":"IF(D1755=\"Cash and Deposits\",IF(E1755=\"\",\"BANK NAME REQUIRED\",IF(ISERROR(VLOOKUP(E1755,'Reference Data'!C:C,1,FALSE)),\"PLEASE SELECT A BANK FROM DEFINED LIST PROVIDED\",\"\")),\"\")","v":""},"No Entry",0]
[null,null,null,null,null,null,null,null,null,null,null,null,"",{"$f":"IF(D1756=\"Cash and Deposits\",IF(E1756=\"\",\"BANK NAME REQUIRED\",IF(ISERROR(VLOOKUP(E1756,'Reference Data'!C:C,1,FALSE)),\"PLEASE SELECT A BANK FROM DEFINED LIST PROVIDED\",\"\")),\"\")","v":""},"No Entry",0]
[null,null,null,null,null,null,null,null,null,null,null,null,"",{"$f":"IF(D1757=\"Cash and Deposits\",IF(E1757=\"\",\"BANK NAME REQUIRED\",IF(ISERROR(VLOOKUP(E1757,'Reference Data'!C:C,1,FALSE)),\"PLEASE SELECT A BANK FROM DEFINED LIST PROVIDED\",\"\")),\"\")","v":""},"No Entry",0]
[null,null,null,null,null,null,null,null,null,null,null,null,"",{"$f":"IF(D1758=\"Cash and Deposits\",IF(E1758=\"\",\"BANK NAME REQUIRED\",IF(ISERROR(VLOOKUP(E1758,'Reference Data'!C:C,1,FALSE)),\"PLEASE SELECT A BANK FROM DEFINED LIST PROVIDED\",\"\")),\"\")","v":""},"No Entry",0]
[null,null,null,null,null,null,null,null,null,null,null,null,"",{"$f":"IF(D1759=\"Cash and Deposits\",IF(E1759=\"\",\"BANK NAME REQUIRED\",IF(ISERROR(VLOOKUP(E1759,'Reference Data'!C:C,1,FALSE)),\"PLEASE SELECT A BANK FROM DEFINED LIST PROVIDED\",\"\")),\"\")","v":""},"No Entry",0]
[null,null,null,null,null,null,null,null,null,null,null,null,"",{"$f":"IF(D1760=\"Cash and Deposits\",IF(E1760=\"\",\"BANK NAME REQUIRED\",IF(ISERROR(VLOOKUP(E1760,'Reference Data'!C:C,1,FALSE)),\"PLEASE SELECT A BANK FROM DEFINED LIST PROVIDED\",\"\")),\"\")","v":""},"No Entry",0]
[null,null,null,null,null,null,null,null,null,null,null,null,"",{"$f":"IF(D1761=\"Cash and Deposits\",IF(E1761=\"\",\"BANK NAME REQUIRED\",IF(ISERROR(VLOOKUP(E1761,'Reference Data'!C:C,1,FALSE)),\"PLEASE SELECT A BANK FROM DEFINED LIST PROVIDED\",\"\")),\"\")","v":""},"No Entry",0]
[null,null,null,null,null,null,null,null,null,null,null,null,"",{"$f":"IF(D1762=\"Cash and Deposits\",IF(E1762=\"\",\"BANK NAME REQUIRED\",IF(ISERROR(VLOOKUP(E1762,'Reference Data'!C:C,1,FALSE)),\"PLEASE SELECT A BANK FROM DEFINED LIST PROVIDED\",\"\")),\"\")","v":""},"No Entry",0]
[null,null,null,null,null,null,null,null,null,null,null,null,"",{"$f":"IF(D1763=\"Cash and Deposits\",IF(E1763=\"\",\"BANK NAME REQUIRED\",IF(ISERROR(VLOOKUP(E1763,'Reference Data'!C:C,1,FALSE)),\"PLEASE SELECT A BANK FROM DEFINED LIST PROVIDED\",\"\")),\"\")","v":""},"No Entry",0]
[null,null,null,null,null,null,null,null,null,null,null,null,"",{"$f":"IF(D1764=\"Cash and Deposits\",IF(E1764=\"\",\"BANK NAME REQUIRED\",IF(ISERROR(VLOOKUP(E1764,'Reference Data'!C:C,1,FALSE)),\"PLEASE SELECT A BANK FROM DEFINED LIST PROVIDED\",\"\")),\"\")","v":""},"No Entry",0]
[null,null,null,null,null,null,null,null,null,null,null,null,"",{"$f":"IF(D1765=\"Cash and Deposits\",IF(E1765=\"\",\"BANK NAME REQUIRED\",IF(ISERROR(VLOOKUP(E1765,'Reference Data'!C:C,1,FALSE)),\"PLEASE SELECT A BANK FROM DEFINED LIST PROVIDED\",\"\")),\"\")","v":""},"No Entry",0]
[null,null,null,null,null,null,null,null,null,null,null,null,"",{"$f":"IF(D1766=\"Cash and Deposits\",IF(E1766=\"\",\"BANK NAME REQUIRED\",IF(ISERROR(VLOOKUP(E1766,'Reference Data'!C:C,1,FALSE)),\"PLEASE SELECT A BANK FROM DEFINED LIST PROVIDED\",\"\")),\"\")","v":""},"No Entry",0]
[null,null,null,null,null,null,null,null,null,null,null,null,"",{"$f":"IF(D1767=\"Cash and Deposits\",IF(E1767=\"\",\"BANK NAME REQUIRED\",IF(ISERROR(VLOOKUP(E1767,'Reference Data'!C:C,1,FALSE)),\"PLEASE SELECT A BANK FROM DEFINED LIST PROVIDED\",\"\")),\"\")","v":""},"No Entry",0]
[null,null,null,null,null,null,null,null,null,null,null,null,"",{"$f":"IF(D1768=\"Cash and Deposits\",IF(E1768=\"\",\"BANK NAME REQUIRED\",IF(ISERROR(VLOOKUP(E1768,'Reference Data'!C:C,1,FALSE)),\"PLEASE SELECT A BANK FROM DEFINED LIST PROVIDED\",\"\")),\"\")","v":""},"No Entry",0]
[null,null,null,null,null,null,null,null,null,null,null,null,"",{"$f":"IF(D1769=\"Cash and Deposits\",IF(E1769=\"\",\"BANK NAME REQUIRED\",IF(ISERROR(VLOOKUP(E1769,'Reference Data'!C:C,1,FALSE)),\"PLEASE SELECT A BANK FROM DEFINED LIST PROVIDED\",\"\")),\"\")","v":""},"No Entry",0]
[null,null,null,null,null,null,null,null,null,null,null,null,"",{"$f":"IF(D1770=\"Cash and Deposits\",IF(E1770=\"\",\"BANK NAME REQUIRED\",IF(ISERROR(VLOOKUP(E1770,'Reference Data'!C:C,1,FALSE)),\"PLEASE SELECT A BANK FROM DEFINED LIST PROVIDED\",\"\")),\"\")","v":""},"No Entry",0]
[null,null,null,null,null,null,null,null,null,null,null,null,"",{"$f":"IF(D1771=\"Cash and Deposits\",IF(E1771=\"\",\"BANK NAME REQUIRED\",IF(ISERROR(VLOOKUP(E1771,'Reference Data'!C:C,1,FALSE)),\"PLEASE SELECT A BANK FROM DEFINED LIST PROVIDED\",\"\")),\"\")","v":""},"No Entry",0]
[null,null,null,null,null,null,null,null,null,null,null,null,"",{"$f":"IF(D1772=\"Cash and Deposits\",IF(E1772=\"\",\"BANK NAME REQUIRED\",IF(ISERROR(VLOOKUP(E1772,'Reference Data'!C:C,1,FALSE)),\"PLEASE SELECT A BANK FROM DEFINED LIST PROVIDED\",\"\")),\"\")","v":""},"No Entry",0]
[null,null,null,null,null,null,null,null,null,null,null,null,"",{"$f":"IF(D1773=\"Cash and Deposits\",IF(E1773=\"\",\"BANK NAME REQUIRED\",IF(ISERROR(VLOOKUP(E1773,'Reference Data'!C:C,1,FALSE)),\"PLEASE SELECT A BANK FROM DEFINED LIST PROVIDED\",\"\")),\"\")","v":""},"No Entry",0]
[null,null,null,null,null,null,null,null,null,null,null,null,"",{"$f":"IF(D1774=\"Cash and Deposits\",IF(E1774=\"\",\"BANK NAME REQUIRED\",IF(ISERROR(VLOOKUP(E1774,'Reference Data'!C:C,1,FALSE)),\"PLEASE SELECT A BANK FROM DEFINED LIST PROVIDED\",\"\")),\"\")","v":""},"No Entry",0]
[null,null,null,null,null,null,null,null,null,null,null,null,"",{"$f":"IF(D1775=\"Cash and Deposits\",IF(E1775=\"\",\"BANK NAME REQUIRED\",IF(ISERROR(VLOOKUP(E1775,'Reference Data'!C:C,1,FALSE)),\"PLEASE SELECT A BANK FROM DEFINED LIST PROVIDED\",\"\")),\"\")","v":""},"No Entry",0]
[null,null,null,null,null,null,null,null,null,null,null,null,"",{"$f":"IF(D1776=\"Cash and Deposits\",IF(E1776=\"\",\"BANK NAME REQUIRED\",IF(ISERROR(VLOOKUP(E1776,'Reference Data'!C:C,1,FALSE)),\"PLEASE SELECT A BANK FROM DEFINED LIST PROVIDED\",\"\")),\"\")","v":""},"No Entry",0]
[null,null,null,null,null,null,null,null,null,null,null,null,"",{"$f":"IF(D1777=\"Cash and Deposits\",IF(E1777=\"\",\"BANK NAME REQUIRED\",IF(ISERROR(VLOOKUP(E1777,'Reference Data'!C:C,1,FALSE)),\"PLEASE SELECT A BANK FROM DEFINED LIST PROVIDED\",\"\")),\"\")","v":""},"No Entry",0]
[null,null,null,null,null,null,null,null,null,null,null,null,"",{"$f":"IF(D1778=\"Cash and Deposits\",IF(E1778=\"\",\"BANK NAME REQUIRED\",IF(ISERROR(VLOOKUP(E1778,'Reference Data'!C:C,1,FALSE)),\"PLEASE SELECT A BANK FROM DEFINED LIST PROVIDED\",\"\")),\"\")","v":""},"No Entry",0]
[null,null,null,null,null,null,null,null,null,null,null,null,"",{"$f":"IF(D1779=\"Cash and Deposits\",IF(E1779=\"\",\"BANK NAME REQUIRED\",IF(ISERROR(VLOOKUP(E1779,'Reference Data'!C:C,1,FALSE)),\"PLEASE SELECT A BANK FROM DEFINED LIST PROVIDED\",\"\")),\"\")","v":""},"No Entry",0]
[null,null,null,null,null,null,null,null,null,null,null,null,"",{"$f":"IF(D1780=\"Cash and Deposits\",IF(E1780=\"\",\"BANK NAME REQUIRED\",IF(ISERROR(VLOOKUP(E1780,'Reference Data'!C:C,1,FALSE)),\"PLEASE SELECT A BANK FROM DEFINED LIST PROVIDED\",\"\")),\"\")","v":""},"No Entry",0]
[null,null,null,null,null,null,null,null,null,null,null,null,"",{"$f":"IF(D1781=\"Cash and Deposits\",IF(E1781=\"\",\"BANK NAME REQUIRED\",IF(ISERROR(VLOOKUP(E1781,'Reference Data'!C:C,1,FALSE)),\"PLEASE SELECT A BANK FROM DEFINED LIST PROVIDED\",\"\")),\"\")","v":""},"No Entry",0]
[null,null,null,null,null,null,null,null,null,null,null,null,"",{"$f":"IF(D1782=\"Cash and Deposits\",IF(E1782=\"\",\"BANK NAME REQUIRED\",IF(ISERROR(VLOOKUP(E1782,'Reference Data'!C:C,1,FALSE)),\"PLEASE SELECT A BANK FROM DEFINED LIST PROVIDED\",\"\")),\"\")","v":""},"No Entry",0]
[null,null,null,null,null,null,null,null,null,null,null,null,"",{"$f":"IF(D1783=\"Cash and Deposits\",IF(E1783=\"\",\"BANK NAME REQUIRED\",IF(ISERROR(VLOOKUP(E1783,'Reference Data'!C:C,1,FALSE)),\"PLEASE SELECT A BANK FROM DEFINED LIST PROVIDED\",\"\")),\"\")","v":""},"No Entry",0]
[null,null,null,null,null,null,null,null,null,null,null,null,"",{"$f":"IF(D1784=\"Cash and Deposits\",IF(E1784=\"\",\"BANK NAME REQUIRED\",IF(ISERROR(VLOOKUP(E1784,'Reference Data'!C:C,1,FALSE)),\"PLEASE SELECT A BANK FROM DEFINED LIST PROVIDED\",\"\")),\"\")","v":""},"No Entry",0]
[null,null,null,null,null,null,null,null,null,null,null,null,"",{"$f":"IF(D1785=\"Cash and Deposits\",IF(E1785=\"\",\"BANK NAME REQUIRED\",IF(ISERROR(VLOOKUP(E1785,'Reference Data'!C:C,1,FALSE)),\"PLEASE SELECT A BANK FROM DEFINED LIST PROVIDED\",\"\")),\"\")","v":""},"No Entry",0]
[null,null,null,null,null,null,null,null,null,null,null,null,"",{"$f":"IF(D1786=\"Cash and Deposits\",IF(E1786=\"\",\"BANK NAME REQUIRED\",IF(ISERROR(VLOOKUP(E1786,'Reference Data'!C:C,1,FALSE)),\"PLEASE SELECT A BANK FROM DEFINED LIST PROVIDED\",\"\")),\"\")","v":""},"No Entry",0]
[null,null,null,null,null,null,null,null,null,null,null,null,"",{"$f":"IF(D1787=\"Cash and Deposits\",IF(E1787=\"\",\"BANK NAME REQUIRED\",IF(ISERROR(VLOOKUP(E1787,'Reference Data'!C:C,1,FALSE)),\"PLEASE SELECT A BANK FROM DEFINED LIST PROVIDED\",\"\")),\"\")","v":""},"No Entry",0]
[null,null,null,null,null,null,null,null,null,null,null,null,"",{"$f":"IF(D1788=\"Cash and Deposits\",IF(E1788=\"\",\"BANK NAME REQUIRED\",IF(ISERROR(VLOOKUP(E1788,'Reference Data'!C:C,1,FALSE)),\"PLEASE SELECT A BANK FROM DEFINED LIST PROVIDED\",\"\")),\"\")","v":""},"No Entry",0]
[null,null,null,null,null,null,null,null,null,null,null,null,"",{"$f":"IF(D1789=\"Cash and Deposits\",IF(E1789=\"\",\"BANK NAME REQUIRED\",IF(ISERROR(VLOOKUP(E1789,'Reference Data'!C:C,1,FALSE)),\"PLEASE SELECT A BANK FROM DEFINED LIST PROVIDED\",\"\")),\"\")","v":""},"No Entry",0]
[null,null,null,null,null,null,null,null,null,null,null,null,"",{"$f":"IF(D1790=\"Cash and Deposits\",IF(E1790=\"\",\"BANK NAME REQUIRED\",IF(ISERROR(VLOOKUP(E1790,'Reference Data'!C:C,1,FALSE)),\"PLEASE SELECT A BANK FROM DEFINED LIST PROVIDED\",\"\")),\"\")","v":""},"No Entry",0]
[null,null,null,null,null,null,null,null,null,null,null,null,"",{"$f":"IF(D1791=\"Cash and Deposits\",IF(E1791=\"\",\"BANK NAME REQUIRED\",IF(ISERROR(VLOOKUP(E1791,'Reference Data'!C:C,1,FALSE)),\"PLEASE SELECT A BANK FROM DEFINED LIST PROVIDED\",\"\")),\"\")","v":""},"No Entry",0]
[null,null,null,null,null,null,null,null,null,null,null,null,"",{"$f":"IF(D1792=\"Cash and Deposits\",IF(E1792=\"\",\"BANK NAME REQUIRED\",IF(ISERROR(VLOOKUP(E1792,'Reference Data'!C:C,1,FALSE)),\"PLEASE SELECT A BANK FROM DEFINED LIST PROVIDED\",\"\")),\"\")","v":""},"No Entry",0]
[null,null,null,null,null,null,null,null,null,null,null,null,"",{"$f":"IF(D1793=\"Cash and Deposits\",IF(E1793=\"\",\"BANK NAME REQUIRED\",IF(ISERROR(VLOOKUP(E1793,'Reference Data'!C:C,1,FALSE)),\"PLEASE SELECT A BANK FROM DEFINED LIST PROVIDED\",\"\")),\"\")","v":""},"No Entry",0]
[null,null,null,null,null,null,null,null,null,null,null,null,"",{"$f":"IF(D1794=\"Cash and Deposits\",IF(E1794=\"\",\"BANK NAME REQUIRED\",IF(ISERROR(VLOOKUP(E1794,'Reference Data'!C:C,1,FALSE)),\"PLEASE SELECT A BANK FROM DEFINED LIST PROVIDED\",\"\")),\"\")","v":""},"No Entry",0]
[null,null,null,null,null,null,null,null,null,null,null,null,"",{"$f":"IF(D1795=\"Cash and Deposits\",IF(E1795=\"\",\"BANK NAME REQUIRED\",IF(ISERROR(VLOOKUP(E1795,'Reference Data'!C:C,1,FALSE)),\"PLEASE SELECT A BANK FROM DEFINED LIST PROVIDED\",\"\")),\"\")","v":""},"No Entry",0]
[null,null,null,null,null,null,null,null,null,null,null,null,"",{"$f":"IF(D1796=\"Cash and Deposits\",IF(E1796=\"\",\"BANK NAME REQUIRED\",IF(ISERROR(VLOOKUP(E1796,'Reference Data'!C:C,1,FALSE)),\"PLEASE SELECT A BANK FROM DEFINED LIST PROVIDED\",\"\")),\"\")","v":""},"No Entry",0]
[null,null,null,null,null,null,null,null,null,null,null,null,{"$f":"IF(K1797<>0,IF(B1797=\"\",\"ID CODE REQUIRED\",\"\"),\"\")","v":""},{"$f":"IF(D1797=\"Cash and Deposits\",IF(E1797=\"\",\"BANK NAME REQUIRED\",IF(ISERROR(VLOOKUP(E1797,'Reference Data'!C:C,1,FALSE)),\"PLEASE SELECT A BANK FROM DEFINED LIST PROVIDED\",\"\")),\"\")","v":""},{"$f":"IF(K1797=0,\"No Entry\",\"\")","v":"No Entry"},{"$f":"IF(K1797<>0,IF(A1797=\"\",1,0),0)","v":0}]
[null,null,null,null,null,null,null,null,null,null,null,null,"",{"$f":"IF(D1798=\"Cash and Deposits\",IF(E1798=\"\",\"BANK NAME REQUIRED\",IF(ISERROR(VLOOKUP(E1798,'Reference Data'!C:C,1,FALSE)),\"PLEASE SELECT A BANK FROM DEFINED LIST PROVIDED\",\"\")),\"\")","v":""},"No Entry",0]
[null,null,null,null,null,null,null,null,null,null,null,null,"",{"$f":"IF(D1799=\"Cash and Deposits\",IF(E1799=\"\",\"BANK NAME REQUIRED\",IF(ISERROR(VLOOKUP(E1799,'Reference Data'!C:C,1,FALSE)),\"PLEASE SELECT A BANK FROM DEFINED LIST PROVIDED\",\"\")),\"\")","v":""},"No Entry",0]
[null,null,null,null,null,null,null,null,null,null,null,null,"",{"$f":"IF(D1800=\"Cash and Deposits\",IF(E1800=\"\",\"BANK NAME REQUIRED\",IF(ISERROR(VLOOKUP(E1800,'Reference Data'!C:C,1,FALSE)),\"PLEASE SELECT A BANK FROM DEFINED LIST PROVIDED\",\"\")),\"\")","v":""},"No Entry",0]
[null,null,null,null,null,null,null,null,null,null,null,null,"",{"$f":"IF(D1801=\"Cash and Deposits\",IF(E1801=\"\",\"BANK NAME REQUIRED\",IF(ISERROR(VLOOKUP(E1801,'Reference Data'!C:C,1,FALSE)),\"PLEASE SELECT A BANK FROM DEFINED LIST PROVIDED\",\"\")),\"\")","v":""},"No Entry",0]
[null,null,null,null,null,null,null,null,null,null,null,null,"",{"$f":"IF(D1802=\"Cash and Deposits\",IF(E1802=\"\",\"BANK NAME REQUIRED\",IF(ISERROR(VLOOKUP(E1802,'Reference Data'!C:C,1,FALSE)),\"PLEASE SELECT A BANK FROM DEFINED LIST PROVIDED\",\"\")),\"\")","v":""},"No Entry",0]
[null,null,null,null,null,null,null,null,null,null,null,null,"",{"$f":"IF(D1803=\"Cash and Deposits\",IF(E1803=\"\",\"BANK NAME REQUIRED\",IF(ISERROR(VLOOKUP(E1803,'Reference Data'!C:C,1,FALSE)),\"PLEASE SELECT A BANK FROM DEFINED LIST PROVIDED\",\"\")),\"\")","v":""},"No Entry",0]
[null,null,null,null,null,null,null,null,null,null,null,null,"",{"$f":"IF(D1804=\"Cash and Deposits\",IF(E1804=\"\",\"BANK NAME REQUIRED\",IF(ISERROR(VLOOKUP(E1804,'Reference Data'!C:C,1,FALSE)),\"PLEASE SELECT A BANK FROM DEFINED LIST PROVIDED\",\"\")),\"\")","v":""},"No Entry",0]
[null,null,null,null,null,null,null,null,null,null,null,null,"",{"$f":"IF(D1805=\"Cash and Deposits\",IF(E1805=\"\",\"BANK NAME REQUIRED\",IF(ISERROR(VLOOKUP(E1805,'Reference Data'!C:C,1,FALSE)),\"PLEASE SELECT A BANK FROM DEFINED LIST PROVIDED\",\"\")),\"\")","v":""},"No Entry",0]
[null,null,null,null,null,null,null,null,null,null,null,null,"",{"$f":"IF(D1806=\"Cash and Deposits\",IF(E1806=\"\",\"BANK NAME REQUIRED\",IF(ISERROR(VLOOKUP(E1806,'Reference Data'!C:C,1,FALSE)),\"PLEASE SELECT A BANK FROM DEFINED LIST PROVIDED\",\"\")),\"\")","v":""},"No Entry",0]
[null,null,null,null,null,null,null,null,null,null,null,null,"",{"$f":"IF(D1807=\"Cash and Deposits\",IF(E1807=\"\",\"BANK NAME REQUIRED\",IF(ISERROR(VLOOKUP(E1807,'Reference Data'!C:C,1,FALSE)),\"PLEASE SELECT A BANK FROM DEFINED LIST PROVIDED\",\"\")),\"\")","v":""},"No Entry",0]
[null,null,null,null,null,null,null,null,null,null,null,null,"",{"$f":"IF(D1808=\"Cash and Deposits\",IF(E1808=\"\",\"BANK NAME REQUIRED\",IF(ISERROR(VLOOKUP(E1808,'Reference Data'!C:C,1,FALSE)),\"PLEASE SELECT A BANK FROM DEFINED LIST PROVIDED\",\"\")),\"\")","v":""},"No Entry",0]
[null,null,null,null,null,null,null,null,null,null,null,null,"",{"$f":"IF(D1809=\"Cash and Deposits\",IF(E1809=\"\",\"BANK NAME REQUIRED\",IF(ISERROR(VLOOKUP(E1809,'Reference Data'!C:C,1,FALSE)),\"PLEASE SELECT A BANK FROM DEFINED LIST PROVIDED\",\"\")),\"\")","v":""},"No Entry",0]
[null,null,null,null,null,null,null,null,null,null,null,null,"",{"$f":"IF(D1810=\"Cash and Deposits\",IF(E1810=\"\",\"BANK NAME REQUIRED\",IF(ISERROR(VLOOKUP(E1810,'Reference Data'!C:C,1,FALSE)),\"PLEASE SELECT A BANK FROM DEFINED LIST PROVIDED\",\"\")),\"\")","v":""},"No Entry",0]
[null,null,null,null,null,null,null,null,null,null,null,null,"",{"$f":"IF(D1811=\"Cash and Deposits\",IF(E1811=\"\",\"BANK NAME REQUIRED\",IF(ISERROR(VLOOKUP(E1811,'Reference Data'!C:C,1,FALSE)),\"PLEASE SELECT A BANK FROM DEFINED LIST PROVIDED\",\"\")),\"\")","v":""},"No Entry",0]
[null,null,null,null,null,null,null,null,null,null,null,null,"",{"$f":"IF(D1812=\"Cash and Deposits\",IF(E1812=\"\",\"BANK NAME REQUIRED\",IF(ISERROR(VLOOKUP(E1812,'Reference Data'!C:C,1,FALSE)),\"PLEASE SELECT A BANK FROM DEFINED LIST PROVIDED\",\"\")),\"\")","v":""},"No Entry",0]
[null,null,null,null,null,null,null,null,null,null,null,null,"",{"$f":"IF(D1813=\"Cash and Deposits\",IF(E1813=\"\",\"BANK NAME REQUIRED\",IF(ISERROR(VLOOKUP(E1813,'Reference Data'!C:C,1,FALSE)),\"PLEASE SELECT A BANK FROM DEFINED LIST PROVIDED\",\"\")),\"\")","v":""},"No Entry",0]
[null,null,null,null,null,null,null,null,null,null,null,null,"",{"$f":"IF(D1814=\"Cash and Deposits\",IF(E1814=\"\",\"BANK NAME REQUIRED\",IF(ISERROR(VLOOKUP(E1814,'Reference Data'!C:C,1,FALSE)),\"PLEASE SELECT A BANK FROM DEFINED LIST PROVIDED\",\"\")),\"\")","v":""},"No Entry",0]
[null,null,null,null,null,null,null,null,null,null,null,null,"",{"$f":"IF(D1815=\"Cash and Deposits\",IF(E1815=\"\",\"BANK NAME REQUIRED\",IF(ISERROR(VLOOKUP(E1815,'Reference Data'!C:C,1,FALSE)),\"PLEASE SELECT A BANK FROM DEFINED LIST PROVIDED\",\"\")),\"\")","v":""},"No Entry",0]
[null,null,null,null,null,null,null,null,null,null,null,null,"",{"$f":"IF(D1816=\"Cash and Deposits\",IF(E1816=\"\",\"BANK NAME REQUIRED\",IF(ISERROR(VLOOKUP(E1816,'Reference Data'!C:C,1,FALSE)),\"PLEASE SELECT A BANK FROM DEFINED LIST PROVIDED\",\"\")),\"\")","v":""},"No Entry",0]
[null,null,null,null,null,null,null,null,null,null,null,null,"",{"$f":"IF(D1817=\"Cash and Deposits\",IF(E1817=\"\",\"BANK NAME REQUIRED\",IF(ISERROR(VLOOKUP(E1817,'Reference Data'!C:C,1,FALSE)),\"PLEASE SELECT A BANK FROM DEFINED LIST PROVIDED\",\"\")),\"\")","v":""},"No Entry",0]
[null,null,null,null,null,null,null,null,null,null,null,null,"",{"$f":"IF(D1818=\"Cash and Deposits\",IF(E1818=\"\",\"BANK NAME REQUIRED\",IF(ISERROR(VLOOKUP(E1818,'Reference Data'!C:C,1,FALSE)),\"PLEASE SELECT A BANK FROM DEFINED LIST PROVIDED\",\"\")),\"\")","v":""},"No Entry",0]
[null,null,null,null,null,null,null,null,null,null,null,null,"",{"$f":"IF(D1819=\"Cash and Deposits\",IF(E1819=\"\",\"BANK NAME REQUIRED\",IF(ISERROR(VLOOKUP(E1819,'Reference Data'!C:C,1,FALSE)),\"PLEASE SELECT A BANK FROM DEFINED LIST PROVIDED\",\"\")),\"\")","v":""},"No Entry",0]
[null,null,null,null,null,null,null,null,null,null,null,null,"",{"$f":"IF(D1820=\"Cash and Deposits\",IF(E1820=\"\",\"BANK NAME REQUIRED\",IF(ISERROR(VLOOKUP(E1820,'Reference Data'!C:C,1,FALSE)),\"PLEASE SELECT A BANK FROM DEFINED LIST PROVIDED\",\"\")),\"\")","v":""},"No Entry",0]
[null,null,null,null,null,null,null,null,null,null,null,null,"",{"$f":"IF(D1821=\"Cash and Deposits\",IF(E1821=\"\",\"BANK NAME REQUIRED\",IF(ISERROR(VLOOKUP(E1821,'Reference Data'!C:C,1,FALSE)),\"PLEASE SELECT A BANK FROM DEFINED LIST PROVIDED\",\"\")),\"\")","v":""},"No Entry",0]
[null,null,null,null,null,null,null,null,null,null,null,null,"",{"$f":"IF(D1822=\"Cash and Deposits\",IF(E1822=\"\",\"BANK NAME REQUIRED\",IF(ISERROR(VLOOKUP(E1822,'Reference Data'!C:C,1,FALSE)),\"PLEASE SELECT A BANK FROM DEFINED LIST PROVIDED\",\"\")),\"\")","v":""},"No Entry",0]
[null,null,null,null,null,null,null,null,null,null,null,null,"",{"$f":"IF(D1823=\"Cash and Deposits\",IF(E1823=\"\",\"BANK NAME REQUIRED\",IF(ISERROR(VLOOKUP(E1823,'Reference Data'!C:C,1,FALSE)),\"PLEASE SELECT A BANK FROM DEFINED LIST PROVIDED\",\"\")),\"\")","v":""},"No Entry",0]
[null,null,null,null,null,null,null,null,null,null,null,null,"",{"$f":"IF(D1824=\"Cash and Deposits\",IF(E1824=\"\",\"BANK NAME REQUIRED\",IF(ISERROR(VLOOKUP(E1824,'Reference Data'!C:C,1,FALSE)),\"PLEASE SELECT A BANK FROM DEFINED LIST PROVIDED\",\"\")),\"\")","v":""},"No Entry",0]
[null,null,null,null,null,null,null,null,null,null,null,null,"",{"$f":"IF(D1825=\"Cash and Deposits\",IF(E1825=\"\",\"BANK NAME REQUIRED\",IF(ISERROR(VLOOKUP(E1825,'Reference Data'!C:C,1,FALSE)),\"PLEASE SELECT A BANK FROM DEFINED LIST PROVIDED\",\"\")),\"\")","v":""},"No Entry",0]
[null,null,null,null,null,null,null,null,null,null,null,null,"",{"$f":"IF(D1826=\"Cash and Deposits\",IF(E1826=\"\",\"BANK NAME REQUIRED\",IF(ISERROR(VLOOKUP(E1826,'Reference Data'!C:C,1,FALSE)),\"PLEASE SELECT A BANK FROM DEFINED LIST PROVIDED\",\"\")),\"\")","v":""},"No Entry",0]
[null,null,null,null,null,null,null,null,null,null,null,null,"",{"$f":"IF(D1827=\"Cash and Deposits\",IF(E1827=\"\",\"BANK NAME REQUIRED\",IF(ISERROR(VLOOKUP(E1827,'Reference Data'!C:C,1,FALSE)),\"PLEASE SELECT A BANK FROM DEFINED LIST PROVIDED\",\"\")),\"\")","v":""},"No Entry",0]
[null,null,null,null,null,null,null,null,null,null,null,null,"",{"$f":"IF(D1828=\"Cash and Deposits\",IF(E1828=\"\",\"BANK NAME REQUIRED\",IF(ISERROR(VLOOKUP(E1828,'Reference Data'!C:C,1,FALSE)),\"PLEASE SELECT A BANK FROM DEFINED LIST PROVIDED\",\"\")),\"\")","v":""},"No Entry",0]
[null,null,null,null,null,null,null,null,null,null,null,null,"",{"$f":"IF(D1829=\"Cash and Deposits\",IF(E1829=\"\",\"BANK NAME REQUIRED\",IF(ISERROR(VLOOKUP(E1829,'Reference Data'!C:C,1,FALSE)),\"PLEASE SELECT A BANK FROM DEFINED LIST PROVIDED\",\"\")),\"\")","v":""},"No Entry",0]
[null,null,null,null,null,null,null,null,null,null,null,null,"",{"$f":"IF(D1830=\"Cash and Deposits\",IF(E1830=\"\",\"BANK NAME REQUIRED\",IF(ISERROR(VLOOKUP(E1830,'Reference Data'!C:C,1,FALSE)),\"PLEASE SELECT A BANK FROM DEFINED LIST PROVIDED\",\"\")),\"\")","v":""},"No Entry",0]
[null,null,null,null,null,null,null,null,null,null,null,null,"",{"$f":"IF(D1831=\"Cash and Deposits\",IF(E1831=\"\",\"BANK NAME REQUIRED\",IF(ISERROR(VLOOKUP(E1831,'Reference Data'!C:C,1,FALSE)),\"PLEASE SELECT A BANK FROM DEFINED LIST PROVIDED\",\"\")),\"\")","v":""},"No Entry",0]
[null,null,null,null,null,null,null,null,null,null,null,null,"",{"$f":"IF(D1832=\"Cash and Deposits\",IF(E1832=\"\",\"BANK NAME REQUIRED\",IF(ISERROR(VLOOKUP(E1832,'Reference Data'!C:C,1,FALSE)),\"PLEASE SELECT A BANK FROM DEFINED LIST PROVIDED\",\"\")),\"\")","v":""},"No Entry",0]
[null,null,null,null,null,null,null,null,null,null,null,null,"",{"$f":"IF(D1833=\"Cash and Deposits\",IF(E1833=\"\",\"BANK NAME REQUIRED\",IF(ISERROR(VLOOKUP(E1833,'Reference Data'!C:C,1,FALSE)),\"PLEASE SELECT A BANK FROM DEFINED LIST PROVIDED\",\"\")),\"\")","v":""},"No Entry",0]
[null,null,null,null,null,null,null,null,null,null,null,null,"",{"$f":"IF(D1834=\"Cash and Deposits\",IF(E1834=\"\",\"BANK NAME REQUIRED\",IF(ISERROR(VLOOKUP(E1834,'Reference Data'!C:C,1,FALSE)),\"PLEASE SELECT A BANK FROM DEFINED LIST PROVIDED\",\"\")),\"\")","v":""},"No Entry",0]
[null,null,null,null,null,null,null,null,null,null,null,null,"",{"$f":"IF(D1835=\"Cash and Deposits\",IF(E1835=\"\",\"BANK NAME REQUIRED\",IF(ISERROR(VLOOKUP(E1835,'Reference Data'!C:C,1,FALSE)),\"PLEASE SELECT A BANK FROM DEFINED LIST PROVIDED\",\"\")),\"\")","v":""},"No Entry",0]
[null,null,null,null,null,null,null,null,null,null,null,null,"",{"$f":"IF(D1836=\"Cash and Deposits\",IF(E1836=\"\",\"BANK NAME REQUIRED\",IF(ISERROR(VLOOKUP(E1836,'Reference Data'!C:C,1,FALSE)),\"PLEASE SELECT A BANK FROM DEFINED LIST PROVIDED\",\"\")),\"\")","v":""},"No Entry",0]
[null,null,null,null,null,null,null,null,null,null,null,null,"",{"$f":"IF(D1837=\"Cash and Deposits\",IF(E1837=\"\",\"BANK NAME REQUIRED\",IF(ISERROR(VLOOKUP(E1837,'Reference Data'!C:C,1,FALSE)),\"PLEASE SELECT A BANK FROM DEFINED LIST PROVIDED\",\"\")),\"\")","v":""},"No Entry",0]
[null,null,null,null,null,null,null,null,null,null,null,null,"",{"$f":"IF(D1838=\"Cash and Deposits\",IF(E1838=\"\",\"BANK NAME REQUIRED\",IF(ISERROR(VLOOKUP(E1838,'Reference Data'!C:C,1,FALSE)),\"PLEASE SELECT A BANK FROM DEFINED LIST PROVIDED\",\"\")),\"\")","v":""},"No Entry",0]
[null,null,null,null,null,null,null,null,null,null,null,null,"",{"$f":"IF(D1839=\"Cash and Deposits\",IF(E1839=\"\",\"BANK NAME REQUIRED\",IF(ISERROR(VLOOKUP(E1839,'Reference Data'!C:C,1,FALSE)),\"PLEASE SELECT A BANK FROM DEFINED LIST PROVIDED\",\"\")),\"\")","v":""},"No Entry",0]
[null,null,null,null,null,null,null,null,null,null,null,null,"",{"$f":"IF(D1840=\"Cash and Deposits\",IF(E1840=\"\",\"BANK NAME REQUIRED\",IF(ISERROR(VLOOKUP(E1840,'Reference Data'!C:C,1,FALSE)),\"PLEASE SELECT A BANK FROM DEFINED LIST PROVIDED\",\"\")),\"\")","v":""},"No Entry",0]
[null,null,null,null,null,null,null,null,null,null,null,null,"",{"$f":"IF(D1841=\"Cash and Deposits\",IF(E1841=\"\",\"BANK NAME REQUIRED\",IF(ISERROR(VLOOKUP(E1841,'Reference Data'!C:C,1,FALSE)),\"PLEASE SELECT A BANK FROM DEFINED LIST PROVIDED\",\"\")),\"\")","v":""},"No Entry",0]
[null,null,null,null,null,null,null,null,null,null,null,null,"",{"$f":"IF(D1842=\"Cash and Deposits\",IF(E1842=\"\",\"BANK NAME REQUIRED\",IF(ISERROR(VLOOKUP(E1842,'Reference Data'!C:C,1,FALSE)),\"PLEASE SELECT A BANK FROM DEFINED LIST PROVIDED\",\"\")),\"\")","v":""},"No Entry",0]
[null,null,null,null,null,null,null,null,null,null,null,null,"",{"$f":"IF(D1843=\"Cash and Deposits\",IF(E1843=\"\",\"BANK NAME REQUIRED\",IF(ISERROR(VLOOKUP(E1843,'Reference Data'!C:C,1,FALSE)),\"PLEASE SELECT A BANK FROM DEFINED LIST PROVIDED\",\"\")),\"\")","v":""},"No Entry",0]
[null,null,null,null,null,null,null,null,null,null,null,null,"",{"$f":"IF(D1844=\"Cash and Deposits\",IF(E1844=\"\",\"BANK NAME REQUIRED\",IF(ISERROR(VLOOKUP(E1844,'Reference Data'!C:C,1,FALSE)),\"PLEASE SELECT A BANK FROM DEFINED LIST PROVIDED\",\"\")),\"\")","v":""},"No Entry",0]
[null,null,null,null,null,null,null,null,null,null,null,null,"",{"$f":"IF(D1845=\"Cash and Deposits\",IF(E1845=\"\",\"BANK NAME REQUIRED\",IF(ISERROR(VLOOKUP(E1845,'Reference Data'!C:C,1,FALSE)),\"PLEASE SELECT A BANK FROM DEFINED LIST PROVIDED\",\"\")),\"\")","v":""},"No Entry",0]
[null,null,null,null,null,null,null,null,null,null,null,null,"",{"$f":"IF(D1846=\"Cash and Deposits\",IF(E1846=\"\",\"BANK NAME REQUIRED\",IF(ISERROR(VLOOKUP(E1846,'Reference Data'!C:C,1,FALSE)),\"PLEASE SELECT A BANK FROM DEFINED LIST PROVIDED\",\"\")),\"\")","v":""},"No Entry",0]
[null,null,null,null,null,null,null,null,null,null,null,null,"",{"$f":"IF(D1847=\"Cash and Deposits\",IF(E1847=\"\",\"BANK NAME REQUIRED\",IF(ISERROR(VLOOKUP(E1847,'Reference Data'!C:C,1,FALSE)),\"PLEASE SELECT A BANK FROM DEFINED LIST PROVIDED\",\"\")),\"\")","v":""},"No Entry",0]
[null,null,null,null,null,null,null,null,null,null,null,null,"",{"$f":"IF(D1848=\"Cash and Deposits\",IF(E1848=\"\",\"BANK NAME REQUIRED\",IF(ISERROR(VLOOKUP(E1848,'Reference Data'!C:C,1,FALSE)),\"PLEASE SELECT A BANK FROM DEFINED LIST PROVIDED\",\"\")),\"\")","v":""},"No Entry",0]
[null,null,null,null,null,null,null,null,null,null,null,null,"",{"$f":"IF(D1849=\"Cash and Deposits\",IF(E1849=\"\",\"BANK NAME REQUIRED\",IF(ISERROR(VLOOKUP(E1849,'Reference Data'!C:C,1,FALSE)),\"PLEASE SELECT A BANK FROM DEFINED LIST PROVIDED\",\"\")),\"\")","v":""},"No Entry",0]
[null,null,null,null,null,null,null,null,null,null,null,null,"",{"$f":"IF(D1850=\"Cash and Deposits\",IF(E1850=\"\",\"BANK NAME REQUIRED\",IF(ISERROR(VLOOKUP(E1850,'Reference Data'!C:C,1,FALSE)),\"PLEASE SELECT A BANK FROM DEFINED LIST PROVIDED\",\"\")),\"\")","v":""},"No Entry",0]
[null,null,null,null,null,null,null,null,null,null,null,null,"",{"$f":"IF(D1851=\"Cash and Deposits\",IF(E1851=\"\",\"BANK NAME REQUIRED\",IF(ISERROR(VLOOKUP(E1851,'Reference Data'!C:C,1,FALSE)),\"PLEASE SELECT A BANK FROM DEFINED LIST PROVIDED\",\"\")),\"\")","v":""},"No Entry",0]
[null,null,null,null,null,null,null,null,null,null,null,null,"",{"$f":"IF(D1852=\"Cash and Deposits\",IF(E1852=\"\",\"BANK NAME REQUIRED\",IF(ISERROR(VLOOKUP(E1852,'Reference Data'!C:C,1,FALSE)),\"PLEASE SELECT A BANK FROM DEFINED LIST PROVIDED\",\"\")),\"\")","v":""},"No Entry",0]
[null,null,null,null,null,null,null,null,null,null,null,null,"",{"$f":"IF(D1853=\"Cash and Deposits\",IF(E1853=\"\",\"BANK NAME REQUIRED\",IF(ISERROR(VLOOKUP(E1853,'Reference Data'!C:C,1,FALSE)),\"PLEASE SELECT A BANK FROM DEFINED LIST PROVIDED\",\"\")),\"\")","v":""},"No Entry",0]
[null,null,null,null,null,null,null,null,null,null,null,null,"",{"$f":"IF(D1854=\"Cash and Deposits\",IF(E1854=\"\",\"BANK NAME REQUIRED\",IF(ISERROR(VLOOKUP(E1854,'Reference Data'!C:C,1,FALSE)),\"PLEASE SELECT A BANK FROM DEFINED LIST PROVIDED\",\"\")),\"\")","v":""},"No Entry",0]
[null,null,null,null,null,null,null,null,null,null,null,null,"",{"$f":"IF(D1855=\"Cash and Deposits\",IF(E1855=\"\",\"BANK NAME REQUIRED\",IF(ISERROR(VLOOKUP(E1855,'Reference Data'!C:C,1,FALSE)),\"PLEASE SELECT A BANK FROM DEFINED LIST PROVIDED\",\"\")),\"\")","v":""},"No Entry",0]
[null,null,null,null,null,null,null,null,null,null,null,null,"",{"$f":"IF(D1856=\"Cash and Deposits\",IF(E1856=\"\",\"BANK NAME REQUIRED\",IF(ISERROR(VLOOKUP(E1856,'Reference Data'!C:C,1,FALSE)),\"PLEASE SELECT A BANK FROM DEFINED LIST PROVIDED\",\"\")),\"\")","v":""},"No Entry",0]
[null,null,null,null,null,null,null,null,null,null,null,null,"",{"$f":"IF(D1857=\"Cash and Deposits\",IF(E1857=\"\",\"BANK NAME REQUIRED\",IF(ISERROR(VLOOKUP(E1857,'Reference Data'!C:C,1,FALSE)),\"PLEASE SELECT A BANK FROM DEFINED LIST PROVIDED\",\"\")),\"\")","v":""},"No Entry",0]
[null,null,null,null,null,null,null,null,null,null,null,null,"",{"$f":"IF(D1858=\"Cash and Deposits\",IF(E1858=\"\",\"BANK NAME REQUIRED\",IF(ISERROR(VLOOKUP(E1858,'Reference Data'!C:C,1,FALSE)),\"PLEASE SELECT A BANK FROM DEFINED LIST PROVIDED\",\"\")),\"\")","v":""},"No Entry",0]
[null,null,null,null,null,null,null,null,null,null,null,null,"",{"$f":"IF(D1859=\"Cash and Deposits\",IF(E1859=\"\",\"BANK NAME REQUIRED\",IF(ISERROR(VLOOKUP(E1859,'Reference Data'!C:C,1,FALSE)),\"PLEASE SELECT A BANK FROM DEFINED LIST PROVIDED\",\"\")),\"\")","v":""},"No Entry",0]
[null,null,null,null,null,null,null,null,null,null,null,null,"",{"$f":"IF(D1860=\"Cash and Deposits\",IF(E1860=\"\",\"BANK NAME REQUIRED\",IF(ISERROR(VLOOKUP(E1860,'Reference Data'!C:C,1,FALSE)),\"PLEASE SELECT A BANK FROM DEFINED LIST PROVIDED\",\"\")),\"\")","v":""},"No Entry",0]
[null,null,null,null,null,null,null,null,null,null,null,null,{"$f":"IF(K1861<>0,IF(B1861=\"\",\"ID CODE REQUIRED\",\"\"),\"\")","v":""},{"$f":"IF(D1861=\"Cash and Deposits\",IF(E1861=\"\",\"BANK NAME REQUIRED\",IF(ISERROR(VLOOKUP(E1861,'Reference Data'!C:C,1,FALSE)),\"PLEASE SELECT A BANK FROM DEFINED LIST PROVIDED\",\"\")),\"\")","v":""},{"$f":"IF(K1861=0,\"No Entry\",\"\")","v":"No Entry"},{"$f":"IF(K1861<>0,IF(A1861=\"\",1,0),0)","v":0}]
[null,null,null,null,null,null,null,null,null,null,null,null,"",{"$f":"IF(D1862=\"Cash and Deposits\",IF(E1862=\"\",\"BANK NAME REQUIRED\",IF(ISERROR(VLOOKUP(E1862,'Reference Data'!C:C,1,FALSE)),\"PLEASE SELECT A BANK FROM DEFINED LIST PROVIDED\",\"\")),\"\")","v":""},"No Entry",0]
[null,null,null,null,null,null,null,null,null,null,null,null,"",{"$f":"IF(D1863=\"Cash and Deposits\",IF(E1863=\"\",\"BANK NAME REQUIRED\",IF(ISERROR(VLOOKUP(E1863,'Reference Data'!C:C,1,FALSE)),\"PLEASE SELECT A BANK FROM DEFINED LIST PROVIDED\",\"\")),\"\")","v":""},"No Entry",0]
[null,null,null,null,null,null,null,null,null,null,null,null,"",{"$f":"IF(D1864=\"Cash and Deposits\",IF(E1864=\"\",\"BANK NAME REQUIRED\",IF(ISERROR(VLOOKUP(E1864,'Reference Data'!C:C,1,FALSE)),\"PLEASE SELECT A BANK FROM DEFINED LIST PROVIDED\",\"\")),\"\")","v":""},"No Entry",0]
[null,null,null,null,null,null,null,null,null,null,null,null,"",{"$f":"IF(D1865=\"Cash and Deposits\",IF(E1865=\"\",\"BANK NAME REQUIRED\",IF(ISERROR(VLOOKUP(E1865,'Reference Data'!C:C,1,FALSE)),\"PLEASE SELECT A BANK FROM DEFINED LIST PROVIDED\",\"\")),\"\")","v":""},"No Entry",0]
[null,null,null,null,null,null,null,null,null,null,null,null,"",{"$f":"IF(D1866=\"Cash and Deposits\",IF(E1866=\"\",\"BANK NAME REQUIRED\",IF(ISERROR(VLOOKUP(E1866,'Reference Data'!C:C,1,FALSE)),\"PLEASE SELECT A BANK FROM DEFINED LIST PROVIDED\",\"\")),\"\")","v":""},"No Entry",0]
[null,null,null,null,null,null,null,null,null,null,null,null,"",{"$f":"IF(D1867=\"Cash and Deposits\",IF(E1867=\"\",\"BANK NAME REQUIRED\",IF(ISERROR(VLOOKUP(E1867,'Reference Data'!C:C,1,FALSE)),\"PLEASE SELECT A BANK FROM DEFINED LIST PROVIDED\",\"\")),\"\")","v":""},"No Entry",0]
[null,null,null,null,null,null,null,null,null,null,null,null,"",{"$f":"IF(D1868=\"Cash and Deposits\",IF(E1868=\"\",\"BANK NAME REQUIRED\",IF(ISERROR(VLOOKUP(E1868,'Reference Data'!C:C,1,FALSE)),\"PLEASE SELECT A BANK FROM DEFINED LIST PROVIDED\",\"\")),\"\")","v":""},"No Entry",0]
[null,null,null,null,null,null,null,null,null,null,null,null,"",{"$f":"IF(D1869=\"Cash and Deposits\",IF(E1869=\"\",\"BANK NAME REQUIRED\",IF(ISERROR(VLOOKUP(E1869,'Reference Data'!C:C,1,FALSE)),\"PLEASE SELECT A BANK FROM DEFINED LIST PROVIDED\",\"\")),\"\")","v":""},"No Entry",0]
[null,null,null,null,null,null,null,null,null,null,null,null,"",{"$f":"IF(D1870=\"Cash and Deposits\",IF(E1870=\"\",\"BANK NAME REQUIRED\",IF(ISERROR(VLOOKUP(E1870,'Reference Data'!C:C,1,FALSE)),\"PLEASE SELECT A BANK FROM DEFINED LIST PROVIDED\",\"\")),\"\")","v":""},"No Entry",0]
[null,null,null,null,null,null,null,null,null,null,null,null,"",{"$f":"IF(D1871=\"Cash and Deposits\",IF(E1871=\"\",\"BANK NAME REQUIRED\",IF(ISERROR(VLOOKUP(E1871,'Reference Data'!C:C,1,FALSE)),\"PLEASE SELECT A BANK FROM DEFINED LIST PROVIDED\",\"\")),\"\")","v":""},"No Entry",0]
[null,null,null,null,null,null,null,null,null,null,null,null,"",{"$f":"IF(D1872=\"Cash and Deposits\",IF(E1872=\"\",\"BANK NAME REQUIRED\",IF(ISERROR(VLOOKUP(E1872,'Reference Data'!C:C,1,FALSE)),\"PLEASE SELECT A BANK FROM DEFINED LIST PROVIDED\",\"\")),\"\")","v":""},"No Entry",0]
[null,null,null,null,null,null,null,null,null,null,null,null,"",{"$f":"IF(D1873=\"Cash and Deposits\",IF(E1873=\"\",\"BANK NAME REQUIRED\",IF(ISERROR(VLOOKUP(E1873,'Reference Data'!C:C,1,FALSE)),\"PLEASE SELECT A BANK FROM DEFINED LIST PROVIDED\",\"\")),\"\")","v":""},"No Entry",0]
[null,null,null,null,null,null,null,null,null,null,null,null,"",{"$f":"IF(D1874=\"Cash and Deposits\",IF(E1874=\"\",\"BANK NAME REQUIRED\",IF(ISERROR(VLOOKUP(E1874,'Reference Data'!C:C,1,FALSE)),\"PLEASE SELECT A BANK FROM DEFINED LIST PROVIDED\",\"\")),\"\")","v":""},"No Entry",0]
[null,null,null,null,null,null,null,null,null,null,null,null,"",{"$f":"IF(D1875=\"Cash and Deposits\",IF(E1875=\"\",\"BANK NAME REQUIRED\",IF(ISERROR(VLOOKUP(E1875,'Reference Data'!C:C,1,FALSE)),\"PLEASE SELECT A BANK FROM DEFINED LIST PROVIDED\",\"\")),\"\")","v":""},"No Entry",0]
[null,null,null,null,null,null,null,null,null,null,null,null,"",{"$f":"IF(D1876=\"Cash and Deposits\",IF(E1876=\"\",\"BANK NAME REQUIRED\",IF(ISERROR(VLOOKUP(E1876,'Reference Data'!C:C,1,FALSE)),\"PLEASE SELECT A BANK FROM DEFINED LIST PROVIDED\",\"\")),\"\")","v":""},"No Entry",0]
[null,null,null,null,null,null,null,null,null,null,null,null,"",{"$f":"IF(D1877=\"Cash and Deposits\",IF(E1877=\"\",\"BANK NAME REQUIRED\",IF(ISERROR(VLOOKUP(E1877,'Reference Data'!C:C,1,FALSE)),\"PLEASE SELECT A BANK FROM DEFINED LIST PROVIDED\",\"\")),\"\")","v":""},"No Entry",0]
[null,null,null,null,null,null,null,null,null,null,null,null,"",{"$f":"IF(D1878=\"Cash and Deposits\",IF(E1878=\"\",\"BANK NAME REQUIRED\",IF(ISERROR(VLOOKUP(E1878,'Reference Data'!C:C,1,FALSE)),\"PLEASE SELECT A BANK FROM DEFINED LIST PROVIDED\",\"\")),\"\")","v":""},"No Entry",0]
[null,null,null,null,null,null,null,null,null,null,null,null,"",{"$f":"IF(D1879=\"Cash and Deposits\",IF(E1879=\"\",\"BANK NAME REQUIRED\",IF(ISERROR(VLOOKUP(E1879,'Reference Data'!C:C,1,FALSE)),\"PLEASE SELECT A BANK FROM DEFINED LIST PROVIDED\",\"\")),\"\")","v":""},"No Entry",0]
[null,null,null,null,null,null,null,null,null,null,null,null,"",{"$f":"IF(D1880=\"Cash and Deposits\",IF(E1880=\"\",\"BANK NAME REQUIRED\",IF(ISERROR(VLOOKUP(E1880,'Reference Data'!C:C,1,FALSE)),\"PLEASE SELECT A BANK FROM DEFINED LIST PROVIDED\",\"\")),\"\")","v":""},"No Entry",0]
[null,null,null,null,null,null,null,null,null,null,null,null,"",{"$f":"IF(D1881=\"Cash and Deposits\",IF(E1881=\"\",\"BANK NAME REQUIRED\",IF(ISERROR(VLOOKUP(E1881,'Reference Data'!C:C,1,FALSE)),\"PLEASE SELECT A BANK FROM DEFINED LIST PROVIDED\",\"\")),\"\")","v":""},"No Entry",0]
[null,null,null,null,null,null,null,null,null,null,null,null,"",{"$f":"IF(D1882=\"Cash and Deposits\",IF(E1882=\"\",\"BANK NAME REQUIRED\",IF(ISERROR(VLOOKUP(E1882,'Reference Data'!C:C,1,FALSE)),\"PLEASE SELECT A BANK FROM DEFINED LIST PROVIDED\",\"\")),\"\")","v":""},"No Entry",0]
[null,null,null,null,null,null,null,null,null,null,null,null,"",{"$f":"IF(D1883=\"Cash and Deposits\",IF(E1883=\"\",\"BANK NAME REQUIRED\",IF(ISERROR(VLOOKUP(E1883,'Reference Data'!C:C,1,FALSE)),\"PLEASE SELECT A BANK FROM DEFINED LIST PROVIDED\",\"\")),\"\")","v":""},"No Entry",0]
[null,null,null,null,null,null,null,null,null,null,null,null,"",{"$f":"IF(D1884=\"Cash and Deposits\",IF(E1884=\"\",\"BANK NAME REQUIRED\",IF(ISERROR(VLOOKUP(E1884,'Reference Data'!C:C,1,FALSE)),\"PLEASE SELECT A BANK FROM DEFINED LIST PROVIDED\",\"\")),\"\")","v":""},"No Entry",0]
[null,null,null,null,null,null,null,null,null,null,null,null,"",{"$f":"IF(D1885=\"Cash and Deposits\",IF(E1885=\"\",\"BANK NAME REQUIRED\",IF(ISERROR(VLOOKUP(E1885,'Reference Data'!C:C,1,FALSE)),\"PLEASE SELECT A BANK FROM DEFINED LIST PROVIDED\",\"\")),\"\")","v":""},"No Entry",0]
[null,null,null,null,null,null,null,null,null,null,null,null,"",{"$f":"IF(D1886=\"Cash and Deposits\",IF(E1886=\"\",\"BANK NAME REQUIRED\",IF(ISERROR(VLOOKUP(E1886,'Reference Data'!C:C,1,FALSE)),\"PLEASE SELECT A BANK FROM DEFINED LIST PROVIDED\",\"\")),\"\")","v":""},"No Entry",0]
[null,null,null,null,null,null,null,null,null,null,null,null,"",{"$f":"IF(D1887=\"Cash and Deposits\",IF(E1887=\"\",\"BANK NAME REQUIRED\",IF(ISERROR(VLOOKUP(E1887,'Reference Data'!C:C,1,FALSE)),\"PLEASE SELECT A BANK FROM DEFINED LIST PROVIDED\",\"\")),\"\")","v":""},"No Entry",0]
[null,null,null,null,null,null,null,null,null,null,null,null,"",{"$f":"IF(D1888=\"Cash and Deposits\",IF(E1888=\"\",\"BANK NAME REQUIRED\",IF(ISERROR(VLOOKUP(E1888,'Reference Data'!C:C,1,FALSE)),\"PLEASE SELECT A BANK FROM DEFINED LIST PROVIDED\",\"\")),\"\")","v":""},"No Entry",0]
[null,null,null,null,null,null,null,null,null,null,null,null,"",{"$f":"IF(D1889=\"Cash and Deposits\",IF(E1889=\"\",\"BANK NAME REQUIRED\",IF(ISERROR(VLOOKUP(E1889,'Reference Data'!C:C,1,FALSE)),\"PLEASE SELECT A BANK FROM DEFINED LIST PROVIDED\",\"\")),\"\")","v":""},"No Entry",0]
[null,null,null,null,null,null,null,null,null,null,null,null,"",{"$f":"IF(D1890=\"Cash and Deposits\",IF(E1890=\"\",\"BANK NAME REQUIRED\",IF(ISERROR(VLOOKUP(E1890,'Reference Data'!C:C,1,FALSE)),\"PLEASE SELECT A BANK FROM DEFINED LIST PROVIDED\",\"\")),\"\")","v":""},"No Entry",0]
[null,null,null,null,null,null,null,null,null,null,null,null,"",{"$f":"IF(D1891=\"Cash and Deposits\",IF(E1891=\"\",\"BANK NAME REQUIRED\",IF(ISERROR(VLOOKUP(E1891,'Reference Data'!C:C,1,FALSE)),\"PLEASE SELECT A BANK FROM DEFINED LIST PROVIDED\",\"\")),\"\")","v":""},"No Entry",0]
[null,null,null,null,null,null,null,null,null,null,null,null,"",{"$f":"IF(D1892=\"Cash and Deposits\",IF(E1892=\"\",\"BANK NAME REQUIRED\",IF(ISERROR(VLOOKUP(E1892,'Reference Data'!C:C,1,FALSE)),\"PLEASE SELECT A BANK FROM DEFINED LIST PROVIDED\",\"\")),\"\")","v":""},"No Entry",0]
[null,null,null,null,null,null,null,null,null,null,null,null,"",{"$f":"IF(D1893=\"Cash and Deposits\",IF(E1893=\"\",\"BANK NAME REQUIRED\",IF(ISERROR(VLOOKUP(E1893,'Reference Data'!C:C,1,FALSE)),\"PLEASE SELECT A BANK FROM DEFINED LIST PROVIDED\",\"\")),\"\")","v":""},"No Entry",0]
[null,null,null,null,null,null,null,null,null,null,null,null,"",{"$f":"IF(D1894=\"Cash and Deposits\",IF(E1894=\"\",\"BANK NAME REQUIRED\",IF(ISERROR(VLOOKUP(E1894,'Reference Data'!C:C,1,FALSE)),\"PLEASE SELECT A BANK FROM DEFINED LIST PROVIDED\",\"\")),\"\")","v":""},"No Entry",0]
[null,null,null,null,null,null,null,null,null,null,null,null,"",{"$f":"IF(D1895=\"Cash and Deposits\",IF(E1895=\"\",\"BANK NAME REQUIRED\",IF(ISERROR(VLOOKUP(E1895,'Reference Data'!C:C,1,FALSE)),\"PLEASE SELECT A BANK FROM DEFINED LIST PROVIDED\",\"\")),\"\")","v":""},"No Entry",0]
[null,null,null,null,null,null,null,null,null,null,null,null,"",{"$f":"IF(D1896=\"Cash and Deposits\",IF(E1896=\"\",\"BANK NAME REQUIRED\",IF(ISERROR(VLOOKUP(E1896,'Reference Data'!C:C,1,FALSE)),\"PLEASE SELECT A BANK FROM DEFINED LIST PROVIDED\",\"\")),\"\")","v":""},"No Entry",0]
[null,null,null,null,null,null,null,null,null,null,null,null,"",{"$f":"IF(D1897=\"Cash and Deposits\",IF(E1897=\"\",\"BANK NAME REQUIRED\",IF(ISERROR(VLOOKUP(E1897,'Reference Data'!C:C,1,FALSE)),\"PLEASE SELECT A BANK FROM DEFINED LIST PROVIDED\",\"\")),\"\")","v":""},"No Entry",0]
[null,null,null,null,null,null,null,null,null,null,null,null,"",{"$f":"IF(D1898=\"Cash and Deposits\",IF(E1898=\"\",\"BANK NAME REQUIRED\",IF(ISERROR(VLOOKUP(E1898,'Reference Data'!C:C,1,FALSE)),\"PLEASE SELECT A BANK FROM DEFINED LIST PROVIDED\",\"\")),\"\")","v":""},"No Entry",0]
[null,null,null,null,null,null,null,null,null,null,null,null,"",{"$f":"IF(D1899=\"Cash and Deposits\",IF(E1899=\"\",\"BANK NAME REQUIRED\",IF(ISERROR(VLOOKUP(E1899,'Reference Data'!C:C,1,FALSE)),\"PLEASE SELECT A BANK FROM DEFINED LIST PROVIDED\",\"\")),\"\")","v":""},"No Entry",0]
[null,null,null,null,null,null,null,null,null,null,null,null,"",{"$f":"IF(D1900=\"Cash and Deposits\",IF(E1900=\"\",\"BANK NAME REQUIRED\",IF(ISERROR(VLOOKUP(E1900,'Reference Data'!C:C,1,FALSE)),\"PLEASE SELECT A BANK FROM DEFINED LIST PROVIDED\",\"\")),\"\")","v":""},"No Entry",0]
[null,null,null,null,null,null,null,null,null,null,null,null,"",{"$f":"IF(D1901=\"Cash and Deposits\",IF(E1901=\"\",\"BANK NAME REQUIRED\",IF(ISERROR(VLOOKUP(E1901,'Reference Data'!C:C,1,FALSE)),\"PLEASE SELECT A BANK FROM DEFINED LIST PROVIDED\",\"\")),\"\")","v":""},"No Entry",0]
[null,null,null,null,null,null,null,null,null,null,null,null,"",{"$f":"IF(D1902=\"Cash and Deposits\",IF(E1902=\"\",\"BANK NAME REQUIRED\",IF(ISERROR(VLOOKUP(E1902,'Reference Data'!C:C,1,FALSE)),\"PLEASE SELECT A BANK FROM DEFINED LIST PROVIDED\",\"\")),\"\")","v":""},"No Entry",0]
[null,null,null,null,null,null,null,null,null,null,null,null,"",{"$f":"IF(D1903=\"Cash and Deposits\",IF(E1903=\"\",\"BANK NAME REQUIRED\",IF(ISERROR(VLOOKUP(E1903,'Reference Data'!C:C,1,FALSE)),\"PLEASE SELECT A BANK FROM DEFINED LIST PROVIDED\",\"\")),\"\")","v":""},"No Entry",0]
[null,null,null,null,null,null,null,null,null,null,null,null,"",{"$f":"IF(D1904=\"Cash and Deposits\",IF(E1904=\"\",\"BANK NAME REQUIRED\",IF(ISERROR(VLOOKUP(E1904,'Reference Data'!C:C,1,FALSE)),\"PLEASE SELECT A BANK FROM DEFINED LIST PROVIDED\",\"\")),\"\")","v":""},"No Entry",0]
[null,null,null,null,null,null,null,null,null,null,null,null,"",{"$f":"IF(D1905=\"Cash and Deposits\",IF(E1905=\"\",\"BANK NAME REQUIRED\",IF(ISERROR(VLOOKUP(E1905,'Reference Data'!C:C,1,FALSE)),\"PLEASE SELECT A BANK FROM DEFINED LIST PROVIDED\",\"\")),\"\")","v":""},"No Entry",0]
[null,null,null,null,null,null,null,null,null,null,null,null,"",{"$f":"IF(D1906=\"Cash and Deposits\",IF(E1906=\"\",\"BANK NAME REQUIRED\",IF(ISERROR(VLOOKUP(E1906,'Reference Data'!C:C,1,FALSE)),\"PLEASE SELECT A BANK FROM DEFINED LIST PROVIDED\",\"\")),\"\")","v":""},"No Entry",0]
[null,null,null,null,null,null,null,null,null,null,null,null,"",{"$f":"IF(D1907=\"Cash and Deposits\",IF(E1907=\"\",\"BANK NAME REQUIRED\",IF(ISERROR(VLOOKUP(E1907,'Reference Data'!C:C,1,FALSE)),\"PLEASE SELECT A BANK FROM DEFINED LIST PROVIDED\",\"\")),\"\")","v":""},"No Entry",0]
[null,null,null,null,null,null,null,null,null,null,null,null,"",{"$f":"IF(D1908=\"Cash and Deposits\",IF(E1908=\"\",\"BANK NAME REQUIRED\",IF(ISERROR(VLOOKUP(E1908,'Reference Data'!C:C,1,FALSE)),\"PLEASE SELECT A BANK FROM DEFINED LIST PROVIDED\",\"\")),\"\")","v":""},"No Entry",0]
[null,null,null,null,null,null,null,null,null,null,null,null,"",{"$f":"IF(D1909=\"Cash and Deposits\",IF(E1909=\"\",\"BANK NAME REQUIRED\",IF(ISERROR(VLOOKUP(E1909,'Reference Data'!C:C,1,FALSE)),\"PLEASE SELECT A BANK FROM DEFINED LIST PROVIDED\",\"\")),\"\")","v":""},"No Entry",0]
[null,null,null,null,null,null,null,null,null,null,null,null,"",{"$f":"IF(D1910=\"Cash and Deposits\",IF(E1910=\"\",\"BANK NAME REQUIRED\",IF(ISERROR(VLOOKUP(E1910,'Reference Data'!C:C,1,FALSE)),\"PLEASE SELECT A BANK FROM DEFINED LIST PROVIDED\",\"\")),\"\")","v":""},"No Entry",0]
[null,null,null,null,null,null,null,null,null,null,null,null,"",{"$f":"IF(D1911=\"Cash and Deposits\",IF(E1911=\"\",\"BANK NAME REQUIRED\",IF(ISERROR(VLOOKUP(E1911,'Reference Data'!C:C,1,FALSE)),\"PLEASE SELECT A BANK FROM DEFINED LIST PROVIDED\",\"\")),\"\")","v":""},"No Entry",0]
[null,null,null,null,null,null,null,null,null,null,null,null,"",{"$f":"IF(D1912=\"Cash and Deposits\",IF(E1912=\"\",\"BANK NAME REQUIRED\",IF(ISERROR(VLOOKUP(E1912,'Reference Data'!C:C,1,FALSE)),\"PLEASE SELECT A BANK FROM DEFINED LIST PROVIDED\",\"\")),\"\")","v":""},"No Entry",0]
[null,null,null,null,null,null,null,null,null,null,null,null,"",{"$f":"IF(D1913=\"Cash and Deposits\",IF(E1913=\"\",\"BANK NAME REQUIRED\",IF(ISERROR(VLOOKUP(E1913,'Reference Data'!C:C,1,FALSE)),\"PLEASE SELECT A BANK FROM DEFINED LIST PROVIDED\",\"\")),\"\")","v":""},"No Entry",0]
[null,null,null,null,null,null,null,null,null,null,null,null,"",{"$f":"IF(D1914=\"Cash and Deposits\",IF(E1914=\"\",\"BANK NAME REQUIRED\",IF(ISERROR(VLOOKUP(E1914,'Reference Data'!C:C,1,FALSE)),\"PLEASE SELECT A BANK FROM DEFINED LIST PROVIDED\",\"\")),\"\")","v":""},"No Entry",0]
[null,null,null,null,null,null,null,null,null,null,null,null,"",{"$f":"IF(D1915=\"Cash and Deposits\",IF(E1915=\"\",\"BANK NAME REQUIRED\",IF(ISERROR(VLOOKUP(E1915,'Reference Data'!C:C,1,FALSE)),\"PLEASE SELECT A BANK FROM DEFINED LIST PROVIDED\",\"\")),\"\")","v":""},"No Entry",0]
[null,null,null,null,null,null,null,null,null,null,null,null,"",{"$f":"IF(D1916=\"Cash and Deposits\",IF(E1916=\"\",\"BANK NAME REQUIRED\",IF(ISERROR(VLOOKUP(E1916,'Reference Data'!C:C,1,FALSE)),\"PLEASE SELECT A BANK FROM DEFINED LIST PROVIDED\",\"\")),\"\")","v":""},"No Entry",0]
[null,null,null,null,null,null,null,null,null,null,null,null,"",{"$f":"IF(D1917=\"Cash and Deposits\",IF(E1917=\"\",\"BANK NAME REQUIRED\",IF(ISERROR(VLOOKUP(E1917,'Reference Data'!C:C,1,FALSE)),\"PLEASE SELECT A BANK FROM DEFINED LIST PROVIDED\",\"\")),\"\")","v":""},"No Entry",0]
[null,null,null,null,null,null,null,null,null,null,null,null,"",{"$f":"IF(D1918=\"Cash and Deposits\",IF(E1918=\"\",\"BANK NAME REQUIRED\",IF(ISERROR(VLOOKUP(E1918,'Reference Data'!C:C,1,FALSE)),\"PLEASE SELECT A BANK FROM DEFINED LIST PROVIDED\",\"\")),\"\")","v":""},"No Entry",0]
[null,null,null,null,null,null,null,null,null,null,null,null,"",{"$f":"IF(D1919=\"Cash and Deposits\",IF(E1919=\"\",\"BANK NAME REQUIRED\",IF(ISERROR(VLOOKUP(E1919,'Reference Data'!C:C,1,FALSE)),\"PLEASE SELECT A BANK FROM DEFINED LIST PROVIDED\",\"\")),\"\")","v":""},"No Entry",0]
[null,null,null,null,null,null,null,null,null,null,null,null,"",{"$f":"IF(D1920=\"Cash and Deposits\",IF(E1920=\"\",\"BANK NAME REQUIRED\",IF(ISERROR(VLOOKUP(E1920,'Reference Data'!C:C,1,FALSE)),\"PLEASE SELECT A BANK FROM DEFINED LIST PROVIDED\",\"\")),\"\")","v":""},"No Entry",0]
[null,null,null,null,null,null,null,null,null,null,null,null,"",{"$f":"IF(D1921=\"Cash and Deposits\",IF(E1921=\"\",\"BANK NAME REQUIRED\",IF(ISERROR(VLOOKUP(E1921,'Reference Data'!C:C,1,FALSE)),\"PLEASE SELECT A BANK FROM DEFINED LIST PROVIDED\",\"\")),\"\")","v":""},"No Entry",0]
[null,null,null,null,null,null,null,null,null,null,null,null,"",{"$f":"IF(D1922=\"Cash and Deposits\",IF(E1922=\"\",\"BANK NAME REQUIRED\",IF(ISERROR(VLOOKUP(E1922,'Reference Data'!C:C,1,FALSE)),\"PLEASE SELECT A BANK FROM DEFINED LIST PROVIDED\",\"\")),\"\")","v":""},"No Entry",0]
[null,null,null,null,null,null,null,null,null,null,null,null,"",{"$f":"IF(D1923=\"Cash and Deposits\",IF(E1923=\"\",\"BANK NAME REQUIRED\",IF(ISERROR(VLOOKUP(E1923,'Reference Data'!C:C,1,FALSE)),\"PLEASE SELECT A BANK FROM DEFINED LIST PROVIDED\",\"\")),\"\")","v":""},"No Entry",0]
[null,null,null,null,null,null,null,null,null,null,null,null,"",{"$f":"IF(D1924=\"Cash and Deposits\",IF(E1924=\"\",\"BANK NAME REQUIRED\",IF(ISERROR(VLOOKUP(E1924,'Reference Data'!C:C,1,FALSE)),\"PLEASE SELECT A BANK FROM DEFINED LIST PROVIDED\",\"\")),\"\")","v":""},"No Entry",0]
[null,null,null,null,null,null,null,null,null,null,null,null,{"$f":"IF(K1925<>0,IF(B1925=\"\",\"ID CODE REQUIRED\",\"\"),\"\")","v":""},{"$f":"IF(D1925=\"Cash and Deposits\",IF(E1925=\"\",\"BANK NAME REQUIRED\",IF(ISERROR(VLOOKUP(E1925,'Reference Data'!C:C,1,FALSE)),\"PLEASE SELECT A BANK FROM DEFINED LIST PROVIDED\",\"\")),\"\")","v":""},{"$f":"IF(K1925=0,\"No Entry\",\"\")","v":"No Entry"},{"$f":"IF(K1925<>0,IF(A1925=\"\",1,0),0)","v":0}]
[null,null,null,null,null,null,null,null,null,null,null,null,"",{"$f":"IF(D1926=\"Cash and Deposits\",IF(E1926=\"\",\"BANK NAME REQUIRED\",IF(ISERROR(VLOOKUP(E1926,'Reference Data'!C:C,1,FALSE)),\"PLEASE SELECT A BANK FROM DEFINED LIST PROVIDED\",\"\")),\"\")","v":""},"No Entry",0]
[null,null,null,null,null,null,null,null,null,null,null,null,"",{"$f":"IF(D1927=\"Cash and Deposits\",IF(E1927=\"\",\"BANK NAME REQUIRED\",IF(ISERROR(VLOOKUP(E1927,'Reference Data'!C:C,1,FALSE)),\"PLEASE SELECT A BANK FROM DEFINED LIST PROVIDED\",\"\")),\"\")","v":""},"No Entry",0]
[null,null,null,null,null,null,null,null,null,null,null,null,"",{"$f":"IF(D1928=\"Cash and Deposits\",IF(E1928=\"\",\"BANK NAME REQUIRED\",IF(ISERROR(VLOOKUP(E1928,'Reference Data'!C:C,1,FALSE)),\"PLEASE SELECT A BANK FROM DEFINED LIST PROVIDED\",\"\")),\"\")","v":""},"No Entry",0]
[null,null,null,null,null,null,null,null,null,null,null,null,"",{"$f":"IF(D1929=\"Cash and Deposits\",IF(E1929=\"\",\"BANK NAME REQUIRED\",IF(ISERROR(VLOOKUP(E1929,'Reference Data'!C:C,1,FALSE)),\"PLEASE SELECT A BANK FROM DEFINED LIST PROVIDED\",\"\")),\"\")","v":""},"No Entry",0]
[null,null,null,null,null,null,null,null,null,null,null,null,"",{"$f":"IF(D1930=\"Cash and Deposits\",IF(E1930=\"\",\"BANK NAME REQUIRED\",IF(ISERROR(VLOOKUP(E1930,'Reference Data'!C:C,1,FALSE)),\"PLEASE SELECT A BANK FROM DEFINED LIST PROVIDED\",\"\")),\"\")","v":""},"No Entry",0]
[null,null,null,null,null,null,null,null,null,null,null,null,"",{"$f":"IF(D1931=\"Cash and Deposits\",IF(E1931=\"\",\"BANK NAME REQUIRED\",IF(ISERROR(VLOOKUP(E1931,'Reference Data'!C:C,1,FALSE)),\"PLEASE SELECT A BANK FROM DEFINED LIST PROVIDED\",\"\")),\"\")","v":""},"No Entry",0]
[null,null,null,null,null,null,null,null,null,null,null,null,"",{"$f":"IF(D1932=\"Cash and Deposits\",IF(E1932=\"\",\"BANK NAME REQUIRED\",IF(ISERROR(VLOOKUP(E1932,'Reference Data'!C:C,1,FALSE)),\"PLEASE SELECT A BANK FROM DEFINED LIST PROVIDED\",\"\")),\"\")","v":""},"No Entry",0]
[null,null,null,null,null,null,null,null,null,null,null,null,"",{"$f":"IF(D1933=\"Cash and Deposits\",IF(E1933=\"\",\"BANK NAME REQUIRED\",IF(ISERROR(VLOOKUP(E1933,'Reference Data'!C:C,1,FALSE)),\"PLEASE SELECT A BANK FROM DEFINED LIST PROVIDED\",\"\")),\"\")","v":""},"No Entry",0]
[null,null,null,null,null,null,null,null,null,null,null,null,"",{"$f":"IF(D1934=\"Cash and Deposits\",IF(E1934=\"\",\"BANK NAME REQUIRED\",IF(ISERROR(VLOOKUP(E1934,'Reference Data'!C:C,1,FALSE)),\"PLEASE SELECT A BANK FROM DEFINED LIST PROVIDED\",\"\")),\"\")","v":""},"No Entry",0]
[null,null,null,null,null,null,null,null,null,null,null,null,"",{"$f":"IF(D1935=\"Cash and Deposits\",IF(E1935=\"\",\"BANK NAME REQUIRED\",IF(ISERROR(VLOOKUP(E1935,'Reference Data'!C:C,1,FALSE)),\"PLEASE SELECT A BANK FROM DEFINED LIST PROVIDED\",\"\")),\"\")","v":""},"No Entry",0]
[null,null,null,null,null,null,null,null,null,null,null,null,"",{"$f":"IF(D1936=\"Cash and Deposits\",IF(E1936=\"\",\"BANK NAME REQUIRED\",IF(ISERROR(VLOOKUP(E1936,'Reference Data'!C:C,1,FALSE)),\"PLEASE SELECT A BANK FROM DEFINED LIST PROVIDED\",\"\")),\"\")","v":""},"No Entry",0]
[null,null,null,null,null,null,null,null,null,null,null,null,"",{"$f":"IF(D1937=\"Cash and Deposits\",IF(E1937=\"\",\"BANK NAME REQUIRED\",IF(ISERROR(VLOOKUP(E1937,'Reference Data'!C:C,1,FALSE)),\"PLEASE SELECT A BANK FROM DEFINED LIST PROVIDED\",\"\")),\"\")","v":""},"No Entry",0]
[null,null,null,null,null,null,null,null,null,null,null,null,"",{"$f":"IF(D1938=\"Cash and Deposits\",IF(E1938=\"\",\"BANK NAME REQUIRED\",IF(ISERROR(VLOOKUP(E1938,'Reference Data'!C:C,1,FALSE)),\"PLEASE SELECT A BANK FROM DEFINED LIST PROVIDED\",\"\")),\"\")","v":""},"No Entry",0]
[null,null,null,null,null,null,null,null,null,null,null,null,"",{"$f":"IF(D1939=\"Cash and Deposits\",IF(E1939=\"\",\"BANK NAME REQUIRED\",IF(ISERROR(VLOOKUP(E1939,'Reference Data'!C:C,1,FALSE)),\"PLEASE SELECT A BANK FROM DEFINED LIST PROVIDED\",\"\")),\"\")","v":""},"No Entry",0]
[null,null,null,null,null,null,null,null,null,null,null,null,"",{"$f":"IF(D1940=\"Cash and Deposits\",IF(E1940=\"\",\"BANK NAME REQUIRED\",IF(ISERROR(VLOOKUP(E1940,'Reference Data'!C:C,1,FALSE)),\"PLEASE SELECT A BANK FROM DEFINED LIST PROVIDED\",\"\")),\"\")","v":""},"No Entry",0]
[null,null,null,null,null,null,null,null,null,null,null,null,"",{"$f":"IF(D1941=\"Cash and Deposits\",IF(E1941=\"\",\"BANK NAME REQUIRED\",IF(ISERROR(VLOOKUP(E1941,'Reference Data'!C:C,1,FALSE)),\"PLEASE SELECT A BANK FROM DEFINED LIST PROVIDED\",\"\")),\"\")","v":""},"No Entry",0]
[null,null,null,null,null,null,null,null,null,null,null,null,"",{"$f":"IF(D1942=\"Cash and Deposits\",IF(E1942=\"\",\"BANK NAME REQUIRED\",IF(ISERROR(VLOOKUP(E1942,'Reference Data'!C:C,1,FALSE)),\"PLEASE SELECT A BANK FROM DEFINED LIST PROVIDED\",\"\")),\"\")","v":""},"No Entry",0]
[null,null,null,null,null,null,null,null,null,null,null,null,"",{"$f":"IF(D1943=\"Cash and Deposits\",IF(E1943=\"\",\"BANK NAME REQUIRED\",IF(ISERROR(VLOOKUP(E1943,'Reference Data'!C:C,1,FALSE)),\"PLEASE SELECT A BANK FROM DEFINED LIST PROVIDED\",\"\")),\"\")","v":""},"No Entry",0]
[null,null,null,null,null,null,null,null,null,null,null,null,"",{"$f":"IF(D1944=\"Cash and Deposits\",IF(E1944=\"\",\"BANK NAME REQUIRED\",IF(ISERROR(VLOOKUP(E1944,'Reference Data'!C:C,1,FALSE)),\"PLEASE SELECT A BANK FROM DEFINED LIST PROVIDED\",\"\")),\"\")","v":""},"No Entry",0]
[null,null,null,null,null,null,null,null,null,null,null,null,"",{"$f":"IF(D1945=\"Cash and Deposits\",IF(E1945=\"\",\"BANK NAME REQUIRED\",IF(ISERROR(VLOOKUP(E1945,'Reference Data'!C:C,1,FALSE)),\"PLEASE SELECT A BANK FROM DEFINED LIST PROVIDED\",\"\")),\"\")","v":""},"No Entry",0]
[null,null,null,null,null,null,null,null,null,null,null,null,"",{"$f":"IF(D1946=\"Cash and Deposits\",IF(E1946=\"\",\"BANK NAME REQUIRED\",IF(ISERROR(VLOOKUP(E1946,'Reference Data'!C:C,1,FALSE)),\"PLEASE SELECT A BANK FROM DEFINED LIST PROVIDED\",\"\")),\"\")","v":""},"No Entry",0]
[null,null,null,null,null,null,null,null,null,null,null,null,"",{"$f":"IF(D1947=\"Cash and Deposits\",IF(E1947=\"\",\"BANK NAME REQUIRED\",IF(ISERROR(VLOOKUP(E1947,'Reference Data'!C:C,1,FALSE)),\"PLEASE SELECT A BANK FROM DEFINED LIST PROVIDED\",\"\")),\"\")","v":""},"No Entry",0]
[null,null,null,null,null,null,null,null,null,null,null,null,"",{"$f":"IF(D1948=\"Cash and Deposits\",IF(E1948=\"\",\"BANK NAME REQUIRED\",IF(ISERROR(VLOOKUP(E1948,'Reference Data'!C:C,1,FALSE)),\"PLEASE SELECT A BANK FROM DEFINED LIST PROVIDED\",\"\")),\"\")","v":""},"No Entry",0]
[null,null,null,null,null,null,null,null,null,null,null,null,"",{"$f":"IF(D1949=\"Cash and Deposits\",IF(E1949=\"\",\"BANK NAME REQUIRED\",IF(ISERROR(VLOOKUP(E1949,'Reference Data'!C:C,1,FALSE)),\"PLEASE SELECT A BANK FROM DEFINED LIST PROVIDED\",\"\")),\"\")","v":""},"No Entry",0]
[null,null,null,null,null,null,null,null,null,null,null,null,"",{"$f":"IF(D1950=\"Cash and Deposits\",IF(E1950=\"\",\"BANK NAME REQUIRED\",IF(ISERROR(VLOOKUP(E1950,'Reference Data'!C:C,1,FALSE)),\"PLEASE SELECT A BANK FROM DEFINED LIST PROVIDED\",\"\")),\"\")","v":""},"No Entry",0]
[null,null,null,null,null,null,null,null,null,null,null,null,"",{"$f":"IF(D1951=\"Cash and Deposits\",IF(E1951=\"\",\"BANK NAME REQUIRED\",IF(ISERROR(VLOOKUP(E1951,'Reference Data'!C:C,1,FALSE)),\"PLEASE SELECT A BANK FROM DEFINED LIST PROVIDED\",\"\")),\"\")","v":""},"No Entry",0]
[null,null,null,null,null,null,null,null,null,null,null,null,"",{"$f":"IF(D1952=\"Cash and Deposits\",IF(E1952=\"\",\"BANK NAME REQUIRED\",IF(ISERROR(VLOOKUP(E1952,'Reference Data'!C:C,1,FALSE)),\"PLEASE SELECT A BANK FROM DEFINED LIST PROVIDED\",\"\")),\"\")","v":""},"No Entry",0]
[null,null,null,null,null,null,null,null,null,null,null,null,"",{"$f":"IF(D1953=\"Cash and Deposits\",IF(E1953=\"\",\"BANK NAME REQUIRED\",IF(ISERROR(VLOOKUP(E1953,'Reference Data'!C:C,1,FALSE)),\"PLEASE SELECT A BANK FROM DEFINED LIST PROVIDED\",\"\")),\"\")","v":""},"No Entry",0]
[null,null,null,null,null,null,null,null,null,null,null,null,"",{"$f":"IF(D1954=\"Cash and Deposits\",IF(E1954=\"\",\"BANK NAME REQUIRED\",IF(ISERROR(VLOOKUP(E1954,'Reference Data'!C:C,1,FALSE)),\"PLEASE SELECT A BANK FROM DEFINED LIST PROVIDED\",\"\")),\"\")","v":""},"No Entry",0]
[null,null,null,null,null,null,null,null,null,null,null,null,"",{"$f":"IF(D1955=\"Cash and Deposits\",IF(E1955=\"\",\"BANK NAME REQUIRED\",IF(ISERROR(VLOOKUP(E1955,'Reference Data'!C:C,1,FALSE)),\"PLEASE SELECT A BANK FROM DEFINED LIST PROVIDED\",\"\")),\"\")","v":""},"No Entry",0]
[null,null,null,null,null,null,null,null,null,null,null,null,"",{"$f":"IF(D1956=\"Cash and Deposits\",IF(E1956=\"\",\"BANK NAME REQUIRED\",IF(ISERROR(VLOOKUP(E1956,'Reference Data'!C:C,1,FALSE)),\"PLEASE SELECT A BANK FROM DEFINED LIST PROVIDED\",\"\")),\"\")","v":""},"No Entry",0]
[null,null,null,null,null,null,null,null,null,null,null,null,"",{"$f":"IF(D1957=\"Cash and Deposits\",IF(E1957=\"\",\"BANK NAME REQUIRED\",IF(ISERROR(VLOOKUP(E1957,'Reference Data'!C:C,1,FALSE)),\"PLEASE SELECT A BANK FROM DEFINED LIST PROVIDED\",\"\")),\"\")","v":""},"No Entry",0]
[null,null,null,null,null,null,null,null,null,null,null,null,"",{"$f":"IF(D1958=\"Cash and Deposits\",IF(E1958=\"\",\"BANK NAME REQUIRED\",IF(ISERROR(VLOOKUP(E1958,'Reference Data'!C:C,1,FALSE)),\"PLEASE SELECT A BANK FROM DEFINED LIST PROVIDED\",\"\")),\"\")","v":""},"No Entry",0]
[null,null,null,null,null,null,null,null,null,null,null,null,"",{"$f":"IF(D1959=\"Cash and Deposits\",IF(E1959=\"\",\"BANK NAME REQUIRED\",IF(ISERROR(VLOOKUP(E1959,'Reference Data'!C:C,1,FALSE)),\"PLEASE SELECT A BANK FROM DEFINED LIST PROVIDED\",\"\")),\"\")","v":""},"No Entry",0]
[null,null,null,null,null,null,null,null,null,null,null,null,"",{"$f":"IF(D1960=\"Cash and Deposits\",IF(E1960=\"\",\"BANK NAME REQUIRED\",IF(ISERROR(VLOOKUP(E1960,'Reference Data'!C:C,1,FALSE)),\"PLEASE SELECT A BANK FROM DEFINED LIST PROVIDED\",\"\")),\"\")","v":""},"No Entry",0]
[null,null,null,null,null,null,null,null,null,null,null,null,"",{"$f":"IF(D1961=\"Cash and Deposits\",IF(E1961=\"\",\"BANK NAME REQUIRED\",IF(ISERROR(VLOOKUP(E1961,'Reference Data'!C:C,1,FALSE)),\"PLEASE SELECT A BANK FROM DEFINED LIST PROVIDED\",\"\")),\"\")","v":""},"No Entry",0]
[null,null,null,null,null,null,null,null,null,null,null,null,"",{"$f":"IF(D1962=\"Cash and Deposits\",IF(E1962=\"\",\"BANK NAME REQUIRED\",IF(ISERROR(VLOOKUP(E1962,'Reference Data'!C:C,1,FALSE)),\"PLEASE SELECT A BANK FROM DEFINED LIST PROVIDED\",\"\")),\"\")","v":""},"No Entry",0]
[null,null,null,null,null,null,null,null,null,null,null,null,"",{"$f":"IF(D1963=\"Cash and Deposits\",IF(E1963=\"\",\"BANK NAME REQUIRED\",IF(ISERROR(VLOOKUP(E1963,'Reference Data'!C:C,1,FALSE)),\"PLEASE SELECT A BANK FROM DEFINED LIST PROVIDED\",\"\")),\"\")","v":""},"No Entry",0]
[null,null,null,null,null,null,null,null,null,null,null,null,"",{"$f":"IF(D1964=\"Cash and Deposits\",IF(E1964=\"\",\"BANK NAME REQUIRED\",IF(ISERROR(VLOOKUP(E1964,'Reference Data'!C:C,1,FALSE)),\"PLEASE SELECT A BANK FROM DEFINED LIST PROVIDED\",\"\")),\"\")","v":""},"No Entry",0]
[null,null,null,null,null,null,null,null,null,null,null,null,"",{"$f":"IF(D1965=\"Cash and Deposits\",IF(E1965=\"\",\"BANK NAME REQUIRED\",IF(ISERROR(VLOOKUP(E1965,'Reference Data'!C:C,1,FALSE)),\"PLEASE SELECT A BANK FROM DEFINED LIST PROVIDED\",\"\")),\"\")","v":""},"No Entry",0]
[null,null,null,null,null,null,null,null,null,null,null,null,"",{"$f":"IF(D1966=\"Cash and Deposits\",IF(E1966=\"\",\"BANK NAME REQUIRED\",IF(ISERROR(VLOOKUP(E1966,'Reference Data'!C:C,1,FALSE)),\"PLEASE SELECT A BANK FROM DEFINED LIST PROVIDED\",\"\")),\"\")","v":""},"No Entry",0]
[null,null,null,null,null,null,null,null,null,null,null,null,"",{"$f":"IF(D1967=\"Cash and Deposits\",IF(E1967=\"\",\"BANK NAME REQUIRED\",IF(ISERROR(VLOOKUP(E1967,'Reference Data'!C:C,1,FALSE)),\"PLEASE SELECT A BANK FROM DEFINED LIST PROVIDED\",\"\")),\"\")","v":""},"No Entry",0]
[null,null,null,null,null,null,null,null,null,null,null,null,"",{"$f":"IF(D1968=\"Cash and Deposits\",IF(E1968=\"\",\"BANK NAME REQUIRED\",IF(ISERROR(VLOOKUP(E1968,'Reference Data'!C:C,1,FALSE)),\"PLEASE SELECT A BANK FROM DEFINED LIST PROVIDED\",\"\")),\"\")","v":""},"No Entry",0]
[null,null,null,null,null,null,null,null,null,null,null,null,"",{"$f":"IF(D1969=\"Cash and Deposits\",IF(E1969=\"\",\"BANK NAME REQUIRED\",IF(ISERROR(VLOOKUP(E1969,'Reference Data'!C:C,1,FALSE)),\"PLEASE SELECT A BANK FROM DEFINED LIST PROVIDED\",\"\")),\"\")","v":""},"No Entry",0]
[null,null,null,null,null,null,null,null,null,null,null,null,"",{"$f":"IF(D1970=\"Cash and Deposits\",IF(E1970=\"\",\"BANK NAME REQUIRED\",IF(ISERROR(VLOOKUP(E1970,'Reference Data'!C:C,1,FALSE)),\"PLEASE SELECT A BANK FROM DEFINED LIST PROVIDED\",\"\")),\"\")","v":""},"No Entry",0]
[null,null,null,null,null,null,null,null,null,null,null,null,"",{"$f":"IF(D1971=\"Cash and Deposits\",IF(E1971=\"\",\"BANK NAME REQUIRED\",IF(ISERROR(VLOOKUP(E1971,'Reference Data'!C:C,1,FALSE)),\"PLEASE SELECT A BANK FROM DEFINED LIST PROVIDED\",\"\")),\"\")","v":""},"No Entry",0]
[null,null,null,null,null,null,null,null,null,null,null,null,"",{"$f":"IF(D1972=\"Cash and Deposits\",IF(E1972=\"\",\"BANK NAME REQUIRED\",IF(ISERROR(VLOOKUP(E1972,'Reference Data'!C:C,1,FALSE)),\"PLEASE SELECT A BANK FROM DEFINED LIST PROVIDED\",\"\")),\"\")","v":""},"No Entry",0]
[null,null,null,null,null,null,null,null,null,null,null,null,"",{"$f":"IF(D1973=\"Cash and Deposits\",IF(E1973=\"\",\"BANK NAME REQUIRED\",IF(ISERROR(VLOOKUP(E1973,'Reference Data'!C:C,1,FALSE)),\"PLEASE SELECT A BANK FROM DEFINED LIST PROVIDED\",\"\")),\"\")","v":""},"No Entry",0]
[null,null,null,null,null,null,null,null,null,null,null,null,"",{"$f":"IF(D1974=\"Cash and Deposits\",IF(E1974=\"\",\"BANK NAME REQUIRED\",IF(ISERROR(VLOOKUP(E1974,'Reference Data'!C:C,1,FALSE)),\"PLEASE SELECT A BANK FROM DEFINED LIST PROVIDED\",\"\")),\"\")","v":""},"No Entry",0]
[null,null,null,null,null,null,null,null,null,null,null,null,"",{"$f":"IF(D1975=\"Cash and Deposits\",IF(E1975=\"\",\"BANK NAME REQUIRED\",IF(ISERROR(VLOOKUP(E1975,'Reference Data'!C:C,1,FALSE)),\"PLEASE SELECT A BANK FROM DEFINED LIST PROVIDED\",\"\")),\"\")","v":""},"No Entry",0]
[null,null,null,null,null,null,null,null,null,null,null,null,"",{"$f":"IF(D1976=\"Cash and Deposits\",IF(E1976=\"\",\"BANK NAME REQUIRED\",IF(ISERROR(VLOOKUP(E1976,'Reference Data'!C:C,1,FALSE)),\"PLEASE SELECT A BANK FROM DEFINED LIST PROVIDED\",\"\")),\"\")","v":""},"No Entry",0]
[null,null,null,null,null,null,null,null,null,null,null,null,"",{"$f":"IF(D1977=\"Cash and Deposits\",IF(E1977=\"\",\"BANK NAME REQUIRED\",IF(ISERROR(VLOOKUP(E1977,'Reference Data'!C:C,1,FALSE)),\"PLEASE SELECT A BANK FROM DEFINED LIST PROVIDED\",\"\")),\"\")","v":""},"No Entry",0]
[null,null,null,null,null,null,null,null,null,null,null,null,"",{"$f":"IF(D1978=\"Cash and Deposits\",IF(E1978=\"\",\"BANK NAME REQUIRED\",IF(ISERROR(VLOOKUP(E1978,'Reference Data'!C:C,1,FALSE)),\"PLEASE SELECT A BANK FROM DEFINED LIST PROVIDED\",\"\")),\"\")","v":""},"No Entry",0]
[null,null,null,null,null,null,null,null,null,null,null,null,"",{"$f":"IF(D1979=\"Cash and Deposits\",IF(E1979=\"\",\"BANK NAME REQUIRED\",IF(ISERROR(VLOOKUP(E1979,'Reference Data'!C:C,1,FALSE)),\"PLEASE SELECT A BANK FROM DEFINED LIST PROVIDED\",\"\")),\"\")","v":""},"No Entry",0]
[null,null,null,null,null,null,null,null,null,null,null,null,"",{"$f":"IF(D1980=\"Cash and Deposits\",IF(E1980=\"\",\"BANK NAME REQUIRED\",IF(ISERROR(VLOOKUP(E1980,'Reference Data'!C:C,1,FALSE)),\"PLEASE SELECT A BANK FROM DEFINED LIST PROVIDED\",\"\")),\"\")","v":""},"No Entry",0]
[null,null,null,null,null,null,null,null,null,null,null,null,"",{"$f":"IF(D1981=\"Cash and Deposits\",IF(E1981=\"\",\"BANK NAME REQUIRED\",IF(ISERROR(VLOOKUP(E1981,'Reference Data'!C:C,1,FALSE)),\"PLEASE SELECT A BANK FROM DEFINED LIST PROVIDED\",\"\")),\"\")","v":""},"No Entry",0]
[null,null,null,null,null,null,null,null,null,null,null,null,"",{"$f":"IF(D1982=\"Cash and Deposits\",IF(E1982=\"\",\"BANK NAME REQUIRED\",IF(ISERROR(VLOOKUP(E1982,'Reference Data'!C:C,1,FALSE)),\"PLEASE SELECT A BANK FROM DEFINED LIST PROVIDED\",\"\")),\"\")","v":""},"No Entry",0]
[null,null,null,null,null,null,null,null,null,null,null,null,"",{"$f":"IF(D1983=\"Cash and Deposits\",IF(E1983=\"\",\"BANK NAME REQUIRED\",IF(ISERROR(VLOOKUP(E1983,'Reference Data'!C:C,1,FALSE)),\"PLEASE SELECT A BANK FROM DEFINED LIST PROVIDED\",\"\")),\"\")","v":""},"No Entry",0]
[null,null,null,null,null,null,null,null,null,null,null,null,"",{"$f":"IF(D1984=\"Cash and Deposits\",IF(E1984=\"\",\"BANK NAME REQUIRED\",IF(ISERROR(VLOOKUP(E1984,'Reference Data'!C:C,1,FALSE)),\"PLEASE SELECT A BANK FROM DEFINED LIST PROVIDED\",\"\")),\"\")","v":""},"No Entry",0]
[null,null,null,null,null,null,null,null,null,null,null,null,"",{"$f":"IF(D1985=\"Cash and Deposits\",IF(E1985=\"\",\"BANK NAME REQUIRED\",IF(ISERROR(VLOOKUP(E1985,'Reference Data'!C:C,1,FALSE)),\"PLEASE SELECT A BANK FROM DEFINED LIST PROVIDED\",\"\")),\"\")","v":""},"No Entry",0]
[null,null,null,null,null,null,null,null,null,null,null,null,"",{"$f":"IF(D1986=\"Cash and Deposits\",IF(E1986=\"\",\"BANK NAME REQUIRED\",IF(ISERROR(VLOOKUP(E1986,'Reference Data'!C:C,1,FALSE)),\"PLEASE SELECT A BANK FROM DEFINED LIST PROVIDED\",\"\")),\"\")","v":""},"No Entry",0]
[null,null,null,null,null,null,null,null,null,null,null,null,"",{"$f":"IF(D1987=\"Cash and Deposits\",IF(E1987=\"\",\"BANK NAME REQUIRED\",IF(ISERROR(VLOOKUP(E1987,'Reference Data'!C:C,1,FALSE)),\"PLEASE SELECT A BANK FROM DEFINED LIST PROVIDED\",\"\")),\"\")","v":""},"No Entry",0]
[null,null,null,null,null,null,null,null,null,null,null,null,"",{"$f":"IF(D1988=\"Cash and Deposits\",IF(E1988=\"\",\"BANK NAME REQUIRED\",IF(ISERROR(VLOOKUP(E1988,'Reference Data'!C:C,1,FALSE)),\"PLEASE SELECT A BANK FROM DEFINED LIST PROVIDED\",\"\")),\"\")","v":""},"No Entry",0]
[null,null,null,null,null,null,null,null,null,null,null,null,{"$f":"IF(K1989<>0,IF(B1989=\"\",\"ID CODE REQUIRED\",\"\"),\"\")","v":""},{"$f":"IF(D1989=\"Cash and Deposits\",IF(E1989=\"\",\"BANK NAME REQUIRED\",IF(ISERROR(VLOOKUP(E1989,'Reference Data'!C:C,1,FALSE)),\"PLEASE SELECT A BANK FROM DEFINED LIST PROVIDED\",\"\")),\"\")","v":""},{"$f":"IF(K1989=0,\"No Entry\",\"\")","v":"No Entry"},{"$f":"IF(K1989<>0,IF(A1989=\"\",1,0),0)","v":0}]
[null,null,null,null,null,null,null,null,null,null,null,null,"",{"$f":"IF(D1990=\"Cash and Deposits\",IF(E1990=\"\",\"BANK NAME REQUIRED\",IF(ISERROR(VLOOKUP(E1990,'Reference Data'!C:C,1,FALSE)),\"PLEASE SELECT A BANK FROM DEFINED LIST PROVIDED\",\"\")),\"\")","v":""},"No Entry",0]
[null,null,null,null,null,null,null,null,null,null,null,null,"",{"$f":"IF(D1991=\"Cash and Deposits\",IF(E1991=\"\",\"BANK NAME REQUIRED\",IF(ISERROR(VLOOKUP(E1991,'Reference Data'!C:C,1,FALSE)),\"PLEASE SELECT A BANK FROM DEFINED LIST PROVIDED\",\"\")),\"\")","v":""},"No Entry",0]
[null,null,null,null,null,null,null,null,null,null,null,null,"",{"$f":"IF(D1992=\"Cash and Deposits\",IF(E1992=\"\",\"BANK NAME REQUIRED\",IF(ISERROR(VLOOKUP(E1992,'Reference Data'!C:C,1,FALSE)),\"PLEASE SELECT A BANK FROM DEFINED LIST PROVIDED\",\"\")),\"\")","v":""},"No Entry",0]
[null,null,null,null,null,null,null,null,null,null,null,null,"",{"$f":"IF(D1993=\"Cash and Deposits\",IF(E1993=\"\",\"BANK NAME REQUIRED\",IF(ISERROR(VLOOKUP(E1993,'Reference Data'!C:C,1,FALSE)),\"PLEASE SELECT A BANK FROM DEFINED LIST PROVIDED\",\"\")),\"\")","v":""},"No Entry",0]
[null,null,null,null,null,null,null,null,null,null,null,null,"",{"$f":"IF(D1994=\"Cash and Deposits\",IF(E1994=\"\",\"BANK NAME REQUIRED\",IF(ISERROR(VLOOKUP(E1994,'Reference Data'!C:C,1,FALSE)),\"PLEASE SELECT A BANK FROM DEFINED LIST PROVIDED\",\"\")),\"\")","v":""},"No Entry",0]
[null,null,null,null,null,null,null,null,null,null,null,null,"",{"$f":"IF(D1995=\"Cash and Deposits\",IF(E1995=\"\",\"BANK NAME REQUIRED\",IF(ISERROR(VLOOKUP(E1995,'Reference Data'!C:C,1,FALSE)),\"PLEASE SELECT A BANK FROM DEFINED LIST PROVIDED\",\"\")),\"\")","v":""},"No Entry",0]
[null,null,null,null,null,null,null,null,null,null,null,null,"",{"$f":"IF(D1996=\"Cash and Deposits\",IF(E1996=\"\",\"BANK NAME REQUIRED\",IF(ISERROR(VLOOKUP(E1996,'Reference Data'!C:C,1,FALSE)),\"PLEASE SELECT A BANK FROM DEFINED LIST PROVIDED\",\"\")),\"\")","v":""},"No Entry",0]
[null,null,null,null,null,null,null,null,null,null,null,null,"",{"$f":"IF(D1997=\"Cash and Deposits\",IF(E1997=\"\",\"BANK NAME REQUIRED\",IF(ISERROR(VLOOKUP(E1997,'Reference Data'!C:C,1,FALSE)),\"PLEASE SELECT A BANK FROM DEFINED LIST PROVIDED\",\"\")),\"\")","v":""},"No Entry",0]
[null,null,null,null,null,null,null,null,null,null,null,null,"",{"$f":"IF(D1998=\"Cash and Deposits\",IF(E1998=\"\",\"BANK NAME REQUIRED\",IF(ISERROR(VLOOKUP(E1998,'Reference Data'!C:C,1,FALSE)),\"PLEASE SELECT A BANK FROM DEFINED LIST PROVIDED\",\"\")),\"\")","v":""},"No Entry",0]
[null,null,null,null,null,null,null,null,null,null,null,null,"",{"$f":"IF(D1999=\"Cash and Deposits\",IF(E1999=\"\",\"BANK NAME REQUIRED\",IF(ISERROR(VLOOKUP(E1999,'Reference Data'!C:C,1,FALSE)),\"PLEASE SELECT A BANK FROM DEFINED LIST PROVIDED\",\"\")),\"\")","v":""},"No Entry",0]
[null,null,null,null,null,null,null,null,null,null,null,null,"",{"$f":"IF(D2000=\"Cash and Deposits\",IF(E2000=\"\",\"BANK NAME REQUIRED\",IF(ISERROR(VLOOKUP(E2000,'Reference Data'!C:C,1,FALSE)),\"PLEASE SELECT A BANK FROM DEFINED LIST PROVIDED\",\"\")),\"\")","v":""},"No Entry",0]
[null,null,null,null,null,null,null,null,null,null,null,null,"",{"$f":"IF(D2001=\"Cash and Deposits\",IF(E2001=\"\",\"BANK NAME REQUIRED\",IF(ISERROR(VLOOKUP(E2001,'Reference Data'!C:C,1,FALSE)),\"PLEASE SELECT A BANK FROM DEFINED LIST PROVIDED\",\"\")),\"\")","v":""},"No Entry",0]
[null,null,null,null,null,null,null,null,null,null,null,null,"",{"$f":"IF(D2002=\"Cash and Deposits\",IF(E2002=\"\",\"BANK NAME REQUIRED\",IF(ISERROR(VLOOKUP(E2002,'Reference Data'!C:C,1,FALSE)),\"PLEASE SELECT A BANK FROM DEFINED LIST PROVIDED\",\"\")),\"\")","v":""},"No Entry",0]
[null,null,null,null,null,null,null,null,null,null,null,null,"",{"$f":"IF(D2003=\"Cash and Deposits\",IF(E2003=\"\",\"BANK NAME REQUIRED\",IF(ISERROR(VLOOKUP(E2003,'Reference Data'!C:C,1,FALSE)),\"PLEASE SELECT A BANK FROM DEFINED LIST PROVIDED\",\"\")),\"\")","v":""},"No Entry",0]
[null,null,null,null,null,null,null,null,null,null,null,null,"",{"$f":"IF(D2004=\"Cash and Deposits\",IF(E2004=\"\",\"BANK NAME REQUIRED\",IF(ISERROR(VLOOKUP(E2004,'Reference Data'!C:C,1,FALSE)),\"PLEASE SELECT A BANK FROM DEFINED LIST PROVIDED\",\"\")),\"\")","v":""},"No Entry",0]
[null,null,null,null,null,null,null,null,null,null,null,null,"",{"$f":"IF(D2005=\"Cash and Deposits\",IF(E2005=\"\",\"BANK NAME REQUIRED\",IF(ISERROR(VLOOKUP(E2005,'Reference Data'!C:C,1,FALSE)),\"PLEASE SELECT A BANK FROM DEFINED LIST PROVIDED\",\"\")),\"\")","v":""},"No Entry",0]
[null,null,null,null,null,null,null,null,null,null,null,null,"",{"$f":"IF(D2006=\"Cash and Deposits\",IF(E2006=\"\",\"BANK NAME REQUIRED\",IF(ISERROR(VLOOKUP(E2006,'Reference Data'!C:C,1,FALSE)),\"PLEASE SELECT A BANK FROM DEFINED LIST PROVIDED\",\"\")),\"\")","v":""},"No Entry",0]
[null,null,null,null,null,null,null,null,null,null,null,null,"",{"$f":"IF(D2007=\"Cash and Deposits\",IF(E2007=\"\",\"BANK NAME REQUIRED\",IF(ISERROR(VLOOKUP(E2007,'Reference Data'!C:C,1,FALSE)),\"PLEASE SELECT A BANK FROM DEFINED LIST PROVIDED\",\"\")),\"\")","v":""},"No Entry",0]
[null,null,null,null,null,null,null,null,null,null,null,null,"",{"$f":"IF(D2008=\"Cash and Deposits\",IF(E2008=\"\",\"BANK NAME REQUIRED\",IF(ISERROR(VLOOKUP(E2008,'Reference Data'!C:C,1,FALSE)),\"PLEASE SELECT A BANK FROM DEFINED LIST PROVIDED\",\"\")),\"\")","v":""},"No Entry",0]
[null,null,null,null,null,null,null,null,null,null,null,null,"",{"$f":"IF(D2009=\"Cash and Deposits\",IF(E2009=\"\",\"BANK NAME REQUIRED\",IF(ISERROR(VLOOKUP(E2009,'Reference Data'!C:C,1,FALSE)),\"PLEASE SELECT A BANK FROM DEFINED LIST PROVIDED\",\"\")),\"\")","v":""},"No Entry",0]
[null,null,null,null,null,null,null,null,null,null,null,null,"",{"$f":"IF(D2010=\"Cash and Deposits\",IF(E2010=\"\",\"BANK NAME REQUIRED\",IF(ISERROR(VLOOKUP(E2010,'Reference Data'!C:C,1,FALSE)),\"PLEASE SELECT A BANK FROM DEFINED LIST PROVIDED\",\"\")),\"\")","v":""},"No Entry",0]
[null,null,null,null,null,null,null,null,null,null,null,null,"",{"$f":"IF(D2011=\"Cash and Deposits\",IF(E2011=\"\",\"BANK NAME REQUIRED\",IF(ISERROR(VLOOKUP(E2011,'Reference Data'!C:C,1,FALSE)),\"PLEASE SELECT A BANK FROM DEFINED LIST PROVIDED\",\"\")),\"\")","v":""},"No Entry",0]
[null,null,null,null,null,null,null,null,null,null,null,null,"",{"$f":"IF(D2012=\"Cash and Deposits\",IF(E2012=\"\",\"BANK NAME REQUIRED\",IF(ISERROR(VLOOKUP(E2012,'Reference Data'!C:C,1,FALSE)),\"PLEASE SELECT A BANK FROM DEFINED LIST PROVIDED\",\"\")),\"\")","v":""},"No Entry",0]
[null,null,null,null,null,null,null,null,null,null,null,null,"",{"$f":"IF(D2013=\"Cash and Deposits\",IF(E2013=\"\",\"BANK NAME REQUIRED\",IF(ISERROR(VLOOKUP(E2013,'Reference Data'!C:C,1,FALSE)),\"PLEASE SELECT A BANK FROM DEFINED LIST PROVIDED\",\"\")),\"\")","v":""},"No Entry",0]
[null,null,null,null,null,null,null,null,null,null,null,null,"",{"$f":"IF(D2014=\"Cash and Deposits\",IF(E2014=\"\",\"BANK NAME REQUIRED\",IF(ISERROR(VLOOKUP(E2014,'Reference Data'!C:C,1,FALSE)),\"PLEASE SELECT A BANK FROM DEFINED LIST PROVIDED\",\"\")),\"\")","v":""},"No Entry",0]
[null,null,null,null,null,null,null,null,null,null,null,null,"",{"$f":"IF(D2015=\"Cash and Deposits\",IF(E2015=\"\",\"BANK NAME REQUIRED\",IF(ISERROR(VLOOKUP(E2015,'Reference Data'!C:C,1,FALSE)),\"PLEASE SELECT A BANK FROM DEFINED LIST PROVIDED\",\"\")),\"\")","v":""},"No Entry",0]
[null,null,null,null,null,null,null,null,null,null,null,null,"",{"$f":"IF(D2016=\"Cash and Deposits\",IF(E2016=\"\",\"BANK NAME REQUIRED\",IF(ISERROR(VLOOKUP(E2016,'Reference Data'!C:C,1,FALSE)),\"PLEASE SELECT A BANK FROM DEFINED LIST PROVIDED\",\"\")),\"\")","v":""},"No Entry",0]
[null,null,null,null,null,null,null,null,null,null,null,null,"",{"$f":"IF(D2017=\"Cash and Deposits\",IF(E2017=\"\",\"BANK NAME REQUIRED\",IF(ISERROR(VLOOKUP(E2017,'Reference Data'!C:C,1,FALSE)),\"PLEASE SELECT A BANK FROM DEFINED LIST PROVIDED\",\"\")),\"\")","v":""},"No Entry",0]
[null,null,null,null,null,null,null,null,null,null,null,null,"",{"$f":"IF(D2018=\"Cash and Deposits\",IF(E2018=\"\",\"BANK NAME REQUIRED\",IF(ISERROR(VLOOKUP(E2018,'Reference Data'!C:C,1,FALSE)),\"PLEASE SELECT A BANK FROM DEFINED LIST PROVIDED\",\"\")),\"\")","v":""},"No Entry",0]
[null,null,null,null,null,null,null,null,null,null,null,null,"",{"$f":"IF(D2019=\"Cash and Deposits\",IF(E2019=\"\",\"BANK NAME REQUIRED\",IF(ISERROR(VLOOKUP(E2019,'Reference Data'!C:C,1,FALSE)),\"PLEASE SELECT A BANK FROM DEFINED LIST PROVIDED\",\"\")),\"\")","v":""},"No Entry",0]
[null,null,null,null,null,null,null,null,null,null,null,null,"",{"$f":"IF(D2020=\"Cash and Deposits\",IF(E2020=\"\",\"BANK NAME REQUIRED\",IF(ISERROR(VLOOKUP(E2020,'Reference Data'!C:C,1,FALSE)),\"PLEASE SELECT A BANK FROM DEFINED LIST PROVIDED\",\"\")),\"\")","v":""},"No Entry",0]
[null,null,null,null,null,null,null,null,null,null,null,null,"",{"$f":"IF(D2021=\"Cash and Deposits\",IF(E2021=\"\",\"BANK NAME REQUIRED\",IF(ISERROR(VLOOKUP(E2021,'Reference Data'!C:C,1,FALSE)),\"PLEASE SELECT A BANK FROM DEFINED LIST PROVIDED\",\"\")),\"\")","v":""},"No Entry",0]
[null,null,null,null,null,null,null,null,null,null,null,null,"",{"$f":"IF(D2022=\"Cash and Deposits\",IF(E2022=\"\",\"BANK NAME REQUIRED\",IF(ISERROR(VLOOKUP(E2022,'Reference Data'!C:C,1,FALSE)),\"PLEASE SELECT A BANK FROM DEFINED LIST PROVIDED\",\"\")),\"\")","v":""},"No Entry",0]
[null,null,null,null,null,null,null,null,null,null,null,null,"",{"$f":"IF(D2023=\"Cash and Deposits\",IF(E2023=\"\",\"BANK NAME REQUIRED\",IF(ISERROR(VLOOKUP(E2023,'Reference Data'!C:C,1,FALSE)),\"PLEASE SELECT A BANK FROM DEFINED LIST PROVIDED\",\"\")),\"\")","v":""},"No Entry",0]
[null,null,null,null,null,null,null,null,null,null,null,null,"",{"$f":"IF(D2024=\"Cash and Deposits\",IF(E2024=\"\",\"BANK NAME REQUIRED\",IF(ISERROR(VLOOKUP(E2024,'Reference Data'!C:C,1,FALSE)),\"PLEASE SELECT A BANK FROM DEFINED LIST PROVIDED\",\"\")),\"\")","v":""},"No Entry",0]
[null,null,null,null,null,null,null,null,null,null,null,null,"",{"$f":"IF(D2025=\"Cash and Deposits\",IF(E2025=\"\",\"BANK NAME REQUIRED\",IF(ISERROR(VLOOKUP(E2025,'Reference Data'!C:C,1,FALSE)),\"PLEASE SELECT A BANK FROM DEFINED LIST PROVIDED\",\"\")),\"\")","v":""},"No Entry",0]
[null,null,null,null,null,null,null,null,null,null,null,null,"",{"$f":"IF(D2026=\"Cash and Deposits\",IF(E2026=\"\",\"BANK NAME REQUIRED\",IF(ISERROR(VLOOKUP(E2026,'Reference Data'!C:C,1,FALSE)),\"PLEASE SELECT A BANK FROM DEFINED LIST PROVIDED\",\"\")),\"\")","v":""},"No Entry",0]
[null,null,null,null,null,null,null,null,null,null,null,null,"",{"$f":"IF(D2027=\"Cash and Deposits\",IF(E2027=\"\",\"BANK NAME REQUIRED\",IF(ISERROR(VLOOKUP(E2027,'Reference Data'!C:C,1,FALSE)),\"PLEASE SELECT A BANK FROM DEFINED LIST PROVIDED\",\"\")),\"\")","v":""},"No Entry",0]
[null,null,null,null,null,null,null,null,null,null,null,null,"",{"$f":"IF(D2028=\"Cash and Deposits\",IF(E2028=\"\",\"BANK NAME REQUIRED\",IF(ISERROR(VLOOKUP(E2028,'Reference Data'!C:C,1,FALSE)),\"PLEASE SELECT A BANK FROM DEFINED LIST PROVIDED\",\"\")),\"\")","v":""},"No Entry",0]
[null,null,null,null,null,null,null,null,null,null,null,null,"",{"$f":"IF(D2029=\"Cash and Deposits\",IF(E2029=\"\",\"BANK NAME REQUIRED\",IF(ISERROR(VLOOKUP(E2029,'Reference Data'!C:C,1,FALSE)),\"PLEASE SELECT A BANK FROM DEFINED LIST PROVIDED\",\"\")),\"\")","v":""},"No Entry",0]
[null,null,null,null,null,null,null,null,null,null,null,null,"",{"$f":"IF(D2030=\"Cash and Deposits\",IF(E2030=\"\",\"BANK NAME REQUIRED\",IF(ISERROR(VLOOKUP(E2030,'Reference Data'!C:C,1,FALSE)),\"PLEASE SELECT A BANK FROM DEFINED LIST PROVIDED\",\"\")),\"\")","v":""},"No Entry",0]
[null,null,null,null,null,null,null,null,null,null,null,null,"",{"$f":"IF(D2031=\"Cash and Deposits\",IF(E2031=\"\",\"BANK NAME REQUIRED\",IF(ISERROR(VLOOKUP(E2031,'Reference Data'!C:C,1,FALSE)),\"PLEASE SELECT A BANK FROM DEFINED LIST PROVIDED\",\"\")),\"\")","v":""},"No Entry",0]
[null,null,null,null,null,null,null,null,null,null,null,null,"",{"$f":"IF(D2032=\"Cash and Deposits\",IF(E2032=\"\",\"BANK NAME REQUIRED\",IF(ISERROR(VLOOKUP(E2032,'Reference Data'!C:C,1,FALSE)),\"PLEASE SELECT A BANK FROM DEFINED LIST PROVIDED\",\"\")),\"\")","v":""},"No Entry",0]
[null,null,null,null,null,null,null,null,null,null,null,null,"",{"$f":"IF(D2033=\"Cash and Deposits\",IF(E2033=\"\",\"BANK NAME REQUIRED\",IF(ISERROR(VLOOKUP(E2033,'Reference Data'!C:C,1,FALSE)),\"PLEASE SELECT A BANK FROM DEFINED LIST PROVIDED\",\"\")),\"\")","v":""},"No Entry",0]
[null,null,null,null,null,null,null,null,null,null,null,null,"",{"$f":"IF(D2034=\"Cash and Deposits\",IF(E2034=\"\",\"BANK NAME REQUIRED\",IF(ISERROR(VLOOKUP(E2034,'Reference Data'!C:C,1,FALSE)),\"PLEASE SELECT A BANK FROM DEFINED LIST PROVIDED\",\"\")),\"\")","v":""},"No Entry",0]
[null,null,null,null,null,null,null,null,null,null,null,null,"",{"$f":"IF(D2035=\"Cash and Deposits\",IF(E2035=\"\",\"BANK NAME REQUIRED\",IF(ISERROR(VLOOKUP(E2035,'Reference Data'!C:C,1,FALSE)),\"PLEASE SELECT A BANK FROM DEFINED LIST PROVIDED\",\"\")),\"\")","v":""},"No Entry",0]
[null,null,null,null,null,null,null,null,null,null,null,null,"",{"$f":"IF(D2036=\"Cash and Deposits\",IF(E2036=\"\",\"BANK NAME REQUIRED\",IF(ISERROR(VLOOKUP(E2036,'Reference Data'!C:C,1,FALSE)),\"PLEASE SELECT A BANK FROM DEFINED LIST PROVIDED\",\"\")),\"\")","v":""},"No Entry",0]
[null,null,null,null,null,null,null,null,null,null,null,null,"",{"$f":"IF(D2037=\"Cash and Deposits\",IF(E2037=\"\",\"BANK NAME REQUIRED\",IF(ISERROR(VLOOKUP(E2037,'Reference Data'!C:C,1,FALSE)),\"PLEASE SELECT A BANK FROM DEFINED LIST PROVIDED\",\"\")),\"\")","v":""},"No Entry",0]
[null,null,null,null,null,null,null,null,null,null,null,null,"",{"$f":"IF(D2038=\"Cash and Deposits\",IF(E2038=\"\",\"BANK NAME REQUIRED\",IF(ISERROR(VLOOKUP(E2038,'Reference Data'!C:C,1,FALSE)),\"PLEASE SELECT A BANK FROM DEFINED LIST PROVIDED\",\"\")),\"\")","v":""},"No Entry",0]
[null,null,null,null,null,null,null,null,null,null,null,null,"",{"$f":"IF(D2039=\"Cash and Deposits\",IF(E2039=\"\",\"BANK NAME REQUIRED\",IF(ISERROR(VLOOKUP(E2039,'Reference Data'!C:C,1,FALSE)),\"PLEASE SELECT A BANK FROM DEFINED LIST PROVIDED\",\"\")),\"\")","v":""},"No Entry",0]
[null,null,null,null,null,null,null,null,null,null,null,null,"",{"$f":"IF(D2040=\"Cash and Deposits\",IF(E2040=\"\",\"BANK NAME REQUIRED\",IF(ISERROR(VLOOKUP(E2040,'Reference Data'!C:C,1,FALSE)),\"PLEASE SELECT A BANK FROM DEFINED LIST PROVIDED\",\"\")),\"\")","v":""},"No Entry",0]
[null,null,null,null,null,null,null,null,null,null,null,null,"",{"$f":"IF(D2041=\"Cash and Deposits\",IF(E2041=\"\",\"BANK NAME REQUIRED\",IF(ISERROR(VLOOKUP(E2041,'Reference Data'!C:C,1,FALSE)),\"PLEASE SELECT A BANK FROM DEFINED LIST PROVIDED\",\"\")),\"\")","v":""},"No Entry",0]
[null,null,null,null,null,null,null,null,null,null,null,null,"",{"$f":"IF(D2042=\"Cash and Deposits\",IF(E2042=\"\",\"BANK NAME REQUIRED\",IF(ISERROR(VLOOKUP(E2042,'Reference Data'!C:C,1,FALSE)),\"PLEASE SELECT A BANK FROM DEFINED LIST PROVIDED\",\"\")),\"\")","v":""},"No Entry",0]
[null,null,null,null,null,null,null,null,null,null,null,null,"",{"$f":"IF(D2043=\"Cash and Deposits\",IF(E2043=\"\",\"BANK NAME REQUIRED\",IF(ISERROR(VLOOKUP(E2043,'Reference Data'!C:C,1,FALSE)),\"PLEASE SELECT A BANK FROM DEFINED LIST PROVIDED\",\"\")),\"\")","v":""},"No Entry",0]
[null,null,null,null,null,null,null,null,null,null,null,null,"",{"$f":"IF(D2044=\"Cash and Deposits\",IF(E2044=\"\",\"BANK NAME REQUIRED\",IF(ISERROR(VLOOKUP(E2044,'Reference Data'!C:C,1,FALSE)),\"PLEASE SELECT A BANK FROM DEFINED LIST PROVIDED\",\"\")),\"\")","v":""},"No Entry",0]
[null,null,null,null,null,null,null,null,null,null,null,null,"",{"$f":"IF(D2045=\"Cash and Deposits\",IF(E2045=\"\",\"BANK NAME REQUIRED\",IF(ISERROR(VLOOKUP(E2045,'Reference Data'!C:C,1,FALSE)),\"PLEASE SELECT A BANK FROM DEFINED LIST PROVIDED\",\"\")),\"\")","v":""},"No Entry",0]
[null,null,null,null,null,null,null,null,null,null,null,null,"",{"$f":"IF(D2046=\"Cash and Deposits\",IF(E2046=\"\",\"BANK NAME REQUIRED\",IF(ISERROR(VLOOKUP(E2046,'Reference Data'!C:C,1,FALSE)),\"PLEASE SELECT A BANK FROM DEFINED LIST PROVIDED\",\"\")),\"\")","v":""},"No Entry",0]
[null,null,null,null,null,null,null,null,null,null,null,null,"",{"$f":"IF(D2047=\"Cash and Deposits\",IF(E2047=\"\",\"BANK NAME REQUIRED\",IF(ISERROR(VLOOKUP(E2047,'Reference Data'!C:C,1,FALSE)),\"PLEASE SELECT A BANK FROM DEFINED LIST PROVIDED\",\"\")),\"\")","v":""},"No Entry",0]
[null,null,null,null,null,null,null,null,null,null,null,null,"",{"$f":"IF(D2048=\"Cash and Deposits\",IF(E2048=\"\",\"BANK NAME REQUIRED\",IF(ISERROR(VLOOKUP(E2048,'Reference Data'!C:C,1,FALSE)),\"PLEASE SELECT A BANK FROM DEFINED LIST PROVIDED\",\"\")),\"\")","v":""},"No Entry",0]
[null,null,null,null,null,null,null,null,null,null,null,null,"",{"$f":"IF(D2049=\"Cash and Deposits\",IF(E2049=\"\",\"BANK NAME REQUIRED\",IF(ISERROR(VLOOKUP(E2049,'Reference Data'!C:C,1,FALSE)),\"PLEASE SELECT A BANK FROM DEFINED LIST PROVIDED\",\"\")),\"\")","v":""},"No Entry",0]
[null,null,null,null,null,null,null,null,null,null,null,null,"",{"$f":"IF(D2050=\"Cash and Deposits\",IF(E2050=\"\",\"BANK NAME REQUIRED\",IF(ISERROR(VLOOKUP(E2050,'Reference Data'!C:C,1,FALSE)),\"PLEASE SELECT A BANK FROM DEFINED LIST PROVIDED\",\"\")),\"\")","v":""},"No Entry",0]
[null,null,null,null,null,null,null,null,null,null,null,null,"",{"$f":"IF(D2051=\"Cash and Deposits\",IF(E2051=\"\",\"BANK NAME REQUIRED\",IF(ISERROR(VLOOKUP(E2051,'Reference Data'!C:C,1,FALSE)),\"PLEASE SELECT A BANK FROM DEFINED LIST PROVIDED\",\"\")),\"\")","v":""},"No Entry",0]
[null,null,null,null,null,null,null,null,null,null,null,null,"",{"$f":"IF(D2052=\"Cash and Deposits\",IF(E2052=\"\",\"BANK NAME REQUIRED\",IF(ISERROR(VLOOKUP(E2052,'Reference Data'!C:C,1,FALSE)),\"PLEASE SELECT A BANK FROM DEFINED LIST PROVIDED\",\"\")),\"\")","v":""},"No Entry",0]
[null,null,null,null,null,null,null,null,null,null,null,null,{"$f":"IF(K2053<>0,IF(B2053=\"\",\"ID CODE REQUIRED\",\"\"),\"\")","v":""},{"$f":"IF(D2053=\"Cash and Deposits\",IF(E2053=\"\",\"BANK NAME REQUIRED\",IF(ISERROR(VLOOKUP(E2053,'Reference Data'!C:C,1,FALSE)),\"PLEASE SELECT A BANK FROM DEFINED LIST PROVIDED\",\"\")),\"\")","v":""},{"$f":"IF(K2053=0,\"No Entry\",\"\")","v":"No Entry"},{"$f":"IF(K2053<>0,IF(A2053=\"\",1,0),0)","v":0}]
[null,null,null,null,null,null,null,null,null,null,null,null,"",{"$f":"IF(D2054=\"Cash and Deposits\",IF(E2054=\"\",\"BANK NAME REQUIRED\",IF(ISERROR(VLOOKUP(E2054,'Reference Data'!C:C,1,FALSE)),\"PLEASE SELECT A BANK FROM DEFINED LIST PROVIDED\",\"\")),\"\")","v":""},"No Entry",0]
[null,null,null,null,null,null,null,null,null,null,null,null,"",{"$f":"IF(D2055=\"Cash and Deposits\",IF(E2055=\"\",\"BANK NAME REQUIRED\",IF(ISERROR(VLOOKUP(E2055,'Reference Data'!C:C,1,FALSE)),\"PLEASE SELECT A BANK FROM DEFINED LIST PROVIDED\",\"\")),\"\")","v":""},"No Entry",0]
[null,null,null,null,null,null,null,null,null,null,null,null,"",{"$f":"IF(D2056=\"Cash and Deposits\",IF(E2056=\"\",\"BANK NAME REQUIRED\",IF(ISERROR(VLOOKUP(E2056,'Reference Data'!C:C,1,FALSE)),\"PLEASE SELECT A BANK FROM DEFINED LIST PROVIDED\",\"\")),\"\")","v":""},"No Entry",0]
[null,null,null,null,null,null,null,null,null,null,null,null,"",{"$f":"IF(D2057=\"Cash and Deposits\",IF(E2057=\"\",\"BANK NAME REQUIRED\",IF(ISERROR(VLOOKUP(E2057,'Reference Data'!C:C,1,FALSE)),\"PLEASE SELECT A BANK FROM DEFINED LIST PROVIDED\",\"\")),\"\")","v":""},"No Entry",0]
[null,null,null,null,null,null,null,null,null,null,null,null,"",{"$f":"IF(D2058=\"Cash and Deposits\",IF(E2058=\"\",\"BANK NAME REQUIRED\",IF(ISERROR(VLOOKUP(E2058,'Reference Data'!C:C,1,FALSE)),\"PLEASE SELECT A BANK FROM DEFINED LIST PROVIDED\",\"\")),\"\")","v":""},"No Entry",0]
[null,null,null,null,null,null,null,null,null,null,null,null,"",{"$f":"IF(D2059=\"Cash and Deposits\",IF(E2059=\"\",\"BANK NAME REQUIRED\",IF(ISERROR(VLOOKUP(E2059,'Reference Data'!C:C,1,FALSE)),\"PLEASE SELECT A BANK FROM DEFINED LIST PROVIDED\",\"\")),\"\")","v":""},"No Entry",0]
[null,null,null,null,null,null,null,null,null,null,null,null,"",{"$f":"IF(D2060=\"Cash and Deposits\",IF(E2060=\"\",\"BANK NAME REQUIRED\",IF(ISERROR(VLOOKUP(E2060,'Reference Data'!C:C,1,FALSE)),\"PLEASE SELECT A BANK FROM DEFINED LIST PROVIDED\",\"\")),\"\")","v":""},"No Entry",0]
[null,null,null,null,null,null,null,null,null,null,null,null,"",{"$f":"IF(D2061=\"Cash and Deposits\",IF(E2061=\"\",\"BANK NAME REQUIRED\",IF(ISERROR(VLOOKUP(E2061,'Reference Data'!C:C,1,FALSE)),\"PLEASE SELECT A BANK FROM DEFINED LIST PROVIDED\",\"\")),\"\")","v":""},"No Entry",0]
[null,null,null,null,null,null,null,null,null,null,null,null,"",{"$f":"IF(D2062=\"Cash and Deposits\",IF(E2062=\"\",\"BANK NAME REQUIRED\",IF(ISERROR(VLOOKUP(E2062,'Reference Data'!C:C,1,FALSE)),\"PLEASE SELECT A BANK FROM DEFINED LIST PROVIDED\",\"\")),\"\")","v":""},"No Entry",0]
[null,null,null,null,null,null,null,null,null,null,null,null,"",{"$f":"IF(D2063=\"Cash and Deposits\",IF(E2063=\"\",\"BANK NAME REQUIRED\",IF(ISERROR(VLOOKUP(E2063,'Reference Data'!C:C,1,FALSE)),\"PLEASE SELECT A BANK FROM DEFINED LIST PROVIDED\",\"\")),\"\")","v":""},"No Entry",0]
[null,null,null,null,null,null,null,null,null,null,null,null,"",{"$f":"IF(D2064=\"Cash and Deposits\",IF(E2064=\"\",\"BANK NAME REQUIRED\",IF(ISERROR(VLOOKUP(E2064,'Reference Data'!C:C,1,FALSE)),\"PLEASE SELECT A BANK FROM DEFINED LIST PROVIDED\",\"\")),\"\")","v":""},"No Entry",0]
[null,null,null,null,null,null,null,null,null,null,null,null,"",{"$f":"IF(D2065=\"Cash and Deposits\",IF(E2065=\"\",\"BANK NAME REQUIRED\",IF(ISERROR(VLOOKUP(E2065,'Reference Data'!C:C,1,FALSE)),\"PLEASE SELECT A BANK FROM DEFINED LIST PROVIDED\",\"\")),\"\")","v":""},"No Entry",0]
[null,null,null,null,null,null,null,null,null,null,null,null,"",{"$f":"IF(D2066=\"Cash and Deposits\",IF(E2066=\"\",\"BANK NAME REQUIRED\",IF(ISERROR(VLOOKUP(E2066,'Reference Data'!C:C,1,FALSE)),\"PLEASE SELECT A BANK FROM DEFINED LIST PROVIDED\",\"\")),\"\")","v":""},"No Entry",0]
[null,null,null,null,null,null,null,null,null,null,null,null,"",{"$f":"IF(D2067=\"Cash and Deposits\",IF(E2067=\"\",\"BANK NAME REQUIRED\",IF(ISERROR(VLOOKUP(E2067,'Reference Data'!C:C,1,FALSE)),\"PLEASE SELECT A BANK FROM DEFINED LIST PROVIDED\",\"\")),\"\")","v":""},"No Entry",0]
[null,null,null,null,null,null,null,null,null,null,null,null,"",{"$f":"IF(D2068=\"Cash and Deposits\",IF(E2068=\"\",\"BANK NAME REQUIRED\",IF(ISERROR(VLOOKUP(E2068,'Reference Data'!C:C,1,FALSE)),\"PLEASE SELECT A BANK FROM DEFINED LIST PROVIDED\",\"\")),\"\")","v":""},"No Entry",0]
[null,null,null,null,null,null,null,null,null,null,null,null,"",{"$f":"IF(D2069=\"Cash and Deposits\",IF(E2069=\"\",\"BANK NAME REQUIRED\",IF(ISERROR(VLOOKUP(E2069,'Reference Data'!C:C,1,FALSE)),\"PLEASE SELECT A BANK FROM DEFINED LIST PROVIDED\",\"\")),\"\")","v":""},"No Entry",0]
[null,null,null,null,null,null,null,null,null,null,null,null,"",{"$f":"IF(D2070=\"Cash and Deposits\",IF(E2070=\"\",\"BANK NAME REQUIRED\",IF(ISERROR(VLOOKUP(E2070,'Reference Data'!C:C,1,FALSE)),\"PLEASE SELECT A BANK FROM DEFINED LIST PROVIDED\",\"\")),\"\")","v":""},"No Entry",0]
[null,null,null,null,null,null,null,null,null,null,null,null,"",{"$f":"IF(D2071=\"Cash and Deposits\",IF(E2071=\"\",\"BANK NAME REQUIRED\",IF(ISERROR(VLOOKUP(E2071,'Reference Data'!C:C,1,FALSE)),\"PLEASE SELECT A BANK FROM DEFINED LIST PROVIDED\",\"\")),\"\")","v":""},"No Entry",0]
[null,null,null,null,null,null,null,null,null,null,null,null,"",{"$f":"IF(D2072=\"Cash and Deposits\",IF(E2072=\"\",\"BANK NAME REQUIRED\",IF(ISERROR(VLOOKUP(E2072,'Reference Data'!C:C,1,FALSE)),\"PLEASE SELECT A BANK FROM DEFINED LIST PROVIDED\",\"\")),\"\")","v":""},"No Entry",0]
[null,null,null,null,null,null,null,null,null,null,null,null,"",{"$f":"IF(D2073=\"Cash and Deposits\",IF(E2073=\"\",\"BANK NAME REQUIRED\",IF(ISERROR(VLOOKUP(E2073,'Reference Data'!C:C,1,FALSE)),\"PLEASE SELECT A BANK FROM DEFINED LIST PROVIDED\",\"\")),\"\")","v":""},"No Entry",0]
[null,null,null,null,null,null,null,null,null,null,null,null,"",{"$f":"IF(D2074=\"Cash and Deposits\",IF(E2074=\"\",\"BANK NAME REQUIRED\",IF(ISERROR(VLOOKUP(E2074,'Reference Data'!C:C,1,FALSE)),\"PLEASE SELECT A BANK FROM DEFINED LIST PROVIDED\",\"\")),\"\")","v":""},"No Entry",0]
[null,null,null,null,null,null,null,null,null,null,null,null,"",{"$f":"IF(D2075=\"Cash and Deposits\",IF(E2075=\"\",\"BANK NAME REQUIRED\",IF(ISERROR(VLOOKUP(E2075,'Reference Data'!C:C,1,FALSE)),\"PLEASE SELECT A BANK FROM DEFINED LIST PROVIDED\",\"\")),\"\")","v":""},"No Entry",0]
[null,null,null,null,null,null,null,null,null,null,null,null,"",{"$f":"IF(D2076=\"Cash and Deposits\",IF(E2076=\"\",\"BANK NAME REQUIRED\",IF(ISERROR(VLOOKUP(E2076,'Reference Data'!C:C,1,FALSE)),\"PLEASE SELECT A BANK FROM DEFINED LIST PROVIDED\",\"\")),\"\")","v":""},"No Entry",0]
[null,null,null,null,null,null,null,null,null,null,null,null,"",{"$f":"IF(D2077=\"Cash and Deposits\",IF(E2077=\"\",\"BANK NAME REQUIRED\",IF(ISERROR(VLOOKUP(E2077,'Reference Data'!C:C,1,FALSE)),\"PLEASE SELECT A BANK FROM DEFINED LIST PROVIDED\",\"\")),\"\")","v":""},"No Entry",0]
[null,null,null,null,null,null,null,null,null,null,null,null,"",{"$f":"IF(D2078=\"Cash and Deposits\",IF(E2078=\"\",\"BANK NAME REQUIRED\",IF(ISERROR(VLOOKUP(E2078,'Reference Data'!C:C,1,FALSE)),\"PLEASE SELECT A BANK FROM DEFINED LIST PROVIDED\",\"\")),\"\")","v":""},"No Entry",0]
[null,null,null,null,null,null,null,null,null,null,null,null,"",{"$f":"IF(D2079=\"Cash and Deposits\",IF(E2079=\"\",\"BANK NAME REQUIRED\",IF(ISERROR(VLOOKUP(E2079,'Reference Data'!C:C,1,FALSE)),\"PLEASE SELECT A BANK FROM DEFINED LIST PROVIDED\",\"\")),\"\")","v":""},"No Entry",0]
[null,null,null,null,null,null,null,null,null,null,null,null,"",{"$f":"IF(D2080=\"Cash and Deposits\",IF(E2080=\"\",\"BANK NAME REQUIRED\",IF(ISERROR(VLOOKUP(E2080,'Reference Data'!C:C,1,FALSE)),\"PLEASE SELECT A BANK FROM DEFINED LIST PROVIDED\",\"\")),\"\")","v":""},"No Entry",0]
[null,null,null,null,null,null,null,null,null,null,null,null,"",{"$f":"IF(D2081=\"Cash and Deposits\",IF(E2081=\"\",\"BANK NAME REQUIRED\",IF(ISERROR(VLOOKUP(E2081,'Reference Data'!C:C,1,FALSE)),\"PLEASE SELECT A BANK FROM DEFINED LIST PROVIDED\",\"\")),\"\")","v":""},"No Entry",0]
[null,null,null,null,null,null,null,null,null,null,null,null,"",{"$f":"IF(D2082=\"Cash and Deposits\",IF(E2082=\"\",\"BANK NAME REQUIRED\",IF(ISERROR(VLOOKUP(E2082,'Reference Data'!C:C,1,FALSE)),\"PLEASE SELECT A BANK FROM DEFINED LIST PROVIDED\",\"\")),\"\")","v":""},"No Entry",0]
[null,null,null,null,null,null,null,null,null,null,null,null,"",{"$f":"IF(D2083=\"Cash and Deposits\",IF(E2083=\"\",\"BANK NAME REQUIRED\",IF(ISERROR(VLOOKUP(E2083,'Reference Data'!C:C,1,FALSE)),\"PLEASE SELECT A BANK FROM DEFINED LIST PROVIDED\",\"\")),\"\")","v":""},"No Entry",0]
[null,null,null,null,null,null,null,null,null,null,null,null,"",{"$f":"IF(D2084=\"Cash and Deposits\",IF(E2084=\"\",\"BANK NAME REQUIRED\",IF(ISERROR(VLOOKUP(E2084,'Reference Data'!C:C,1,FALSE)),\"PLEASE SELECT A BANK FROM DEFINED LIST PROVIDED\",\"\")),\"\")","v":""},"No Entry",0]
[null,null,null,null,null,null,null,null,null,null,null,null,"",{"$f":"IF(D2085=\"Cash and Deposits\",IF(E2085=\"\",\"BANK NAME REQUIRED\",IF(ISERROR(VLOOKUP(E2085,'Reference Data'!C:C,1,FALSE)),\"PLEASE SELECT A BANK FROM DEFINED LIST PROVIDED\",\"\")),\"\")","v":""},"No Entry",0]
[null,null,null,null,null,null,null,null,null,null,null,null,"",{"$f":"IF(D2086=\"Cash and Deposits\",IF(E2086=\"\",\"BANK NAME REQUIRED\",IF(ISERROR(VLOOKUP(E2086,'Reference Data'!C:C,1,FALSE)),\"PLEASE SELECT A BANK FROM DEFINED LIST PROVIDED\",\"\")),\"\")","v":""},"No Entry",0]
[null,null,null,null,null,null,null,null,null,null,null,null,"",{"$f":"IF(D2087=\"Cash and Deposits\",IF(E2087=\"\",\"BANK NAME REQUIRED\",IF(ISERROR(VLOOKUP(E2087,'Reference Data'!C:C,1,FALSE)),\"PLEASE SELECT A BANK FROM DEFINED LIST PROVIDED\",\"\")),\"\")","v":""},"No Entry",0]
[null,null,null,null,null,null,null,null,null,null,null,null,"",{"$f":"IF(D2088=\"Cash and Deposits\",IF(E2088=\"\",\"BANK NAME REQUIRED\",IF(ISERROR(VLOOKUP(E2088,'Reference Data'!C:C,1,FALSE)),\"PLEASE SELECT A BANK FROM DEFINED LIST PROVIDED\",\"\")),\"\")","v":""},"No Entry",0]
[null,null,null,null,null,null,null,null,null,null,null,null,"",{"$f":"IF(D2089=\"Cash and Deposits\",IF(E2089=\"\",\"BANK NAME REQUIRED\",IF(ISERROR(VLOOKUP(E2089,'Reference Data'!C:C,1,FALSE)),\"PLEASE SELECT A BANK FROM DEFINED LIST PROVIDED\",\"\")),\"\")","v":""},"No Entry",0]
[null,null,null,null,null,null,null,null,null,null,null,null,"",{"$f":"IF(D2090=\"Cash and Deposits\",IF(E2090=\"\",\"BANK NAME REQUIRED\",IF(ISERROR(VLOOKUP(E2090,'Reference Data'!C:C,1,FALSE)),\"PLEASE SELECT A BANK FROM DEFINED LIST PROVIDED\",\"\")),\"\")","v":""},"No Entry",0]
[null,null,null,null,null,null,null,null,null,null,null,null,"",{"$f":"IF(D2091=\"Cash and Deposits\",IF(E2091=\"\",\"BANK NAME REQUIRED\",IF(ISERROR(VLOOKUP(E2091,'Reference Data'!C:C,1,FALSE)),\"PLEASE SELECT A BANK FROM DEFINED LIST PROVIDED\",\"\")),\"\")","v":""},"No Entry",0]
[null,null,null,null,null,null,null,null,null,null,null,null,"",{"$f":"IF(D2092=\"Cash and Deposits\",IF(E2092=\"\",\"BANK NAME REQUIRED\",IF(ISERROR(VLOOKUP(E2092,'Reference Data'!C:C,1,FALSE)),\"PLEASE SELECT A BANK FROM DEFINED LIST PROVIDED\",\"\")),\"\")","v":""},"No Entry",0]
[null,null,null,null,null,null,null,null,null,null,null,null,"",{"$f":"IF(D2093=\"Cash and Deposits\",IF(E2093=\"\",\"BANK NAME REQUIRED\",IF(ISERROR(VLOOKUP(E2093,'Reference Data'!C:C,1,FALSE)),\"PLEASE SELECT A BANK FROM DEFINED LIST PROVIDED\",\"\")),\"\")","v":""},"No Entry",0]
[null,null,null,null,null,null,null,null,null,null,null,null,"",{"$f":"IF(D2094=\"Cash and Deposits\",IF(E2094=\"\",\"BANK NAME REQUIRED\",IF(ISERROR(VLOOKUP(E2094,'Reference Data'!C:C,1,FALSE)),\"PLEASE SELECT A BANK FROM DEFINED LIST PROVIDED\",\"\")),\"\")","v":""},"No Entry",0]
[null,null,null,null,null,null,null,null,null,null,null,null,"",{"$f":"IF(D2095=\"Cash and Deposits\",IF(E2095=\"\",\"BANK NAME REQUIRED\",IF(ISERROR(VLOOKUP(E2095,'Reference Data'!C:C,1,FALSE)),\"PLEASE SELECT A BANK FROM DEFINED LIST PROVIDED\",\"\")),\"\")","v":""},"No Entry",0]
[null,null,null,null,null,null,null,null,null,null,null,null,"",{"$f":"IF(D2096=\"Cash and Deposits\",IF(E2096=\"\",\"BANK NAME REQUIRED\",IF(ISERROR(VLOOKUP(E2096,'Reference Data'!C:C,1,FALSE)),\"PLEASE SELECT A BANK FROM DEFINED LIST PROVIDED\",\"\")),\"\")","v":""},"No Entry",0]
[null,null,null,null,null,null,null,null,null,null,null,null,"",{"$f":"IF(D2097=\"Cash and Deposits\",IF(E2097=\"\",\"BANK NAME REQUIRED\",IF(ISERROR(VLOOKUP(E2097,'Reference Data'!C:C,1,FALSE)),\"PLEASE SELECT A BANK FROM DEFINED LIST PROVIDED\",\"\")),\"\")","v":""},"No Entry",0]
[null,null,null,null,null,null,null,null,null,null,null,null,"",{"$f":"IF(D2098=\"Cash and Deposits\",IF(E2098=\"\",\"BANK NAME REQUIRED\",IF(ISERROR(VLOOKUP(E2098,'Reference Data'!C:C,1,FALSE)),\"PLEASE SELECT A BANK FROM DEFINED LIST PROVIDED\",\"\")),\"\")","v":""},"No Entry",0]
[null,null,null,null,null,null,null,null,null,null,null,null,"",{"$f":"IF(D2099=\"Cash and Deposits\",IF(E2099=\"\",\"BANK NAME REQUIRED\",IF(ISERROR(VLOOKUP(E2099,'Reference Data'!C:C,1,FALSE)),\"PLEASE SELECT A BANK FROM DEFINED LIST PROVIDED\",\"\")),\"\")","v":""},"No Entry",0]
[null,null,null,null,null,null,null,null,null,null,null,null,"",{"$f":"IF(D2100=\"Cash and Deposits\",IF(E2100=\"\",\"BANK NAME REQUIRED\",IF(ISERROR(VLOOKUP(E2100,'Reference Data'!C:C,1,FALSE)),\"PLEASE SELECT A BANK FROM DEFINED LIST PROVIDED\",\"\")),\"\")","v":""},"No Entry",0]
[null,null,null,null,null,null,null,null,null,null,null,null,"",{"$f":"IF(D2101=\"Cash and Deposits\",IF(E2101=\"\",\"BANK NAME REQUIRED\",IF(ISERROR(VLOOKUP(E2101,'Reference Data'!C:C,1,FALSE)),\"PLEASE SELECT A BANK FROM DEFINED LIST PROVIDED\",\"\")),\"\")","v":""},"No Entry",0]
[null,null,null,null,null,null,null,null,null,null,null,null,"",{"$f":"IF(D2102=\"Cash and Deposits\",IF(E2102=\"\",\"BANK NAME REQUIRED\",IF(ISERROR(VLOOKUP(E2102,'Reference Data'!C:C,1,FALSE)),\"PLEASE SELECT A BANK FROM DEFINED LIST PROVIDED\",\"\")),\"\")","v":""},"No Entry",0]
[null,null,null,null,null,null,null,null,null,null,null,null,"",{"$f":"IF(D2103=\"Cash and Deposits\",IF(E2103=\"\",\"BANK NAME REQUIRED\",IF(ISERROR(VLOOKUP(E2103,'Reference Data'!C:C,1,FALSE)),\"PLEASE SELECT A BANK FROM DEFINED LIST PROVIDED\",\"\")),\"\")","v":""},"No Entry",0]
[null,null,null,null,null,null,null,null,null,null,null,null,"",{"$f":"IF(D2104=\"Cash and Deposits\",IF(E2104=\"\",\"BANK NAME REQUIRED\",IF(ISERROR(VLOOKUP(E2104,'Reference Data'!C:C,1,FALSE)),\"PLEASE SELECT A BANK FROM DEFINED LIST PROVIDED\",\"\")),\"\")","v":""},"No Entry",0]
[null,null,null,null,null,null,null,null,null,null,null,null,"",{"$f":"IF(D2105=\"Cash and Deposits\",IF(E2105=\"\",\"BANK NAME REQUIRED\",IF(ISERROR(VLOOKUP(E2105,'Reference Data'!C:C,1,FALSE)),\"PLEASE SELECT A BANK FROM DEFINED LIST PROVIDED\",\"\")),\"\")","v":""},"No Entry",0]
[null,null,null,null,null,null,null,null,null,null,null,null,"",{"$f":"IF(D2106=\"Cash and Deposits\",IF(E2106=\"\",\"BANK NAME REQUIRED\",IF(ISERROR(VLOOKUP(E2106,'Reference Data'!C:C,1,FALSE)),\"PLEASE SELECT A BANK FROM DEFINED LIST PROVIDED\",\"\")),\"\")","v":""},"No Entry",0]
[null,null,null,null,null,null,null,null,null,null,null,null,"",{"$f":"IF(D2107=\"Cash and Deposits\",IF(E2107=\"\",\"BANK NAME REQUIRED\",IF(ISERROR(VLOOKUP(E2107,'Reference Data'!C:C,1,FALSE)),\"PLEASE SELECT A BANK FROM DEFINED LIST PROVIDED\",\"\")),\"\")","v":""},"No Entry",0]
[null,null,null,null,null,null,null,null,null,null,null,null,"",{"$f":"IF(D2108=\"Cash and Deposits\",IF(E2108=\"\",\"BANK NAME REQUIRED\",IF(ISERROR(VLOOKUP(E2108,'Reference Data'!C:C,1,FALSE)),\"PLEASE SELECT A BANK FROM DEFINED LIST PROVIDED\",\"\")),\"\")","v":""},"No Entry",0]
[null,null,null,null,null,null,null,null,null,null,null,null,"",{"$f":"IF(D2109=\"Cash and Deposits\",IF(E2109=\"\",\"BANK NAME REQUIRED\",IF(ISERROR(VLOOKUP(E2109,'Reference Data'!C:C,1,FALSE)),\"PLEASE SELECT A BANK FROM DEFINED LIST PROVIDED\",\"\")),\"\")","v":""},"No Entry",0]
[null,null,null,null,null,null,null,null,null,null,null,null,"",{"$f":"IF(D2110=\"Cash and Deposits\",IF(E2110=\"\",\"BANK NAME REQUIRED\",IF(ISERROR(VLOOKUP(E2110,'Reference Data'!C:C,1,FALSE)),\"PLEASE SELECT A BANK FROM DEFINED LIST PROVIDED\",\"\")),\"\")","v":""},"No Entry",0]
[null,null,null,null,null,null,null,null,null,null,null,null,"",{"$f":"IF(D2111=\"Cash and Deposits\",IF(E2111=\"\",\"BANK NAME REQUIRED\",IF(ISERROR(VLOOKUP(E2111,'Reference Data'!C:C,1,FALSE)),\"PLEASE SELECT A BANK FROM DEFINED LIST PROVIDED\",\"\")),\"\")","v":""},"No Entry",0]
[null,null,null,null,null,null,null,null,null,null,null,null,"",{"$f":"IF(D2112=\"Cash and Deposits\",IF(E2112=\"\",\"BANK NAME REQUIRED\",IF(ISERROR(VLOOKUP(E2112,'Reference Data'!C:C,1,FALSE)),\"PLEASE SELECT A BANK FROM DEFINED LIST PROVIDED\",\"\")),\"\")","v":""},"No Entry",0]
[null,null,null,null,null,null,null,null,null,null,null,null,"",{"$f":"IF(D2113=\"Cash and Deposits\",IF(E2113=\"\",\"BANK NAME REQUIRED\",IF(ISERROR(VLOOKUP(E2113,'Reference Data'!C:C,1,FALSE)),\"PLEASE SELECT A BANK FROM DEFINED LIST PROVIDED\",\"\")),\"\")","v":""},"No Entry",0]
[null,null,null,null,null,null,null,null,null,null,null,null,"",{"$f":"IF(D2114=\"Cash and Deposits\",IF(E2114=\"\",\"BANK NAME REQUIRED\",IF(ISERROR(VLOOKUP(E2114,'Reference Data'!C:C,1,FALSE)),\"PLEASE SELECT A BANK FROM DEFINED LIST PROVIDED\",\"\")),\"\")","v":""},"No Entry",0]
[null,null,null,null,null,null,null,null,null,null,null,null,"",{"$f":"IF(D2115=\"Cash and Deposits\",IF(E2115=\"\",\"BANK NAME REQUIRED\",IF(ISERROR(VLOOKUP(E2115,'Reference Data'!C:C,1,FALSE)),\"PLEASE SELECT A BANK FROM DEFINED LIST PROVIDED\",\"\")),\"\")","v":""},"No Entry",0]
[null,null,null,null,null,null,null,null,null,null,null,null,"",{"$f":"IF(D2116=\"Cash and Deposits\",IF(E2116=\"\",\"BANK NAME REQUIRED\",IF(ISERROR(VLOOKUP(E2116,'Reference Data'!C:C,1,FALSE)),\"PLEASE SELECT A BANK FROM DEFINED LIST PROVIDED\",\"\")),\"\")","v":""},"No Entry",0]
[null,null,null,null,null,null,null,null,null,null,null,null,{"$f":"IF(K2117<>0,IF(B2117=\"\",\"ID CODE REQUIRED\",\"\"),\"\")","v":""},{"$f":"IF(D2117=\"Cash and Deposits\",IF(E2117=\"\",\"BANK NAME REQUIRED\",IF(ISERROR(VLOOKUP(E2117,'Reference Data'!C:C,1,FALSE)),\"PLEASE SELECT A BANK FROM DEFINED LIST PROVIDED\",\"\")),\"\")","v":""},{"$f":"IF(K2117=0,\"No Entry\",\"\")","v":"No Entry"},{"$f":"IF(K2117<>0,IF(A2117=\"\",1,0),0)","v":0}]
[null,null,null,null,null,null,null,null,null,null,null,null,"",{"$f":"IF(D2118=\"Cash and Deposits\",IF(E2118=\"\",\"BANK NAME REQUIRED\",IF(ISERROR(VLOOKUP(E2118,'Reference Data'!C:C,1,FALSE)),\"PLEASE SELECT A BANK FROM DEFINED LIST PROVIDED\",\"\")),\"\")","v":""},"No Entry",0]
[null,null,null,null,null,null,null,null,null,null,null,null,"",{"$f":"IF(D2119=\"Cash and Deposits\",IF(E2119=\"\",\"BANK NAME REQUIRED\",IF(ISERROR(VLOOKUP(E2119,'Reference Data'!C:C,1,FALSE)),\"PLEASE SELECT A BANK FROM DEFINED LIST PROVIDED\",\"\")),\"\")","v":""},"No Entry",0]
[null,null,null,null,null,null,null,null,null,null,null,null,"",{"$f":"IF(D2120=\"Cash and Deposits\",IF(E2120=\"\",\"BANK NAME REQUIRED\",IF(ISERROR(VLOOKUP(E2120,'Reference Data'!C:C,1,FALSE)),\"PLEASE SELECT A BANK FROM DEFINED LIST PROVIDED\",\"\")),\"\")","v":""},"No Entry",0]
[null,null,null,null,null,null,null,null,null,null,null,null,"",{"$f":"IF(D2121=\"Cash and Deposits\",IF(E2121=\"\",\"BANK NAME REQUIRED\",IF(ISERROR(VLOOKUP(E2121,'Reference Data'!C:C,1,FALSE)),\"PLEASE SELECT A BANK FROM DEFINED LIST PROVIDED\",\"\")),\"\")","v":""},"No Entry",0]
[null,null,null,null,null,null,null,null,null,null,null,null,"",{"$f":"IF(D2122=\"Cash and Deposits\",IF(E2122=\"\",\"BANK NAME REQUIRED\",IF(ISERROR(VLOOKUP(E2122,'Reference Data'!C:C,1,FALSE)),\"PLEASE SELECT A BANK FROM DEFINED LIST PROVIDED\",\"\")),\"\")","v":""},"No Entry",0]
[null,null,null,null,null,null,null,null,null,null,null,null,"",{"$f":"IF(D2123=\"Cash and Deposits\",IF(E2123=\"\",\"BANK NAME REQUIRED\",IF(ISERROR(VLOOKUP(E2123,'Reference Data'!C:C,1,FALSE)),\"PLEASE SELECT A BANK FROM DEFINED LIST PROVIDED\",\"\")),\"\")","v":""},"No Entry",0]
[null,null,null,null,null,null,null,null,null,null,null,null,"",{"$f":"IF(D2124=\"Cash and Deposits\",IF(E2124=\"\",\"BANK NAME REQUIRED\",IF(ISERROR(VLOOKUP(E2124,'Reference Data'!C:C,1,FALSE)),\"PLEASE SELECT A BANK FROM DEFINED LIST PROVIDED\",\"\")),\"\")","v":""},"No Entry",0]
[null,null,null,null,null,null,null,null,null,null,null,null,"",{"$f":"IF(D2125=\"Cash and Deposits\",IF(E2125=\"\",\"BANK NAME REQUIRED\",IF(ISERROR(VLOOKUP(E2125,'Reference Data'!C:C,1,FALSE)),\"PLEASE SELECT A BANK FROM DEFINED LIST PROVIDED\",\"\")),\"\")","v":""},"No Entry",0]
[null,null,null,null,null,null,null,null,null,null,null,null,"",{"$f":"IF(D2126=\"Cash and Deposits\",IF(E2126=\"\",\"BANK NAME REQUIRED\",IF(ISERROR(VLOOKUP(E2126,'Reference Data'!C:C,1,FALSE)),\"PLEASE SELECT A BANK FROM DEFINED LIST PROVIDED\",\"\")),\"\")","v":""},"No Entry",0]
[null,null,null,null,null,null,null,null,null,null,null,null,"",{"$f":"IF(D2127=\"Cash and Deposits\",IF(E2127=\"\",\"BANK NAME REQUIRED\",IF(ISERROR(VLOOKUP(E2127,'Reference Data'!C:C,1,FALSE)),\"PLEASE SELECT A BANK FROM DEFINED LIST PROVIDED\",\"\")),\"\")","v":""},"No Entry",0]
[null,null,null,null,null,null,null,null,null,null,null,null,"",{"$f":"IF(D2128=\"Cash and Deposits\",IF(E2128=\"\",\"BANK NAME REQUIRED\",IF(ISERROR(VLOOKUP(E2128,'Reference Data'!C:C,1,FALSE)),\"PLEASE SELECT A BANK FROM DEFINED LIST PROVIDED\",\"\")),\"\")","v":""},"No Entry",0]
[null,null,null,null,null,null,null,null,null,null,null,null,"",{"$f":"IF(D2129=\"Cash and Deposits\",IF(E2129=\"\",\"BANK NAME REQUIRED\",IF(ISERROR(VLOOKUP(E2129,'Reference Data'!C:C,1,FALSE)),\"PLEASE SELECT A BANK FROM DEFINED LIST PROVIDED\",\"\")),\"\")","v":""},"No Entry",0]
[null,null,null,null,null,null,null,null,null,null,null,null,"",{"$f":"IF(D2130=\"Cash and Deposits\",IF(E2130=\"\",\"BANK NAME REQUIRED\",IF(ISERROR(VLOOKUP(E2130,'Reference Data'!C:C,1,FALSE)),\"PLEASE SELECT A BANK FROM DEFINED LIST PROVIDED\",\"\")),\"\")","v":""},"No Entry",0]
[null,null,null,null,null,null,null,null,null,null,null,null,"",{"$f":"IF(D2131=\"Cash and Deposits\",IF(E2131=\"\",\"BANK NAME REQUIRED\",IF(ISERROR(VLOOKUP(E2131,'Reference Data'!C:C,1,FALSE)),\"PLEASE SELECT A BANK FROM DEFINED LIST PROVIDED\",\"\")),\"\")","v":""},"No Entry",0]
[null,null,null,null,null,null,null,null,null,null,null,null,"",{"$f":"IF(D2132=\"Cash and Deposits\",IF(E2132=\"\",\"BANK NAME REQUIRED\",IF(ISERROR(VLOOKUP(E2132,'Reference Data'!C:C,1,FALSE)),\"PLEASE SELECT A BANK FROM DEFINED LIST PROVIDED\",\"\")),\"\")","v":""},"No Entry",0]
[null,null,null,null,null,null,null,null,null,null,null,null,"",{"$f":"IF(D2133=\"Cash and Deposits\",IF(E2133=\"\",\"BANK NAME REQUIRED\",IF(ISERROR(VLOOKUP(E2133,'Reference Data'!C:C,1,FALSE)),\"PLEASE SELECT A BANK FROM DEFINED LIST PROVIDED\",\"\")),\"\")","v":""},"No Entry",0]
[null,null,null,null,null,null,null,null,null,null,null,null,"",{"$f":"IF(D2134=\"Cash and Deposits\",IF(E2134=\"\",\"BANK NAME REQUIRED\",IF(ISERROR(VLOOKUP(E2134,'Reference Data'!C:C,1,FALSE)),\"PLEASE SELECT A BANK FROM DEFINED LIST PROVIDED\",\"\")),\"\")","v":""},"No Entry",0]
[null,null,null,null,null,null,null,null,null,null,null,null,"",{"$f":"IF(D2135=\"Cash and Deposits\",IF(E2135=\"\",\"BANK NAME REQUIRED\",IF(ISERROR(VLOOKUP(E2135,'Reference Data'!C:C,1,FALSE)),\"PLEASE SELECT A BANK FROM DEFINED LIST PROVIDED\",\"\")),\"\")","v":""},"No Entry",0]
[null,null,null,null,null,null,null,null,null,null,null,null,"",{"$f":"IF(D2136=\"Cash and Deposits\",IF(E2136=\"\",\"BANK NAME REQUIRED\",IF(ISERROR(VLOOKUP(E2136,'Reference Data'!C:C,1,FALSE)),\"PLEASE SELECT A BANK FROM DEFINED LIST PROVIDED\",\"\")),\"\")","v":""},"No Entry",0]
[null,null,null,null,null,null,null,null,null,null,null,null,"",{"$f":"IF(D2137=\"Cash and Deposits\",IF(E2137=\"\",\"BANK NAME REQUIRED\",IF(ISERROR(VLOOKUP(E2137,'Reference Data'!C:C,1,FALSE)),\"PLEASE SELECT A BANK FROM DEFINED LIST PROVIDED\",\"\")),\"\")","v":""},"No Entry",0]
[null,null,null,null,null,null,null,null,null,null,null,null,"",{"$f":"IF(D2138=\"Cash and Deposits\",IF(E2138=\"\",\"BANK NAME REQUIRED\",IF(ISERROR(VLOOKUP(E2138,'Reference Data'!C:C,1,FALSE)),\"PLEASE SELECT A BANK FROM DEFINED LIST PROVIDED\",\"\")),\"\")","v":""},"No Entry",0]
[null,null,null,null,null,null,null,null,null,null,null,null,"",{"$f":"IF(D2139=\"Cash and Deposits\",IF(E2139=\"\",\"BANK NAME REQUIRED\",IF(ISERROR(VLOOKUP(E2139,'Reference Data'!C:C,1,FALSE)),\"PLEASE SELECT A BANK FROM DEFINED LIST PROVIDED\",\"\")),\"\")","v":""},"No Entry",0]
[null,null,null,null,null,null,null,null,null,null,null,null,"",{"$f":"IF(D2140=\"Cash and Deposits\",IF(E2140=\"\",\"BANK NAME REQUIRED\",IF(ISERROR(VLOOKUP(E2140,'Reference Data'!C:C,1,FALSE)),\"PLEASE SELECT A BANK FROM DEFINED LIST PROVIDED\",\"\")),\"\")","v":""},"No Entry",0]
[null,null,null,null,null,null,null,null,null,null,null,null,"",{"$f":"IF(D2141=\"Cash and Deposits\",IF(E2141=\"\",\"BANK NAME REQUIRED\",IF(ISERROR(VLOOKUP(E2141,'Reference Data'!C:C,1,FALSE)),\"PLEASE SELECT A BANK FROM DEFINED LIST PROVIDED\",\"\")),\"\")","v":""},"No Entry",0]
[null,null,null,null,null,null,null,null,null,null,null,null,"",{"$f":"IF(D2142=\"Cash and Deposits\",IF(E2142=\"\",\"BANK NAME REQUIRED\",IF(ISERROR(VLOOKUP(E2142,'Reference Data'!C:C,1,FALSE)),\"PLEASE SELECT A BANK FROM DEFINED LIST PROVIDED\",\"\")),\"\")","v":""},"No Entry",0]
[null,null,null,null,null,null,null,null,null,null,null,null,"",{"$f":"IF(D2143=\"Cash and Deposits\",IF(E2143=\"\",\"BANK NAME REQUIRED\",IF(ISERROR(VLOOKUP(E2143,'Reference Data'!C:C,1,FALSE)),\"PLEASE SELECT A BANK FROM DEFINED LIST PROVIDED\",\"\")),\"\")","v":""},"No Entry",0]
[null,null,null,null,null,null,null,null,null,null,null,null,"",{"$f":"IF(D2144=\"Cash and Deposits\",IF(E2144=\"\",\"BANK NAME REQUIRED\",IF(ISERROR(VLOOKUP(E2144,'Reference Data'!C:C,1,FALSE)),\"PLEASE SELECT A BANK FROM DEFINED LIST PROVIDED\",\"\")),\"\")","v":""},"No Entry",0]
[null,null,null,null,null,null,null,null,null,null,null,null,"",{"$f":"IF(D2145=\"Cash and Deposits\",IF(E2145=\"\",\"BANK NAME REQUIRED\",IF(ISERROR(VLOOKUP(E2145,'Reference Data'!C:C,1,FALSE)),\"PLEASE SELECT A BANK FROM DEFINED LIST PROVIDED\",\"\")),\"\")","v":""},"No Entry",0]
[null,null,null,null,null,null,null,null,null,null,null,null,"",{"$f":"IF(D2146=\"Cash and Deposits\",IF(E2146=\"\",\"BANK NAME REQUIRED\",IF(ISERROR(VLOOKUP(E2146,'Reference Data'!C:C,1,FALSE)),\"PLEASE SELECT A BANK FROM DEFINED LIST PROVIDED\",\"\")),\"\")","v":""},"No Entry",0]
[null,null,null,null,null,null,null,null,null,null,null,null,"",{"$f":"IF(D2147=\"Cash and Deposits\",IF(E2147=\"\",\"BANK NAME REQUIRED\",IF(ISERROR(VLOOKUP(E2147,'Reference Data'!C:C,1,FALSE)),\"PLEASE SELECT A BANK FROM DEFINED LIST PROVIDED\",\"\")),\"\")","v":""},"No Entry",0]
[null,null,null,null,null,null,null,null,null,null,null,null,"",{"$f":"IF(D2148=\"Cash and Deposits\",IF(E2148=\"\",\"BANK NAME REQUIRED\",IF(ISERROR(VLOOKUP(E2148,'Reference Data'!C:C,1,FALSE)),\"PLEASE SELECT A BANK FROM DEFINED LIST PROVIDED\",\"\")),\"\")","v":""},"No Entry",0]
[null,null,null,null,null,null,null,null,null,null,null,null,"",{"$f":"IF(D2149=\"Cash and Deposits\",IF(E2149=\"\",\"BANK NAME REQUIRED\",IF(ISERROR(VLOOKUP(E2149,'Reference Data'!C:C,1,FALSE)),\"PLEASE SELECT A BANK FROM DEFINED LIST PROVIDED\",\"\")),\"\")","v":""},"No Entry",0]
[null,null,null,null,null,null,null,null,null,null,null,null,"",{"$f":"IF(D2150=\"Cash and Deposits\",IF(E2150=\"\",\"BANK NAME REQUIRED\",IF(ISERROR(VLOOKUP(E2150,'Reference Data'!C:C,1,FALSE)),\"PLEASE SELECT A BANK FROM DEFINED LIST PROVIDED\",\"\")),\"\")","v":""},"No Entry",0]
[null,null,null,null,null,null,null,null,null,null,null,null,"",{"$f":"IF(D2151=\"Cash and Deposits\",IF(E2151=\"\",\"BANK NAME REQUIRED\",IF(ISERROR(VLOOKUP(E2151,'Reference Data'!C:C,1,FALSE)),\"PLEASE SELECT A BANK FROM DEFINED LIST PROVIDED\",\"\")),\"\")","v":""},"No Entry",0]
[null,null,null,null,null,null,null,null,null,null,null,null,"",{"$f":"IF(D2152=\"Cash and Deposits\",IF(E2152=\"\",\"BANK NAME REQUIRED\",IF(ISERROR(VLOOKUP(E2152,'Reference Data'!C:C,1,FALSE)),\"PLEASE SELECT A BANK FROM DEFINED LIST PROVIDED\",\"\")),\"\")","v":""},"No Entry",0]
[null,null,null,null,null,null,null,null,null,null,null,null,"",{"$f":"IF(D2153=\"Cash and Deposits\",IF(E2153=\"\",\"BANK NAME REQUIRED\",IF(ISERROR(VLOOKUP(E2153,'Reference Data'!C:C,1,FALSE)),\"PLEASE SELECT A BANK FROM DEFINED LIST PROVIDED\",\"\")),\"\")","v":""},"No Entry",0]
[null,null,null,null,null,null,null,null,null,null,null,null,"",{"$f":"IF(D2154=\"Cash and Deposits\",IF(E2154=\"\",\"BANK NAME REQUIRED\",IF(ISERROR(VLOOKUP(E2154,'Reference Data'!C:C,1,FALSE)),\"PLEASE SELECT A BANK FROM DEFINED LIST PROVIDED\",\"\")),\"\")","v":""},"No Entry",0]
[null,null,null,null,null,null,null,null,null,null,null,null,"",{"$f":"IF(D2155=\"Cash and Deposits\",IF(E2155=\"\",\"BANK NAME REQUIRED\",IF(ISERROR(VLOOKUP(E2155,'Reference Data'!C:C,1,FALSE)),\"PLEASE SELECT A BANK FROM DEFINED LIST PROVIDED\",\"\")),\"\")","v":""},"No Entry",0]
[null,null,null,null,null,null,null,null,null,null,null,null,"",{"$f":"IF(D2156=\"Cash and Deposits\",IF(E2156=\"\",\"BANK NAME REQUIRED\",IF(ISERROR(VLOOKUP(E2156,'Reference Data'!C:C,1,FALSE)),\"PLEASE SELECT A BANK FROM DEFINED LIST PROVIDED\",\"\")),\"\")","v":""},"No Entry",0]
[null,null,null,null,null,null,null,null,null,null,null,null,"",{"$f":"IF(D2157=\"Cash and Deposits\",IF(E2157=\"\",\"BANK NAME REQUIRED\",IF(ISERROR(VLOOKUP(E2157,'Reference Data'!C:C,1,FALSE)),\"PLEASE SELECT A BANK FROM DEFINED LIST PROVIDED\",\"\")),\"\")","v":""},"No Entry",0]
[null,null,null,null,null,null,null,null,null,null,null,null,"",{"$f":"IF(D2158=\"Cash and Deposits\",IF(E2158=\"\",\"BANK NAME REQUIRED\",IF(ISERROR(VLOOKUP(E2158,'Reference Data'!C:C,1,FALSE)),\"PLEASE SELECT A BANK FROM DEFINED LIST PROVIDED\",\"\")),\"\")","v":""},"No Entry",0]
[null,null,null,null,null,null,null,null,null,null,null,null,"",{"$f":"IF(D2159=\"Cash and Deposits\",IF(E2159=\"\",\"BANK NAME REQUIRED\",IF(ISERROR(VLOOKUP(E2159,'Reference Data'!C:C,1,FALSE)),\"PLEASE SELECT A BANK FROM DEFINED LIST PROVIDED\",\"\")),\"\")","v":""},"No Entry",0]
[null,null,null,null,null,null,null,null,null,null,null,null,"",{"$f":"IF(D2160=\"Cash and Deposits\",IF(E2160=\"\",\"BANK NAME REQUIRED\",IF(ISERROR(VLOOKUP(E2160,'Reference Data'!C:C,1,FALSE)),\"PLEASE SELECT A BANK FROM DEFINED LIST PROVIDED\",\"\")),\"\")","v":""},"No Entry",0]
[null,null,null,null,null,null,null,null,null,null,null,null,"",{"$f":"IF(D2161=\"Cash and Deposits\",IF(E2161=\"\",\"BANK NAME REQUIRED\",IF(ISERROR(VLOOKUP(E2161,'Reference Data'!C:C,1,FALSE)),\"PLEASE SELECT A BANK FROM DEFINED LIST PROVIDED\",\"\")),\"\")","v":""},"No Entry",0]
[null,null,null,null,null,null,null,null,null,null,null,null,"",{"$f":"IF(D2162=\"Cash and Deposits\",IF(E2162=\"\",\"BANK NAME REQUIRED\",IF(ISERROR(VLOOKUP(E2162,'Reference Data'!C:C,1,FALSE)),\"PLEASE SELECT A BANK FROM DEFINED LIST PROVIDED\",\"\")),\"\")","v":""},"No Entry",0]
[null,null,null,null,null,null,null,null,null,null,null,null,"",{"$f":"IF(D2163=\"Cash and Deposits\",IF(E2163=\"\",\"BANK NAME REQUIRED\",IF(ISERROR(VLOOKUP(E2163,'Reference Data'!C:C,1,FALSE)),\"PLEASE SELECT A BANK FROM DEFINED LIST PROVIDED\",\"\")),\"\")","v":""},"No Entry",0]
[null,null,null,null,null,null,null,null,null,null,null,null,"",{"$f":"IF(D2164=\"Cash and Deposits\",IF(E2164=\"\",\"BANK NAME REQUIRED\",IF(ISERROR(VLOOKUP(E2164,'Reference Data'!C:C,1,FALSE)),\"PLEASE SELECT A BANK FROM DEFINED LIST PROVIDED\",\"\")),\"\")","v":""},"No Entry",0]
[null,null,null,null,null,null,null,null,null,null,null,null,"",{"$f":"IF(D2165=\"Cash and Deposits\",IF(E2165=\"\",\"BANK NAME REQUIRED\",IF(ISERROR(VLOOKUP(E2165,'Reference Data'!C:C,1,FALSE)),\"PLEASE SELECT A BANK FROM DEFINED LIST PROVIDED\",\"\")),\"\")","v":""},"No Entry",0]
[null,null,null,null,null,null,null,null,null,null,null,null,"",{"$f":"IF(D2166=\"Cash and Deposits\",IF(E2166=\"\",\"BANK NAME REQUIRED\",IF(ISERROR(VLOOKUP(E2166,'Reference Data'!C:C,1,FALSE)),\"PLEASE SELECT A BANK FROM DEFINED LIST PROVIDED\",\"\")),\"\")","v":""},"No Entry",0]
[null,null,null,null,null,null,null,null,null,null,null,null,"",{"$f":"IF(D2167=\"Cash and Deposits\",IF(E2167=\"\",\"BANK NAME REQUIRED\",IF(ISERROR(VLOOKUP(E2167,'Reference Data'!C:C,1,FALSE)),\"PLEASE SELECT A BANK FROM DEFINED LIST PROVIDED\",\"\")),\"\")","v":""},"No Entry",0]
[null,null,null,null,null,null,null,null,null,null,null,null,"",{"$f":"IF(D2168=\"Cash and Deposits\",IF(E2168=\"\",\"BANK NAME REQUIRED\",IF(ISERROR(VLOOKUP(E2168,'Reference Data'!C:C,1,FALSE)),\"PLEASE SELECT A BANK FROM DEFINED LIST PROVIDED\",\"\")),\"\")","v":""},"No Entry",0]
[null,null,null,null,null,null,null,null,null,null,null,null,"",{"$f":"IF(D2169=\"Cash and Deposits\",IF(E2169=\"\",\"BANK NAME REQUIRED\",IF(ISERROR(VLOOKUP(E2169,'Reference Data'!C:C,1,FALSE)),\"PLEASE SELECT A BANK FROM DEFINED LIST PROVIDED\",\"\")),\"\")","v":""},"No Entry",0]
[null,null,null,null,null,null,null,null,null,null,null,null,"",{"$f":"IF(D2170=\"Cash and Deposits\",IF(E2170=\"\",\"BANK NAME REQUIRED\",IF(ISERROR(VLOOKUP(E2170,'Reference Data'!C:C,1,FALSE)),\"PLEASE SELECT A BANK FROM DEFINED LIST PROVIDED\",\"\")),\"\")","v":""},"No Entry",0]
[null,null,null,null,null,null,null,null,null,null,null,null,"",{"$f":"IF(D2171=\"Cash and Deposits\",IF(E2171=\"\",\"BANK NAME REQUIRED\",IF(ISERROR(VLOOKUP(E2171,'Reference Data'!C:C,1,FALSE)),\"PLEASE SELECT A BANK FROM DEFINED LIST PROVIDED\",\"\")),\"\")","v":""},"No Entry",0]
[null,null,null,null,null,null,null,null,null,null,null,null,"",{"$f":"IF(D2172=\"Cash and Deposits\",IF(E2172=\"\",\"BANK NAME REQUIRED\",IF(ISERROR(VLOOKUP(E2172,'Reference Data'!C:C,1,FALSE)),\"PLEASE SELECT A BANK FROM DEFINED LIST PROVIDED\",\"\")),\"\")","v":""},"No Entry",0]
[null,null,null,null,null,null,null,null,null,null,null,null,"",{"$f":"IF(D2173=\"Cash and Deposits\",IF(E2173=\"\",\"BANK NAME REQUIRED\",IF(ISERROR(VLOOKUP(E2173,'Reference Data'!C:C,1,FALSE)),\"PLEASE SELECT A BANK FROM DEFINED LIST PROVIDED\",\"\")),\"\")","v":""},"No Entry",0]
[null,null,null,null,null,null,null,null,null,null,null,null,"",{"$f":"IF(D2174=\"Cash and Deposits\",IF(E2174=\"\",\"BANK NAME REQUIRED\",IF(ISERROR(VLOOKUP(E2174,'Reference Data'!C:C,1,FALSE)),\"PLEASE SELECT A BANK FROM DEFINED LIST PROVIDED\",\"\")),\"\")","v":""},"No Entry",0]
[null,null,null,null,null,null,null,null,null,null,null,null,"",{"$f":"IF(D2175=\"Cash and Deposits\",IF(E2175=\"\",\"BANK NAME REQUIRED\",IF(ISERROR(VLOOKUP(E2175,'Reference Data'!C:C,1,FALSE)),\"PLEASE SELECT A BANK FROM DEFINED LIST PROVIDED\",\"\")),\"\")","v":""},"No Entry",0]
[null,null,null,null,null,null,null,null,null,null,null,null,"",{"$f":"IF(D2176=\"Cash and Deposits\",IF(E2176=\"\",\"BANK NAME REQUIRED\",IF(ISERROR(VLOOKUP(E2176,'Reference Data'!C:C,1,FALSE)),\"PLEASE SELECT A BANK FROM DEFINED LIST PROVIDED\",\"\")),\"\")","v":""},"No Entry",0]
[null,null,null,null,null,null,null,null,null,null,null,null,"",{"$f":"IF(D2177=\"Cash and Deposits\",IF(E2177=\"\",\"BANK NAME REQUIRED\",IF(ISERROR(VLOOKUP(E2177,'Reference Data'!C:C,1,FALSE)),\"PLEASE SELECT A BANK FROM DEFINED LIST PROVIDED\",\"\")),\"\")","v":""},"No Entry",0]
[null,null,null,null,null,null,null,null,null,null,null,null,"",{"$f":"IF(D2178=\"Cash and Deposits\",IF(E2178=\"\",\"BANK NAME REQUIRED\",IF(ISERROR(VLOOKUP(E2178,'Reference Data'!C:C,1,FALSE)),\"PLEASE SELECT A BANK FROM DEFINED LIST PROVIDED\",\"\")),\"\")","v":""},"No Entry",0]
[null,null,null,null,null,null,null,null,null,null,null,null,"",{"$f":"IF(D2179=\"Cash and Deposits\",IF(E2179=\"\",\"BANK NAME REQUIRED\",IF(ISERROR(VLOOKUP(E2179,'Reference Data'!C:C,1,FALSE)),\"PLEASE SELECT A BANK FROM DEFINED LIST PROVIDED\",\"\")),\"\")","v":""},"No Entry",0]
[null,null,null,null,null,null,null,null,null,null,null,null,"",{"$f":"IF(D2180=\"Cash and Deposits\",IF(E2180=\"\",\"BANK NAME REQUIRED\",IF(ISERROR(VLOOKUP(E2180,'Reference Data'!C:C,1,FALSE)),\"PLEASE SELECT A BANK FROM DEFINED LIST PROVIDED\",\"\")),\"\")","v":""},"No Entry",0]
[null,null,null,null,null,null,null,null,null,null,null,null,{"$f":"IF(K2181<>0,IF(B2181=\"\",\"ID CODE REQUIRED\",\"\"),\"\")","v":""},{"$f":"IF(D2181=\"Cash and Deposits\",IF(E2181=\"\",\"BANK NAME REQUIRED\",IF(ISERROR(VLOOKUP(E2181,'Reference Data'!C:C,1,FALSE)),\"PLEASE SELECT A BANK FROM DEFINED LIST PROVIDED\",\"\")),\"\")","v":""},{"$f":"IF(K2181=0,\"No Entry\",\"\")","v":"No Entry"},{"$f":"IF(K2181<>0,IF(A2181=\"\",1,0),0)","v":0}]
[null,null,null,null,null,null,null,null,null,null,null,null,"",{"$f":"IF(D2182=\"Cash and Deposits\",IF(E2182=\"\",\"BANK NAME REQUIRED\",IF(ISERROR(VLOOKUP(E2182,'Reference Data'!C:C,1,FALSE)),\"PLEASE SELECT A BANK FROM DEFINED LIST PROVIDED\",\"\")),\"\")","v":""},"No Entry",0]
[null,null,null,null,null,null,null,null,null,null,null,null,"",{"$f":"IF(D2183=\"Cash and Deposits\",IF(E2183=\"\",\"BANK NAME REQUIRED\",IF(ISERROR(VLOOKUP(E2183,'Reference Data'!C:C,1,FALSE)),\"PLEASE SELECT A BANK FROM DEFINED LIST PROVIDED\",\"\")),\"\")","v":""},"No Entry",0]
[null,null,null,null,null,null,null,null,null,null,null,null,"",{"$f":"IF(D2184=\"Cash and Deposits\",IF(E2184=\"\",\"BANK NAME REQUIRED\",IF(ISERROR(VLOOKUP(E2184,'Reference Data'!C:C,1,FALSE)),\"PLEASE SELECT A BANK FROM DEFINED LIST PROVIDED\",\"\")),\"\")","v":""},"No Entry",0]
[null,null,null,null,null,null,null,null,null,null,null,null,"",{"$f":"IF(D2185=\"Cash and Deposits\",IF(E2185=\"\",\"BANK NAME REQUIRED\",IF(ISERROR(VLOOKUP(E2185,'Reference Data'!C:C,1,FALSE)),\"PLEASE SELECT A BANK FROM DEFINED LIST PROVIDED\",\"\")),\"\")","v":""},"No Entry",0]
[null,null,null,null,null,null,null,null,null,null,null,null,"",{"$f":"IF(D2186=\"Cash and Deposits\",IF(E2186=\"\",\"BANK NAME REQUIRED\",IF(ISERROR(VLOOKUP(E2186,'Reference Data'!C:C,1,FALSE)),\"PLEASE SELECT A BANK FROM DEFINED LIST PROVIDED\",\"\")),\"\")","v":""},"No Entry",0]
[null,null,null,null,null,null,null,null,null,null,null,null,"",{"$f":"IF(D2187=\"Cash and Deposits\",IF(E2187=\"\",\"BANK NAME REQUIRED\",IF(ISERROR(VLOOKUP(E2187,'Reference Data'!C:C,1,FALSE)),\"PLEASE SELECT A BANK FROM DEFINED LIST PROVIDED\",\"\")),\"\")","v":""},"No Entry",0]
[null,null,null,null,null,null,null,null,null,null,null,null,"",{"$f":"IF(D2188=\"Cash and Deposits\",IF(E2188=\"\",\"BANK NAME REQUIRED\",IF(ISERROR(VLOOKUP(E2188,'Reference Data'!C:C,1,FALSE)),\"PLEASE SELECT A BANK FROM DEFINED LIST PROVIDED\",\"\")),\"\")","v":""},"No Entry",0]
[null,null,null,null,null,null,null,null,null,null,null,null,"",{"$f":"IF(D2189=\"Cash and Deposits\",IF(E2189=\"\",\"BANK NAME REQUIRED\",IF(ISERROR(VLOOKUP(E2189,'Reference Data'!C:C,1,FALSE)),\"PLEASE SELECT A BANK FROM DEFINED LIST PROVIDED\",\"\")),\"\")","v":""},"No Entry",0]
[null,null,null,null,null,null,null,null,null,null,null,null,"",{"$f":"IF(D2190=\"Cash and Deposits\",IF(E2190=\"\",\"BANK NAME REQUIRED\",IF(ISERROR(VLOOKUP(E2190,'Reference Data'!C:C,1,FALSE)),\"PLEASE SELECT A BANK FROM DEFINED LIST PROVIDED\",\"\")),\"\")","v":""},"No Entry",0]
[null,null,null,null,null,null,null,null,null,null,null,null,"",{"$f":"IF(D2191=\"Cash and Deposits\",IF(E2191=\"\",\"BANK NAME REQUIRED\",IF(ISERROR(VLOOKUP(E2191,'Reference Data'!C:C,1,FALSE)),\"PLEASE SELECT A BANK FROM DEFINED LIST PROVIDED\",\"\")),\"\")","v":""},"No Entry",0]
[null,null,null,null,null,null,null,null,null,null,null,null,"",{"$f":"IF(D2192=\"Cash and Deposits\",IF(E2192=\"\",\"BANK NAME REQUIRED\",IF(ISERROR(VLOOKUP(E2192,'Reference Data'!C:C,1,FALSE)),\"PLEASE SELECT A BANK FROM DEFINED LIST PROVIDED\",\"\")),\"\")","v":""},"No Entry",0]
[null,null,null,null,null,null,null,null,null,null,null,null,"",{"$f":"IF(D2193=\"Cash and Deposits\",IF(E2193=\"\",\"BANK NAME REQUIRED\",IF(ISERROR(VLOOKUP(E2193,'Reference Data'!C:C,1,FALSE)),\"PLEASE SELECT A BANK FROM DEFINED LIST PROVIDED\",\"\")),\"\")","v":""},"No Entry",0]
[null,null,null,null,null,null,null,null,null,null,null,null,"",{"$f":"IF(D2194=\"Cash and Deposits\",IF(E2194=\"\",\"BANK NAME REQUIRED\",IF(ISERROR(VLOOKUP(E2194,'Reference Data'!C:C,1,FALSE)),\"PLEASE SELECT A BANK FROM DEFINED LIST PROVIDED\",\"\")),\"\")","v":""},"No Entry",0]
[null,null,null,null,null,null,null,null,null,null,null,null,"",{"$f":"IF(D2195=\"Cash and Deposits\",IF(E2195=\"\",\"BANK NAME REQUIRED\",IF(ISERROR(VLOOKUP(E2195,'Reference Data'!C:C,1,FALSE)),\"PLEASE SELECT A BANK FROM DEFINED LIST PROVIDED\",\"\")),\"\")","v":""},"No Entry",0]
[null,null,null,null,null,null,null,null,null,null,null,null,"",{"$f":"IF(D2196=\"Cash and Deposits\",IF(E2196=\"\",\"BANK NAME REQUIRED\",IF(ISERROR(VLOOKUP(E2196,'Reference Data'!C:C,1,FALSE)),\"PLEASE SELECT A BANK FROM DEFINED LIST PROVIDED\",\"\")),\"\")","v":""},"No Entry",0]
[null,null,null,null,null,null,null,null,null,null,null,null,"",{"$f":"IF(D2197=\"Cash and Deposits\",IF(E2197=\"\",\"BANK NAME REQUIRED\",IF(ISERROR(VLOOKUP(E2197,'Reference Data'!C:C,1,FALSE)),\"PLEASE SELECT A BANK FROM DEFINED LIST PROVIDED\",\"\")),\"\")","v":""},"No Entry",0]
[null,null,null,null,null,null,null,null,null,null,null,null,"",{"$f":"IF(D2198=\"Cash and Deposits\",IF(E2198=\"\",\"BANK NAME REQUIRED\",IF(ISERROR(VLOOKUP(E2198,'Reference Data'!C:C,1,FALSE)),\"PLEASE SELECT A BANK FROM DEFINED LIST PROVIDED\",\"\")),\"\")","v":""},"No Entry",0]
[null,null,null,null,null,null,null,null,null,null,null,null,"",{"$f":"IF(D2199=\"Cash and Deposits\",IF(E2199=\"\",\"BANK NAME REQUIRED\",IF(ISERROR(VLOOKUP(E2199,'Reference Data'!C:C,1,FALSE)),\"PLEASE SELECT A BANK FROM DEFINED LIST PROVIDED\",\"\")),\"\")","v":""},"No Entry",0]
[null,null,null,null,null,null,null,null,null,null,null,null,"",{"$f":"IF(D2200=\"Cash and Deposits\",IF(E2200=\"\",\"BANK NAME REQUIRED\",IF(ISERROR(VLOOKUP(E2200,'Reference Data'!C:C,1,FALSE)),\"PLEASE SELECT A BANK FROM DEFINED LIST PROVIDED\",\"\")),\"\")","v":""},"No Entry",0]
[null,null,null,null,null,null,null,null,null,null,null,null,"",{"$f":"IF(D2201=\"Cash and Deposits\",IF(E2201=\"\",\"BANK NAME REQUIRED\",IF(ISERROR(VLOOKUP(E2201,'Reference Data'!C:C,1,FALSE)),\"PLEASE SELECT A BANK FROM DEFINED LIST PROVIDED\",\"\")),\"\")","v":""},"No Entry",0]
[null,null,null,null,null,null,null,null,null,null,null,null,"",{"$f":"IF(D2202=\"Cash and Deposits\",IF(E2202=\"\",\"BANK NAME REQUIRED\",IF(ISERROR(VLOOKUP(E2202,'Reference Data'!C:C,1,FALSE)),\"PLEASE SELECT A BANK FROM DEFINED LIST PROVIDED\",\"\")),\"\")","v":""},"No Entry",0]
[null,null,null,null,null,null,null,null,null,null,null,null,"",{"$f":"IF(D2203=\"Cash and Deposits\",IF(E2203=\"\",\"BANK NAME REQUIRED\",IF(ISERROR(VLOOKUP(E2203,'Reference Data'!C:C,1,FALSE)),\"PLEASE SELECT A BANK FROM DEFINED LIST PROVIDED\",\"\")),\"\")","v":""},"No Entry",0]
[null,null,null,null,null,null,null,null,null,null,null,null,"",{"$f":"IF(D2204=\"Cash and Deposits\",IF(E2204=\"\",\"BANK NAME REQUIRED\",IF(ISERROR(VLOOKUP(E2204,'Reference Data'!C:C,1,FALSE)),\"PLEASE SELECT A BANK FROM DEFINED LIST PROVIDED\",\"\")),\"\")","v":""},"No Entry",0]
[null,null,null,null,null,null,null,null,null,null,null,null,"",{"$f":"IF(D2205=\"Cash and Deposits\",IF(E2205=\"\",\"BANK NAME REQUIRED\",IF(ISERROR(VLOOKUP(E2205,'Reference Data'!C:C,1,FALSE)),\"PLEASE SELECT A BANK FROM DEFINED LIST PROVIDED\",\"\")),\"\")","v":""},"No Entry",0]
[null,null,null,null,null,null,null,null,null,null,null,null,"",{"$f":"IF(D2206=\"Cash and Deposits\",IF(E2206=\"\",\"BANK NAME REQUIRED\",IF(ISERROR(VLOOKUP(E2206,'Reference Data'!C:C,1,FALSE)),\"PLEASE SELECT A BANK FROM DEFINED LIST PROVIDED\",\"\")),\"\")","v":""},"No Entry",0]
[null,null,null,null,null,null,null,null,null,null,null,null,"",{"$f":"IF(D2207=\"Cash and Deposits\",IF(E2207=\"\",\"BANK NAME REQUIRED\",IF(ISERROR(VLOOKUP(E2207,'Reference Data'!C:C,1,FALSE)),\"PLEASE SELECT A BANK FROM DEFINED LIST PROVIDED\",\"\")),\"\")","v":""},"No Entry",0]
[null,null,null,null,null,null,null,null,null,null,null,null,"",{"$f":"IF(D2208=\"Cash and Deposits\",IF(E2208=\"\",\"BANK NAME REQUIRED\",IF(ISERROR(VLOOKUP(E2208,'Reference Data'!C:C,1,FALSE)),\"PLEASE SELECT A BANK FROM DEFINED LIST PROVIDED\",\"\")),\"\")","v":""},"No Entry",0]
[null,null,null,null,null,null,null,null,null,null,null,null,"",{"$f":"IF(D2209=\"Cash and Deposits\",IF(E2209=\"\",\"BANK NAME REQUIRED\",IF(ISERROR(VLOOKUP(E2209,'Reference Data'!C:C,1,FALSE)),\"PLEASE SELECT A BANK FROM DEFINED LIST PROVIDED\",\"\")),\"\")","v":""},"No Entry",0]
[null,null,null,null,null,null,null,null,null,null,null,null,"",{"$f":"IF(D2210=\"Cash and Deposits\",IF(E2210=\"\",\"BANK NAME REQUIRED\",IF(ISERROR(VLOOKUP(E2210,'Reference Data'!C:C,1,FALSE)),\"PLEASE SELECT A BANK FROM DEFINED LIST PROVIDED\",\"\")),\"\")","v":""},"No Entry",0]
[null,null,null,null,null,null,null,null,null,null,null,null,"",{"$f":"IF(D2211=\"Cash and Deposits\",IF(E2211=\"\",\"BANK NAME REQUIRED\",IF(ISERROR(VLOOKUP(E2211,'Reference Data'!C:C,1,FALSE)),\"PLEASE SELECT A BANK FROM DEFINED LIST PROVIDED\",\"\")),\"\")","v":""},"No Entry",0]
[null,null,null,null,null,null,null,null,null,null,null,null,"",{"$f":"IF(D2212=\"Cash and Deposits\",IF(E2212=\"\",\"BANK NAME REQUIRED\",IF(ISERROR(VLOOKUP(E2212,'Reference Data'!C:C,1,FALSE)),\"PLEASE SELECT A BANK FROM DEFINED LIST PROVIDED\",\"\")),\"\")","v":""},"No Entry",0]
[null,null,null,null,null,null,null,null,null,null,null,null,"",{"$f":"IF(D2213=\"Cash and Deposits\",IF(E2213=\"\",\"BANK NAME REQUIRED\",IF(ISERROR(VLOOKUP(E2213,'Reference Data'!C:C,1,FALSE)),\"PLEASE SELECT A BANK FROM DEFINED LIST PROVIDED\",\"\")),\"\")","v":""},"No Entry",0]
[null,null,null,null,null,null,null,null,null,null,null,null,"",{"$f":"IF(D2214=\"Cash and Deposits\",IF(E2214=\"\",\"BANK NAME REQUIRED\",IF(ISERROR(VLOOKUP(E2214,'Reference Data'!C:C,1,FALSE)),\"PLEASE SELECT A BANK FROM DEFINED LIST PROVIDED\",\"\")),\"\")","v":""},"No Entry",0]
[null,null,null,null,null,null,null,null,null,null,null,null,"",{"$f":"IF(D2215=\"Cash and Deposits\",IF(E2215=\"\",\"BANK NAME REQUIRED\",IF(ISERROR(VLOOKUP(E2215,'Reference Data'!C:C,1,FALSE)),\"PLEASE SELECT A BANK FROM DEFINED LIST PROVIDED\",\"\")),\"\")","v":""},"No Entry",0]
[null,null,null,null,null,null,null,null,null,null,null,null,"",{"$f":"IF(D2216=\"Cash and Deposits\",IF(E2216=\"\",\"BANK NAME REQUIRED\",IF(ISERROR(VLOOKUP(E2216,'Reference Data'!C:C,1,FALSE)),\"PLEASE SELECT A BANK FROM DEFINED LIST PROVIDED\",\"\")),\"\")","v":""},"No Entry",0]
[null,null,null,null,null,null,null,null,null,null,null,null,"",{"$f":"IF(D2217=\"Cash and Deposits\",IF(E2217=\"\",\"BANK NAME REQUIRED\",IF(ISERROR(VLOOKUP(E2217,'Reference Data'!C:C,1,FALSE)),\"PLEASE SELECT A BANK FROM DEFINED LIST PROVIDED\",\"\")),\"\")","v":""},"No Entry",0]
[null,null,null,null,null,null,null,null,null,null,null,null,"",{"$f":"IF(D2218=\"Cash and Deposits\",IF(E2218=\"\",\"BANK NAME REQUIRED\",IF(ISERROR(VLOOKUP(E2218,'Reference Data'!C:C,1,FALSE)),\"PLEASE SELECT A BANK FROM DEFINED LIST PROVIDED\",\"\")),\"\")","v":""},"No Entry",0]
[null,null,null,null,null,null,null,null,null,null,null,null,"",{"$f":"IF(D2219=\"Cash and Deposits\",IF(E2219=\"\",\"BANK NAME REQUIRED\",IF(ISERROR(VLOOKUP(E2219,'Reference Data'!C:C,1,FALSE)),\"PLEASE SELECT A BANK FROM DEFINED LIST PROVIDED\",\"\")),\"\")","v":""},"No Entry",0]
[null,null,null,null,null,null,null,null,null,null,null,null,"",{"$f":"IF(D2220=\"Cash and Deposits\",IF(E2220=\"\",\"BANK NAME REQUIRED\",IF(ISERROR(VLOOKUP(E2220,'Reference Data'!C:C,1,FALSE)),\"PLEASE SELECT A BANK FROM DEFINED LIST PROVIDED\",\"\")),\"\")","v":""},"No Entry",0]
[null,null,null,null,null,null,null,null,null,null,null,null,"",{"$f":"IF(D2221=\"Cash and Deposits\",IF(E2221=\"\",\"BANK NAME REQUIRED\",IF(ISERROR(VLOOKUP(E2221,'Reference Data'!C:C,1,FALSE)),\"PLEASE SELECT A BANK FROM DEFINED LIST PROVIDED\",\"\")),\"\")","v":""},"No Entry",0]
[null,null,null,null,null,null,null,null,null,null,null,null,"",{"$f":"IF(D2222=\"Cash and Deposits\",IF(E2222=\"\",\"BANK NAME REQUIRED\",IF(ISERROR(VLOOKUP(E2222,'Reference Data'!C:C,1,FALSE)),\"PLEASE SELECT A BANK FROM DEFINED LIST PROVIDED\",\"\")),\"\")","v":""},"No Entry",0]
[null,null,null,null,null,null,null,null,null,null,null,null,"",{"$f":"IF(D2223=\"Cash and Deposits\",IF(E2223=\"\",\"BANK NAME REQUIRED\",IF(ISERROR(VLOOKUP(E2223,'Reference Data'!C:C,1,FALSE)),\"PLEASE SELECT A BANK FROM DEFINED LIST PROVIDED\",\"\")),\"\")","v":""},"No Entry",0]
[null,null,null,null,null,null,null,null,null,null,null,null,"",{"$f":"IF(D2224=\"Cash and Deposits\",IF(E2224=\"\",\"BANK NAME REQUIRED\",IF(ISERROR(VLOOKUP(E2224,'Reference Data'!C:C,1,FALSE)),\"PLEASE SELECT A BANK FROM DEFINED LIST PROVIDED\",\"\")),\"\")","v":""},"No Entry",0]
[null,null,null,null,null,null,null,null,null,null,null,null,"",{"$f":"IF(D2225=\"Cash and Deposits\",IF(E2225=\"\",\"BANK NAME REQUIRED\",IF(ISERROR(VLOOKUP(E2225,'Reference Data'!C:C,1,FALSE)),\"PLEASE SELECT A BANK FROM DEFINED LIST PROVIDED\",\"\")),\"\")","v":""},"No Entry",0]
[null,null,null,null,null,null,null,null,null,null,null,null,"",{"$f":"IF(D2226=\"Cash and Deposits\",IF(E2226=\"\",\"BANK NAME REQUIRED\",IF(ISERROR(VLOOKUP(E2226,'Reference Data'!C:C,1,FALSE)),\"PLEASE SELECT A BANK FROM DEFINED LIST PROVIDED\",\"\")),\"\")","v":""},"No Entry",0]
[null,null,null,null,null,null,null,null,null,null,null,null,"",{"$f":"IF(D2227=\"Cash and Deposits\",IF(E2227=\"\",\"BANK NAME REQUIRED\",IF(ISERROR(VLOOKUP(E2227,'Reference Data'!C:C,1,FALSE)),\"PLEASE SELECT A BANK FROM DEFINED LIST PROVIDED\",\"\")),\"\")","v":""},"No Entry",0]
[null,null,null,null,null,null,null,null,null,null,null,null,"",{"$f":"IF(D2228=\"Cash and Deposits\",IF(E2228=\"\",\"BANK NAME REQUIRED\",IF(ISERROR(VLOOKUP(E2228,'Reference Data'!C:C,1,FALSE)),\"PLEASE SELECT A BANK FROM DEFINED LIST PROVIDED\",\"\")),\"\")","v":""},"No Entry",0]
[null,null,null,null,null,null,null,null,null,null,null,null,"",{"$f":"IF(D2229=\"Cash and Deposits\",IF(E2229=\"\",\"BANK NAME REQUIRED\",IF(ISERROR(VLOOKUP(E2229,'Reference Data'!C:C,1,FALSE)),\"PLEASE SELECT A BANK FROM DEFINED LIST PROVIDED\",\"\")),\"\")","v":""},"No Entry",0]
[null,null,null,null,null,null,null,null,null,null,null,null,"",{"$f":"IF(D2230=\"Cash and Deposits\",IF(E2230=\"\",\"BANK NAME REQUIRED\",IF(ISERROR(VLOOKUP(E2230,'Reference Data'!C:C,1,FALSE)),\"PLEASE SELECT A BANK FROM DEFINED LIST PROVIDED\",\"\")),\"\")","v":""},"No Entry",0]
[null,null,null,null,null,null,null,null,null,null,null,null,"",{"$f":"IF(D2231=\"Cash and Deposits\",IF(E2231=\"\",\"BANK NAME REQUIRED\",IF(ISERROR(VLOOKUP(E2231,'Reference Data'!C:C,1,FALSE)),\"PLEASE SELECT A BANK FROM DEFINED LIST PROVIDED\",\"\")),\"\")","v":""},"No Entry",0]
[null,null,null,null,null,null,null,null,null,null,null,null,"",{"$f":"IF(D2232=\"Cash and Deposits\",IF(E2232=\"\",\"BANK NAME REQUIRED\",IF(ISERROR(VLOOKUP(E2232,'Reference Data'!C:C,1,FALSE)),\"PLEASE SELECT A BANK FROM DEFINED LIST PROVIDED\",\"\")),\"\")","v":""},"No Entry",0]
[null,null,null,null,null,null,null,null,null,null,null,null,"",{"$f":"IF(D2233=\"Cash and Deposits\",IF(E2233=\"\",\"BANK NAME REQUIRED\",IF(ISERROR(VLOOKUP(E2233,'Reference Data'!C:C,1,FALSE)),\"PLEASE SELECT A BANK FROM DEFINED LIST PROVIDED\",\"\")),\"\")","v":""},"No Entry",0]
[null,null,null,null,null,null,null,null,null,null,null,null,"",{"$f":"IF(D2234=\"Cash and Deposits\",IF(E2234=\"\",\"BANK NAME REQUIRED\",IF(ISERROR(VLOOKUP(E2234,'Reference Data'!C:C,1,FALSE)),\"PLEASE SELECT A BANK FROM DEFINED LIST PROVIDED\",\"\")),\"\")","v":""},"No Entry",0]
[null,null,null,null,null,null,null,null,null,null,null,null,"",{"$f":"IF(D2235=\"Cash and Deposits\",IF(E2235=\"\",\"BANK NAME REQUIRED\",IF(ISERROR(VLOOKUP(E2235,'Reference Data'!C:C,1,FALSE)),\"PLEASE SELECT A BANK FROM DEFINED LIST PROVIDED\",\"\")),\"\")","v":""},"No Entry",0]
[null,null,null,null,null,null,null,null,null,null,null,null,"",{"$f":"IF(D2236=\"Cash and Deposits\",IF(E2236=\"\",\"BANK NAME REQUIRED\",IF(ISERROR(VLOOKUP(E2236,'Reference Data'!C:C,1,FALSE)),\"PLEASE SELECT A BANK FROM DEFINED LIST PROVIDED\",\"\")),\"\")","v":""},"No Entry",0]
[null,null,null,null,null,null,null,null,null,null,null,null,"",{"$f":"IF(D2237=\"Cash and Deposits\",IF(E2237=\"\",\"BANK NAME REQUIRED\",IF(ISERROR(VLOOKUP(E2237,'Reference Data'!C:C,1,FALSE)),\"PLEASE SELECT A BANK FROM DEFINED LIST PROVIDED\",\"\")),\"\")","v":""},"No Entry",0]
[null,null,null,null,null,null,null,null,null,null,null,null,"",{"$f":"IF(D2238=\"Cash and Deposits\",IF(E2238=\"\",\"BANK NAME REQUIRED\",IF(ISERROR(VLOOKUP(E2238,'Reference Data'!C:C,1,FALSE)),\"PLEASE SELECT A BANK FROM DEFINED LIST PROVIDED\",\"\")),\"\")","v":""},"No Entry",0]
[null,null,null,null,null,null,null,null,null,null,null,null,"",{"$f":"IF(D2239=\"Cash and Deposits\",IF(E2239=\"\",\"BANK NAME REQUIRED\",IF(ISERROR(VLOOKUP(E2239,'Reference Data'!C:C,1,FALSE)),\"PLEASE SELECT A BANK FROM DEFINED LIST PROVIDED\",\"\")),\"\")","v":""},"No Entry",0]
[null,null,null,null,null,null,null,null,null,null,null,null,"",{"$f":"IF(D2240=\"Cash and Deposits\",IF(E2240=\"\",\"BANK NAME REQUIRED\",IF(ISERROR(VLOOKUP(E2240,'Reference Data'!C:C,1,FALSE)),\"PLEASE SELECT A BANK FROM DEFINED LIST PROVIDED\",\"\")),\"\")","v":""},"No Entry",0]
[null,null,null,null,null,null,null,null,null,null,null,null,"",{"$f":"IF(D2241=\"Cash and Deposits\",IF(E2241=\"\",\"BANK NAME REQUIRED\",IF(ISERROR(VLOOKUP(E2241,'Reference Data'!C:C,1,FALSE)),\"PLEASE SELECT A BANK FROM DEFINED LIST PROVIDED\",\"\")),\"\")","v":""},"No Entry",0]
[null,null,null,null,null,null,null,null,null,null,null,null,"",{"$f":"IF(D2242=\"Cash and Deposits\",IF(E2242=\"\",\"BANK NAME REQUIRED\",IF(ISERROR(VLOOKUP(E2242,'Reference Data'!C:C,1,FALSE)),\"PLEASE SELECT A BANK FROM DEFINED LIST PROVIDED\",\"\")),\"\")","v":""},"No Entry",0]
[null,null,null,null,null,null,null,null,null,null,null,null,"",{"$f":"IF(D2243=\"Cash and Deposits\",IF(E2243=\"\",\"BANK NAME REQUIRED\",IF(ISERROR(VLOOKUP(E2243,'Reference Data'!C:C,1,FALSE)),\"PLEASE SELECT A BANK FROM DEFINED LIST PROVIDED\",\"\")),\"\")","v":""},"No Entry",0]
[null,null,null,null,null,null,null,null,null,null,null,null,"",{"$f":"IF(D2244=\"Cash and Deposits\",IF(E2244=\"\",\"BANK NAME REQUIRED\",IF(ISERROR(VLOOKUP(E2244,'Reference Data'!C:C,1,FALSE)),\"PLEASE SELECT A BANK FROM DEFINED LIST PROVIDED\",\"\")),\"\")","v":""},"No Entry",0]
[null,null,null,null,null,null,null,null,null,null,null,null,{"$f":"IF(K2245<>0,IF(B2245=\"\",\"ID CODE REQUIRED\",\"\"),\"\")","v":""},{"$f":"IF(D2245=\"Cash and Deposits\",IF(E2245=\"\",\"BANK NAME REQUIRED\",IF(ISERROR(VLOOKUP(E2245,'Reference Data'!C:C,1,FALSE)),\"PLEASE SELECT A BANK FROM DEFINED LIST PROVIDED\",\"\")),\"\")","v":""},{"$f":"IF(K2245=0,\"No Entry\",\"\")","v":"No Entry"},{"$f":"IF(K2245<>0,IF(A2245=\"\",1,0),0)","v":0}]
[null,null,null,null,null,null,null,null,null,null,null,null,"",{"$f":"IF(D2246=\"Cash and Deposits\",IF(E2246=\"\",\"BANK NAME REQUIRED\",IF(ISERROR(VLOOKUP(E2246,'Reference Data'!C:C,1,FALSE)),\"PLEASE SELECT A BANK FROM DEFINED LIST PROVIDED\",\"\")),\"\")","v":""},"No Entry",0]
[null,null,null,null,null,null,null,null,null,null,null,null,"",{"$f":"IF(D2247=\"Cash and Deposits\",IF(E2247=\"\",\"BANK NAME REQUIRED\",IF(ISERROR(VLOOKUP(E2247,'Reference Data'!C:C,1,FALSE)),\"PLEASE SELECT A BANK FROM DEFINED LIST PROVIDED\",\"\")),\"\")","v":""},"No Entry",0]
[null,null,null,null,null,null,null,null,null,null,null,null,"",{"$f":"IF(D2248=\"Cash and Deposits\",IF(E2248=\"\",\"BANK NAME REQUIRED\",IF(ISERROR(VLOOKUP(E2248,'Reference Data'!C:C,1,FALSE)),\"PLEASE SELECT A BANK FROM DEFINED LIST PROVIDED\",\"\")),\"\")","v":""},"No Entry",0]
[null,null,null,null,null,null,null,null,null,null,null,null,"",{"$f":"IF(D2249=\"Cash and Deposits\",IF(E2249=\"\",\"BANK NAME REQUIRED\",IF(ISERROR(VLOOKUP(E2249,'Reference Data'!C:C,1,FALSE)),\"PLEASE SELECT A BANK FROM DEFINED LIST PROVIDED\",\"\")),\"\")","v":""},"No Entry",0]
[null,null,null,null,null,null,null,null,null,null,null,null,"",{"$f":"IF(D2250=\"Cash and Deposits\",IF(E2250=\"\",\"BANK NAME REQUIRED\",IF(ISERROR(VLOOKUP(E2250,'Reference Data'!C:C,1,FALSE)),\"PLEASE SELECT A BANK FROM DEFINED LIST PROVIDED\",\"\")),\"\")","v":""},"No Entry",0]
[null,null,null,null,null,null,null,null,null,null,null,null,"",{"$f":"IF(D2251=\"Cash and Deposits\",IF(E2251=\"\",\"BANK NAME REQUIRED\",IF(ISERROR(VLOOKUP(E2251,'Reference Data'!C:C,1,FALSE)),\"PLEASE SELECT A BANK FROM DEFINED LIST PROVIDED\",\"\")),\"\")","v":""},"No Entry",0]
[null,null,null,null,null,null,null,null,null,null,null,null,"",{"$f":"IF(D2252=\"Cash and Deposits\",IF(E2252=\"\",\"BANK NAME REQUIRED\",IF(ISERROR(VLOOKUP(E2252,'Reference Data'!C:C,1,FALSE)),\"PLEASE SELECT A BANK FROM DEFINED LIST PROVIDED\",\"\")),\"\")","v":""},"No Entry",0]
[null,null,null,null,null,null,null,null,null,null,null,null,"",{"$f":"IF(D2253=\"Cash and Deposits\",IF(E2253=\"\",\"BANK NAME REQUIRED\",IF(ISERROR(VLOOKUP(E2253,'Reference Data'!C:C,1,FALSE)),\"PLEASE SELECT A BANK FROM DEFINED LIST PROVIDED\",\"\")),\"\")","v":""},"No Entry",0]
[null,null,null,null,null,null,null,null,null,null,null,null,"",{"$f":"IF(D2254=\"Cash and Deposits\",IF(E2254=\"\",\"BANK NAME REQUIRED\",IF(ISERROR(VLOOKUP(E2254,'Reference Data'!C:C,1,FALSE)),\"PLEASE SELECT A BANK FROM DEFINED LIST PROVIDED\",\"\")),\"\")","v":""},"No Entry",0]
[null,null,null,null,null,null,null,null,null,null,null,null,"",{"$f":"IF(D2255=\"Cash and Deposits\",IF(E2255=\"\",\"BANK NAME REQUIRED\",IF(ISERROR(VLOOKUP(E2255,'Reference Data'!C:C,1,FALSE)),\"PLEASE SELECT A BANK FROM DEFINED LIST PROVIDED\",\"\")),\"\")","v":""},"No Entry",0]
[null,null,null,null,null,null,null,null,null,null,null,null,"",{"$f":"IF(D2256=\"Cash and Deposits\",IF(E2256=\"\",\"BANK NAME REQUIRED\",IF(ISERROR(VLOOKUP(E2256,'Reference Data'!C:C,1,FALSE)),\"PLEASE SELECT A BANK FROM DEFINED LIST PROVIDED\",\"\")),\"\")","v":""},"No Entry",0]
[null,null,null,null,null,null,null,null,null,null,null,null,"",{"$f":"IF(D2257=\"Cash and Deposits\",IF(E2257=\"\",\"BANK NAME REQUIRED\",IF(ISERROR(VLOOKUP(E2257,'Reference Data'!C:C,1,FALSE)),\"PLEASE SELECT A BANK FROM DEFINED LIST PROVIDED\",\"\")),\"\")","v":""},"No Entry",0]
[null,null,null,null,null,null,null,null,null,null,null,null,"",{"$f":"IF(D2258=\"Cash and Deposits\",IF(E2258=\"\",\"BANK NAME REQUIRED\",IF(ISERROR(VLOOKUP(E2258,'Reference Data'!C:C,1,FALSE)),\"PLEASE SELECT A BANK FROM DEFINED LIST PROVIDED\",\"\")),\"\")","v":""},"No Entry",0]
[null,null,null,null,null,null,null,null,null,null,null,null,"",{"$f":"IF(D2259=\"Cash and Deposits\",IF(E2259=\"\",\"BANK NAME REQUIRED\",IF(ISERROR(VLOOKUP(E2259,'Reference Data'!C:C,1,FALSE)),\"PLEASE SELECT A BANK FROM DEFINED LIST PROVIDED\",\"\")),\"\")","v":""},"No Entry",0]
[null,null,null,null,null,null,null,null,null,null,null,null,"",{"$f":"IF(D2260=\"Cash and Deposits\",IF(E2260=\"\",\"BANK NAME REQUIRED\",IF(ISERROR(VLOOKUP(E2260,'Reference Data'!C:C,1,FALSE)),\"PLEASE SELECT A BANK FROM DEFINED LIST PROVIDED\",\"\")),\"\")","v":""},"No Entry",0]
[null,null,null,null,null,null,null,null,null,null,null,null,"",{"$f":"IF(D2261=\"Cash and Deposits\",IF(E2261=\"\",\"BANK NAME REQUIRED\",IF(ISERROR(VLOOKUP(E2261,'Reference Data'!C:C,1,FALSE)),\"PLEASE SELECT A BANK FROM DEFINED LIST PROVIDED\",\"\")),\"\")","v":""},"No Entry",0]
[null,null,null,null,null,null,null,null,null,null,null,null,"",{"$f":"IF(D2262=\"Cash and Deposits\",IF(E2262=\"\",\"BANK NAME REQUIRED\",IF(ISERROR(VLOOKUP(E2262,'Reference Data'!C:C,1,FALSE)),\"PLEASE SELECT A BANK FROM DEFINED LIST PROVIDED\",\"\")),\"\")","v":""},"No Entry",0]
[null,null,null,null,null,null,null,null,null,null,null,null,"",{"$f":"IF(D2263=\"Cash and Deposits\",IF(E2263=\"\",\"BANK NAME REQUIRED\",IF(ISERROR(VLOOKUP(E2263,'Reference Data'!C:C,1,FALSE)),\"PLEASE SELECT A BANK FROM DEFINED LIST PROVIDED\",\"\")),\"\")","v":""},"No Entry",0]
[null,null,null,null,null,null,null,null,null,null,null,null,"",{"$f":"IF(D2264=\"Cash and Deposits\",IF(E2264=\"\",\"BANK NAME REQUIRED\",IF(ISERROR(VLOOKUP(E2264,'Reference Data'!C:C,1,FALSE)),\"PLEASE SELECT A BANK FROM DEFINED LIST PROVIDED\",\"\")),\"\")","v":""},"No Entry",0]
[null,null,null,null,null,null,null,null,null,null,null,null,"",{"$f":"IF(D2265=\"Cash and Deposits\",IF(E2265=\"\",\"BANK NAME REQUIRED\",IF(ISERROR(VLOOKUP(E2265,'Reference Data'!C:C,1,FALSE)),\"PLEASE SELECT A BANK FROM DEFINED LIST PROVIDED\",\"\")),\"\")","v":""},"No Entry",0]
[null,null,null,null,null,null,null,null,null,null,null,null,"",{"$f":"IF(D2266=\"Cash and Deposits\",IF(E2266=\"\",\"BANK NAME REQUIRED\",IF(ISERROR(VLOOKUP(E2266,'Reference Data'!C:C,1,FALSE)),\"PLEASE SELECT A BANK FROM DEFINED LIST PROVIDED\",\"\")),\"\")","v":""},"No Entry",0]
[null,null,null,null,null,null,null,null,null,null,null,null,"",{"$f":"IF(D2267=\"Cash and Deposits\",IF(E2267=\"\",\"BANK NAME REQUIRED\",IF(ISERROR(VLOOKUP(E2267,'Reference Data'!C:C,1,FALSE)),\"PLEASE SELECT A BANK FROM DEFINED LIST PROVIDED\",\"\")),\"\")","v":""},"No Entry",0]
[null,null,null,null,null,null,null,null,null,null,null,null,"",{"$f":"IF(D2268=\"Cash and Deposits\",IF(E2268=\"\",\"BANK NAME REQUIRED\",IF(ISERROR(VLOOKUP(E2268,'Reference Data'!C:C,1,FALSE)),\"PLEASE SELECT A BANK FROM DEFINED LIST PROVIDED\",\"\")),\"\")","v":""},"No Entry",0]
[null,null,null,null,null,null,null,null,null,null,null,null,"",{"$f":"IF(D2269=\"Cash and Deposits\",IF(E2269=\"\",\"BANK NAME REQUIRED\",IF(ISERROR(VLOOKUP(E2269,'Reference Data'!C:C,1,FALSE)),\"PLEASE SELECT A BANK FROM DEFINED LIST PROVIDED\",\"\")),\"\")","v":""},"No Entry",0]
[null,null,null,null,null,null,null,null,null,null,null,null,"",{"$f":"IF(D2270=\"Cash and Deposits\",IF(E2270=\"\",\"BANK NAME REQUIRED\",IF(ISERROR(VLOOKUP(E2270,'Reference Data'!C:C,1,FALSE)),\"PLEASE SELECT A BANK FROM DEFINED LIST PROVIDED\",\"\")),\"\")","v":""},"No Entry",0]
[null,null,null,null,null,null,null,null,null,null,null,null,"",{"$f":"IF(D2271=\"Cash and Deposits\",IF(E2271=\"\",\"BANK NAME REQUIRED\",IF(ISERROR(VLOOKUP(E2271,'Reference Data'!C:C,1,FALSE)),\"PLEASE SELECT A BANK FROM DEFINED LIST PROVIDED\",\"\")),\"\")","v":""},"No Entry",0]
[null,null,null,null,null,null,null,null,null,null,null,null,"",{"$f":"IF(D2272=\"Cash and Deposits\",IF(E2272=\"\",\"BANK NAME REQUIRED\",IF(ISERROR(VLOOKUP(E2272,'Reference Data'!C:C,1,FALSE)),\"PLEASE SELECT A BANK FROM DEFINED LIST PROVIDED\",\"\")),\"\")","v":""},"No Entry",0]
[null,null,null,null,null,null,null,null,null,null,null,null,"",{"$f":"IF(D2273=\"Cash and Deposits\",IF(E2273=\"\",\"BANK NAME REQUIRED\",IF(ISERROR(VLOOKUP(E2273,'Reference Data'!C:C,1,FALSE)),\"PLEASE SELECT A BANK FROM DEFINED LIST PROVIDED\",\"\")),\"\")","v":""},"No Entry",0]
[null,null,null,null,null,null,null,null,null,null,null,null,"",{"$f":"IF(D2274=\"Cash and Deposits\",IF(E2274=\"\",\"BANK NAME REQUIRED\",IF(ISERROR(VLOOKUP(E2274,'Reference Data'!C:C,1,FALSE)),\"PLEASE SELECT A BANK FROM DEFINED LIST PROVIDED\",\"\")),\"\")","v":""},"No Entry",0]
[null,null,null,null,null,null,null,null,null,null,null,null,"",{"$f":"IF(D2275=\"Cash and Deposits\",IF(E2275=\"\",\"BANK NAME REQUIRED\",IF(ISERROR(VLOOKUP(E2275,'Reference Data'!C:C,1,FALSE)),\"PLEASE SELECT A BANK FROM DEFINED LIST PROVIDED\",\"\")),\"\")","v":""},"No Entry",0]
[null,null,null,null,null,null,null,null,null,null,null,null,"",{"$f":"IF(D2276=\"Cash and Deposits\",IF(E2276=\"\",\"BANK NAME REQUIRED\",IF(ISERROR(VLOOKUP(E2276,'Reference Data'!C:C,1,FALSE)),\"PLEASE SELECT A BANK FROM DEFINED LIST PROVIDED\",\"\")),\"\")","v":""},"No Entry",0]
[null,null,null,null,null,null,null,null,null,null,null,null,"",{"$f":"IF(D2277=\"Cash and Deposits\",IF(E2277=\"\",\"BANK NAME REQUIRED\",IF(ISERROR(VLOOKUP(E2277,'Reference Data'!C:C,1,FALSE)),\"PLEASE SELECT A BANK FROM DEFINED LIST PROVIDED\",\"\")),\"\")","v":""},"No Entry",0]
[null,null,null,null,null,null,null,null,null,null,null,null,"",{"$f":"IF(D2278=\"Cash and Deposits\",IF(E2278=\"\",\"BANK NAME REQUIRED\",IF(ISERROR(VLOOKUP(E2278,'Reference Data'!C:C,1,FALSE)),\"PLEASE SELECT A BANK FROM DEFINED LIST PROVIDED\",\"\")),\"\")","v":""},"No Entry",0]
[null,null,null,null,null,null,null,null,null,null,null,null,"",{"$f":"IF(D2279=\"Cash and Deposits\",IF(E2279=\"\",\"BANK NAME REQUIRED\",IF(ISERROR(VLOOKUP(E2279,'Reference Data'!C:C,1,FALSE)),\"PLEASE SELECT A BANK FROM DEFINED LIST PROVIDED\",\"\")),\"\")","v":""},"No Entry",0]
[null,null,null,null,null,null,null,null,null,null,null,null,"",{"$f":"IF(D2280=\"Cash and Deposits\",IF(E2280=\"\",\"BANK NAME REQUIRED\",IF(ISERROR(VLOOKUP(E2280,'Reference Data'!C:C,1,FALSE)),\"PLEASE SELECT A BANK FROM DEFINED LIST PROVIDED\",\"\")),\"\")","v":""},"No Entry",0]
[null,null,null,null,null,null,null,null,null,null,null,null,"",{"$f":"IF(D2281=\"Cash and Deposits\",IF(E2281=\"\",\"BANK NAME REQUIRED\",IF(ISERROR(VLOOKUP(E2281,'Reference Data'!C:C,1,FALSE)),\"PLEASE SELECT A BANK FROM DEFINED LIST PROVIDED\",\"\")),\"\")","v":""},"No Entry",0]
[null,null,null,null,null,null,null,null,null,null,null,null,"",{"$f":"IF(D2282=\"Cash and Deposits\",IF(E2282=\"\",\"BANK NAME REQUIRED\",IF(ISERROR(VLOOKUP(E2282,'Reference Data'!C:C,1,FALSE)),\"PLEASE SELECT A BANK FROM DEFINED LIST PROVIDED\",\"\")),\"\")","v":""},"No Entry",0]
[null,null,null,null,null,null,null,null,null,null,null,null,"",{"$f":"IF(D2283=\"Cash and Deposits\",IF(E2283=\"\",\"BANK NAME REQUIRED\",IF(ISERROR(VLOOKUP(E2283,'Reference Data'!C:C,1,FALSE)),\"PLEASE SELECT A BANK FROM DEFINED LIST PROVIDED\",\"\")),\"\")","v":""},"No Entry",0]
[null,null,null,null,null,null,null,null,null,null,null,null,"",{"$f":"IF(D2284=\"Cash and Deposits\",IF(E2284=\"\",\"BANK NAME REQUIRED\",IF(ISERROR(VLOOKUP(E2284,'Reference Data'!C:C,1,FALSE)),\"PLEASE SELECT A BANK FROM DEFINED LIST PROVIDED\",\"\")),\"\")","v":""},"No Entry",0]
[null,null,null,null,null,null,null,null,null,null,null,null,"",{"$f":"IF(D2285=\"Cash and Deposits\",IF(E2285=\"\",\"BANK NAME REQUIRED\",IF(ISERROR(VLOOKUP(E2285,'Reference Data'!C:C,1,FALSE)),\"PLEASE SELECT A BANK FROM DEFINED LIST PROVIDED\",\"\")),\"\")","v":""},"No Entry",0]
[null,null,null,null,null,null,null,null,null,null,null,null,"",{"$f":"IF(D2286=\"Cash and Deposits\",IF(E2286=\"\",\"BANK NAME REQUIRED\",IF(ISERROR(VLOOKUP(E2286,'Reference Data'!C:C,1,FALSE)),\"PLEASE SELECT A BANK FROM DEFINED LIST PROVIDED\",\"\")),\"\")","v":""},"No Entry",0]
[null,null,null,null,null,null,null,null,null,null,null,null,"",{"$f":"IF(D2287=\"Cash and Deposits\",IF(E2287=\"\",\"BANK NAME REQUIRED\",IF(ISERROR(VLOOKUP(E2287,'Reference Data'!C:C,1,FALSE)),\"PLEASE SELECT A BANK FROM DEFINED LIST PROVIDED\",\"\")),\"\")","v":""},"No Entry",0]
[null,null,null,null,null,null,null,null,null,null,null,null,"",{"$f":"IF(D2288=\"Cash and Deposits\",IF(E2288=\"\",\"BANK NAME REQUIRED\",IF(ISERROR(VLOOKUP(E2288,'Reference Data'!C:C,1,FALSE)),\"PLEASE SELECT A BANK FROM DEFINED LIST PROVIDED\",\"\")),\"\")","v":""},"No Entry",0]
[null,null,null,null,null,null,null,null,null,null,null,null,"",{"$f":"IF(D2289=\"Cash and Deposits\",IF(E2289=\"\",\"BANK NAME REQUIRED\",IF(ISERROR(VLOOKUP(E2289,'Reference Data'!C:C,1,FALSE)),\"PLEASE SELECT A BANK FROM DEFINED LIST PROVIDED\",\"\")),\"\")","v":""},"No Entry",0]
[null,null,null,null,null,null,null,null,null,null,null,null,"",{"$f":"IF(D2290=\"Cash and Deposits\",IF(E2290=\"\",\"BANK NAME REQUIRED\",IF(ISERROR(VLOOKUP(E2290,'Reference Data'!C:C,1,FALSE)),\"PLEASE SELECT A BANK FROM DEFINED LIST PROVIDED\",\"\")),\"\")","v":""},"No Entry",0]
[null,null,null,null,null,null,null,null,null,null,null,null,"",{"$f":"IF(D2291=\"Cash and Deposits\",IF(E2291=\"\",\"BANK NAME REQUIRED\",IF(ISERROR(VLOOKUP(E2291,'Reference Data'!C:C,1,FALSE)),\"PLEASE SELECT A BANK FROM DEFINED LIST PROVIDED\",\"\")),\"\")","v":""},"No Entry",0]
[null,null,null,null,null,null,null,null,null,null,null,null,"",{"$f":"IF(D2292=\"Cash and Deposits\",IF(E2292=\"\",\"BANK NAME REQUIRED\",IF(ISERROR(VLOOKUP(E2292,'Reference Data'!C:C,1,FALSE)),\"PLEASE SELECT A BANK FROM DEFINED LIST PROVIDED\",\"\")),\"\")","v":""},"No Entry",0]
[null,null,null,null,null,null,null,null,null,null,null,null,"",{"$f":"IF(D2293=\"Cash and Deposits\",IF(E2293=\"\",\"BANK NAME REQUIRED\",IF(ISERROR(VLOOKUP(E2293,'Reference Data'!C:C,1,FALSE)),\"PLEASE SELECT A BANK FROM DEFINED LIST PROVIDED\",\"\")),\"\")","v":""},"No Entry",0]
[null,null,null,null,null,null,null,null,null,null,null,null,"",{"$f":"IF(D2294=\"Cash and Deposits\",IF(E2294=\"\",\"BANK NAME REQUIRED\",IF(ISERROR(VLOOKUP(E2294,'Reference Data'!C:C,1,FALSE)),\"PLEASE SELECT A BANK FROM DEFINED LIST PROVIDED\",\"\")),\"\")","v":""},"No Entry",0]
[null,null,null,null,null,null,null,null,null,null,null,null,"",{"$f":"IF(D2295=\"Cash and Deposits\",IF(E2295=\"\",\"BANK NAME REQUIRED\",IF(ISERROR(VLOOKUP(E2295,'Reference Data'!C:C,1,FALSE)),\"PLEASE SELECT A BANK FROM DEFINED LIST PROVIDED\",\"\")),\"\")","v":""},"No Entry",0]
[null,null,null,null,null,null,null,null,null,null,null,null,"",{"$f":"IF(D2296=\"Cash and Deposits\",IF(E2296=\"\",\"BANK NAME REQUIRED\",IF(ISERROR(VLOOKUP(E2296,'Reference Data'!C:C,1,FALSE)),\"PLEASE SELECT A BANK FROM DEFINED LIST PROVIDED\",\"\")),\"\")","v":""},"No Entry",0]
[null,null,null,null,null,null,null,null,null,null,null,null,"",{"$f":"IF(D2297=\"Cash and Deposits\",IF(E2297=\"\",\"BANK NAME REQUIRED\",IF(ISERROR(VLOOKUP(E2297,'Reference Data'!C:C,1,FALSE)),\"PLEASE SELECT A BANK FROM DEFINED LIST PROVIDED\",\"\")),\"\")","v":""},"No Entry",0]
[null,null,null,null,null,null,null,null,null,null,null,null,"",{"$f":"IF(D2298=\"Cash and Deposits\",IF(E2298=\"\",\"BANK NAME REQUIRED\",IF(ISERROR(VLOOKUP(E2298,'Reference Data'!C:C,1,FALSE)),\"PLEASE SELECT A BANK FROM DEFINED LIST PROVIDED\",\"\")),\"\")","v":""},"No Entry",0]
[null,null,null,null,null,null,null,null,null,null,null,null,"",{"$f":"IF(D2299=\"Cash and Deposits\",IF(E2299=\"\",\"BANK NAME REQUIRED\",IF(ISERROR(VLOOKUP(E2299,'Reference Data'!C:C,1,FALSE)),\"PLEASE SELECT A BANK FROM DEFINED LIST PROVIDED\",\"\")),\"\")","v":""},"No Entry",0]
[null,null,null,null,null,null,null,null,null,null,null,null,"",{"$f":"IF(D2300=\"Cash and Deposits\",IF(E2300=\"\",\"BANK NAME REQUIRED\",IF(ISERROR(VLOOKUP(E2300,'Reference Data'!C:C,1,FALSE)),\"PLEASE SELECT A BANK FROM DEFINED LIST PROVIDED\",\"\")),\"\")","v":""},"No Entry",0]
[null,null,null,null,null,null,null,null,null,null,null,null,"",{"$f":"IF(D2301=\"Cash and Deposits\",IF(E2301=\"\",\"BANK NAME REQUIRED\",IF(ISERROR(VLOOKUP(E2301,'Reference Data'!C:C,1,FALSE)),\"PLEASE SELECT A BANK FROM DEFINED LIST PROVIDED\",\"\")),\"\")","v":""},"No Entry",0]
[null,null,null,null,null,null,null,null,null,null,null,null,"",{"$f":"IF(D2302=\"Cash and Deposits\",IF(E2302=\"\",\"BANK NAME REQUIRED\",IF(ISERROR(VLOOKUP(E2302,'Reference Data'!C:C,1,FALSE)),\"PLEASE SELECT A BANK FROM DEFINED LIST PROVIDED\",\"\")),\"\")","v":""},"No Entry",0]
[null,null,null,null,null,null,null,null,null,null,null,null,"",{"$f":"IF(D2303=\"Cash and Deposits\",IF(E2303=\"\",\"BANK NAME REQUIRED\",IF(ISERROR(VLOOKUP(E2303,'Reference Data'!C:C,1,FALSE)),\"PLEASE SELECT A BANK FROM DEFINED LIST PROVIDED\",\"\")),\"\")","v":""},"No Entry",0]
[null,null,null,null,null,null,null,null,null,null,null,null,"",{"$f":"IF(D2304=\"Cash and Deposits\",IF(E2304=\"\",\"BANK NAME REQUIRED\",IF(ISERROR(VLOOKUP(E2304,'Reference Data'!C:C,1,FALSE)),\"PLEASE SELECT A BANK FROM DEFINED LIST PROVIDED\",\"\")),\"\")","v":""},"No Entry",0]
[null,null,null,null,null,null,null,null,null,null,null,null,"",{"$f":"IF(D2305=\"Cash and Deposits\",IF(E2305=\"\",\"BANK NAME REQUIRED\",IF(ISERROR(VLOOKUP(E2305,'Reference Data'!C:C,1,FALSE)),\"PLEASE SELECT A BANK FROM DEFINED LIST PROVIDED\",\"\")),\"\")","v":""},"No Entry",0]
[null,null,null,null,null,null,null,null,null,null,null,null,"",{"$f":"IF(D2306=\"Cash and Deposits\",IF(E2306=\"\",\"BANK NAME REQUIRED\",IF(ISERROR(VLOOKUP(E2306,'Reference Data'!C:C,1,FALSE)),\"PLEASE SELECT A BANK FROM DEFINED LIST PROVIDED\",\"\")),\"\")","v":""},"No Entry",0]
[null,null,null,null,null,null,null,null,null,null,null,null,"",{"$f":"IF(D2307=\"Cash and Deposits\",IF(E2307=\"\",\"BANK NAME REQUIRED\",IF(ISERROR(VLOOKUP(E2307,'Reference Data'!C:C,1,FALSE)),\"PLEASE SELECT A BANK FROM DEFINED LIST PROVIDED\",\"\")),\"\")","v":""},"No Entry",0]
[null,null,null,null,null,null,null,null,null,null,null,null,"",{"$f":"IF(D2308=\"Cash and Deposits\",IF(E2308=\"\",\"BANK NAME REQUIRED\",IF(ISERROR(VLOOKUP(E2308,'Reference Data'!C:C,1,FALSE)),\"PLEASE SELECT A BANK FROM DEFINED LIST PROVIDED\",\"\")),\"\")","v":""},"No Entry",0]
[null,null,null,null,null,null,null,null,null,null,null,null,{"$f":"IF(K2309<>0,IF(B2309=\"\",\"ID CODE REQUIRED\",\"\"),\"\")","v":""},{"$f":"IF(D2309=\"Cash and Deposits\",IF(E2309=\"\",\"BANK NAME REQUIRED\",IF(ISERROR(VLOOKUP(E2309,'Reference Data'!C:C,1,FALSE)),\"PLEASE SELECT A BANK FROM DEFINED LIST PROVIDED\",\"\")),\"\")","v":""},{"$f":"IF(K2309=0,\"No Entry\",\"\")","v":"No Entry"},{"$f":"IF(K2309<>0,IF(A2309=\"\",1,0),0)","v":0}]
[null,null,null,null,null,null,null,null,null,null,null,null,"",{"$f":"IF(D2310=\"Cash and Deposits\",IF(E2310=\"\",\"BANK NAME REQUIRED\",IF(ISERROR(VLOOKUP(E2310,'Reference Data'!C:C,1,FALSE)),\"PLEASE SELECT A BANK FROM DEFINED LIST PROVIDED\",\"\")),\"\")","v":""},"No Entry",0]
[null,null,null,null,null,null,null,null,null,null,null,null,"",{"$f":"IF(D2311=\"Cash and Deposits\",IF(E2311=\"\",\"BANK NAME REQUIRED\",IF(ISERROR(VLOOKUP(E2311,'Reference Data'!C:C,1,FALSE)),\"PLEASE SELECT A BANK FROM DEFINED LIST PROVIDED\",\"\")),\"\")","v":""},"No Entry",0]
[null,null,null,null,null,null,null,null,null,null,null,null,"",{"$f":"IF(D2312=\"Cash and Deposits\",IF(E2312=\"\",\"BANK NAME REQUIRED\",IF(ISERROR(VLOOKUP(E2312,'Reference Data'!C:C,1,FALSE)),\"PLEASE SELECT A BANK FROM DEFINED LIST PROVIDED\",\"\")),\"\")","v":""},"No Entry",0]
[null,null,null,null,null,null,null,null,null,null,null,null,"",{"$f":"IF(D2313=\"Cash and Deposits\",IF(E2313=\"\",\"BANK NAME REQUIRED\",IF(ISERROR(VLOOKUP(E2313,'Reference Data'!C:C,1,FALSE)),\"PLEASE SELECT A BANK FROM DEFINED LIST PROVIDED\",\"\")),\"\")","v":""},"No Entry",0]
[null,null,null,null,null,null,null,null,null,null,null,null,"",{"$f":"IF(D2314=\"Cash and Deposits\",IF(E2314=\"\",\"BANK NAME REQUIRED\",IF(ISERROR(VLOOKUP(E2314,'Reference Data'!C:C,1,FALSE)),\"PLEASE SELECT A BANK FROM DEFINED LIST PROVIDED\",\"\")),\"\")","v":""},"No Entry",0]
[null,null,null,null,null,null,null,null,null,null,null,null,"",{"$f":"IF(D2315=\"Cash and Deposits\",IF(E2315=\"\",\"BANK NAME REQUIRED\",IF(ISERROR(VLOOKUP(E2315,'Reference Data'!C:C,1,FALSE)),\"PLEASE SELECT A BANK FROM DEFINED LIST PROVIDED\",\"\")),\"\")","v":""},"No Entry",0]
[null,null,null,null,null,null,null,null,null,null,null,null,"",{"$f":"IF(D2316=\"Cash and Deposits\",IF(E2316=\"\",\"BANK NAME REQUIRED\",IF(ISERROR(VLOOKUP(E2316,'Reference Data'!C:C,1,FALSE)),\"PLEASE SELECT A BANK FROM DEFINED LIST PROVIDED\",\"\")),\"\")","v":""},"No Entry",0]
[null,null,null,null,null,null,null,null,null,null,null,null,"",{"$f":"IF(D2317=\"Cash and Deposits\",IF(E2317=\"\",\"BANK NAME REQUIRED\",IF(ISERROR(VLOOKUP(E2317,'Reference Data'!C:C,1,FALSE)),\"PLEASE SELECT A BANK FROM DEFINED LIST PROVIDED\",\"\")),\"\")","v":""},"No Entry",0]
[null,null,null,null,null,null,null,null,null,null,null,null,"",{"$f":"IF(D2318=\"Cash and Deposits\",IF(E2318=\"\",\"BANK NAME REQUIRED\",IF(ISERROR(VLOOKUP(E2318,'Reference Data'!C:C,1,FALSE)),\"PLEASE SELECT A BANK FROM DEFINED LIST PROVIDED\",\"\")),\"\")","v":""},"No Entry",0]
[null,null,null,null,null,null,null,null,null,null,null,null,"",{"$f":"IF(D2319=\"Cash and Deposits\",IF(E2319=\"\",\"BANK NAME REQUIRED\",IF(ISERROR(VLOOKUP(E2319,'Reference Data'!C:C,1,FALSE)),\"PLEASE SELECT A BANK FROM DEFINED LIST PROVIDED\",\"\")),\"\")","v":""},"No Entry",0]
[null,null,null,null,null,null,null,null,null,null,null,null,"",{"$f":"IF(D2320=\"Cash and Deposits\",IF(E2320=\"\",\"BANK NAME REQUIRED\",IF(ISERROR(VLOOKUP(E2320,'Reference Data'!C:C,1,FALSE)),\"PLEASE SELECT A BANK FROM DEFINED LIST PROVIDED\",\"\")),\"\")","v":""},"No Entry",0]
[null,null,null,null,null,null,null,null,null,null,null,null,"",{"$f":"IF(D2321=\"Cash and Deposits\",IF(E2321=\"\",\"BANK NAME REQUIRED\",IF(ISERROR(VLOOKUP(E2321,'Reference Data'!C:C,1,FALSE)),\"PLEASE SELECT A BANK FROM DEFINED LIST PROVIDED\",\"\")),\"\")","v":""},"No Entry",0]
[null,null,null,null,null,null,null,null,null,null,null,null,"",{"$f":"IF(D2322=\"Cash and Deposits\",IF(E2322=\"\",\"BANK NAME REQUIRED\",IF(ISERROR(VLOOKUP(E2322,'Reference Data'!C:C,1,FALSE)),\"PLEASE SELECT A BANK FROM DEFINED LIST PROVIDED\",\"\")),\"\")","v":""},"No Entry",0]
[null,null,null,null,null,null,null,null,null,null,null,null,"",{"$f":"IF(D2323=\"Cash and Deposits\",IF(E2323=\"\",\"BANK NAME REQUIRED\",IF(ISERROR(VLOOKUP(E2323,'Reference Data'!C:C,1,FALSE)),\"PLEASE SELECT A BANK FROM DEFINED LIST PROVIDED\",\"\")),\"\")","v":""},"No Entry",0]
[null,null,null,null,null,null,null,null,null,null,null,null,"",{"$f":"IF(D2324=\"Cash and Deposits\",IF(E2324=\"\",\"BANK NAME REQUIRED\",IF(ISERROR(VLOOKUP(E2324,'Reference Data'!C:C,1,FALSE)),\"PLEASE SELECT A BANK FROM DEFINED LIST PROVIDED\",\"\")),\"\")","v":""},"No Entry",0]
[null,null,null,null,null,null,null,null,null,null,null,null,"",{"$f":"IF(D2325=\"Cash and Deposits\",IF(E2325=\"\",\"BANK NAME REQUIRED\",IF(ISERROR(VLOOKUP(E2325,'Reference Data'!C:C,1,FALSE)),\"PLEASE SELECT A BANK FROM DEFINED LIST PROVIDED\",\"\")),\"\")","v":""},"No Entry",0]
[null,null,null,null,null,null,null,null,null,null,null,null,"",{"$f":"IF(D2326=\"Cash and Deposits\",IF(E2326=\"\",\"BANK NAME REQUIRED\",IF(ISERROR(VLOOKUP(E2326,'Reference Data'!C:C,1,FALSE)),\"PLEASE SELECT A BANK FROM DEFINED LIST PROVIDED\",\"\")),\"\")","v":""},"No Entry",0]
[null,null,null,null,null,null,null,null,null,null,null,null,"",{"$f":"IF(D2327=\"Cash and Deposits\",IF(E2327=\"\",\"BANK NAME REQUIRED\",IF(ISERROR(VLOOKUP(E2327,'Reference Data'!C:C,1,FALSE)),\"PLEASE SELECT A BANK FROM DEFINED LIST PROVIDED\",\"\")),\"\")","v":""},"No Entry",0]
[null,null,null,null,null,null,null,null,null,null,null,null,"",{"$f":"IF(D2328=\"Cash and Deposits\",IF(E2328=\"\",\"BANK NAME REQUIRED\",IF(ISERROR(VLOOKUP(E2328,'Reference Data'!C:C,1,FALSE)),\"PLEASE SELECT A BANK FROM DEFINED LIST PROVIDED\",\"\")),\"\")","v":""},"No Entry",0]
[null,null,null,null,null,null,null,null,null,null,null,null,"",{"$f":"IF(D2329=\"Cash and Deposits\",IF(E2329=\"\",\"BANK NAME REQUIRED\",IF(ISERROR(VLOOKUP(E2329,'Reference Data'!C:C,1,FALSE)),\"PLEASE SELECT A BANK FROM DEFINED LIST PROVIDED\",\"\")),\"\")","v":""},"No Entry",0]
[null,null,null,null,null,null,null,null,null,null,null,null,"",{"$f":"IF(D2330=\"Cash and Deposits\",IF(E2330=\"\",\"BANK NAME REQUIRED\",IF(ISERROR(VLOOKUP(E2330,'Reference Data'!C:C,1,FALSE)),\"PLEASE SELECT A BANK FROM DEFINED LIST PROVIDED\",\"\")),\"\")","v":""},"No Entry",0]
[null,null,null,null,null,null,null,null,null,null,null,null,"",{"$f":"IF(D2331=\"Cash and Deposits\",IF(E2331=\"\",\"BANK NAME REQUIRED\",IF(ISERROR(VLOOKUP(E2331,'Reference Data'!C:C,1,FALSE)),\"PLEASE SELECT A BANK FROM DEFINED LIST PROVIDED\",\"\")),\"\")","v":""},"No Entry",0]
[null,null,null,null,null,null,null,null,null,null,null,null,"",{"$f":"IF(D2332=\"Cash and Deposits\",IF(E2332=\"\",\"BANK NAME REQUIRED\",IF(ISERROR(VLOOKUP(E2332,'Reference Data'!C:C,1,FALSE)),\"PLEASE SELECT A BANK FROM DEFINED LIST PROVIDED\",\"\")),\"\")","v":""},"No Entry",0]
[null,null,null,null,null,null,null,null,null,null,null,null,"",{"$f":"IF(D2333=\"Cash and Deposits\",IF(E2333=\"\",\"BANK NAME REQUIRED\",IF(ISERROR(VLOOKUP(E2333,'Reference Data'!C:C,1,FALSE)),\"PLEASE SELECT A BANK FROM DEFINED LIST PROVIDED\",\"\")),\"\")","v":""},"No Entry",0]
[null,null,null,null,null,null,null,null,null,null,null,null,"",{"$f":"IF(D2334=\"Cash and Deposits\",IF(E2334=\"\",\"BANK NAME REQUIRED\",IF(ISERROR(VLOOKUP(E2334,'Reference Data'!C:C,1,FALSE)),\"PLEASE SELECT A BANK FROM DEFINED LIST PROVIDED\",\"\")),\"\")","v":""},"No Entry",0]
[null,null,null,null,null,null,null,null,null,null,null,null,"",{"$f":"IF(D2335=\"Cash and Deposits\",IF(E2335=\"\",\"BANK NAME REQUIRED\",IF(ISERROR(VLOOKUP(E2335,'Reference Data'!C:C,1,FALSE)),\"PLEASE SELECT A BANK FROM DEFINED LIST PROVIDED\",\"\")),\"\")","v":""},"No Entry",0]
[null,null,null,null,null,null,null,null,null,null,null,null,"",{"$f":"IF(D2336=\"Cash and Deposits\",IF(E2336=\"\",\"BANK NAME REQUIRED\",IF(ISERROR(VLOOKUP(E2336,'Reference Data'!C:C,1,FALSE)),\"PLEASE SELECT A BANK FROM DEFINED LIST PROVIDED\",\"\")),\"\")","v":""},"No Entry",0]
[null,null,null,null,null,null,null,null,null,null,null,null,"",{"$f":"IF(D2337=\"Cash and Deposits\",IF(E2337=\"\",\"BANK NAME REQUIRED\",IF(ISERROR(VLOOKUP(E2337,'Reference Data'!C:C,1,FALSE)),\"PLEASE SELECT A BANK FROM DEFINED LIST PROVIDED\",\"\")),\"\")","v":""},"No Entry",0]
[null,null,null,null,null,null,null,null,null,null,null,null,"",{"$f":"IF(D2338=\"Cash and Deposits\",IF(E2338=\"\",\"BANK NAME REQUIRED\",IF(ISERROR(VLOOKUP(E2338,'Reference Data'!C:C,1,FALSE)),\"PLEASE SELECT A BANK FROM DEFINED LIST PROVIDED\",\"\")),\"\")","v":""},"No Entry",0]
[null,null,null,null,null,null,null,null,null,null,null,null,"",{"$f":"IF(D2339=\"Cash and Deposits\",IF(E2339=\"\",\"BANK NAME REQUIRED\",IF(ISERROR(VLOOKUP(E2339,'Reference Data'!C:C,1,FALSE)),\"PLEASE SELECT A BANK FROM DEFINED LIST PROVIDED\",\"\")),\"\")","v":""},"No Entry",0]
[null,null,null,null,null,null,null,null,null,null,null,null,"",{"$f":"IF(D2340=\"Cash and Deposits\",IF(E2340=\"\",\"BANK NAME REQUIRED\",IF(ISERROR(VLOOKUP(E2340,'Reference Data'!C:C,1,FALSE)),\"PLEASE SELECT A BANK FROM DEFINED LIST PROVIDED\",\"\")),\"\")","v":""},"No Entry",0]
[null,null,null,null,null,null,null,null,null,null,null,null,"",{"$f":"IF(D2341=\"Cash and Deposits\",IF(E2341=\"\",\"BANK NAME REQUIRED\",IF(ISERROR(VLOOKUP(E2341,'Reference Data'!C:C,1,FALSE)),\"PLEASE SELECT A BANK FROM DEFINED LIST PROVIDED\",\"\")),\"\")","v":""},"No Entry",0]
[null,null,null,null,null,null,null,null,null,null,null,null,"",{"$f":"IF(D2342=\"Cash and Deposits\",IF(E2342=\"\",\"BANK NAME REQUIRED\",IF(ISERROR(VLOOKUP(E2342,'Reference Data'!C:C,1,FALSE)),\"PLEASE SELECT A BANK FROM DEFINED LIST PROVIDED\",\"\")),\"\")","v":""},"No Entry",0]
[null,null,null,null,null,null,null,null,null,null,null,null,"",{"$f":"IF(D2343=\"Cash and Deposits\",IF(E2343=\"\",\"BANK NAME REQUIRED\",IF(ISERROR(VLOOKUP(E2343,'Reference Data'!C:C,1,FALSE)),\"PLEASE SELECT A BANK FROM DEFINED LIST PROVIDED\",\"\")),\"\")","v":""},"No Entry",0]
[null,null,null,null,null,null,null,null,null,null,null,null,"",{"$f":"IF(D2344=\"Cash and Deposits\",IF(E2344=\"\",\"BANK NAME REQUIRED\",IF(ISERROR(VLOOKUP(E2344,'Reference Data'!C:C,1,FALSE)),\"PLEASE SELECT A BANK FROM DEFINED LIST PROVIDED\",\"\")),\"\")","v":""},"No Entry",0]
[null,null,null,null,null,null,null,null,null,null,null,null,"",{"$f":"IF(D2345=\"Cash and Deposits\",IF(E2345=\"\",\"BANK NAME REQUIRED\",IF(ISERROR(VLOOKUP(E2345,'Reference Data'!C:C,1,FALSE)),\"PLEASE SELECT A BANK FROM DEFINED LIST PROVIDED\",\"\")),\"\")","v":""},"No Entry",0]
[null,null,null,null,null,null,null,null,null,null,null,null,"",{"$f":"IF(D2346=\"Cash and Deposits\",IF(E2346=\"\",\"BANK NAME REQUIRED\",IF(ISERROR(VLOOKUP(E2346,'Reference Data'!C:C,1,FALSE)),\"PLEASE SELECT A BANK FROM DEFINED LIST PROVIDED\",\"\")),\"\")","v":""},"No Entry",0]
[null,null,null,null,null,null,null,null,null,null,null,null,"",{"$f":"IF(D2347=\"Cash and Deposits\",IF(E2347=\"\",\"BANK NAME REQUIRED\",IF(ISERROR(VLOOKUP(E2347,'Reference Data'!C:C,1,FALSE)),\"PLEASE SELECT A BANK FROM DEFINED LIST PROVIDED\",\"\")),\"\")","v":""},"No Entry",0]
[null,null,null,null,null,null,null,null,null,null,null,null,"",{"$f":"IF(D2348=\"Cash and Deposits\",IF(E2348=\"\",\"BANK NAME REQUIRED\",IF(ISERROR(VLOOKUP(E2348,'Reference Data'!C:C,1,FALSE)),\"PLEASE SELECT A BANK FROM DEFINED LIST PROVIDED\",\"\")),\"\")","v":""},"No Entry",0]
[null,null,null,null,null,null,null,null,null,null,null,null,"",{"$f":"IF(D2349=\"Cash and Deposits\",IF(E2349=\"\",\"BANK NAME REQUIRED\",IF(ISERROR(VLOOKUP(E2349,'Reference Data'!C:C,1,FALSE)),\"PLEASE SELECT A BANK FROM DEFINED LIST PROVIDED\",\"\")),\"\")","v":""},"No Entry",0]
[null,null,null,null,null,null,null,null,null,null,null,null,"",{"$f":"IF(D2350=\"Cash and Deposits\",IF(E2350=\"\",\"BANK NAME REQUIRED\",IF(ISERROR(VLOOKUP(E2350,'Reference Data'!C:C,1,FALSE)),\"PLEASE SELECT A BANK FROM DEFINED LIST PROVIDED\",\"\")),\"\")","v":""},"No Entry",0]
[null,null,null,null,null,null,null,null,null,null,null,null,"",{"$f":"IF(D2351=\"Cash and Deposits\",IF(E2351=\"\",\"BANK NAME REQUIRED\",IF(ISERROR(VLOOKUP(E2351,'Reference Data'!C:C,1,FALSE)),\"PLEASE SELECT A BANK FROM DEFINED LIST PROVIDED\",\"\")),\"\")","v":""},"No Entry",0]
[null,null,null,null,null,null,null,null,null,null,null,null,"",{"$f":"IF(D2352=\"Cash and Deposits\",IF(E2352=\"\",\"BANK NAME REQUIRED\",IF(ISERROR(VLOOKUP(E2352,'Reference Data'!C:C,1,FALSE)),\"PLEASE SELECT A BANK FROM DEFINED LIST PROVIDED\",\"\")),\"\")","v":""},"No Entry",0]
[null,null,null,null,null,null,null,null,null,null,null,null,"",{"$f":"IF(D2353=\"Cash and Deposits\",IF(E2353=\"\",\"BANK NAME REQUIRED\",IF(ISERROR(VLOOKUP(E2353,'Reference Data'!C:C,1,FALSE)),\"PLEASE SELECT A BANK FROM DEFINED LIST PROVIDED\",\"\")),\"\")","v":""},"No Entry",0]
[null,null,null,null,null,null,null,null,null,null,null,null,"",{"$f":"IF(D2354=\"Cash and Deposits\",IF(E2354=\"\",\"BANK NAME REQUIRED\",IF(ISERROR(VLOOKUP(E2354,'Reference Data'!C:C,1,FALSE)),\"PLEASE SELECT A BANK FROM DEFINED LIST PROVIDED\",\"\")),\"\")","v":""},"No Entry",0]
[null,null,null,null,null,null,null,null,null,null,null,null,"",{"$f":"IF(D2355=\"Cash and Deposits\",IF(E2355=\"\",\"BANK NAME REQUIRED\",IF(ISERROR(VLOOKUP(E2355,'Reference Data'!C:C,1,FALSE)),\"PLEASE SELECT A BANK FROM DEFINED LIST PROVIDED\",\"\")),\"\")","v":""},"No Entry",0]
[null,null,null,null,null,null,null,null,null,null,null,null,"",{"$f":"IF(D2356=\"Cash and Deposits\",IF(E2356=\"\",\"BANK NAME REQUIRED\",IF(ISERROR(VLOOKUP(E2356,'Reference Data'!C:C,1,FALSE)),\"PLEASE SELECT A BANK FROM DEFINED LIST PROVIDED\",\"\")),\"\")","v":""},"No Entry",0]
[null,null,null,null,null,null,null,null,null,null,null,null,"",{"$f":"IF(D2357=\"Cash and Deposits\",IF(E2357=\"\",\"BANK NAME REQUIRED\",IF(ISERROR(VLOOKUP(E2357,'Reference Data'!C:C,1,FALSE)),\"PLEASE SELECT A BANK FROM DEFINED LIST PROVIDED\",\"\")),\"\")","v":""},"No Entry",0]
[null,null,null,null,null,null,null,null,null,null,null,null,"",{"$f":"IF(D2358=\"Cash and Deposits\",IF(E2358=\"\",\"BANK NAME REQUIRED\",IF(ISERROR(VLOOKUP(E2358,'Reference Data'!C:C,1,FALSE)),\"PLEASE SELECT A BANK FROM DEFINED LIST PROVIDED\",\"\")),\"\")","v":""},"No Entry",0]
[null,null,null,null,null,null,null,null,null,null,null,null,"",{"$f":"IF(D2359=\"Cash and Deposits\",IF(E2359=\"\",\"BANK NAME REQUIRED\",IF(ISERROR(VLOOKUP(E2359,'Reference Data'!C:C,1,FALSE)),\"PLEASE SELECT A BANK FROM DEFINED LIST PROVIDED\",\"\")),\"\")","v":""},"No Entry",0]
[null,null,null,null,null,null,null,null,null,null,null,null,"",{"$f":"IF(D2360=\"Cash and Deposits\",IF(E2360=\"\",\"BANK NAME REQUIRED\",IF(ISERROR(VLOOKUP(E2360,'Reference Data'!C:C,1,FALSE)),\"PLEASE SELECT A BANK FROM DEFINED LIST PROVIDED\",\"\")),\"\")","v":""},"No Entry",0]
[null,null,null,null,null,null,null,null,null,null,null,null,"",{"$f":"IF(D2361=\"Cash and Deposits\",IF(E2361=\"\",\"BANK NAME REQUIRED\",IF(ISERROR(VLOOKUP(E2361,'Reference Data'!C:C,1,FALSE)),\"PLEASE SELECT A BANK FROM DEFINED LIST PROVIDED\",\"\")),\"\")","v":""},"No Entry",0]
[null,null,null,null,null,null,null,null,null,null,null,null,"",{"$f":"IF(D2362=\"Cash and Deposits\",IF(E2362=\"\",\"BANK NAME REQUIRED\",IF(ISERROR(VLOOKUP(E2362,'Reference Data'!C:C,1,FALSE)),\"PLEASE SELECT A BANK FROM DEFINED LIST PROVIDED\",\"\")),\"\")","v":""},"No Entry",0]
[null,null,null,null,null,null,null,null,null,null,null,null,"",{"$f":"IF(D2363=\"Cash and Deposits\",IF(E2363=\"\",\"BANK NAME REQUIRED\",IF(ISERROR(VLOOKUP(E2363,'Reference Data'!C:C,1,FALSE)),\"PLEASE SELECT A BANK FROM DEFINED LIST PROVIDED\",\"\")),\"\")","v":""},"No Entry",0]
[null,null,null,null,null,null,null,null,null,null,null,null,"",{"$f":"IF(D2364=\"Cash and Deposits\",IF(E2364=\"\",\"BANK NAME REQUIRED\",IF(ISERROR(VLOOKUP(E2364,'Reference Data'!C:C,1,FALSE)),\"PLEASE SELECT A BANK FROM DEFINED LIST PROVIDED\",\"\")),\"\")","v":""},"No Entry",0]
[null,null,null,null,null,null,null,null,null,null,null,null,"",{"$f":"IF(D2365=\"Cash and Deposits\",IF(E2365=\"\",\"BANK NAME REQUIRED\",IF(ISERROR(VLOOKUP(E2365,'Reference Data'!C:C,1,FALSE)),\"PLEASE SELECT A BANK FROM DEFINED LIST PROVIDED\",\"\")),\"\")","v":""},"No Entry",0]
[null,null,null,null,null,null,null,null,null,null,null,null,"",{"$f":"IF(D2366=\"Cash and Deposits\",IF(E2366=\"\",\"BANK NAME REQUIRED\",IF(ISERROR(VLOOKUP(E2366,'Reference Data'!C:C,1,FALSE)),\"PLEASE SELECT A BANK FROM DEFINED LIST PROVIDED\",\"\")),\"\")","v":""},"No Entry",0]
[null,null,null,null,null,null,null,null,null,null,null,null,"",{"$f":"IF(D2367=\"Cash and Deposits\",IF(E2367=\"\",\"BANK NAME REQUIRED\",IF(ISERROR(VLOOKUP(E2367,'Reference Data'!C:C,1,FALSE)),\"PLEASE SELECT A BANK FROM DEFINED LIST PROVIDED\",\"\")),\"\")","v":""},"No Entry",0]
[null,null,null,null,null,null,null,null,null,null,null,null,"",{"$f":"IF(D2368=\"Cash and Deposits\",IF(E2368=\"\",\"BANK NAME REQUIRED\",IF(ISERROR(VLOOKUP(E2368,'Reference Data'!C:C,1,FALSE)),\"PLEASE SELECT A BANK FROM DEFINED LIST PROVIDED\",\"\")),\"\")","v":""},"No Entry",0]
[null,null,null,null,null,null,null,null,null,null,null,null,"",{"$f":"IF(D2369=\"Cash and Deposits\",IF(E2369=\"\",\"BANK NAME REQUIRED\",IF(ISERROR(VLOOKUP(E2369,'Reference Data'!C:C,1,FALSE)),\"PLEASE SELECT A BANK FROM DEFINED LIST PROVIDED\",\"\")),\"\")","v":""},"No Entry",0]
[null,null,null,null,null,null,null,null,null,null,null,null,"",{"$f":"IF(D2370=\"Cash and Deposits\",IF(E2370=\"\",\"BANK NAME REQUIRED\",IF(ISERROR(VLOOKUP(E2370,'Reference Data'!C:C,1,FALSE)),\"PLEASE SELECT A BANK FROM DEFINED LIST PROVIDED\",\"\")),\"\")","v":""},"No Entry",0]
[null,null,null,null,null,null,null,null,null,null,null,null,"",{"$f":"IF(D2371=\"Cash and Deposits\",IF(E2371=\"\",\"BANK NAME REQUIRED\",IF(ISERROR(VLOOKUP(E2371,'Reference Data'!C:C,1,FALSE)),\"PLEASE SELECT A BANK FROM DEFINED LIST PROVIDED\",\"\")),\"\")","v":""},"No Entry",0]
[null,null,null,null,null,null,null,null,null,null,null,null,"",{"$f":"IF(D2372=\"Cash and Deposits\",IF(E2372=\"\",\"BANK NAME REQUIRED\",IF(ISERROR(VLOOKUP(E2372,'Reference Data'!C:C,1,FALSE)),\"PLEASE SELECT A BANK FROM DEFINED LIST PROVIDED\",\"\")),\"\")","v":""},"No Entry",0]
[null,null,null,null,null,null,null,null,null,null,null,null,{"$f":"IF(K2373<>0,IF(B2373=\"\",\"ID CODE REQUIRED\",\"\"),\"\")","v":""},{"$f":"IF(D2373=\"Cash and Deposits\",IF(E2373=\"\",\"BANK NAME REQUIRED\",IF(ISERROR(VLOOKUP(E2373,'Reference Data'!C:C,1,FALSE)),\"PLEASE SELECT A BANK FROM DEFINED LIST PROVIDED\",\"\")),\"\")","v":""},{"$f":"IF(K2373=0,\"No Entry\",\"\")","v":"No Entry"},{"$f":"IF(K2373<>0,IF(A2373=\"\",1,0),0)","v":0}]
[null,null,null,null,null,null,null,null,null,null,null,null,"",{"$f":"IF(D2374=\"Cash and Deposits\",IF(E2374=\"\",\"BANK NAME REQUIRED\",IF(ISERROR(VLOOKUP(E2374,'Reference Data'!C:C,1,FALSE)),\"PLEASE SELECT A BANK FROM DEFINED LIST PROVIDED\",\"\")),\"\")","v":""},"No Entry",0]
[null,null,null,null,null,null,null,null,null,null,null,null,"",{"$f":"IF(D2375=\"Cash and Deposits\",IF(E2375=\"\",\"BANK NAME REQUIRED\",IF(ISERROR(VLOOKUP(E2375,'Reference Data'!C:C,1,FALSE)),\"PLEASE SELECT A BANK FROM DEFINED LIST PROVIDED\",\"\")),\"\")","v":""},"No Entry",0]
[null,null,null,null,null,null,null,null,null,null,null,null,"",{"$f":"IF(D2376=\"Cash and Deposits\",IF(E2376=\"\",\"BANK NAME REQUIRED\",IF(ISERROR(VLOOKUP(E2376,'Reference Data'!C:C,1,FALSE)),\"PLEASE SELECT A BANK FROM DEFINED LIST PROVIDED\",\"\")),\"\")","v":""},"No Entry",0]
[null,null,null,null,null,null,null,null,null,null,null,null,"",{"$f":"IF(D2377=\"Cash and Deposits\",IF(E2377=\"\",\"BANK NAME REQUIRED\",IF(ISERROR(VLOOKUP(E2377,'Reference Data'!C:C,1,FALSE)),\"PLEASE SELECT A BANK FROM DEFINED LIST PROVIDED\",\"\")),\"\")","v":""},"No Entry",0]
[null,null,null,null,null,null,null,null,null,null,null,null,"",{"$f":"IF(D2378=\"Cash and Deposits\",IF(E2378=\"\",\"BANK NAME REQUIRED\",IF(ISERROR(VLOOKUP(E2378,'Reference Data'!C:C,1,FALSE)),\"PLEASE SELECT A BANK FROM DEFINED LIST PROVIDED\",\"\")),\"\")","v":""},"No Entry",0]
[null,null,null,null,null,null,null,null,null,null,null,null,"",{"$f":"IF(D2379=\"Cash and Deposits\",IF(E2379=\"\",\"BANK NAME REQUIRED\",IF(ISERROR(VLOOKUP(E2379,'Reference Data'!C:C,1,FALSE)),\"PLEASE SELECT A BANK FROM DEFINED LIST PROVIDED\",\"\")),\"\")","v":""},"No Entry",0]
[null,null,null,null,null,null,null,null,null,null,null,null,"",{"$f":"IF(D2380=\"Cash and Deposits\",IF(E2380=\"\",\"BANK NAME REQUIRED\",IF(ISERROR(VLOOKUP(E2380,'Reference Data'!C:C,1,FALSE)),\"PLEASE SELECT A BANK FROM DEFINED LIST PROVIDED\",\"\")),\"\")","v":""},"No Entry",0]
[null,null,null,null,null,null,null,null,null,null,null,null,"",{"$f":"IF(D2381=\"Cash and Deposits\",IF(E2381=\"\",\"BANK NAME REQUIRED\",IF(ISERROR(VLOOKUP(E2381,'Reference Data'!C:C,1,FALSE)),\"PLEASE SELECT A BANK FROM DEFINED LIST PROVIDED\",\"\")),\"\")","v":""},"No Entry",0]
[null,null,null,null,null,null,null,null,null,null,null,null,"",{"$f":"IF(D2382=\"Cash and Deposits\",IF(E2382=\"\",\"BANK NAME REQUIRED\",IF(ISERROR(VLOOKUP(E2382,'Reference Data'!C:C,1,FALSE)),\"PLEASE SELECT A BANK FROM DEFINED LIST PROVIDED\",\"\")),\"\")","v":""},"No Entry",0]
[null,null,null,null,null,null,null,null,null,null,null,null,"",{"$f":"IF(D2383=\"Cash and Deposits\",IF(E2383=\"\",\"BANK NAME REQUIRED\",IF(ISERROR(VLOOKUP(E2383,'Reference Data'!C:C,1,FALSE)),\"PLEASE SELECT A BANK FROM DEFINED LIST PROVIDED\",\"\")),\"\")","v":""},"No Entry",0]
[null,null,null,null,null,null,null,null,null,null,null,null,"",{"$f":"IF(D2384=\"Cash and Deposits\",IF(E2384=\"\",\"BANK NAME REQUIRED\",IF(ISERROR(VLOOKUP(E2384,'Reference Data'!C:C,1,FALSE)),\"PLEASE SELECT A BANK FROM DEFINED LIST PROVIDED\",\"\")),\"\")","v":""},"No Entry",0]
[null,null,null,null,null,null,null,null,null,null,null,null,"",{"$f":"IF(D2385=\"Cash and Deposits\",IF(E2385=\"\",\"BANK NAME REQUIRED\",IF(ISERROR(VLOOKUP(E2385,'Reference Data'!C:C,1,FALSE)),\"PLEASE SELECT A BANK FROM DEFINED LIST PROVIDED\",\"\")),\"\")","v":""},"No Entry",0]
[null,null,null,null,null,null,null,null,null,null,null,null,"",{"$f":"IF(D2386=\"Cash and Deposits\",IF(E2386=\"\",\"BANK NAME REQUIRED\",IF(ISERROR(VLOOKUP(E2386,'Reference Data'!C:C,1,FALSE)),\"PLEASE SELECT A BANK FROM DEFINED LIST PROVIDED\",\"\")),\"\")","v":""},"No Entry",0]
[null,null,null,null,null,null,null,null,null,null,null,null,"",{"$f":"IF(D2387=\"Cash and Deposits\",IF(E2387=\"\",\"BANK NAME REQUIRED\",IF(ISERROR(VLOOKUP(E2387,'Reference Data'!C:C,1,FALSE)),\"PLEASE SELECT A BANK FROM DEFINED LIST PROVIDED\",\"\")),\"\")","v":""},"No Entry",0]
[null,null,null,null,null,null,null,null,null,null,null,null,"",{"$f":"IF(D2388=\"Cash and Deposits\",IF(E2388=\"\",\"BANK NAME REQUIRED\",IF(ISERROR(VLOOKUP(E2388,'Reference Data'!C:C,1,FALSE)),\"PLEASE SELECT A BANK FROM DEFINED LIST PROVIDED\",\"\")),\"\")","v":""},"No Entry",0]
[null,null,null,null,null,null,null,null,null,null,null,null,"",{"$f":"IF(D2389=\"Cash and Deposits\",IF(E2389=\"\",\"BANK NAME REQUIRED\",IF(ISERROR(VLOOKUP(E2389,'Reference Data'!C:C,1,FALSE)),\"PLEASE SELECT A BANK FROM DEFINED LIST PROVIDED\",\"\")),\"\")","v":""},"No Entry",0]
[null,null,null,null,null,null,null,null,null,null,null,null,"",{"$f":"IF(D2390=\"Cash and Deposits\",IF(E2390=\"\",\"BANK NAME REQUIRED\",IF(ISERROR(VLOOKUP(E2390,'Reference Data'!C:C,1,FALSE)),\"PLEASE SELECT A BANK FROM DEFINED LIST PROVIDED\",\"\")),\"\")","v":""},"No Entry",0]
[null,null,null,null,null,null,null,null,null,null,null,null,"",{"$f":"IF(D2391=\"Cash and Deposits\",IF(E2391=\"\",\"BANK NAME REQUIRED\",IF(ISERROR(VLOOKUP(E2391,'Reference Data'!C:C,1,FALSE)),\"PLEASE SELECT A BANK FROM DEFINED LIST PROVIDED\",\"\")),\"\")","v":""},"No Entry",0]
[null,null,null,null,null,null,null,null,null,null,null,null,"",{"$f":"IF(D2392=\"Cash and Deposits\",IF(E2392=\"\",\"BANK NAME REQUIRED\",IF(ISERROR(VLOOKUP(E2392,'Reference Data'!C:C,1,FALSE)),\"PLEASE SELECT A BANK FROM DEFINED LIST PROVIDED\",\"\")),\"\")","v":""},"No Entry",0]
[null,null,null,null,null,null,null,null,null,null,null,null,"",{"$f":"IF(D2393=\"Cash and Deposits\",IF(E2393=\"\",\"BANK NAME REQUIRED\",IF(ISERROR(VLOOKUP(E2393,'Reference Data'!C:C,1,FALSE)),\"PLEASE SELECT A BANK FROM DEFINED LIST PROVIDED\",\"\")),\"\")","v":""},"No Entry",0]
[null,null,null,null,null,null,null,null,null,null,null,null,"",{"$f":"IF(D2394=\"Cash and Deposits\",IF(E2394=\"\",\"BANK NAME REQUIRED\",IF(ISERROR(VLOOKUP(E2394,'Reference Data'!C:C,1,FALSE)),\"PLEASE SELECT A BANK FROM DEFINED LIST PROVIDED\",\"\")),\"\")","v":""},"No Entry",0]
[null,null,null,null,null,null,null,null,null,null,null,null,"",{"$f":"IF(D2395=\"Cash and Deposits\",IF(E2395=\"\",\"BANK NAME REQUIRED\",IF(ISERROR(VLOOKUP(E2395,'Reference Data'!C:C,1,FALSE)),\"PLEASE SELECT A BANK FROM DEFINED LIST PROVIDED\",\"\")),\"\")","v":""},"No Entry",0]
[null,null,null,null,null,null,null,null,null,null,null,null,"",{"$f":"IF(D2396=\"Cash and Deposits\",IF(E2396=\"\",\"BANK NAME REQUIRED\",IF(ISERROR(VLOOKUP(E2396,'Reference Data'!C:C,1,FALSE)),\"PLEASE SELECT A BANK FROM DEFINED LIST PROVIDED\",\"\")),\"\")","v":""},"No Entry",0]
[null,null,null,null,null,null,null,null,null,null,null,null,"",{"$f":"IF(D2397=\"Cash and Deposits\",IF(E2397=\"\",\"BANK NAME REQUIRED\",IF(ISERROR(VLOOKUP(E2397,'Reference Data'!C:C,1,FALSE)),\"PLEASE SELECT A BANK FROM DEFINED LIST PROVIDED\",\"\")),\"\")","v":""},"No Entry",0]
[null,null,null,null,null,null,null,null,null,null,null,null,"",{"$f":"IF(D2398=\"Cash and Deposits\",IF(E2398=\"\",\"BANK NAME REQUIRED\",IF(ISERROR(VLOOKUP(E2398,'Reference Data'!C:C,1,FALSE)),\"PLEASE SELECT A BANK FROM DEFINED LIST PROVIDED\",\"\")),\"\")","v":""},"No Entry",0]
[null,null,null,null,null,null,null,null,null,null,null,null,"",{"$f":"IF(D2399=\"Cash and Deposits\",IF(E2399=\"\",\"BANK NAME REQUIRED\",IF(ISERROR(VLOOKUP(E2399,'Reference Data'!C:C,1,FALSE)),\"PLEASE SELECT A BANK FROM DEFINED LIST PROVIDED\",\"\")),\"\")","v":""},"No Entry",0]
[null,null,null,null,null,null,null,null,null,null,null,null,"",{"$f":"IF(D2400=\"Cash and Deposits\",IF(E2400=\"\",\"BANK NAME REQUIRED\",IF(ISERROR(VLOOKUP(E2400,'Reference Data'!C:C,1,FALSE)),\"PLEASE SELECT A BANK FROM DEFINED LIST PROVIDED\",\"\")),\"\")","v":""},"No Entry",0]
[null,null,null,null,null,null,null,null,null,null,null,null,"",{"$f":"IF(D2401=\"Cash and Deposits\",IF(E2401=\"\",\"BANK NAME REQUIRED\",IF(ISERROR(VLOOKUP(E2401,'Reference Data'!C:C,1,FALSE)),\"PLEASE SELECT A BANK FROM DEFINED LIST PROVIDED\",\"\")),\"\")","v":""},"No Entry",0]
[null,null,null,null,null,null,null,null,null,null,null,null,"",{"$f":"IF(D2402=\"Cash and Deposits\",IF(E2402=\"\",\"BANK NAME REQUIRED\",IF(ISERROR(VLOOKUP(E2402,'Reference Data'!C:C,1,FALSE)),\"PLEASE SELECT A BANK FROM DEFINED LIST PROVIDED\",\"\")),\"\")","v":""},"No Entry",0]
[null,null,null,null,null,null,null,null,null,null,null,null,"",{"$f":"IF(D2403=\"Cash and Deposits\",IF(E2403=\"\",\"BANK NAME REQUIRED\",IF(ISERROR(VLOOKUP(E2403,'Reference Data'!C:C,1,FALSE)),\"PLEASE SELECT A BANK FROM DEFINED LIST PROVIDED\",\"\")),\"\")","v":""},"No Entry",0]
[null,null,null,null,null,null,null,null,null,null,null,null,"",{"$f":"IF(D2404=\"Cash and Deposits\",IF(E2404=\"\",\"BANK NAME REQUIRED\",IF(ISERROR(VLOOKUP(E2404,'Reference Data'!C:C,1,FALSE)),\"PLEASE SELECT A BANK FROM DEFINED LIST PROVIDED\",\"\")),\"\")","v":""},"No Entry",0]
[null,null,null,null,null,null,null,null,null,null,null,null,"",{"$f":"IF(D2405=\"Cash and Deposits\",IF(E2405=\"\",\"BANK NAME REQUIRED\",IF(ISERROR(VLOOKUP(E2405,'Reference Data'!C:C,1,FALSE)),\"PLEASE SELECT A BANK FROM DEFINED LIST PROVIDED\",\"\")),\"\")","v":""},"No Entry",0]
[null,null,null,null,null,null,null,null,null,null,null,null,"",{"$f":"IF(D2406=\"Cash and Deposits\",IF(E2406=\"\",\"BANK NAME REQUIRED\",IF(ISERROR(VLOOKUP(E2406,'Reference Data'!C:C,1,FALSE)),\"PLEASE SELECT A BANK FROM DEFINED LIST PROVIDED\",\"\")),\"\")","v":""},"No Entry",0]
[null,null,null,null,null,null,null,null,null,null,null,null,"",{"$f":"IF(D2407=\"Cash and Deposits\",IF(E2407=\"\",\"BANK NAME REQUIRED\",IF(ISERROR(VLOOKUP(E2407,'Reference Data'!C:C,1,FALSE)),\"PLEASE SELECT A BANK FROM DEFINED LIST PROVIDED\",\"\")),\"\")","v":""},"No Entry",0]
[null,null,null,null,null,null,null,null,null,null,null,null,"",{"$f":"IF(D2408=\"Cash and Deposits\",IF(E2408=\"\",\"BANK NAME REQUIRED\",IF(ISERROR(VLOOKUP(E2408,'Reference Data'!C:C,1,FALSE)),\"PLEASE SELECT A BANK FROM DEFINED LIST PROVIDED\",\"\")),\"\")","v":""},"No Entry",0]
[null,null,null,null,null,null,null,null,null,null,null,null,"",{"$f":"IF(D2409=\"Cash and Deposits\",IF(E2409=\"\",\"BANK NAME REQUIRED\",IF(ISERROR(VLOOKUP(E2409,'Reference Data'!C:C,1,FALSE)),\"PLEASE SELECT A BANK FROM DEFINED LIST PROVIDED\",\"\")),\"\")","v":""},"No Entry",0]
[null,null,null,null,null,null,null,null,null,null,null,null,"",{"$f":"IF(D2410=\"Cash and Deposits\",IF(E2410=\"\",\"BANK NAME REQUIRED\",IF(ISERROR(VLOOKUP(E2410,'Reference Data'!C:C,1,FALSE)),\"PLEASE SELECT A BANK FROM DEFINED LIST PROVIDED\",\"\")),\"\")","v":""},"No Entry",0]
[null,null,null,null,null,null,null,null,null,null,null,null,"",{"$f":"IF(D2411=\"Cash and Deposits\",IF(E2411=\"\",\"BANK NAME REQUIRED\",IF(ISERROR(VLOOKUP(E2411,'Reference Data'!C:C,1,FALSE)),\"PLEASE SELECT A BANK FROM DEFINED LIST PROVIDED\",\"\")),\"\")","v":""},"No Entry",0]
[null,null,null,null,null,null,null,null,null,null,null,null,"",{"$f":"IF(D2412=\"Cash and Deposits\",IF(E2412=\"\",\"BANK NAME REQUIRED\",IF(ISERROR(VLOOKUP(E2412,'Reference Data'!C:C,1,FALSE)),\"PLEASE SELECT A BANK FROM DEFINED LIST PROVIDED\",\"\")),\"\")","v":""},"No Entry",0]
[null,null,null,null,null,null,null,null,null,null,null,null,"",{"$f":"IF(D2413=\"Cash and Deposits\",IF(E2413=\"\",\"BANK NAME REQUIRED\",IF(ISERROR(VLOOKUP(E2413,'Reference Data'!C:C,1,FALSE)),\"PLEASE SELECT A BANK FROM DEFINED LIST PROVIDED\",\"\")),\"\")","v":""},"No Entry",0]
[null,null,null,null,null,null,null,null,null,null,null,null,"",{"$f":"IF(D2414=\"Cash and Deposits\",IF(E2414=\"\",\"BANK NAME REQUIRED\",IF(ISERROR(VLOOKUP(E2414,'Reference Data'!C:C,1,FALSE)),\"PLEASE SELECT A BANK FROM DEFINED LIST PROVIDED\",\"\")),\"\")","v":""},"No Entry",0]
[null,null,null,null,null,null,null,null,null,null,null,null,"",{"$f":"IF(D2415=\"Cash and Deposits\",IF(E2415=\"\",\"BANK NAME REQUIRED\",IF(ISERROR(VLOOKUP(E2415,'Reference Data'!C:C,1,FALSE)),\"PLEASE SELECT A BANK FROM DEFINED LIST PROVIDED\",\"\")),\"\")","v":""},"No Entry",0]
[null,null,null,null,null,null,null,null,null,null,null,null,"",{"$f":"IF(D2416=\"Cash and Deposits\",IF(E2416=\"\",\"BANK NAME REQUIRED\",IF(ISERROR(VLOOKUP(E2416,'Reference Data'!C:C,1,FALSE)),\"PLEASE SELECT A BANK FROM DEFINED LIST PROVIDED\",\"\")),\"\")","v":""},"No Entry",0]
[null,null,null,null,null,null,null,null,null,null,null,null,"",{"$f":"IF(D2417=\"Cash and Deposits\",IF(E2417=\"\",\"BANK NAME REQUIRED\",IF(ISERROR(VLOOKUP(E2417,'Reference Data'!C:C,1,FALSE)),\"PLEASE SELECT A BANK FROM DEFINED LIST PROVIDED\",\"\")),\"\")","v":""},"No Entry",0]
[null,null,null,null,null,null,null,null,null,null,null,null,"",{"$f":"IF(D2418=\"Cash and Deposits\",IF(E2418=\"\",\"BANK NAME REQUIRED\",IF(ISERROR(VLOOKUP(E2418,'Reference Data'!C:C,1,FALSE)),\"PLEASE SELECT A BANK FROM DEFINED LIST PROVIDED\",\"\")),\"\")","v":""},"No Entry",0]
[null,null,null,null,null,null,null,null,null,null,null,null,"",{"$f":"IF(D2419=\"Cash and Deposits\",IF(E2419=\"\",\"BANK NAME REQUIRED\",IF(ISERROR(VLOOKUP(E2419,'Reference Data'!C:C,1,FALSE)),\"PLEASE SELECT A BANK FROM DEFINED LIST PROVIDED\",\"\")),\"\")","v":""},"No Entry",0]
[null,null,null,null,null,null,null,null,null,null,null,null,"",{"$f":"IF(D2420=\"Cash and Deposits\",IF(E2420=\"\",\"BANK NAME REQUIRED\",IF(ISERROR(VLOOKUP(E2420,'Reference Data'!C:C,1,FALSE)),\"PLEASE SELECT A BANK FROM DEFINED LIST PROVIDED\",\"\")),\"\")","v":""},"No Entry",0]
[null,null,null,null,null,null,null,null,null,null,null,null,"",{"$f":"IF(D2421=\"Cash and Deposits\",IF(E2421=\"\",\"BANK NAME REQUIRED\",IF(ISERROR(VLOOKUP(E2421,'Reference Data'!C:C,1,FALSE)),\"PLEASE SELECT A BANK FROM DEFINED LIST PROVIDED\",\"\")),\"\")","v":""},"No Entry",0]
[null,null,null,null,null,null,null,null,null,null,null,null,"",{"$f":"IF(D2422=\"Cash and Deposits\",IF(E2422=\"\",\"BANK NAME REQUIRED\",IF(ISERROR(VLOOKUP(E2422,'Reference Data'!C:C,1,FALSE)),\"PLEASE SELECT A BANK FROM DEFINED LIST PROVIDED\",\"\")),\"\")","v":""},"No Entry",0]
[null,null,null,null,null,null,null,null,null,null,null,null,"",{"$f":"IF(D2423=\"Cash and Deposits\",IF(E2423=\"\",\"BANK NAME REQUIRED\",IF(ISERROR(VLOOKUP(E2423,'Reference Data'!C:C,1,FALSE)),\"PLEASE SELECT A BANK FROM DEFINED LIST PROVIDED\",\"\")),\"\")","v":""},"No Entry",0]
[null,null,null,null,null,null,null,null,null,null,null,null,"",{"$f":"IF(D2424=\"Cash and Deposits\",IF(E2424=\"\",\"BANK NAME REQUIRED\",IF(ISERROR(VLOOKUP(E2424,'Reference Data'!C:C,1,FALSE)),\"PLEASE SELECT A BANK FROM DEFINED LIST PROVIDED\",\"\")),\"\")","v":""},"No Entry",0]
[null,null,null,null,null,null,null,null,null,null,null,null,"",{"$f":"IF(D2425=\"Cash and Deposits\",IF(E2425=\"\",\"BANK NAME REQUIRED\",IF(ISERROR(VLOOKUP(E2425,'Reference Data'!C:C,1,FALSE)),\"PLEASE SELECT A BANK FROM DEFINED LIST PROVIDED\",\"\")),\"\")","v":""},"No Entry",0]
[null,null,null,null,null,null,null,null,null,null,null,null,"",{"$f":"IF(D2426=\"Cash and Deposits\",IF(E2426=\"\",\"BANK NAME REQUIRED\",IF(ISERROR(VLOOKUP(E2426,'Reference Data'!C:C,1,FALSE)),\"PLEASE SELECT A BANK FROM DEFINED LIST PROVIDED\",\"\")),\"\")","v":""},"No Entry",0]
[null,null,null,null,null,null,null,null,null,null,null,null,"",{"$f":"IF(D2427=\"Cash and Deposits\",IF(E2427=\"\",\"BANK NAME REQUIRED\",IF(ISERROR(VLOOKUP(E2427,'Reference Data'!C:C,1,FALSE)),\"PLEASE SELECT A BANK FROM DEFINED LIST PROVIDED\",\"\")),\"\")","v":""},"No Entry",0]
[null,null,null,null,null,null,null,null,null,null,null,null,"",{"$f":"IF(D2428=\"Cash and Deposits\",IF(E2428=\"\",\"BANK NAME REQUIRED\",IF(ISERROR(VLOOKUP(E2428,'Reference Data'!C:C,1,FALSE)),\"PLEASE SELECT A BANK FROM DEFINED LIST PROVIDED\",\"\")),\"\")","v":""},"No Entry",0]
[null,null,null,null,null,null,null,null,null,null,null,null,"",{"$f":"IF(D2429=\"Cash and Deposits\",IF(E2429=\"\",\"BANK NAME REQUIRED\",IF(ISERROR(VLOOKUP(E2429,'Reference Data'!C:C,1,FALSE)),\"PLEASE SELECT A BANK FROM DEFINED LIST PROVIDED\",\"\")),\"\")","v":""},"No Entry",0]
[null,null,null,null,null,null,null,null,null,null,null,null,"",{"$f":"IF(D2430=\"Cash and Deposits\",IF(E2430=\"\",\"BANK NAME REQUIRED\",IF(ISERROR(VLOOKUP(E2430,'Reference Data'!C:C,1,FALSE)),\"PLEASE SELECT A BANK FROM DEFINED LIST PROVIDED\",\"\")),\"\")","v":""},"No Entry",0]
[null,null,null,null,null,null,null,null,null,null,null,null,"",{"$f":"IF(D2431=\"Cash and Deposits\",IF(E2431=\"\",\"BANK NAME REQUIRED\",IF(ISERROR(VLOOKUP(E2431,'Reference Data'!C:C,1,FALSE)),\"PLEASE SELECT A BANK FROM DEFINED LIST PROVIDED\",\"\")),\"\")","v":""},"No Entry",0]
[null,null,null,null,null,null,null,null,null,null,null,null,"",{"$f":"IF(D2432=\"Cash and Deposits\",IF(E2432=\"\",\"BANK NAME REQUIRED\",IF(ISERROR(VLOOKUP(E2432,'Reference Data'!C:C,1,FALSE)),\"PLEASE SELECT A BANK FROM DEFINED LIST PROVIDED\",\"\")),\"\")","v":""},"No Entry",0]
[null,null,null,null,null,null,null,null,null,null,null,null,"",{"$f":"IF(D2433=\"Cash and Deposits\",IF(E2433=\"\",\"BANK NAME REQUIRED\",IF(ISERROR(VLOOKUP(E2433,'Reference Data'!C:C,1,FALSE)),\"PLEASE SELECT A BANK FROM DEFINED LIST PROVIDED\",\"\")),\"\")","v":""},"No Entry",0]
[null,null,null,null,null,null,null,null,null,null,null,null,"",{"$f":"IF(D2434=\"Cash and Deposits\",IF(E2434=\"\",\"BANK NAME REQUIRED\",IF(ISERROR(VLOOKUP(E2434,'Reference Data'!C:C,1,FALSE)),\"PLEASE SELECT A BANK FROM DEFINED LIST PROVIDED\",\"\")),\"\")","v":""},"No Entry",0]
[null,null,null,null,null,null,null,null,null,null,null,null,"",{"$f":"IF(D2435=\"Cash and Deposits\",IF(E2435=\"\",\"BANK NAME REQUIRED\",IF(ISERROR(VLOOKUP(E2435,'Reference Data'!C:C,1,FALSE)),\"PLEASE SELECT A BANK FROM DEFINED LIST PROVIDED\",\"\")),\"\")","v":""},"No Entry",0]
[null,null,null,null,null,null,null,null,null,null,null,null,"",{"$f":"IF(D2436=\"Cash and Deposits\",IF(E2436=\"\",\"BANK NAME REQUIRED\",IF(ISERROR(VLOOKUP(E2436,'Reference Data'!C:C,1,FALSE)),\"PLEASE SELECT A BANK FROM DEFINED LIST PROVIDED\",\"\")),\"\")","v":""},"No Entry",0]
[null,null,null,null,null,null,null,null,null,null,null,null,{"$f":"IF(K2437<>0,IF(B2437=\"\",\"ID CODE REQUIRED\",\"\"),\"\")","v":""},{"$f":"IF(D2437=\"Cash and Deposits\",IF(E2437=\"\",\"BANK NAME REQUIRED\",IF(ISERROR(VLOOKUP(E2437,'Reference Data'!C:C,1,FALSE)),\"PLEASE SELECT A BANK FROM DEFINED LIST PROVIDED\",\"\")),\"\")","v":""},{"$f":"IF(K2437=0,\"No Entry\",\"\")","v":"No Entry"},{"$f":"IF(K2437<>0,IF(A2437=\"\",1,0),0)","v":0}]
[null,null,null,null,null,null,null,null,null,null,null,null,"",{"$f":"IF(D2438=\"Cash and Deposits\",IF(E2438=\"\",\"BANK NAME REQUIRED\",IF(ISERROR(VLOOKUP(E2438,'Reference Data'!C:C,1,FALSE)),\"PLEASE SELECT A BANK FROM DEFINED LIST PROVIDED\",\"\")),\"\")","v":""},"No Entry",0]
[null,null,null,null,null,null,null,null,null,null,null,null,"",{"$f":"IF(D2439=\"Cash and Deposits\",IF(E2439=\"\",\"BANK NAME REQUIRED\",IF(ISERROR(VLOOKUP(E2439,'Reference Data'!C:C,1,FALSE)),\"PLEASE SELECT A BANK FROM DEFINED LIST PROVIDED\",\"\")),\"\")","v":""},"No Entry",0]
[null,null,null,null,null,null,null,null,null,null,null,null,"",{"$f":"IF(D2440=\"Cash and Deposits\",IF(E2440=\"\",\"BANK NAME REQUIRED\",IF(ISERROR(VLOOKUP(E2440,'Reference Data'!C:C,1,FALSE)),\"PLEASE SELECT A BANK FROM DEFINED LIST PROVIDED\",\"\")),\"\")","v":""},"No Entry",0]
[null,null,null,null,null,null,null,null,null,null,null,null,"",{"$f":"IF(D2441=\"Cash and Deposits\",IF(E2441=\"\",\"BANK NAME REQUIRED\",IF(ISERROR(VLOOKUP(E2441,'Reference Data'!C:C,1,FALSE)),\"PLEASE SELECT A BANK FROM DEFINED LIST PROVIDED\",\"\")),\"\")","v":""},"No Entry",0]
[null,null,null,null,null,null,null,null,null,null,null,null,"",{"$f":"IF(D2442=\"Cash and Deposits\",IF(E2442=\"\",\"BANK NAME REQUIRED\",IF(ISERROR(VLOOKUP(E2442,'Reference Data'!C:C,1,FALSE)),\"PLEASE SELECT A BANK FROM DEFINED LIST PROVIDED\",\"\")),\"\")","v":""},"No Entry",0]
[null,null,null,null,null,null,null,null,null,null,null,null,"",{"$f":"IF(D2443=\"Cash and Deposits\",IF(E2443=\"\",\"BANK NAME REQUIRED\",IF(ISERROR(VLOOKUP(E2443,'Reference Data'!C:C,1,FALSE)),\"PLEASE SELECT A BANK FROM DEFINED LIST PROVIDED\",\"\")),\"\")","v":""},"No Entry",0]
[null,null,null,null,null,null,null,null,null,null,null,null,"",{"$f":"IF(D2444=\"Cash and Deposits\",IF(E2444=\"\",\"BANK NAME REQUIRED\",IF(ISERROR(VLOOKUP(E2444,'Reference Data'!C:C,1,FALSE)),\"PLEASE SELECT A BANK FROM DEFINED LIST PROVIDED\",\"\")),\"\")","v":""},"No Entry",0]
[null,null,null,null,null,null,null,null,null,null,null,null,"",{"$f":"IF(D2445=\"Cash and Deposits\",IF(E2445=\"\",\"BANK NAME REQUIRED\",IF(ISERROR(VLOOKUP(E2445,'Reference Data'!C:C,1,FALSE)),\"PLEASE SELECT A BANK FROM DEFINED LIST PROVIDED\",\"\")),\"\")","v":""},"No Entry",0]
[null,null,null,null,null,null,null,null,null,null,null,null,"",{"$f":"IF(D2446=\"Cash and Deposits\",IF(E2446=\"\",\"BANK NAME REQUIRED\",IF(ISERROR(VLOOKUP(E2446,'Reference Data'!C:C,1,FALSE)),\"PLEASE SELECT A BANK FROM DEFINED LIST PROVIDED\",\"\")),\"\")","v":""},"No Entry",0]
[null,null,null,null,null,null,null,null,null,null,null,null,"",{"$f":"IF(D2447=\"Cash and Deposits\",IF(E2447=\"\",\"BANK NAME REQUIRED\",IF(ISERROR(VLOOKUP(E2447,'Reference Data'!C:C,1,FALSE)),\"PLEASE SELECT A BANK FROM DEFINED LIST PROVIDED\",\"\")),\"\")","v":""},"No Entry",0]
[null,null,null,null,null,null,null,null,null,null,null,null,"",{"$f":"IF(D2448=\"Cash and Deposits\",IF(E2448=\"\",\"BANK NAME REQUIRED\",IF(ISERROR(VLOOKUP(E2448,'Reference Data'!C:C,1,FALSE)),\"PLEASE SELECT A BANK FROM DEFINED LIST PROVIDED\",\"\")),\"\")","v":""},"No Entry",0]
[null,null,null,null,null,null,null,null,null,null,null,null,"",{"$f":"IF(D2449=\"Cash and Deposits\",IF(E2449=\"\",\"BANK NAME REQUIRED\",IF(ISERROR(VLOOKUP(E2449,'Reference Data'!C:C,1,FALSE)),\"PLEASE SELECT A BANK FROM DEFINED LIST PROVIDED\",\"\")),\"\")","v":""},"No Entry",0]
[null,null,null,null,null,null,null,null,null,null,null,null,"",{"$f":"IF(D2450=\"Cash and Deposits\",IF(E2450=\"\",\"BANK NAME REQUIRED\",IF(ISERROR(VLOOKUP(E2450,'Reference Data'!C:C,1,FALSE)),\"PLEASE SELECT A BANK FROM DEFINED LIST PROVIDED\",\"\")),\"\")","v":""},"No Entry",0]
[null,null,null,null,null,null,null,null,null,null,null,null,"",{"$f":"IF(D2451=\"Cash and Deposits\",IF(E2451=\"\",\"BANK NAME REQUIRED\",IF(ISERROR(VLOOKUP(E2451,'Reference Data'!C:C,1,FALSE)),\"PLEASE SELECT A BANK FROM DEFINED LIST PROVIDED\",\"\")),\"\")","v":""},"No Entry",0]
[null,null,null,null,null,null,null,null,null,null,null,null,"",{"$f":"IF(D2452=\"Cash and Deposits\",IF(E2452=\"\",\"BANK NAME REQUIRED\",IF(ISERROR(VLOOKUP(E2452,'Reference Data'!C:C,1,FALSE)),\"PLEASE SELECT A BANK FROM DEFINED LIST PROVIDED\",\"\")),\"\")","v":""},"No Entry",0]
[null,null,null,null,null,null,null,null,null,null,null,null,"",{"$f":"IF(D2453=\"Cash and Deposits\",IF(E2453=\"\",\"BANK NAME REQUIRED\",IF(ISERROR(VLOOKUP(E2453,'Reference Data'!C:C,1,FALSE)),\"PLEASE SELECT A BANK FROM DEFINED LIST PROVIDED\",\"\")),\"\")","v":""},"No Entry",0]
[null,null,null,null,null,null,null,null,null,null,null,null,"",{"$f":"IF(D2454=\"Cash and Deposits\",IF(E2454=\"\",\"BANK NAME REQUIRED\",IF(ISERROR(VLOOKUP(E2454,'Reference Data'!C:C,1,FALSE)),\"PLEASE SELECT A BANK FROM DEFINED LIST PROVIDED\",\"\")),\"\")","v":""},"No Entry",0]
[null,null,null,null,null,null,null,null,null,null,null,null,"",{"$f":"IF(D2455=\"Cash and Deposits\",IF(E2455=\"\",\"BANK NAME REQUIRED\",IF(ISERROR(VLOOKUP(E2455,'Reference Data'!C:C,1,FALSE)),\"PLEASE SELECT A BANK FROM DEFINED LIST PROVIDED\",\"\")),\"\")","v":""},"No Entry",0]
[null,null,null,null,null,null,null,null,null,null,null,null,"",{"$f":"IF(D2456=\"Cash and Deposits\",IF(E2456=\"\",\"BANK NAME REQUIRED\",IF(ISERROR(VLOOKUP(E2456,'Reference Data'!C:C,1,FALSE)),\"PLEASE SELECT A BANK FROM DEFINED LIST PROVIDED\",\"\")),\"\")","v":""},"No Entry",0]
[null,null,null,null,null,null,null,null,null,null,null,null,"",{"$f":"IF(D2457=\"Cash and Deposits\",IF(E2457=\"\",\"BANK NAME REQUIRED\",IF(ISERROR(VLOOKUP(E2457,'Reference Data'!C:C,1,FALSE)),\"PLEASE SELECT A BANK FROM DEFINED LIST PROVIDED\",\"\")),\"\")","v":""},"No Entry",0]
[null,null,null,null,null,null,null,null,null,null,null,null,"",{"$f":"IF(D2458=\"Cash and Deposits\",IF(E2458=\"\",\"BANK NAME REQUIRED\",IF(ISERROR(VLOOKUP(E2458,'Reference Data'!C:C,1,FALSE)),\"PLEASE SELECT A BANK FROM DEFINED LIST PROVIDED\",\"\")),\"\")","v":""},"No Entry",0]
[null,null,null,null,null,null,null,null,null,null,null,null,"",{"$f":"IF(D2459=\"Cash and Deposits\",IF(E2459=\"\",\"BANK NAME REQUIRED\",IF(ISERROR(VLOOKUP(E2459,'Reference Data'!C:C,1,FALSE)),\"PLEASE SELECT A BANK FROM DEFINED LIST PROVIDED\",\"\")),\"\")","v":""},"No Entry",0]
[null,null,null,null,null,null,null,null,null,null,null,null,"",{"$f":"IF(D2460=\"Cash and Deposits\",IF(E2460=\"\",\"BANK NAME REQUIRED\",IF(ISERROR(VLOOKUP(E2460,'Reference Data'!C:C,1,FALSE)),\"PLEASE SELECT A BANK FROM DEFINED LIST PROVIDED\",\"\")),\"\")","v":""},"No Entry",0]
[null,null,null,null,null,null,null,null,null,null,null,null,"",{"$f":"IF(D2461=\"Cash and Deposits\",IF(E2461=\"\",\"BANK NAME REQUIRED\",IF(ISERROR(VLOOKUP(E2461,'Reference Data'!C:C,1,FALSE)),\"PLEASE SELECT A BANK FROM DEFINED LIST PROVIDED\",\"\")),\"\")","v":""},"No Entry",0]
[null,null,null,null,null,null,null,null,null,null,null,null,"",{"$f":"IF(D2462=\"Cash and Deposits\",IF(E2462=\"\",\"BANK NAME REQUIRED\",IF(ISERROR(VLOOKUP(E2462,'Reference Data'!C:C,1,FALSE)),\"PLEASE SELECT A BANK FROM DEFINED LIST PROVIDED\",\"\")),\"\")","v":""},"No Entry",0]
[null,null,null,null,null,null,null,null,null,null,null,null,"",{"$f":"IF(D2463=\"Cash and Deposits\",IF(E2463=\"\",\"BANK NAME REQUIRED\",IF(ISERROR(VLOOKUP(E2463,'Reference Data'!C:C,1,FALSE)),\"PLEASE SELECT A BANK FROM DEFINED LIST PROVIDED\",\"\")),\"\")","v":""},"No Entry",0]
[null,null,null,null,null,null,null,null,null,null,null,null,"",{"$f":"IF(D2464=\"Cash and Deposits\",IF(E2464=\"\",\"BANK NAME REQUIRED\",IF(ISERROR(VLOOKUP(E2464,'Reference Data'!C:C,1,FALSE)),\"PLEASE SELECT A BANK FROM DEFINED LIST PROVIDED\",\"\")),\"\")","v":""},"No Entry",0]
[null,null,null,null,null,null,null,null,null,null,null,null,"",{"$f":"IF(D2465=\"Cash and Deposits\",IF(E2465=\"\",\"BANK NAME REQUIRED\",IF(ISERROR(VLOOKUP(E2465,'Reference Data'!C:C,1,FALSE)),\"PLEASE SELECT A BANK FROM DEFINED LIST PROVIDED\",\"\")),\"\")","v":""},"No Entry",0]
[null,null,null,null,null,null,null,null,null,null,null,null,"",{"$f":"IF(D2466=\"Cash and Deposits\",IF(E2466=\"\",\"BANK NAME REQUIRED\",IF(ISERROR(VLOOKUP(E2466,'Reference Data'!C:C,1,FALSE)),\"PLEASE SELECT A BANK FROM DEFINED LIST PROVIDED\",\"\")),\"\")","v":""},"No Entry",0]
[null,null,null,null,null,null,null,null,null,null,null,null,"",{"$f":"IF(D2467=\"Cash and Deposits\",IF(E2467=\"\",\"BANK NAME REQUIRED\",IF(ISERROR(VLOOKUP(E2467,'Reference Data'!C:C,1,FALSE)),\"PLEASE SELECT A BANK FROM DEFINED LIST PROVIDED\",\"\")),\"\")","v":""},"No Entry",0]
[null,null,null,null,null,null,null,null,null,null,null,null,"",{"$f":"IF(D2468=\"Cash and Deposits\",IF(E2468=\"\",\"BANK NAME REQUIRED\",IF(ISERROR(VLOOKUP(E2468,'Reference Data'!C:C,1,FALSE)),\"PLEASE SELECT A BANK FROM DEFINED LIST PROVIDED\",\"\")),\"\")","v":""},"No Entry",0]
[null,null,null,null,null,null,null,null,null,null,null,null,"",{"$f":"IF(D2469=\"Cash and Deposits\",IF(E2469=\"\",\"BANK NAME REQUIRED\",IF(ISERROR(VLOOKUP(E2469,'Reference Data'!C:C,1,FALSE)),\"PLEASE SELECT A BANK FROM DEFINED LIST PROVIDED\",\"\")),\"\")","v":""},"No Entry",0]
[null,null,null,null,null,null,null,null,null,null,null,null,"",{"$f":"IF(D2470=\"Cash and Deposits\",IF(E2470=\"\",\"BANK NAME REQUIRED\",IF(ISERROR(VLOOKUP(E2470,'Reference Data'!C:C,1,FALSE)),\"PLEASE SELECT A BANK FROM DEFINED LIST PROVIDED\",\"\")),\"\")","v":""},"No Entry",0]
[null,null,null,null,null,null,null,null,null,null,null,null,"",{"$f":"IF(D2471=\"Cash and Deposits\",IF(E2471=\"\",\"BANK NAME REQUIRED\",IF(ISERROR(VLOOKUP(E2471,'Reference Data'!C:C,1,FALSE)),\"PLEASE SELECT A BANK FROM DEFINED LIST PROVIDED\",\"\")),\"\")","v":""},"No Entry",0]
[null,null,null,null,null,null,null,null,null,null,null,null,"",{"$f":"IF(D2472=\"Cash and Deposits\",IF(E2472=\"\",\"BANK NAME REQUIRED\",IF(ISERROR(VLOOKUP(E2472,'Reference Data'!C:C,1,FALSE)),\"PLEASE SELECT A BANK FROM DEFINED LIST PROVIDED\",\"\")),\"\")","v":""},"No Entry",0]
[null,null,null,null,null,null,null,null,null,null,null,null,"",{"$f":"IF(D2473=\"Cash and Deposits\",IF(E2473=\"\",\"BANK NAME REQUIRED\",IF(ISERROR(VLOOKUP(E2473,'Reference Data'!C:C,1,FALSE)),\"PLEASE SELECT A BANK FROM DEFINED LIST PROVIDED\",\"\")),\"\")","v":""},"No Entry",0]
[null,null,null,null,null,null,null,null,null,null,null,null,"",{"$f":"IF(D2474=\"Cash and Deposits\",IF(E2474=\"\",\"BANK NAME REQUIRED\",IF(ISERROR(VLOOKUP(E2474,'Reference Data'!C:C,1,FALSE)),\"PLEASE SELECT A BANK FROM DEFINED LIST PROVIDED\",\"\")),\"\")","v":""},"No Entry",0]
[null,null,null,null,null,null,null,null,null,null,null,null,"",{"$f":"IF(D2475=\"Cash and Deposits\",IF(E2475=\"\",\"BANK NAME REQUIRED\",IF(ISERROR(VLOOKUP(E2475,'Reference Data'!C:C,1,FALSE)),\"PLEASE SELECT A BANK FROM DEFINED LIST PROVIDED\",\"\")),\"\")","v":""},"No Entry",0]
[null,null,null,null,null,null,null,null,null,null,null,null,"",{"$f":"IF(D2476=\"Cash and Deposits\",IF(E2476=\"\",\"BANK NAME REQUIRED\",IF(ISERROR(VLOOKUP(E2476,'Reference Data'!C:C,1,FALSE)),\"PLEASE SELECT A BANK FROM DEFINED LIST PROVIDED\",\"\")),\"\")","v":""},"No Entry",0]
[null,null,null,null,null,null,null,null,null,null,null,null,"",{"$f":"IF(D2477=\"Cash and Deposits\",IF(E2477=\"\",\"BANK NAME REQUIRED\",IF(ISERROR(VLOOKUP(E2477,'Reference Data'!C:C,1,FALSE)),\"PLEASE SELECT A BANK FROM DEFINED LIST PROVIDED\",\"\")),\"\")","v":""},"No Entry",0]
[null,null,null,null,null,null,null,null,null,null,null,null,"",{"$f":"IF(D2478=\"Cash and Deposits\",IF(E2478=\"\",\"BANK NAME REQUIRED\",IF(ISERROR(VLOOKUP(E2478,'Reference Data'!C:C,1,FALSE)),\"PLEASE SELECT A BANK FROM DEFINED LIST PROVIDED\",\"\")),\"\")","v":""},"No Entry",0]
[null,null,null,null,null,null,null,null,null,null,null,null,"",{"$f":"IF(D2479=\"Cash and Deposits\",IF(E2479=\"\",\"BANK NAME REQUIRED\",IF(ISERROR(VLOOKUP(E2479,'Reference Data'!C:C,1,FALSE)),\"PLEASE SELECT A BANK FROM DEFINED LIST PROVIDED\",\"\")),\"\")","v":""},"No Entry",0]
[null,null,null,null,null,null,null,null,null,null,null,null,"",{"$f":"IF(D2480=\"Cash and Deposits\",IF(E2480=\"\",\"BANK NAME REQUIRED\",IF(ISERROR(VLOOKUP(E2480,'Reference Data'!C:C,1,FALSE)),\"PLEASE SELECT A BANK FROM DEFINED LIST PROVIDED\",\"\")),\"\")","v":""},"No Entry",0]
[null,null,null,null,null,null,null,null,null,null,null,null,"",{"$f":"IF(D2481=\"Cash and Deposits\",IF(E2481=\"\",\"BANK NAME REQUIRED\",IF(ISERROR(VLOOKUP(E2481,'Reference Data'!C:C,1,FALSE)),\"PLEASE SELECT A BANK FROM DEFINED LIST PROVIDED\",\"\")),\"\")","v":""},"No Entry",0]
[null,null,null,null,null,null,null,null,null,null,null,null,"",{"$f":"IF(D2482=\"Cash and Deposits\",IF(E2482=\"\",\"BANK NAME REQUIRED\",IF(ISERROR(VLOOKUP(E2482,'Reference Data'!C:C,1,FALSE)),\"PLEASE SELECT A BANK FROM DEFINED LIST PROVIDED\",\"\")),\"\")","v":""},"No Entry",0]
[null,null,null,null,null,null,null,null,null,null,null,null,"",{"$f":"IF(D2483=\"Cash and Deposits\",IF(E2483=\"\",\"BANK NAME REQUIRED\",IF(ISERROR(VLOOKUP(E2483,'Reference Data'!C:C,1,FALSE)),\"PLEASE SELECT A BANK FROM DEFINED LIST PROVIDED\",\"\")),\"\")","v":""},"No Entry",0]
[null,null,null,null,null,null,null,null,null,null,null,null,"",{"$f":"IF(D2484=\"Cash and Deposits\",IF(E2484=\"\",\"BANK NAME REQUIRED\",IF(ISERROR(VLOOKUP(E2484,'Reference Data'!C:C,1,FALSE)),\"PLEASE SELECT A BANK FROM DEFINED LIST PROVIDED\",\"\")),\"\")","v":""},"No Entry",0]
[null,null,null,null,null,null,null,null,null,null,null,null,"",{"$f":"IF(D2485=\"Cash and Deposits\",IF(E2485=\"\",\"BANK NAME REQUIRED\",IF(ISERROR(VLOOKUP(E2485,'Reference Data'!C:C,1,FALSE)),\"PLEASE SELECT A BANK FROM DEFINED LIST PROVIDED\",\"\")),\"\")","v":""},"No Entry",0]
[null,null,null,null,null,null,null,null,null,null,null,null,"",{"$f":"IF(D2486=\"Cash and Deposits\",IF(E2486=\"\",\"BANK NAME REQUIRED\",IF(ISERROR(VLOOKUP(E2486,'Reference Data'!C:C,1,FALSE)),\"PLEASE SELECT A BANK FROM DEFINED LIST PROVIDED\",\"\")),\"\")","v":""},"No Entry",0]
[null,null,null,null,null,null,null,null,null,null,null,null,"",{"$f":"IF(D2487=\"Cash and Deposits\",IF(E2487=\"\",\"BANK NAME REQUIRED\",IF(ISERROR(VLOOKUP(E2487,'Reference Data'!C:C,1,FALSE)),\"PLEASE SELECT A BANK FROM DEFINED LIST PROVIDED\",\"\")),\"\")","v":""},"No Entry",0]
[null,null,null,null,null,null,null,null,null,null,null,null,"",{"$f":"IF(D2488=\"Cash and Deposits\",IF(E2488=\"\",\"BANK NAME REQUIRED\",IF(ISERROR(VLOOKUP(E2488,'Reference Data'!C:C,1,FALSE)),\"PLEASE SELECT A BANK FROM DEFINED LIST PROVIDED\",\"\")),\"\")","v":""},"No Entry",0]
[null,null,null,null,null,null,null,null,null,null,null,null,"",{"$f":"IF(D2489=\"Cash and Deposits\",IF(E2489=\"\",\"BANK NAME REQUIRED\",IF(ISERROR(VLOOKUP(E2489,'Reference Data'!C:C,1,FALSE)),\"PLEASE SELECT A BANK FROM DEFINED LIST PROVIDED\",\"\")),\"\")","v":""},"No Entry",0]
[null,null,null,null,null,null,null,null,null,null,null,null,"",{"$f":"IF(D2490=\"Cash and Deposits\",IF(E2490=\"\",\"BANK NAME REQUIRED\",IF(ISERROR(VLOOKUP(E2490,'Reference Data'!C:C,1,FALSE)),\"PLEASE SELECT A BANK FROM DEFINED LIST PROVIDED\",\"\")),\"\")","v":""},"No Entry",0]
[null,null,null,null,null,null,null,null,null,null,null,null,"",{"$f":"IF(D2491=\"Cash and Deposits\",IF(E2491=\"\",\"BANK NAME REQUIRED\",IF(ISERROR(VLOOKUP(E2491,'Reference Data'!C:C,1,FALSE)),\"PLEASE SELECT A BANK FROM DEFINED LIST PROVIDED\",\"\")),\"\")","v":""},"No Entry",0]
[null,null,null,null,null,null,null,null,null,null,null,null,"",{"$f":"IF(D2492=\"Cash and Deposits\",IF(E2492=\"\",\"BANK NAME REQUIRED\",IF(ISERROR(VLOOKUP(E2492,'Reference Data'!C:C,1,FALSE)),\"PLEASE SELECT A BANK FROM DEFINED LIST PROVIDED\",\"\")),\"\")","v":""},"No Entry",0]
[null,null,null,null,null,null,null,null,null,null,null,null,"",{"$f":"IF(D2493=\"Cash and Deposits\",IF(E2493=\"\",\"BANK NAME REQUIRED\",IF(ISERROR(VLOOKUP(E2493,'Reference Data'!C:C,1,FALSE)),\"PLEASE SELECT A BANK FROM DEFINED LIST PROVIDED\",\"\")),\"\")","v":""},"No Entry",0]
[null,null,null,null,null,null,null,null,null,null,null,null,"",{"$f":"IF(D2494=\"Cash and Deposits\",IF(E2494=\"\",\"BANK NAME REQUIRED\",IF(ISERROR(VLOOKUP(E2494,'Reference Data'!C:C,1,FALSE)),\"PLEASE SELECT A BANK FROM DEFINED LIST PROVIDED\",\"\")),\"\")","v":""},"No Entry",0]
[null,null,null,null,null,null,null,null,null,null,null,null,"",{"$f":"IF(D2495=\"Cash and Deposits\",IF(E2495=\"\",\"BANK NAME REQUIRED\",IF(ISERROR(VLOOKUP(E2495,'Reference Data'!C:C,1,FALSE)),\"PLEASE SELECT A BANK FROM DEFINED LIST PROVIDED\",\"\")),\"\")","v":""},"No Entry",0]
[null,null,null,null,null,null,null,null,null,null,null,null,"",{"$f":"IF(D2496=\"Cash and Deposits\",IF(E2496=\"\",\"BANK NAME REQUIRED\",IF(ISERROR(VLOOKUP(E2496,'Reference Data'!C:C,1,FALSE)),\"PLEASE SELECT A BANK FROM DEFINED LIST PROVIDED\",\"\")),\"\")","v":""},"No Entry",0]
[null,null,null,null,null,null,null,null,null,null,null,null,"",{"$f":"IF(D2497=\"Cash and Deposits\",IF(E2497=\"\",\"BANK NAME REQUIRED\",IF(ISERROR(VLOOKUP(E2497,'Reference Data'!C:C,1,FALSE)),\"PLEASE SELECT A BANK FROM DEFINED LIST PROVIDED\",\"\")),\"\")","v":""},"No Entry",0]
[null,null,null,null,null,null,null,null,null,null,null,null,"",{"$f":"IF(D2498=\"Cash and Deposits\",IF(E2498=\"\",\"BANK NAME REQUIRED\",IF(ISERROR(VLOOKUP(E2498,'Reference Data'!C:C,1,FALSE)),\"PLEASE SELECT A BANK FROM DEFINED LIST PROVIDED\",\"\")),\"\")","v":""},"No Entry",0]
[null,null,null,null,null,null,null,null,null,null,null,null,"",{"$f":"IF(D2499=\"Cash and Deposits\",IF(E2499=\"\",\"BANK NAME REQUIRED\",IF(ISERROR(VLOOKUP(E2499,'Reference Data'!C:C,1,FALSE)),\"PLEASE SELECT A BANK FROM DEFINED LIST PROVIDED\",\"\")),\"\")","v":""},"No Entry",0]
[null,null,null,null,null,null,null,null,null,null,null,null,"",{"$f":"IF(D2500=\"Cash and Deposits\",IF(E2500=\"\",\"BANK NAME REQUIRED\",IF(ISERROR(VLOOKUP(E2500,'Reference Data'!C:C,1,FALSE)),\"PLEASE SELECT A BANK FROM DEFINED LIST PROVIDED\",\"\")),\"\")","v":""},"No Entry",0]
[null,null,null,null,null,null,null,null,null,null,null,null,{"$f":"IF(K2501<>0,IF(B2501=\"\",\"ID CODE REQUIRED\",\"\"),\"\")","v":""},{"$f":"IF(D2501=\"Cash and Deposits\",IF(E2501=\"\",\"BANK NAME REQUIRED\",IF(ISERROR(VLOOKUP(E2501,'Reference Data'!C:C,1,FALSE)),\"PLEASE SELECT A BANK FROM DEFINED LIST PROVIDED\",\"\")),\"\")","v":""},{"$f":"IF(K2501=0,\"No Entry\",\"\")","v":"No Entry"},{"$f":"IF(K2501<>0,IF(A2501=\"\",1,0),0)","v":0}]
[null,null,null,null,null,null,null,null,null,null,null,null,"",{"$f":"IF(D2502=\"Cash and Deposits\",IF(E2502=\"\",\"BANK NAME REQUIRED\",IF(ISERROR(VLOOKUP(E2502,'Reference Data'!C:C,1,FALSE)),\"PLEASE SELECT A BANK FROM DEFINED LIST PROVIDED\",\"\")),\"\")","v":""},"No Entry",0]
[null,null,null,null,null,null,null,null,null,null,null,null,"",{"$f":"IF(D2503=\"Cash and Deposits\",IF(E2503=\"\",\"BANK NAME REQUIRED\",IF(ISERROR(VLOOKUP(E2503,'Reference Data'!C:C,1,FALSE)),\"PLEASE SELECT A BANK FROM DEFINED LIST PROVIDED\",\"\")),\"\")","v":""},"No Entry",0]
[null,null,null,null,null,null,null,null,null,null,null,null,"",{"$f":"IF(D2504=\"Cash and Deposits\",IF(E2504=\"\",\"BANK NAME REQUIRED\",IF(ISERROR(VLOOKUP(E2504,'Reference Data'!C:C,1,FALSE)),\"PLEASE SELECT A BANK FROM DEFINED LIST PROVIDED\",\"\")),\"\")","v":""},"No Entry",0]
[null,null,null,null,null,null,null,null,null,null,null,null,"",{"$f":"IF(D2505=\"Cash and Deposits\",IF(E2505=\"\",\"BANK NAME REQUIRED\",IF(ISERROR(VLOOKUP(E2505,'Reference Data'!C:C,1,FALSE)),\"PLEASE SELECT A BANK FROM DEFINED LIST PROVIDED\",\"\")),\"\")","v":""},"No Entry",0]
[null,null,null,null,null,null,null,null,null,null,null,null,"",{"$f":"IF(D2506=\"Cash and Deposits\",IF(E2506=\"\",\"BANK NAME REQUIRED\",IF(ISERROR(VLOOKUP(E2506,'Reference Data'!C:C,1,FALSE)),\"PLEASE SELECT A BANK FROM DEFINED LIST PROVIDED\",\"\")),\"\")","v":""},"No Entry",0]
[null,null,null,null,null,null,null,null,null,null,null,null,"",{"$f":"IF(D2507=\"Cash and Deposits\",IF(E2507=\"\",\"BANK NAME REQUIRED\",IF(ISERROR(VLOOKUP(E2507,'Reference Data'!C:C,1,FALSE)),\"PLEASE SELECT A BANK FROM DEFINED LIST PROVIDED\",\"\")),\"\")","v":""},"No Entry",0]
[null,null,null,null,null,null,null,null,null,null,null,null,"",{"$f":"IF(D2508=\"Cash and Deposits\",IF(E2508=\"\",\"BANK NAME REQUIRED\",IF(ISERROR(VLOOKUP(E2508,'Reference Data'!C:C,1,FALSE)),\"PLEASE SELECT A BANK FROM DEFINED LIST PROVIDED\",\"\")),\"\")","v":""},"No Entry",0]
[null,null,null,null,null,null,null,null,null,null,null,null,"",{"$f":"IF(D2509=\"Cash and Deposits\",IF(E2509=\"\",\"BANK NAME REQUIRED\",IF(ISERROR(VLOOKUP(E2509,'Reference Data'!C:C,1,FALSE)),\"PLEASE SELECT A BANK FROM DEFINED LIST PROVIDED\",\"\")),\"\")","v":""},"No Entry",0]
[null,null,null,null,null,null,null,null,null,null,null,null,"",{"$f":"IF(D2510=\"Cash and Deposits\",IF(E2510=\"\",\"BANK NAME REQUIRED\",IF(ISERROR(VLOOKUP(E2510,'Reference Data'!C:C,1,FALSE)),\"PLEASE SELECT A BANK FROM DEFINED LIST PROVIDED\",\"\")),\"\")","v":""},"No Entry",0]
[null,null,null,null,null,null,null,null,null,null,null,null,"",{"$f":"IF(D2511=\"Cash and Deposits\",IF(E2511=\"\",\"BANK NAME REQUIRED\",IF(ISERROR(VLOOKUP(E2511,'Reference Data'!C:C,1,FALSE)),\"PLEASE SELECT A BANK FROM DEFINED LIST PROVIDED\",\"\")),\"\")","v":""},"No Entry",0]
[null,null,null,null,null,null,null,null,null,null,null,null,"",{"$f":"IF(D2512=\"Cash and Deposits\",IF(E2512=\"\",\"BANK NAME REQUIRED\",IF(ISERROR(VLOOKUP(E2512,'Reference Data'!C:C,1,FALSE)),\"PLEASE SELECT A BANK FROM DEFINED LIST PROVIDED\",\"\")),\"\")","v":""},"No Entry",0]
[null,null,null,null,null,null,null,null,null,null,null,null,"",{"$f":"IF(D2513=\"Cash and Deposits\",IF(E2513=\"\",\"BANK NAME REQUIRED\",IF(ISERROR(VLOOKUP(E2513,'Reference Data'!C:C,1,FALSE)),\"PLEASE SELECT A BANK FROM DEFINED LIST PROVIDED\",\"\")),\"\")","v":""},"No Entry",0]
[null,null,null,null,null,null,null,null,null,null,null,null,"",{"$f":"IF(D2514=\"Cash and Deposits\",IF(E2514=\"\",\"BANK NAME REQUIRED\",IF(ISERROR(VLOOKUP(E2514,'Reference Data'!C:C,1,FALSE)),\"PLEASE SELECT A BANK FROM DEFINED LIST PROVIDED\",\"\")),\"\")","v":""},"No Entry",0]
[null,null,null,null,null,null,null,null,null,null,null,null,"",{"$f":"IF(D2515=\"Cash and Deposits\",IF(E2515=\"\",\"BANK NAME REQUIRED\",IF(ISERROR(VLOOKUP(E2515,'Reference Data'!C:C,1,FALSE)),\"PLEASE SELECT A BANK FROM DEFINED LIST PROVIDED\",\"\")),\"\")","v":""},"No Entry",0]
[null,null,null,null,null,null,null,null,null,null,null,null,"",{"$f":"IF(D2516=\"Cash and Deposits\",IF(E2516=\"\",\"BANK NAME REQUIRED\",IF(ISERROR(VLOOKUP(E2516,'Reference Data'!C:C,1,FALSE)),\"PLEASE SELECT A BANK FROM DEFINED LIST PROVIDED\",\"\")),\"\")","v":""},"No Entry",0]
[null,null,null,null,null,null,null,null,null,null,null,null,"",{"$f":"IF(D2517=\"Cash and Deposits\",IF(E2517=\"\",\"BANK NAME REQUIRED\",IF(ISERROR(VLOOKUP(E2517,'Reference Data'!C:C,1,FALSE)),\"PLEASE SELECT A BANK FROM DEFINED LIST PROVIDED\",\"\")),\"\")","v":""},"No Entry",0]
[null,null,null,null,null,null,null,null,null,null,null,null,"",{"$f":"IF(D2518=\"Cash and Deposits\",IF(E2518=\"\",\"BANK NAME REQUIRED\",IF(ISERROR(VLOOKUP(E2518,'Reference Data'!C:C,1,FALSE)),\"PLEASE SELECT A BANK FROM DEFINED LIST PROVIDED\",\"\")),\"\")","v":""},"No Entry",0]
[null,null,null,null,null,null,null,null,null,null,null,null,"",{"$f":"IF(D2519=\"Cash and Deposits\",IF(E2519=\"\",\"BANK NAME REQUIRED\",IF(ISERROR(VLOOKUP(E2519,'Reference Data'!C:C,1,FALSE)),\"PLEASE SELECT A BANK FROM DEFINED LIST PROVIDED\",\"\")),\"\")","v":""},"No Entry",0]
[null,null,null,null,null,null,null,null,null,null,null,null,"",{"$f":"IF(D2520=\"Cash and Deposits\",IF(E2520=\"\",\"BANK NAME REQUIRED\",IF(ISERROR(VLOOKUP(E2520,'Reference Data'!C:C,1,FALSE)),\"PLEASE SELECT A BANK FROM DEFINED LIST PROVIDED\",\"\")),\"\")","v":""},"No Entry",0]
[null,null,null,null,null,null,null,null,null,null,null,null,"",{"$f":"IF(D2521=\"Cash and Deposits\",IF(E2521=\"\",\"BANK NAME REQUIRED\",IF(ISERROR(VLOOKUP(E2521,'Reference Data'!C:C,1,FALSE)),\"PLEASE SELECT A BANK FROM DEFINED LIST PROVIDED\",\"\")),\"\")","v":""},"No Entry",0]
[null,null,null,null,null,null,null,null,null,null,null,null,"",{"$f":"IF(D2522=\"Cash and Deposits\",IF(E2522=\"\",\"BANK NAME REQUIRED\",IF(ISERROR(VLOOKUP(E2522,'Reference Data'!C:C,1,FALSE)),\"PLEASE SELECT A BANK FROM DEFINED LIST PROVIDED\",\"\")),\"\")","v":""},"No Entry",0]
[null,null,null,null,null,null,null,null,null,null,null,null,"",{"$f":"IF(D2523=\"Cash and Deposits\",IF(E2523=\"\",\"BANK NAME REQUIRED\",IF(ISERROR(VLOOKUP(E2523,'Reference Data'!C:C,1,FALSE)),\"PLEASE SELECT A BANK FROM DEFINED LIST PROVIDED\",\"\")),\"\")","v":""},"No Entry",0]
[null,null,null,null,null,null,null,null,null,null,null,null,"",{"$f":"IF(D2524=\"Cash and Deposits\",IF(E2524=\"\",\"BANK NAME REQUIRED\",IF(ISERROR(VLOOKUP(E2524,'Reference Data'!C:C,1,FALSE)),\"PLEASE SELECT A BANK FROM DEFINED LIST PROVIDED\",\"\")),\"\")","v":""},"No Entry",0]
[null,null,null,null,null,null,null,null,null,null,null,null,"",{"$f":"IF(D2525=\"Cash and Deposits\",IF(E2525=\"\",\"BANK NAME REQUIRED\",IF(ISERROR(VLOOKUP(E2525,'Reference Data'!C:C,1,FALSE)),\"PLEASE SELECT A BANK FROM DEFINED LIST PROVIDED\",\"\")),\"\")","v":""},"No Entry",0]
[null,null,null,null,null,null,null,null,null,null,null,null,"",{"$f":"IF(D2526=\"Cash and Deposits\",IF(E2526=\"\",\"BANK NAME REQUIRED\",IF(ISERROR(VLOOKUP(E2526,'Reference Data'!C:C,1,FALSE)),\"PLEASE SELECT A BANK FROM DEFINED LIST PROVIDED\",\"\")),\"\")","v":""},"No Entry",0]
[null,null,null,null,null,null,null,null,null,null,null,null,"",{"$f":"IF(D2527=\"Cash and Deposits\",IF(E2527=\"\",\"BANK NAME REQUIRED\",IF(ISERROR(VLOOKUP(E2527,'Reference Data'!C:C,1,FALSE)),\"PLEASE SELECT A BANK FROM DEFINED LIST PROVIDED\",\"\")),\"\")","v":""},"No Entry",0]
[null,null,null,null,null,null,null,null,null,null,null,null,"",{"$f":"IF(D2528=\"Cash and Deposits\",IF(E2528=\"\",\"BANK NAME REQUIRED\",IF(ISERROR(VLOOKUP(E2528,'Reference Data'!C:C,1,FALSE)),\"PLEASE SELECT A BANK FROM DEFINED LIST PROVIDED\",\"\")),\"\")","v":""},"No Entry",0]
[null,null,null,null,null,null,null,null,null,null,null,null,"",{"$f":"IF(D2529=\"Cash and Deposits\",IF(E2529=\"\",\"BANK NAME REQUIRED\",IF(ISERROR(VLOOKUP(E2529,'Reference Data'!C:C,1,FALSE)),\"PLEASE SELECT A BANK FROM DEFINED LIST PROVIDED\",\"\")),\"\")","v":""},"No Entry",0]
[null,null,null,null,null,null,null,null,null,null,null,null,"",{"$f":"IF(D2530=\"Cash and Deposits\",IF(E2530=\"\",\"BANK NAME REQUIRED\",IF(ISERROR(VLOOKUP(E2530,'Reference Data'!C:C,1,FALSE)),\"PLEASE SELECT A BANK FROM DEFINED LIST PROVIDED\",\"\")),\"\")","v":""},"No Entry",0]
[null,null,null,null,null,null,null,null,null,null,null,null,"",{"$f":"IF(D2531=\"Cash and Deposits\",IF(E2531=\"\",\"BANK NAME REQUIRED\",IF(ISERROR(VLOOKUP(E2531,'Reference Data'!C:C,1,FALSE)),\"PLEASE SELECT A BANK FROM DEFINED LIST PROVIDED\",\"\")),\"\")","v":""},"No Entry",0]
[null,null,null,null,null,null,null,null,null,null,null,null,"",{"$f":"IF(D2532=\"Cash and Deposits\",IF(E2532=\"\",\"BANK NAME REQUIRED\",IF(ISERROR(VLOOKUP(E2532,'Reference Data'!C:C,1,FALSE)),\"PLEASE SELECT A BANK FROM DEFINED LIST PROVIDED\",\"\")),\"\")","v":""},"No Entry",0]
[null,null,null,null,null,null,null,null,null,null,null,null,"",{"$f":"IF(D2533=\"Cash and Deposits\",IF(E2533=\"\",\"BANK NAME REQUIRED\",IF(ISERROR(VLOOKUP(E2533,'Reference Data'!C:C,1,FALSE)),\"PLEASE SELECT A BANK FROM DEFINED LIST PROVIDED\",\"\")),\"\")","v":""},"No Entry",0]
[null,null,null,null,null,null,null,null,null,null,null,null,"",{"$f":"IF(D2534=\"Cash and Deposits\",IF(E2534=\"\",\"BANK NAME REQUIRED\",IF(ISERROR(VLOOKUP(E2534,'Reference Data'!C:C,1,FALSE)),\"PLEASE SELECT A BANK FROM DEFINED LIST PROVIDED\",\"\")),\"\")","v":""},"No Entry",0]
[null,null,null,null,null,null,null,null,null,null,null,null,"",{"$f":"IF(D2535=\"Cash and Deposits\",IF(E2535=\"\",\"BANK NAME REQUIRED\",IF(ISERROR(VLOOKUP(E2535,'Reference Data'!C:C,1,FALSE)),\"PLEASE SELECT A BANK FROM DEFINED LIST PROVIDED\",\"\")),\"\")","v":""},"No Entry",0]
[null,null,null,null,null,null,null,null,null,null,null,null,"",{"$f":"IF(D2536=\"Cash and Deposits\",IF(E2536=\"\",\"BANK NAME REQUIRED\",IF(ISERROR(VLOOKUP(E2536,'Reference Data'!C:C,1,FALSE)),\"PLEASE SELECT A BANK FROM DEFINED LIST PROVIDED\",\"\")),\"\")","v":""},"No Entry",0]
[null,null,null,null,null,null,null,null,null,null,null,null,"",{"$f":"IF(D2537=\"Cash and Deposits\",IF(E2537=\"\",\"BANK NAME REQUIRED\",IF(ISERROR(VLOOKUP(E2537,'Reference Data'!C:C,1,FALSE)),\"PLEASE SELECT A BANK FROM DEFINED LIST PROVIDED\",\"\")),\"\")","v":""},"No Entry",0]
[null,null,null,null,null,null,null,null,null,null,null,null,"",{"$f":"IF(D2538=\"Cash and Deposits\",IF(E2538=\"\",\"BANK NAME REQUIRED\",IF(ISERROR(VLOOKUP(E2538,'Reference Data'!C:C,1,FALSE)),\"PLEASE SELECT A BANK FROM DEFINED LIST PROVIDED\",\"\")),\"\")","v":""},"No Entry",0]
[null,null,null,null,null,null,null,null,null,null,null,null,"",{"$f":"IF(D2539=\"Cash and Deposits\",IF(E2539=\"\",\"BANK NAME REQUIRED\",IF(ISERROR(VLOOKUP(E2539,'Reference Data'!C:C,1,FALSE)),\"PLEASE SELECT A BANK FROM DEFINED LIST PROVIDED\",\"\")),\"\")","v":""},"No Entry",0]
[null,null,null,null,null,null,null,null,null,null,null,null,"",{"$f":"IF(D2540=\"Cash and Deposits\",IF(E2540=\"\",\"BANK NAME REQUIRED\",IF(ISERROR(VLOOKUP(E2540,'Reference Data'!C:C,1,FALSE)),\"PLEASE SELECT A BANK FROM DEFINED LIST PROVIDED\",\"\")),\"\")","v":""},"No Entry",0]
[null,null,null,null,null,null,null,null,null,null,null,null,"",{"$f":"IF(D2541=\"Cash and Deposits\",IF(E2541=\"\",\"BANK NAME REQUIRED\",IF(ISERROR(VLOOKUP(E2541,'Reference Data'!C:C,1,FALSE)),\"PLEASE SELECT A BANK FROM DEFINED LIST PROVIDED\",\"\")),\"\")","v":""},"No Entry",0]
[null,null,null,null,null,null,null,null,null,null,null,null,"",{"$f":"IF(D2542=\"Cash and Deposits\",IF(E2542=\"\",\"BANK NAME REQUIRED\",IF(ISERROR(VLOOKUP(E2542,'Reference Data'!C:C,1,FALSE)),\"PLEASE SELECT A BANK FROM DEFINED LIST PROVIDED\",\"\")),\"\")","v":""},"No Entry",0]
[null,null,null,null,null,null,null,null,null,null,null,null,"",{"$f":"IF(D2543=\"Cash and Deposits\",IF(E2543=\"\",\"BANK NAME REQUIRED\",IF(ISERROR(VLOOKUP(E2543,'Reference Data'!C:C,1,FALSE)),\"PLEASE SELECT A BANK FROM DEFINED LIST PROVIDED\",\"\")),\"\")","v":""},"No Entry",0]
[null,null,null,null,null,null,null,null,null,null,null,null,"",{"$f":"IF(D2544=\"Cash and Deposits\",IF(E2544=\"\",\"BANK NAME REQUIRED\",IF(ISERROR(VLOOKUP(E2544,'Reference Data'!C:C,1,FALSE)),\"PLEASE SELECT A BANK FROM DEFINED LIST PROVIDED\",\"\")),\"\")","v":""},"No Entry",0]
[null,null,null,null,null,null,null,null,null,null,null,null,"",{"$f":"IF(D2545=\"Cash and Deposits\",IF(E2545=\"\",\"BANK NAME REQUIRED\",IF(ISERROR(VLOOKUP(E2545,'Reference Data'!C:C,1,FALSE)),\"PLEASE SELECT A BANK FROM DEFINED LIST PROVIDED\",\"\")),\"\")","v":""},"No Entry",0]
[null,null,null,null,null,null,null,null,null,null,null,null,"",{"$f":"IF(D2546=\"Cash and Deposits\",IF(E2546=\"\",\"BANK NAME REQUIRED\",IF(ISERROR(VLOOKUP(E2546,'Reference Data'!C:C,1,FALSE)),\"PLEASE SELECT A BANK FROM DEFINED LIST PROVIDED\",\"\")),\"\")","v":""},"No Entry",0]
[null,null,null,null,null,null,null,null,null,null,null,null,"",{"$f":"IF(D2547=\"Cash and Deposits\",IF(E2547=\"\",\"BANK NAME REQUIRED\",IF(ISERROR(VLOOKUP(E2547,'Reference Data'!C:C,1,FALSE)),\"PLEASE SELECT A BANK FROM DEFINED LIST PROVIDED\",\"\")),\"\")","v":""},"No Entry",0]
[null,null,null,null,null,null,null,null,null,null,null,null,"",{"$f":"IF(D2548=\"Cash and Deposits\",IF(E2548=\"\",\"BANK NAME REQUIRED\",IF(ISERROR(VLOOKUP(E2548,'Reference Data'!C:C,1,FALSE)),\"PLEASE SELECT A BANK FROM DEFINED LIST PROVIDED\",\"\")),\"\")","v":""},"No Entry",0]
[null,null,null,null,null,null,null,null,null,null,null,null,"",{"$f":"IF(D2549=\"Cash and Deposits\",IF(E2549=\"\",\"BANK NAME REQUIRED\",IF(ISERROR(VLOOKUP(E2549,'Reference Data'!C:C,1,FALSE)),\"PLEASE SELECT A BANK FROM DEFINED LIST PROVIDED\",\"\")),\"\")","v":""},"No Entry",0]
[null,null,null,null,null,null,null,null,null,null,null,null,"",{"$f":"IF(D2550=\"Cash and Deposits\",IF(E2550=\"\",\"BANK NAME REQUIRED\",IF(ISERROR(VLOOKUP(E2550,'Reference Data'!C:C,1,FALSE)),\"PLEASE SELECT A BANK FROM DEFINED LIST PROVIDED\",\"\")),\"\")","v":""},"No Entry",0]
[null,null,null,null,null,null,null,null,null,null,null,null,"",{"$f":"IF(D2551=\"Cash and Deposits\",IF(E2551=\"\",\"BANK NAME REQUIRED\",IF(ISERROR(VLOOKUP(E2551,'Reference Data'!C:C,1,FALSE)),\"PLEASE SELECT A BANK FROM DEFINED LIST PROVIDED\",\"\")),\"\")","v":""},"No Entry",0]
[null,null,null,null,null,null,null,null,null,null,null,null,"",{"$f":"IF(D2552=\"Cash and Deposits\",IF(E2552=\"\",\"BANK NAME REQUIRED\",IF(ISERROR(VLOOKUP(E2552,'Reference Data'!C:C,1,FALSE)),\"PLEASE SELECT A BANK FROM DEFINED LIST PROVIDED\",\"\")),\"\")","v":""},"No Entry",0]
[null,null,null,null,null,null,null,null,null,null,null,null,"",{"$f":"IF(D2553=\"Cash and Deposits\",IF(E2553=\"\",\"BANK NAME REQUIRED\",IF(ISERROR(VLOOKUP(E2553,'Reference Data'!C:C,1,FALSE)),\"PLEASE SELECT A BANK FROM DEFINED LIST PROVIDED\",\"\")),\"\")","v":""},"No Entry",0]
[null,null,null,null,null,null,null,null,null,null,null,null,"",{"$f":"IF(D2554=\"Cash and Deposits\",IF(E2554=\"\",\"BANK NAME REQUIRED\",IF(ISERROR(VLOOKUP(E2554,'Reference Data'!C:C,1,FALSE)),\"PLEASE SELECT A BANK FROM DEFINED LIST PROVIDED\",\"\")),\"\")","v":""},"No Entry",0]
[null,null,null,null,null,null,null,null,null,null,null,null,"",{"$f":"IF(D2555=\"Cash and Deposits\",IF(E2555=\"\",\"BANK NAME REQUIRED\",IF(ISERROR(VLOOKUP(E2555,'Reference Data'!C:C,1,FALSE)),\"PLEASE SELECT A BANK FROM DEFINED LIST PROVIDED\",\"\")),\"\")","v":""},"No Entry",0]
[null,null,null,null,null,null,null,null,null,null,null,null,"",{"$f":"IF(D2556=\"Cash and Deposits\",IF(E2556=\"\",\"BANK NAME REQUIRED\",IF(ISERROR(VLOOKUP(E2556,'Reference Data'!C:C,1,FALSE)),\"PLEASE SELECT A BANK FROM DEFINED LIST PROVIDED\",\"\")),\"\")","v":""},"No Entry",0]
[null,null,null,null,null,null,null,null,null,null,null,null,"",{"$f":"IF(D2557=\"Cash and Deposits\",IF(E2557=\"\",\"BANK NAME REQUIRED\",IF(ISERROR(VLOOKUP(E2557,'Reference Data'!C:C,1,FALSE)),\"PLEASE SELECT A BANK FROM DEFINED LIST PROVIDED\",\"\")),\"\")","v":""},"No Entry",0]
[null,null,null,null,null,null,null,null,null,null,null,null,"",{"$f":"IF(D2558=\"Cash and Deposits\",IF(E2558=\"\",\"BANK NAME REQUIRED\",IF(ISERROR(VLOOKUP(E2558,'Reference Data'!C:C,1,FALSE)),\"PLEASE SELECT A BANK FROM DEFINED LIST PROVIDED\",\"\")),\"\")","v":""},"No Entry",0]
[null,null,null,null,null,null,null,null,null,null,null,null,"",{"$f":"IF(D2559=\"Cash and Deposits\",IF(E2559=\"\",\"BANK NAME REQUIRED\",IF(ISERROR(VLOOKUP(E2559,'Reference Data'!C:C,1,FALSE)),\"PLEASE SELECT A BANK FROM DEFINED LIST PROVIDED\",\"\")),\"\")","v":""},"No Entry",0]
[null,null,null,null,null,null,null,null,null,null,null,null,"",{"$f":"IF(D2560=\"Cash and Deposits\",IF(E2560=\"\",\"BANK NAME REQUIRED\",IF(ISERROR(VLOOKUP(E2560,'Reference Data'!C:C,1,FALSE)),\"PLEASE SELECT A BANK FROM DEFINED LIST PROVIDED\",\"\")),\"\")","v":""},"No Entry",0]
[null,null,null,null,null,null,null,null,null,null,null,null,"",{"$f":"IF(D2561=\"Cash and Deposits\",IF(E2561=\"\",\"BANK NAME REQUIRED\",IF(ISERROR(VLOOKUP(E2561,'Reference Data'!C:C,1,FALSE)),\"PLEASE SELECT A BANK FROM DEFINED LIST PROVIDED\",\"\")),\"\")","v":""},"No Entry",0]
[null,null,null,null,null,null,null,null,null,null,null,null,"",{"$f":"IF(D2562=\"Cash and Deposits\",IF(E2562=\"\",\"BANK NAME REQUIRED\",IF(ISERROR(VLOOKUP(E2562,'Reference Data'!C:C,1,FALSE)),\"PLEASE SELECT A BANK FROM DEFINED LIST PROVIDED\",\"\")),\"\")","v":""},"No Entry",0]
[null,null,null,null,null,null,null,null,null,null,null,null,"",{"$f":"IF(D2563=\"Cash and Deposits\",IF(E2563=\"\",\"BANK NAME REQUIRED\",IF(ISERROR(VLOOKUP(E2563,'Reference Data'!C:C,1,FALSE)),\"PLEASE SELECT A BANK FROM DEFINED LIST PROVIDED\",\"\")),\"\")","v":""},"No Entry",0]
[null,null,null,null,null,null,null,null,null,null,null,null,"",{"$f":"IF(D2564=\"Cash and Deposits\",IF(E2564=\"\",\"BANK NAME REQUIRED\",IF(ISERROR(VLOOKUP(E2564,'Reference Data'!C:C,1,FALSE)),\"PLEASE SELECT A BANK FROM DEFINED LIST PROVIDED\",\"\")),\"\")","v":""},"No Entry",0]
[null,null,null,null,null,null,null,null,null,null,null,null,{"$f":"IF(K2565<>0,IF(B2565=\"\",\"ID CODE REQUIRED\",\"\"),\"\")","v":""},{"$f":"IF(D2565=\"Cash and Deposits\",IF(E2565=\"\",\"BANK NAME REQUIRED\",IF(ISERROR(VLOOKUP(E2565,'Reference Data'!C:C,1,FALSE)),\"PLEASE SELECT A BANK FROM DEFINED LIST PROVIDED\",\"\")),\"\")","v":""},{"$f":"IF(K2565=0,\"No Entry\",\"\")","v":"No Entry"},{"$f":"IF(K2565<>0,IF(A2565=\"\",1,0),0)","v":0}]
[null,null,null,null,null,null,null,null,null,null,null,null,"",{"$f":"IF(D2566=\"Cash and Deposits\",IF(E2566=\"\",\"BANK NAME REQUIRED\",IF(ISERROR(VLOOKUP(E2566,'Reference Data'!C:C,1,FALSE)),\"PLEASE SELECT A BANK FROM DEFINED LIST PROVIDED\",\"\")),\"\")","v":""},"No Entry",0]
[null,null,null,null,null,null,null,null,null,null,null,null,"",{"$f":"IF(D2567=\"Cash and Deposits\",IF(E2567=\"\",\"BANK NAME REQUIRED\",IF(ISERROR(VLOOKUP(E2567,'Reference Data'!C:C,1,FALSE)),\"PLEASE SELECT A BANK FROM DEFINED LIST PROVIDED\",\"\")),\"\")","v":""},"No Entry",0]
[null,null,null,null,null,null,null,null,null,null,null,null,"",{"$f":"IF(D2568=\"Cash and Deposits\",IF(E2568=\"\",\"BANK NAME REQUIRED\",IF(ISERROR(VLOOKUP(E2568,'Reference Data'!C:C,1,FALSE)),\"PLEASE SELECT A BANK FROM DEFINED LIST PROVIDED\",\"\")),\"\")","v":""},"No Entry",0]
[null,null,null,null,null,null,null,null,null,null,null,null,"",{"$f":"IF(D2569=\"Cash and Deposits\",IF(E2569=\"\",\"BANK NAME REQUIRED\",IF(ISERROR(VLOOKUP(E2569,'Reference Data'!C:C,1,FALSE)),\"PLEASE SELECT A BANK FROM DEFINED LIST PROVIDED\",\"\")),\"\")","v":""},"No Entry",0]
[null,null,null,null,null,null,null,null,null,null,null,null,"",{"$f":"IF(D2570=\"Cash and Deposits\",IF(E2570=\"\",\"BANK NAME REQUIRED\",IF(ISERROR(VLOOKUP(E2570,'Reference Data'!C:C,1,FALSE)),\"PLEASE SELECT A BANK FROM DEFINED LIST PROVIDED\",\"\")),\"\")","v":""},"No Entry",0]
[null,null,null,null,null,null,null,null,null,null,null,null,"",{"$f":"IF(D2571=\"Cash and Deposits\",IF(E2571=\"\",\"BANK NAME REQUIRED\",IF(ISERROR(VLOOKUP(E2571,'Reference Data'!C:C,1,FALSE)),\"PLEASE SELECT A BANK FROM DEFINED LIST PROVIDED\",\"\")),\"\")","v":""},"No Entry",0]
[null,null,null,null,null,null,null,null,null,null,null,null,"",{"$f":"IF(D2572=\"Cash and Deposits\",IF(E2572=\"\",\"BANK NAME REQUIRED\",IF(ISERROR(VLOOKUP(E2572,'Reference Data'!C:C,1,FALSE)),\"PLEASE SELECT A BANK FROM DEFINED LIST PROVIDED\",\"\")),\"\")","v":""},"No Entry",0]
[null,null,null,null,null,null,null,null,null,null,null,null,"",{"$f":"IF(D2573=\"Cash and Deposits\",IF(E2573=\"\",\"BANK NAME REQUIRED\",IF(ISERROR(VLOOKUP(E2573,'Reference Data'!C:C,1,FALSE)),\"PLEASE SELECT A BANK FROM DEFINED LIST PROVIDED\",\"\")),\"\")","v":""},"No Entry",0]
[null,null,null,null,null,null,null,null,null,null,null,null,"",{"$f":"IF(D2574=\"Cash and Deposits\",IF(E2574=\"\",\"BANK NAME REQUIRED\",IF(ISERROR(VLOOKUP(E2574,'Reference Data'!C:C,1,FALSE)),\"PLEASE SELECT A BANK FROM DEFINED LIST PROVIDED\",\"\")),\"\")","v":""},"No Entry",0]
[null,null,null,null,null,null,null,null,null,null,null,null,"",{"$f":"IF(D2575=\"Cash and Deposits\",IF(E2575=\"\",\"BANK NAME REQUIRED\",IF(ISERROR(VLOOKUP(E2575,'Reference Data'!C:C,1,FALSE)),\"PLEASE SELECT A BANK FROM DEFINED LIST PROVIDED\",\"\")),\"\")","v":""},"No Entry",0]
[null,null,null,null,null,null,null,null,null,null,null,null,"",{"$f":"IF(D2576=\"Cash and Deposits\",IF(E2576=\"\",\"BANK NAME REQUIRED\",IF(ISERROR(VLOOKUP(E2576,'Reference Data'!C:C,1,FALSE)),\"PLEASE SELECT A BANK FROM DEFINED LIST PROVIDED\",\"\")),\"\")","v":""},"No Entry",0]
[null,null,null,null,null,null,null,null,null,null,null,null,"",{"$f":"IF(D2577=\"Cash and Deposits\",IF(E2577=\"\",\"BANK NAME REQUIRED\",IF(ISERROR(VLOOKUP(E2577,'Reference Data'!C:C,1,FALSE)),\"PLEASE SELECT A BANK FROM DEFINED LIST PROVIDED\",\"\")),\"\")","v":""},"No Entry",0]
[null,null,null,null,null,null,null,null,null,null,null,null,"",{"$f":"IF(D2578=\"Cash and Deposits\",IF(E2578=\"\",\"BANK NAME REQUIRED\",IF(ISERROR(VLOOKUP(E2578,'Reference Data'!C:C,1,FALSE)),\"PLEASE SELECT A BANK FROM DEFINED LIST PROVIDED\",\"\")),\"\")","v":""},"No Entry",0]
[null,null,null,null,null,null,null,null,null,null,null,null,"",{"$f":"IF(D2579=\"Cash and Deposits\",IF(E2579=\"\",\"BANK NAME REQUIRED\",IF(ISERROR(VLOOKUP(E2579,'Reference Data'!C:C,1,FALSE)),\"PLEASE SELECT A BANK FROM DEFINED LIST PROVIDED\",\"\")),\"\")","v":""},"No Entry",0]
[null,null,null,null,null,null,null,null,null,null,null,null,"",{"$f":"IF(D2580=\"Cash and Deposits\",IF(E2580=\"\",\"BANK NAME REQUIRED\",IF(ISERROR(VLOOKUP(E2580,'Reference Data'!C:C,1,FALSE)),\"PLEASE SELECT A BANK FROM DEFINED LIST PROVIDED\",\"\")),\"\")","v":""},"No Entry",0]
[null,null,null,null,null,null,null,null,null,null,null,null,"",{"$f":"IF(D2581=\"Cash and Deposits\",IF(E2581=\"\",\"BANK NAME REQUIRED\",IF(ISERROR(VLOOKUP(E2581,'Reference Data'!C:C,1,FALSE)),\"PLEASE SELECT A BANK FROM DEFINED LIST PROVIDED\",\"\")),\"\")","v":""},"No Entry",0]
[null,null,null,null,null,null,null,null,null,null,null,null,"",{"$f":"IF(D2582=\"Cash and Deposits\",IF(E2582=\"\",\"BANK NAME REQUIRED\",IF(ISERROR(VLOOKUP(E2582,'Reference Data'!C:C,1,FALSE)),\"PLEASE SELECT A BANK FROM DEFINED LIST PROVIDED\",\"\")),\"\")","v":""},"No Entry",0]
[null,null,null,null,null,null,null,null,null,null,null,null,"",{"$f":"IF(D2583=\"Cash and Deposits\",IF(E2583=\"\",\"BANK NAME REQUIRED\",IF(ISERROR(VLOOKUP(E2583,'Reference Data'!C:C,1,FALSE)),\"PLEASE SELECT A BANK FROM DEFINED LIST PROVIDED\",\"\")),\"\")","v":""},"No Entry",0]
[null,null,null,null,null,null,null,null,null,null,null,null,"",{"$f":"IF(D2584=\"Cash and Deposits\",IF(E2584=\"\",\"BANK NAME REQUIRED\",IF(ISERROR(VLOOKUP(E2584,'Reference Data'!C:C,1,FALSE)),\"PLEASE SELECT A BANK FROM DEFINED LIST PROVIDED\",\"\")),\"\")","v":""},"No Entry",0]
[null,null,null,null,null,null,null,null,null,null,null,null,"",{"$f":"IF(D2585=\"Cash and Deposits\",IF(E2585=\"\",\"BANK NAME REQUIRED\",IF(ISERROR(VLOOKUP(E2585,'Reference Data'!C:C,1,FALSE)),\"PLEASE SELECT A BANK FROM DEFINED LIST PROVIDED\",\"\")),\"\")","v":""},"No Entry",0]
[null,null,null,null,null,null,null,null,null,null,null,null,"",{"$f":"IF(D2586=\"Cash and Deposits\",IF(E2586=\"\",\"BANK NAME REQUIRED\",IF(ISERROR(VLOOKUP(E2586,'Reference Data'!C:C,1,FALSE)),\"PLEASE SELECT A BANK FROM DEFINED LIST PROVIDED\",\"\")),\"\")","v":""},"No Entry",0]
[null,null,null,null,null,null,null,null,null,null,null,null,"",{"$f":"IF(D2587=\"Cash and Deposits\",IF(E2587=\"\",\"BANK NAME REQUIRED\",IF(ISERROR(VLOOKUP(E2587,'Reference Data'!C:C,1,FALSE)),\"PLEASE SELECT A BANK FROM DEFINED LIST PROVIDED\",\"\")),\"\")","v":""},"No Entry",0]
[null,null,null,null,null,null,null,null,null,null,null,null,"",{"$f":"IF(D2588=\"Cash and Deposits\",IF(E2588=\"\",\"BANK NAME REQUIRED\",IF(ISERROR(VLOOKUP(E2588,'Reference Data'!C:C,1,FALSE)),\"PLEASE SELECT A BANK FROM DEFINED LIST PROVIDED\",\"\")),\"\")","v":""},"No Entry",0]
[null,null,null,null,null,null,null,null,null,null,null,null,"",{"$f":"IF(D2589=\"Cash and Deposits\",IF(E2589=\"\",\"BANK NAME REQUIRED\",IF(ISERROR(VLOOKUP(E2589,'Reference Data'!C:C,1,FALSE)),\"PLEASE SELECT A BANK FROM DEFINED LIST PROVIDED\",\"\")),\"\")","v":""},"No Entry",0]
[null,null,null,null,null,null,null,null,null,null,null,null,"",{"$f":"IF(D2590=\"Cash and Deposits\",IF(E2590=\"\",\"BANK NAME REQUIRED\",IF(ISERROR(VLOOKUP(E2590,'Reference Data'!C:C,1,FALSE)),\"PLEASE SELECT A BANK FROM DEFINED LIST PROVIDED\",\"\")),\"\")","v":""},"No Entry",0]
[null,null,null,null,null,null,null,null,null,null,null,null,"",{"$f":"IF(D2591=\"Cash and Deposits\",IF(E2591=\"\",\"BANK NAME REQUIRED\",IF(ISERROR(VLOOKUP(E2591,'Reference Data'!C:C,1,FALSE)),\"PLEASE SELECT A BANK FROM DEFINED LIST PROVIDED\",\"\")),\"\")","v":""},"No Entry",0]
[null,null,null,null,null,null,null,null,null,null,null,null,"",{"$f":"IF(D2592=\"Cash and Deposits\",IF(E2592=\"\",\"BANK NAME REQUIRED\",IF(ISERROR(VLOOKUP(E2592,'Reference Data'!C:C,1,FALSE)),\"PLEASE SELECT A BANK FROM DEFINED LIST PROVIDED\",\"\")),\"\")","v":""},"No Entry",0]
[null,null,null,null,null,null,null,null,null,null,null,null,"",{"$f":"IF(D2593=\"Cash and Deposits\",IF(E2593=\"\",\"BANK NAME REQUIRED\",IF(ISERROR(VLOOKUP(E2593,'Reference Data'!C:C,1,FALSE)),\"PLEASE SELECT A BANK FROM DEFINED LIST PROVIDED\",\"\")),\"\")","v":""},"No Entry",0]
[null,null,null,null,null,null,null,null,null,null,null,null,"",{"$f":"IF(D2594=\"Cash and Deposits\",IF(E2594=\"\",\"BANK NAME REQUIRED\",IF(ISERROR(VLOOKUP(E2594,'Reference Data'!C:C,1,FALSE)),\"PLEASE SELECT A BANK FROM DEFINED LIST PROVIDED\",\"\")),\"\")","v":""},"No Entry",0]
[null,null,null,null,null,null,null,null,null,null,null,null,"",{"$f":"IF(D2595=\"Cash and Deposits\",IF(E2595=\"\",\"BANK NAME REQUIRED\",IF(ISERROR(VLOOKUP(E2595,'Reference Data'!C:C,1,FALSE)),\"PLEASE SELECT A BANK FROM DEFINED LIST PROVIDED\",\"\")),\"\")","v":""},"No Entry",0]
[null,null,null,null,null,null,null,null,null,null,null,null,"",{"$f":"IF(D2596=\"Cash and Deposits\",IF(E2596=\"\",\"BANK NAME REQUIRED\",IF(ISERROR(VLOOKUP(E2596,'Reference Data'!C:C,1,FALSE)),\"PLEASE SELECT A BANK FROM DEFINED LIST PROVIDED\",\"\")),\"\")","v":""},"No Entry",0]
[null,null,null,null,null,null,null,null,null,null,null,null,"",{"$f":"IF(D2597=\"Cash and Deposits\",IF(E2597=\"\",\"BANK NAME REQUIRED\",IF(ISERROR(VLOOKUP(E2597,'Reference Data'!C:C,1,FALSE)),\"PLEASE SELECT A BANK FROM DEFINED LIST PROVIDED\",\"\")),\"\")","v":""},"No Entry",0]
[null,null,null,null,null,null,null,null,null,null,null,null,"",{"$f":"IF(D2598=\"Cash and Deposits\",IF(E2598=\"\",\"BANK NAME REQUIRED\",IF(ISERROR(VLOOKUP(E2598,'Reference Data'!C:C,1,FALSE)),\"PLEASE SELECT A BANK FROM DEFINED LIST PROVIDED\",\"\")),\"\")","v":""},"No Entry",0]
[null,null,null,null,null,null,null,null,null,null,null,null,"",{"$f":"IF(D2599=\"Cash and Deposits\",IF(E2599=\"\",\"BANK NAME REQUIRED\",IF(ISERROR(VLOOKUP(E2599,'Reference Data'!C:C,1,FALSE)),\"PLEASE SELECT A BANK FROM DEFINED LIST PROVIDED\",\"\")),\"\")","v":""},"No Entry",0]
[null,null,null,null,null,null,null,null,null,null,null,null,"",{"$f":"IF(D2600=\"Cash and Deposits\",IF(E2600=\"\",\"BANK NAME REQUIRED\",IF(ISERROR(VLOOKUP(E2600,'Reference Data'!C:C,1,FALSE)),\"PLEASE SELECT A BANK FROM DEFINED LIST PROVIDED\",\"\")),\"\")","v":""},"No Entry",0]
[null,null,null,null,null,null,null,null,null,null,null,null,"",{"$f":"IF(D2601=\"Cash and Deposits\",IF(E2601=\"\",\"BANK NAME REQUIRED\",IF(ISERROR(VLOOKUP(E2601,'Reference Data'!C:C,1,FALSE)),\"PLEASE SELECT A BANK FROM DEFINED LIST PROVIDED\",\"\")),\"\")","v":""},"No Entry",0]
[null,null,null,null,null,null,null,null,null,null,null,null,"",{"$f":"IF(D2602=\"Cash and Deposits\",IF(E2602=\"\",\"BANK NAME REQUIRED\",IF(ISERROR(VLOOKUP(E2602,'Reference Data'!C:C,1,FALSE)),\"PLEASE SELECT A BANK FROM DEFINED LIST PROVIDED\",\"\")),\"\")","v":""},"No Entry",0]
[null,null,null,null,null,null,null,null,null,null,null,null,"",{"$f":"IF(D2603=\"Cash and Deposits\",IF(E2603=\"\",\"BANK NAME REQUIRED\",IF(ISERROR(VLOOKUP(E2603,'Reference Data'!C:C,1,FALSE)),\"PLEASE SELECT A BANK FROM DEFINED LIST PROVIDED\",\"\")),\"\")","v":""},"No Entry",0]
[null,null,null,null,null,null,null,null,null,null,null,null,"",{"$f":"IF(D2604=\"Cash and Deposits\",IF(E2604=\"\",\"BANK NAME REQUIRED\",IF(ISERROR(VLOOKUP(E2604,'Reference Data'!C:C,1,FALSE)),\"PLEASE SELECT A BANK FROM DEFINED LIST PROVIDED\",\"\")),\"\")","v":""},"No Entry",0]
[null,null,null,null,null,null,null,null,null,null,null,null,"",{"$f":"IF(D2605=\"Cash and Deposits\",IF(E2605=\"\",\"BANK NAME REQUIRED\",IF(ISERROR(VLOOKUP(E2605,'Reference Data'!C:C,1,FALSE)),\"PLEASE SELECT A BANK FROM DEFINED LIST PROVIDED\",\"\")),\"\")","v":""},"No Entry",0]
[null,null,null,null,null,null,null,null,null,null,null,null,"",{"$f":"IF(D2606=\"Cash and Deposits\",IF(E2606=\"\",\"BANK NAME REQUIRED\",IF(ISERROR(VLOOKUP(E2606,'Reference Data'!C:C,1,FALSE)),\"PLEASE SELECT A BANK FROM DEFINED LIST PROVIDED\",\"\")),\"\")","v":""},"No Entry",0]
[null,null,null,null,null,null,null,null,null,null,null,null,"",{"$f":"IF(D2607=\"Cash and Deposits\",IF(E2607=\"\",\"BANK NAME REQUIRED\",IF(ISERROR(VLOOKUP(E2607,'Reference Data'!C:C,1,FALSE)),\"PLEASE SELECT A BANK FROM DEFINED LIST PROVIDED\",\"\")),\"\")","v":""},"No Entry",0]
[null,null,null,null,null,null,null,null,null,null,null,null,"",{"$f":"IF(D2608=\"Cash and Deposits\",IF(E2608=\"\",\"BANK NAME REQUIRED\",IF(ISERROR(VLOOKUP(E2608,'Reference Data'!C:C,1,FALSE)),\"PLEASE SELECT A BANK FROM DEFINED LIST PROVIDED\",\"\")),\"\")","v":""},"No Entry",0]
[null,null,null,null,null,null,null,null,null,null,null,null,"",{"$f":"IF(D2609=\"Cash and Deposits\",IF(E2609=\"\",\"BANK NAME REQUIRED\",IF(ISERROR(VLOOKUP(E2609,'Reference Data'!C:C,1,FALSE)),\"PLEASE SELECT A BANK FROM DEFINED LIST PROVIDED\",\"\")),\"\")","v":""},"No Entry",0]
[null,null,null,null,null,null,null,null,null,null,null,null,"",{"$f":"IF(D2610=\"Cash and Deposits\",IF(E2610=\"\",\"BANK NAME REQUIRED\",IF(ISERROR(VLOOKUP(E2610,'Reference Data'!C:C,1,FALSE)),\"PLEASE SELECT A BANK FROM DEFINED LIST PROVIDED\",\"\")),\"\")","v":""},"No Entry",0]
[null,null,null,null,null,null,null,null,null,null,null,null,"",{"$f":"IF(D2611=\"Cash and Deposits\",IF(E2611=\"\",\"BANK NAME REQUIRED\",IF(ISERROR(VLOOKUP(E2611,'Reference Data'!C:C,1,FALSE)),\"PLEASE SELECT A BANK FROM DEFINED LIST PROVIDED\",\"\")),\"\")","v":""},"No Entry",0]
[null,null,null,null,null,null,null,null,null,null,null,null,"",{"$f":"IF(D2612=\"Cash and Deposits\",IF(E2612=\"\",\"BANK NAME REQUIRED\",IF(ISERROR(VLOOKUP(E2612,'Reference Data'!C:C,1,FALSE)),\"PLEASE SELECT A BANK FROM DEFINED LIST PROVIDED\",\"\")),\"\")","v":""},"No Entry",0]
[null,null,null,null,null,null,null,null,null,null,null,null,"",{"$f":"IF(D2613=\"Cash and Deposits\",IF(E2613=\"\",\"BANK NAME REQUIRED\",IF(ISERROR(VLOOKUP(E2613,'Reference Data'!C:C,1,FALSE)),\"PLEASE SELECT A BANK FROM DEFINED LIST PROVIDED\",\"\")),\"\")","v":""},"No Entry",0]
[null,null,null,null,null,null,null,null,null,null,null,null,"",{"$f":"IF(D2614=\"Cash and Deposits\",IF(E2614=\"\",\"BANK NAME REQUIRED\",IF(ISERROR(VLOOKUP(E2614,'Reference Data'!C:C,1,FALSE)),\"PLEASE SELECT A BANK FROM DEFINED LIST PROVIDED\",\"\")),\"\")","v":""},"No Entry",0]
[null,null,null,null,null,null,null,null,null,null,null,null,"",{"$f":"IF(D2615=\"Cash and Deposits\",IF(E2615=\"\",\"BANK NAME REQUIRED\",IF(ISERROR(VLOOKUP(E2615,'Reference Data'!C:C,1,FALSE)),\"PLEASE SELECT A BANK FROM DEFINED LIST PROVIDED\",\"\")),\"\")","v":""},"No Entry",0]
[null,null,null,null,null,null,null,null,null,null,null,null,"",{"$f":"IF(D2616=\"Cash and Deposits\",IF(E2616=\"\",\"BANK NAME REQUIRED\",IF(ISERROR(VLOOKUP(E2616,'Reference Data'!C:C,1,FALSE)),\"PLEASE SELECT A BANK FROM DEFINED LIST PROVIDED\",\"\")),\"\")","v":""},"No Entry",0]
[null,null,null,null,null,null,null,null,null,null,null,null,"",{"$f":"IF(D2617=\"Cash and Deposits\",IF(E2617=\"\",\"BANK NAME REQUIRED\",IF(ISERROR(VLOOKUP(E2617,'Reference Data'!C:C,1,FALSE)),\"PLEASE SELECT A BANK FROM DEFINED LIST PROVIDED\",\"\")),\"\")","v":""},"No Entry",0]
[null,null,null,null,null,null,null,null,null,null,null,null,"",{"$f":"IF(D2618=\"Cash and Deposits\",IF(E2618=\"\",\"BANK NAME REQUIRED\",IF(ISERROR(VLOOKUP(E2618,'Reference Data'!C:C,1,FALSE)),\"PLEASE SELECT A BANK FROM DEFINED LIST PROVIDED\",\"\")),\"\")","v":""},"No Entry",0]
[null,null,null,null,null,null,null,null,null,null,null,null,"",{"$f":"IF(D2619=\"Cash and Deposits\",IF(E2619=\"\",\"BANK NAME REQUIRED\",IF(ISERROR(VLOOKUP(E2619,'Reference Data'!C:C,1,FALSE)),\"PLEASE SELECT A BANK FROM DEFINED LIST PROVIDED\",\"\")),\"\")","v":""},"No Entry",0]
[null,null,null,null,null,null,null,null,null,null,null,null,"",{"$f":"IF(D2620=\"Cash and Deposits\",IF(E2620=\"\",\"BANK NAME REQUIRED\",IF(ISERROR(VLOOKUP(E2620,'Reference Data'!C:C,1,FALSE)),\"PLEASE SELECT A BANK FROM DEFINED LIST PROVIDED\",\"\")),\"\")","v":""},"No Entry",0]
[null,null,null,null,null,null,null,null,null,null,null,null,"",{"$f":"IF(D2621=\"Cash and Deposits\",IF(E2621=\"\",\"BANK NAME REQUIRED\",IF(ISERROR(VLOOKUP(E2621,'Reference Data'!C:C,1,FALSE)),\"PLEASE SELECT A BANK FROM DEFINED LIST PROVIDED\",\"\")),\"\")","v":""},"No Entry",0]
[null,null,null,null,null,null,null,null,null,null,null,null,"",{"$f":"IF(D2622=\"Cash and Deposits\",IF(E2622=\"\",\"BANK NAME REQUIRED\",IF(ISERROR(VLOOKUP(E2622,'Reference Data'!C:C,1,FALSE)),\"PLEASE SELECT A BANK FROM DEFINED LIST PROVIDED\",\"\")),\"\")","v":""},"No Entry",0]
[null,null,null,null,null,null,null,null,null,null,null,null,"",{"$f":"IF(D2623=\"Cash and Deposits\",IF(E2623=\"\",\"BANK NAME REQUIRED\",IF(ISERROR(VLOOKUP(E2623,'Reference Data'!C:C,1,FALSE)),\"PLEASE SELECT A BANK FROM DEFINED LIST PROVIDED\",\"\")),\"\")","v":""},"No Entry",0]
[null,null,null,null,null,null,null,null,null,null,null,null,"",{"$f":"IF(D2624=\"Cash and Deposits\",IF(E2624=\"\",\"BANK NAME REQUIRED\",IF(ISERROR(VLOOKUP(E2624,'Reference Data'!C:C,1,FALSE)),\"PLEASE SELECT A BANK FROM DEFINED LIST PROVIDED\",\"\")),\"\")","v":""},"No Entry",0]
[null,null,null,null,null,null,null,null,null,null,null,null,"",{"$f":"IF(D2625=\"Cash and Deposits\",IF(E2625=\"\",\"BANK NAME REQUIRED\",IF(ISERROR(VLOOKUP(E2625,'Reference Data'!C:C,1,FALSE)),\"PLEASE SELECT A BANK FROM DEFINED LIST PROVIDED\",\"\")),\"\")","v":""},"No Entry",0]
[null,null,null,null,null,null,null,null,null,null,null,null,"",{"$f":"IF(D2626=\"Cash and Deposits\",IF(E2626=\"\",\"BANK NAME REQUIRED\",IF(ISERROR(VLOOKUP(E2626,'Reference Data'!C:C,1,FALSE)),\"PLEASE SELECT A BANK FROM DEFINED LIST PROVIDED\",\"\")),\"\")","v":""},"No Entry",0]
[null,null,null,null,null,null,null,null,null,null,null,null,"",{"$f":"IF(D2627=\"Cash and Deposits\",IF(E2627=\"\",\"BANK NAME REQUIRED\",IF(ISERROR(VLOOKUP(E2627,'Reference Data'!C:C,1,FALSE)),\"PLEASE SELECT A BANK FROM DEFINED LIST PROVIDED\",\"\")),\"\")","v":""},"No Entry",0]
[null,null,null,null,null,null,null,null,null,null,null,null,"",{"$f":"IF(D2628=\"Cash and Deposits\",IF(E2628=\"\",\"BANK NAME REQUIRED\",IF(ISERROR(VLOOKUP(E2628,'Reference Data'!C:C,1,FALSE)),\"PLEASE SELECT A BANK FROM DEFINED LIST PROVIDED\",\"\")),\"\")","v":""},"No Entry",0]
[null,null,null,null,null,null,null,null,null,null,null,null,{"$f":"IF(K2629<>0,IF(B2629=\"\",\"ID CODE REQUIRED\",\"\"),\"\")","v":""},{"$f":"IF(D2629=\"Cash and Deposits\",IF(E2629=\"\",\"BANK NAME REQUIRED\",IF(ISERROR(VLOOKUP(E2629,'Reference Data'!C:C,1,FALSE)),\"PLEASE SELECT A BANK FROM DEFINED LIST PROVIDED\",\"\")),\"\")","v":""},{"$f":"IF(K2629=0,\"No Entry\",\"\")","v":"No Entry"},{"$f":"IF(K2629<>0,IF(A2629=\"\",1,0),0)","v":0}]
[null,null,null,null,null,null,null,null,null,null,null,null,"",{"$f":"IF(D2630=\"Cash and Deposits\",IF(E2630=\"\",\"BANK NAME REQUIRED\",IF(ISERROR(VLOOKUP(E2630,'Reference Data'!C:C,1,FALSE)),\"PLEASE SELECT A BANK FROM DEFINED LIST PROVIDED\",\"\")),\"\")","v":""},"No Entry",0]
[null,null,null,null,null,null,null,null,null,null,null,null,"",{"$f":"IF(D2631=\"Cash and Deposits\",IF(E2631=\"\",\"BANK NAME REQUIRED\",IF(ISERROR(VLOOKUP(E2631,'Reference Data'!C:C,1,FALSE)),\"PLEASE SELECT A BANK FROM DEFINED LIST PROVIDED\",\"\")),\"\")","v":""},"No Entry",0]
[null,null,null,null,null,null,null,null,null,null,null,null,"",{"$f":"IF(D2632=\"Cash and Deposits\",IF(E2632=\"\",\"BANK NAME REQUIRED\",IF(ISERROR(VLOOKUP(E2632,'Reference Data'!C:C,1,FALSE)),\"PLEASE SELECT A BANK FROM DEFINED LIST PROVIDED\",\"\")),\"\")","v":""},"No Entry",0]
[null,null,null,null,null,null,null,null,null,null,null,null,"",{"$f":"IF(D2633=\"Cash and Deposits\",IF(E2633=\"\",\"BANK NAME REQUIRED\",IF(ISERROR(VLOOKUP(E2633,'Reference Data'!C:C,1,FALSE)),\"PLEASE SELECT A BANK FROM DEFINED LIST PROVIDED\",\"\")),\"\")","v":""},"No Entry",0]
[null,null,null,null,null,null,null,null,null,null,null,null,"",{"$f":"IF(D2634=\"Cash and Deposits\",IF(E2634=\"\",\"BANK NAME REQUIRED\",IF(ISERROR(VLOOKUP(E2634,'Reference Data'!C:C,1,FALSE)),\"PLEASE SELECT A BANK FROM DEFINED LIST PROVIDED\",\"\")),\"\")","v":""},"No Entry",0]
[null,null,null,null,null,null,null,null,null,null,null,null,"",{"$f":"IF(D2635=\"Cash and Deposits\",IF(E2635=\"\",\"BANK NAME REQUIRED\",IF(ISERROR(VLOOKUP(E2635,'Reference Data'!C:C,1,FALSE)),\"PLEASE SELECT A BANK FROM DEFINED LIST PROVIDED\",\"\")),\"\")","v":""},"No Entry",0]
[null,null,null,null,null,null,null,null,null,null,null,null,"",{"$f":"IF(D2636=\"Cash and Deposits\",IF(E2636=\"\",\"BANK NAME REQUIRED\",IF(ISERROR(VLOOKUP(E2636,'Reference Data'!C:C,1,FALSE)),\"PLEASE SELECT A BANK FROM DEFINED LIST PROVIDED\",\"\")),\"\")","v":""},"No Entry",0]
[null,null,null,null,null,null,null,null,null,null,null,null,"",{"$f":"IF(D2637=\"Cash and Deposits\",IF(E2637=\"\",\"BANK NAME REQUIRED\",IF(ISERROR(VLOOKUP(E2637,'Reference Data'!C:C,1,FALSE)),\"PLEASE SELECT A BANK FROM DEFINED LIST PROVIDED\",\"\")),\"\")","v":""},"No Entry",0]
[null,null,null,null,null,null,null,null,null,null,null,null,"",{"$f":"IF(D2638=\"Cash and Deposits\",IF(E2638=\"\",\"BANK NAME REQUIRED\",IF(ISERROR(VLOOKUP(E2638,'Reference Data'!C:C,1,FALSE)),\"PLEASE SELECT A BANK FROM DEFINED LIST PROVIDED\",\"\")),\"\")","v":""},"No Entry",0]
[null,null,null,null,null,null,null,null,null,null,null,null,"",{"$f":"IF(D2639=\"Cash and Deposits\",IF(E2639=\"\",\"BANK NAME REQUIRED\",IF(ISERROR(VLOOKUP(E2639,'Reference Data'!C:C,1,FALSE)),\"PLEASE SELECT A BANK FROM DEFINED LIST PROVIDED\",\"\")),\"\")","v":""},"No Entry",0]
[null,null,null,null,null,null,null,null,null,null,null,null,"",{"$f":"IF(D2640=\"Cash and Deposits\",IF(E2640=\"\",\"BANK NAME REQUIRED\",IF(ISERROR(VLOOKUP(E2640,'Reference Data'!C:C,1,FALSE)),\"PLEASE SELECT A BANK FROM DEFINED LIST PROVIDED\",\"\")),\"\")","v":""},"No Entry",0]
[null,null,null,null,null,null,null,null,null,null,null,null,"",{"$f":"IF(D2641=\"Cash and Deposits\",IF(E2641=\"\",\"BANK NAME REQUIRED\",IF(ISERROR(VLOOKUP(E2641,'Reference Data'!C:C,1,FALSE)),\"PLEASE SELECT A BANK FROM DEFINED LIST PROVIDED\",\"\")),\"\")","v":""},"No Entry",0]
[null,null,null,null,null,null,null,null,null,null,null,null,"",{"$f":"IF(D2642=\"Cash and Deposits\",IF(E2642=\"\",\"BANK NAME REQUIRED\",IF(ISERROR(VLOOKUP(E2642,'Reference Data'!C:C,1,FALSE)),\"PLEASE SELECT A BANK FROM DEFINED LIST PROVIDED\",\"\")),\"\")","v":""},"No Entry",0]
[null,null,null,null,null,null,null,null,null,null,null,null,"",{"$f":"IF(D2643=\"Cash and Deposits\",IF(E2643=\"\",\"BANK NAME REQUIRED\",IF(ISERROR(VLOOKUP(E2643,'Reference Data'!C:C,1,FALSE)),\"PLEASE SELECT A BANK FROM DEFINED LIST PROVIDED\",\"\")),\"\")","v":""},"No Entry",0]
[null,null,null,null,null,null,null,null,null,null,null,null,"",{"$f":"IF(D2644=\"Cash and Deposits\",IF(E2644=\"\",\"BANK NAME REQUIRED\",IF(ISERROR(VLOOKUP(E2644,'Reference Data'!C:C,1,FALSE)),\"PLEASE SELECT A BANK FROM DEFINED LIST PROVIDED\",\"\")),\"\")","v":""},"No Entry",0]
[null,null,null,null,null,null,null,null,null,null,null,null,"",{"$f":"IF(D2645=\"Cash and Deposits\",IF(E2645=\"\",\"BANK NAME REQUIRED\",IF(ISERROR(VLOOKUP(E2645,'Reference Data'!C:C,1,FALSE)),\"PLEASE SELECT A BANK FROM DEFINED LIST PROVIDED\",\"\")),\"\")","v":""},"No Entry",0]
[null,null,null,null,null,null,null,null,null,null,null,null,"",{"$f":"IF(D2646=\"Cash and Deposits\",IF(E2646=\"\",\"BANK NAME REQUIRED\",IF(ISERROR(VLOOKUP(E2646,'Reference Data'!C:C,1,FALSE)),\"PLEASE SELECT A BANK FROM DEFINED LIST PROVIDED\",\"\")),\"\")","v":""},"No Entry",0]
[null,null,null,null,null,null,null,null,null,null,null,null,"",{"$f":"IF(D2647=\"Cash and Deposits\",IF(E2647=\"\",\"BANK NAME REQUIRED\",IF(ISERROR(VLOOKUP(E2647,'Reference Data'!C:C,1,FALSE)),\"PLEASE SELECT A BANK FROM DEFINED LIST PROVIDED\",\"\")),\"\")","v":""},"No Entry",0]
[null,null,null,null,null,null,null,null,null,null,null,null,"",{"$f":"IF(D2648=\"Cash and Deposits\",IF(E2648=\"\",\"BANK NAME REQUIRED\",IF(ISERROR(VLOOKUP(E2648,'Reference Data'!C:C,1,FALSE)),\"PLEASE SELECT A BANK FROM DEFINED LIST PROVIDED\",\"\")),\"\")","v":""},"No Entry",0]
[null,null,null,null,null,null,null,null,null,null,null,null,"",{"$f":"IF(D2649=\"Cash and Deposits\",IF(E2649=\"\",\"BANK NAME REQUIRED\",IF(ISERROR(VLOOKUP(E2649,'Reference Data'!C:C,1,FALSE)),\"PLEASE SELECT A BANK FROM DEFINED LIST PROVIDED\",\"\")),\"\")","v":""},"No Entry",0]
[null,null,null,null,null,null,null,null,null,null,null,null,"",{"$f":"IF(D2650=\"Cash and Deposits\",IF(E2650=\"\",\"BANK NAME REQUIRED\",IF(ISERROR(VLOOKUP(E2650,'Reference Data'!C:C,1,FALSE)),\"PLEASE SELECT A BANK FROM DEFINED LIST PROVIDED\",\"\")),\"\")","v":""},"No Entry",0]
[null,null,null,null,null,null,null,null,null,null,null,null,"",{"$f":"IF(D2651=\"Cash and Deposits\",IF(E2651=\"\",\"BANK NAME REQUIRED\",IF(ISERROR(VLOOKUP(E2651,'Reference Data'!C:C,1,FALSE)),\"PLEASE SELECT A BANK FROM DEFINED LIST PROVIDED\",\"\")),\"\")","v":""},"No Entry",0]
[null,null,null,null,null,null,null,null,null,null,null,null,"",{"$f":"IF(D2652=\"Cash and Deposits\",IF(E2652=\"\",\"BANK NAME REQUIRED\",IF(ISERROR(VLOOKUP(E2652,'Reference Data'!C:C,1,FALSE)),\"PLEASE SELECT A BANK FROM DEFINED LIST PROVIDED\",\"\")),\"\")","v":""},"No Entry",0]
[null,null,null,null,null,null,null,null,null,null,null,null,"",{"$f":"IF(D2653=\"Cash and Deposits\",IF(E2653=\"\",\"BANK NAME REQUIRED\",IF(ISERROR(VLOOKUP(E2653,'Reference Data'!C:C,1,FALSE)),\"PLEASE SELECT A BANK FROM DEFINED LIST PROVIDED\",\"\")),\"\")","v":""},"No Entry",0]
[null,null,null,null,null,null,null,null,null,null,null,null,"",{"$f":"IF(D2654=\"Cash and Deposits\",IF(E2654=\"\",\"BANK NAME REQUIRED\",IF(ISERROR(VLOOKUP(E2654,'Reference Data'!C:C,1,FALSE)),\"PLEASE SELECT A BANK FROM DEFINED LIST PROVIDED\",\"\")),\"\")","v":""},"No Entry",0]
[null,null,null,null,null,null,null,null,null,null,null,null,"",{"$f":"IF(D2655=\"Cash and Deposits\",IF(E2655=\"\",\"BANK NAME REQUIRED\",IF(ISERROR(VLOOKUP(E2655,'Reference Data'!C:C,1,FALSE)),\"PLEASE SELECT A BANK FROM DEFINED LIST PROVIDED\",\"\")),\"\")","v":""},"No Entry",0]
[null,null,null,null,null,null,null,null,null,null,null,null,"",{"$f":"IF(D2656=\"Cash and Deposits\",IF(E2656=\"\",\"BANK NAME REQUIRED\",IF(ISERROR(VLOOKUP(E2656,'Reference Data'!C:C,1,FALSE)),\"PLEASE SELECT A BANK FROM DEFINED LIST PROVIDED\",\"\")),\"\")","v":""},"No Entry",0]
[null,null,null,null,null,null,null,null,null,null,null,null,"",{"$f":"IF(D2657=\"Cash and Deposits\",IF(E2657=\"\",\"BANK NAME REQUIRED\",IF(ISERROR(VLOOKUP(E2657,'Reference Data'!C:C,1,FALSE)),\"PLEASE SELECT A BANK FROM DEFINED LIST PROVIDED\",\"\")),\"\")","v":""},"No Entry",0]
[null,null,null,null,null,null,null,null,null,null,null,null,"",{"$f":"IF(D2658=\"Cash and Deposits\",IF(E2658=\"\",\"BANK NAME REQUIRED\",IF(ISERROR(VLOOKUP(E2658,'Reference Data'!C:C,1,FALSE)),\"PLEASE SELECT A BANK FROM DEFINED LIST PROVIDED\",\"\")),\"\")","v":""},"No Entry",0]
[null,null,null,null,null,null,null,null,null,null,null,null,"",{"$f":"IF(D2659=\"Cash and Deposits\",IF(E2659=\"\",\"BANK NAME REQUIRED\",IF(ISERROR(VLOOKUP(E2659,'Reference Data'!C:C,1,FALSE)),\"PLEASE SELECT A BANK FROM DEFINED LIST PROVIDED\",\"\")),\"\")","v":""},"No Entry",0]
[null,null,null,null,null,null,null,null,null,null,null,null,"",{"$f":"IF(D2660=\"Cash and Deposits\",IF(E2660=\"\",\"BANK NAME REQUIRED\",IF(ISERROR(VLOOKUP(E2660,'Reference Data'!C:C,1,FALSE)),\"PLEASE SELECT A BANK FROM DEFINED LIST PROVIDED\",\"\")),\"\")","v":""},"No Entry",0]
[null,null,null,null,null,null,null,null,null,null,null,null,"",{"$f":"IF(D2661=\"Cash and Deposits\",IF(E2661=\"\",\"BANK NAME REQUIRED\",IF(ISERROR(VLOOKUP(E2661,'Reference Data'!C:C,1,FALSE)),\"PLEASE SELECT A BANK FROM DEFINED LIST PROVIDED\",\"\")),\"\")","v":""},"No Entry",0]
[null,null,null,null,null,null,null,null,null,null,null,null,"",{"$f":"IF(D2662=\"Cash and Deposits\",IF(E2662=\"\",\"BANK NAME REQUIRED\",IF(ISERROR(VLOOKUP(E2662,'Reference Data'!C:C,1,FALSE)),\"PLEASE SELECT A BANK FROM DEFINED LIST PROVIDED\",\"\")),\"\")","v":""},"No Entry",0]
[null,null,null,null,null,null,null,null,null,null,null,null,"",{"$f":"IF(D2663=\"Cash and Deposits\",IF(E2663=\"\",\"BANK NAME REQUIRED\",IF(ISERROR(VLOOKUP(E2663,'Reference Data'!C:C,1,FALSE)),\"PLEASE SELECT A BANK FROM DEFINED LIST PROVIDED\",\"\")),\"\")","v":""},"No Entry",0]
[null,null,null,null,null,null,null,null,null,null,null,null,"",{"$f":"IF(D2664=\"Cash and Deposits\",IF(E2664=\"\",\"BANK NAME REQUIRED\",IF(ISERROR(VLOOKUP(E2664,'Reference Data'!C:C,1,FALSE)),\"PLEASE SELECT A BANK FROM DEFINED LIST PROVIDED\",\"\")),\"\")","v":""},"No Entry",0]
[null,null,null,null,null,null,null,null,null,null,null,null,"",{"$f":"IF(D2665=\"Cash and Deposits\",IF(E2665=\"\",\"BANK NAME REQUIRED\",IF(ISERROR(VLOOKUP(E2665,'Reference Data'!C:C,1,FALSE)),\"PLEASE SELECT A BANK FROM DEFINED LIST PROVIDED\",\"\")),\"\")","v":""},"No Entry",0]
[null,null,null,null,null,null,null,null,null,null,null,null,"",{"$f":"IF(D2666=\"Cash and Deposits\",IF(E2666=\"\",\"BANK NAME REQUIRED\",IF(ISERROR(VLOOKUP(E2666,'Reference Data'!C:C,1,FALSE)),\"PLEASE SELECT A BANK FROM DEFINED LIST PROVIDED\",\"\")),\"\")","v":""},"No Entry",0]
[null,null,null,null,null,null,null,null,null,null,null,null,"",{"$f":"IF(D2667=\"Cash and Deposits\",IF(E2667=\"\",\"BANK NAME REQUIRED\",IF(ISERROR(VLOOKUP(E2667,'Reference Data'!C:C,1,FALSE)),\"PLEASE SELECT A BANK FROM DEFINED LIST PROVIDED\",\"\")),\"\")","v":""},"No Entry",0]
[null,null,null,null,null,null,null,null,null,null,null,null,"",{"$f":"IF(D2668=\"Cash and Deposits\",IF(E2668=\"\",\"BANK NAME REQUIRED\",IF(ISERROR(VLOOKUP(E2668,'Reference Data'!C:C,1,FALSE)),\"PLEASE SELECT A BANK FROM DEFINED LIST PROVIDED\",\"\")),\"\")","v":""},"No Entry",0]
[null,null,null,null,null,null,null,null,null,null,null,null,"",{"$f":"IF(D2669=\"Cash and Deposits\",IF(E2669=\"\",\"BANK NAME REQUIRED\",IF(ISERROR(VLOOKUP(E2669,'Reference Data'!C:C,1,FALSE)),\"PLEASE SELECT A BANK FROM DEFINED LIST PROVIDED\",\"\")),\"\")","v":""},"No Entry",0]
[null,null,null,null,null,null,null,null,null,null,null,null,"",{"$f":"IF(D2670=\"Cash and Deposits\",IF(E2670=\"\",\"BANK NAME REQUIRED\",IF(ISERROR(VLOOKUP(E2670,'Reference Data'!C:C,1,FALSE)),\"PLEASE SELECT A BANK FROM DEFINED LIST PROVIDED\",\"\")),\"\")","v":""},"No Entry",0]
[null,null,null,null,null,null,null,null,null,null,null,null,"",{"$f":"IF(D2671=\"Cash and Deposits\",IF(E2671=\"\",\"BANK NAME REQUIRED\",IF(ISERROR(VLOOKUP(E2671,'Reference Data'!C:C,1,FALSE)),\"PLEASE SELECT A BANK FROM DEFINED LIST PROVIDED\",\"\")),\"\")","v":""},"No Entry",0]
[null,null,null,null,null,null,null,null,null,null,null,null,"",{"$f":"IF(D2672=\"Cash and Deposits\",IF(E2672=\"\",\"BANK NAME REQUIRED\",IF(ISERROR(VLOOKUP(E2672,'Reference Data'!C:C,1,FALSE)),\"PLEASE SELECT A BANK FROM DEFINED LIST PROVIDED\",\"\")),\"\")","v":""},"No Entry",0]
[null,null,null,null,null,null,null,null,null,null,null,null,"",{"$f":"IF(D2673=\"Cash and Deposits\",IF(E2673=\"\",\"BANK NAME REQUIRED\",IF(ISERROR(VLOOKUP(E2673,'Reference Data'!C:C,1,FALSE)),\"PLEASE SELECT A BANK FROM DEFINED LIST PROVIDED\",\"\")),\"\")","v":""},"No Entry",0]
[null,null,null,null,null,null,null,null,null,null,null,null,"",{"$f":"IF(D2674=\"Cash and Deposits\",IF(E2674=\"\",\"BANK NAME REQUIRED\",IF(ISERROR(VLOOKUP(E2674,'Reference Data'!C:C,1,FALSE)),\"PLEASE SELECT A BANK FROM DEFINED LIST PROVIDED\",\"\")),\"\")","v":""},"No Entry",0]
[null,null,null,null,null,null,null,null,null,null,null,null,"",{"$f":"IF(D2675=\"Cash and Deposits\",IF(E2675=\"\",\"BANK NAME REQUIRED\",IF(ISERROR(VLOOKUP(E2675,'Reference Data'!C:C,1,FALSE)),\"PLEASE SELECT A BANK FROM DEFINED LIST PROVIDED\",\"\")),\"\")","v":""},"No Entry",0]
[null,null,null,null,null,null,null,null,null,null,null,null,"",{"$f":"IF(D2676=\"Cash and Deposits\",IF(E2676=\"\",\"BANK NAME REQUIRED\",IF(ISERROR(VLOOKUP(E2676,'Reference Data'!C:C,1,FALSE)),\"PLEASE SELECT A BANK FROM DEFINED LIST PROVIDED\",\"\")),\"\")","v":""},"No Entry",0]
[null,null,null,null,null,null,null,null,null,null,null,null,"",{"$f":"IF(D2677=\"Cash and Deposits\",IF(E2677=\"\",\"BANK NAME REQUIRED\",IF(ISERROR(VLOOKUP(E2677,'Reference Data'!C:C,1,FALSE)),\"PLEASE SELECT A BANK FROM DEFINED LIST PROVIDED\",\"\")),\"\")","v":""},"No Entry",0]
[null,null,null,null,null,null,null,null,null,null,null,null,"",{"$f":"IF(D2678=\"Cash and Deposits\",IF(E2678=\"\",\"BANK NAME REQUIRED\",IF(ISERROR(VLOOKUP(E2678,'Reference Data'!C:C,1,FALSE)),\"PLEASE SELECT A BANK FROM DEFINED LIST PROVIDED\",\"\")),\"\")","v":""},"No Entry",0]
[null,null,null,null,null,null,null,null,null,null,null,null,"",{"$f":"IF(D2679=\"Cash and Deposits\",IF(E2679=\"\",\"BANK NAME REQUIRED\",IF(ISERROR(VLOOKUP(E2679,'Reference Data'!C:C,1,FALSE)),\"PLEASE SELECT A BANK FROM DEFINED LIST PROVIDED\",\"\")),\"\")","v":""},"No Entry",0]
[null,null,null,null,null,null,null,null,null,null,null,null,"",{"$f":"IF(D2680=\"Cash and Deposits\",IF(E2680=\"\",\"BANK NAME REQUIRED\",IF(ISERROR(VLOOKUP(E2680,'Reference Data'!C:C,1,FALSE)),\"PLEASE SELECT A BANK FROM DEFINED LIST PROVIDED\",\"\")),\"\")","v":""},"No Entry",0]
[null,null,null,null,null,null,null,null,null,null,null,null,"",{"$f":"IF(D2681=\"Cash and Deposits\",IF(E2681=\"\",\"BANK NAME REQUIRED\",IF(ISERROR(VLOOKUP(E2681,'Reference Data'!C:C,1,FALSE)),\"PLEASE SELECT A BANK FROM DEFINED LIST PROVIDED\",\"\")),\"\")","v":""},"No Entry",0]
[null,null,null,null,null,null,null,null,null,null,null,null,"",{"$f":"IF(D2682=\"Cash and Deposits\",IF(E2682=\"\",\"BANK NAME REQUIRED\",IF(ISERROR(VLOOKUP(E2682,'Reference Data'!C:C,1,FALSE)),\"PLEASE SELECT A BANK FROM DEFINED LIST PROVIDED\",\"\")),\"\")","v":""},"No Entry",0]
[null,null,null,null,null,null,null,null,null,null,null,null,"",{"$f":"IF(D2683=\"Cash and Deposits\",IF(E2683=\"\",\"BANK NAME REQUIRED\",IF(ISERROR(VLOOKUP(E2683,'Reference Data'!C:C,1,FALSE)),\"PLEASE SELECT A BANK FROM DEFINED LIST PROVIDED\",\"\")),\"\")","v":""},"No Entry",0]
[null,null,null,null,null,null,null,null,null,null,null,null,"",{"$f":"IF(D2684=\"Cash and Deposits\",IF(E2684=\"\",\"BANK NAME REQUIRED\",IF(ISERROR(VLOOKUP(E2684,'Reference Data'!C:C,1,FALSE)),\"PLEASE SELECT A BANK FROM DEFINED LIST PROVIDED\",\"\")),\"\")","v":""},"No Entry",0]
[null,null,null,null,null,null,null,null,null,null,null,null,"",{"$f":"IF(D2685=\"Cash and Deposits\",IF(E2685=\"\",\"BANK NAME REQUIRED\",IF(ISERROR(VLOOKUP(E2685,'Reference Data'!C:C,1,FALSE)),\"PLEASE SELECT A BANK FROM DEFINED LIST PROVIDED\",\"\")),\"\")","v":""},"No Entry",0]
[null,null,null,null,null,null,null,null,null,null,null,null,"",{"$f":"IF(D2686=\"Cash and Deposits\",IF(E2686=\"\",\"BANK NAME REQUIRED\",IF(ISERROR(VLOOKUP(E2686,'Reference Data'!C:C,1,FALSE)),\"PLEASE SELECT A BANK FROM DEFINED LIST PROVIDED\",\"\")),\"\")","v":""},"No Entry",0]
[null,null,null,null,null,null,null,null,null,null,null,null,"",{"$f":"IF(D2687=\"Cash and Deposits\",IF(E2687=\"\",\"BANK NAME REQUIRED\",IF(ISERROR(VLOOKUP(E2687,'Reference Data'!C:C,1,FALSE)),\"PLEASE SELECT A BANK FROM DEFINED LIST PROVIDED\",\"\")),\"\")","v":""},"No Entry",0]
[null,null,null,null,null,null,null,null,null,null,null,null,"",{"$f":"IF(D2688=\"Cash and Deposits\",IF(E2688=\"\",\"BANK NAME REQUIRED\",IF(ISERROR(VLOOKUP(E2688,'Reference Data'!C:C,1,FALSE)),\"PLEASE SELECT A BANK FROM DEFINED LIST PROVIDED\",\"\")),\"\")","v":""},"No Entry",0]
[null,null,null,null,null,null,null,null,null,null,null,null,"",{"$f":"IF(D2689=\"Cash and Deposits\",IF(E2689=\"\",\"BANK NAME REQUIRED\",IF(ISERROR(VLOOKUP(E2689,'Reference Data'!C:C,1,FALSE)),\"PLEASE SELECT A BANK FROM DEFINED LIST PROVIDED\",\"\")),\"\")","v":""},"No Entry",0]
[null,null,null,null,null,null,null,null,null,null,null,null,"",{"$f":"IF(D2690=\"Cash and Deposits\",IF(E2690=\"\",\"BANK NAME REQUIRED\",IF(ISERROR(VLOOKUP(E2690,'Reference Data'!C:C,1,FALSE)),\"PLEASE SELECT A BANK FROM DEFINED LIST PROVIDED\",\"\")),\"\")","v":""},"No Entry",0]
[null,null,null,null,null,null,null,null,null,null,null,null,"",{"$f":"IF(D2691=\"Cash and Deposits\",IF(E2691=\"\",\"BANK NAME REQUIRED\",IF(ISERROR(VLOOKUP(E2691,'Reference Data'!C:C,1,FALSE)),\"PLEASE SELECT A BANK FROM DEFINED LIST PROVIDED\",\"\")),\"\")","v":""},"No Entry",0]
[null,null,null,null,null,null,null,null,null,null,null,null,"",{"$f":"IF(D2692=\"Cash and Deposits\",IF(E2692=\"\",\"BANK NAME REQUIRED\",IF(ISERROR(VLOOKUP(E2692,'Reference Data'!C:C,1,FALSE)),\"PLEASE SELECT A BANK FROM DEFINED LIST PROVIDED\",\"\")),\"\")","v":""},"No Entry",0]
[null,null,null,null,null,null,null,null,null,null,null,null,{"$f":"IF(K2693<>0,IF(B2693=\"\",\"ID CODE REQUIRED\",\"\"),\"\")","v":""},{"$f":"IF(D2693=\"Cash and Deposits\",IF(E2693=\"\",\"BANK NAME REQUIRED\",IF(ISERROR(VLOOKUP(E2693,'Reference Data'!C:C,1,FALSE)),\"PLEASE SELECT A BANK FROM DEFINED LIST PROVIDED\",\"\")),\"\")","v":""},{"$f":"IF(K2693=0,\"No Entry\",\"\")","v":"No Entry"},{"$f":"IF(K2693<>0,IF(A2693=\"\",1,0),0)","v":0}]
[null,null,null,null,null,null,null,null,null,null,null,null,"",{"$f":"IF(D2694=\"Cash and Deposits\",IF(E2694=\"\",\"BANK NAME REQUIRED\",IF(ISERROR(VLOOKUP(E2694,'Reference Data'!C:C,1,FALSE)),\"PLEASE SELECT A BANK FROM DEFINED LIST PROVIDED\",\"\")),\"\")","v":""},"No Entry",0]
[null,null,null,null,null,null,null,null,null,null,null,null,"",{"$f":"IF(D2695=\"Cash and Deposits\",IF(E2695=\"\",\"BANK NAME REQUIRED\",IF(ISERROR(VLOOKUP(E2695,'Reference Data'!C:C,1,FALSE)),\"PLEASE SELECT A BANK FROM DEFINED LIST PROVIDED\",\"\")),\"\")","v":""},"No Entry",0]
[null,null,null,null,null,null,null,null,null,null,null,null,"",{"$f":"IF(D2696=\"Cash and Deposits\",IF(E2696=\"\",\"BANK NAME REQUIRED\",IF(ISERROR(VLOOKUP(E2696,'Reference Data'!C:C,1,FALSE)),\"PLEASE SELECT A BANK FROM DEFINED LIST PROVIDED\",\"\")),\"\")","v":""},"No Entry",0]
[null,null,null,null,null,null,null,null,null,null,null,null,"",{"$f":"IF(D2697=\"Cash and Deposits\",IF(E2697=\"\",\"BANK NAME REQUIRED\",IF(ISERROR(VLOOKUP(E2697,'Reference Data'!C:C,1,FALSE)),\"PLEASE SELECT A BANK FROM DEFINED LIST PROVIDED\",\"\")),\"\")","v":""},"No Entry",0]
[null,null,null,null,null,null,null,null,null,null,null,null,"",{"$f":"IF(D2698=\"Cash and Deposits\",IF(E2698=\"\",\"BANK NAME REQUIRED\",IF(ISERROR(VLOOKUP(E2698,'Reference Data'!C:C,1,FALSE)),\"PLEASE SELECT A BANK FROM DEFINED LIST PROVIDED\",\"\")),\"\")","v":""},"No Entry",0]
[null,null,null,null,null,null,null,null,null,null,null,null,"",{"$f":"IF(D2699=\"Cash and Deposits\",IF(E2699=\"\",\"BANK NAME REQUIRED\",IF(ISERROR(VLOOKUP(E2699,'Reference Data'!C:C,1,FALSE)),\"PLEASE SELECT A BANK FROM DEFINED LIST PROVIDED\",\"\")),\"\")","v":""},"No Entry",0]
[null,null,null,null,null,null,null,null,null,null,null,null,"",{"$f":"IF(D2700=\"Cash and Deposits\",IF(E2700=\"\",\"BANK NAME REQUIRED\",IF(ISERROR(VLOOKUP(E2700,'Reference Data'!C:C,1,FALSE)),\"PLEASE SELECT A BANK FROM DEFINED LIST PROVIDED\",\"\")),\"\")","v":""},"No Entry",0]
[null,null,null,null,null,null,null,null,null,null,null,null,"",{"$f":"IF(D2701=\"Cash and Deposits\",IF(E2701=\"\",\"BANK NAME REQUIRED\",IF(ISERROR(VLOOKUP(E2701,'Reference Data'!C:C,1,FALSE)),\"PLEASE SELECT A BANK FROM DEFINED LIST PROVIDED\",\"\")),\"\")","v":""},"No Entry",0]
[null,null,null,null,null,null,null,null,null,null,null,null,"",{"$f":"IF(D2702=\"Cash and Deposits\",IF(E2702=\"\",\"BANK NAME REQUIRED\",IF(ISERROR(VLOOKUP(E2702,'Reference Data'!C:C,1,FALSE)),\"PLEASE SELECT A BANK FROM DEFINED LIST PROVIDED\",\"\")),\"\")","v":""},"No Entry",0]
[null,null,null,null,null,null,null,null,null,null,null,null,"",{"$f":"IF(D2703=\"Cash and Deposits\",IF(E2703=\"\",\"BANK NAME REQUIRED\",IF(ISERROR(VLOOKUP(E2703,'Reference Data'!C:C,1,FALSE)),\"PLEASE SELECT A BANK FROM DEFINED LIST PROVIDED\",\"\")),\"\")","v":""},"No Entry",0]
[null,null,null,null,null,null,null,null,null,null,null,null,"",{"$f":"IF(D2704=\"Cash and Deposits\",IF(E2704=\"\",\"BANK NAME REQUIRED\",IF(ISERROR(VLOOKUP(E2704,'Reference Data'!C:C,1,FALSE)),\"PLEASE SELECT A BANK FROM DEFINED LIST PROVIDED\",\"\")),\"\")","v":""},"No Entry",0]
[null,null,null,null,null,null,null,null,null,null,null,null,"",{"$f":"IF(D2705=\"Cash and Deposits\",IF(E2705=\"\",\"BANK NAME REQUIRED\",IF(ISERROR(VLOOKUP(E2705,'Reference Data'!C:C,1,FALSE)),\"PLEASE SELECT A BANK FROM DEFINED LIST PROVIDED\",\"\")),\"\")","v":""},"No Entry",0]
[null,null,null,null,null,null,null,null,null,null,null,null,"",{"$f":"IF(D2706=\"Cash and Deposits\",IF(E2706=\"\",\"BANK NAME REQUIRED\",IF(ISERROR(VLOOKUP(E2706,'Reference Data'!C:C,1,FALSE)),\"PLEASE SELECT A BANK FROM DEFINED LIST PROVIDED\",\"\")),\"\")","v":""},"No Entry",0]
[null,null,null,null,null,null,null,null,null,null,null,null,"",{"$f":"IF(D2707=\"Cash and Deposits\",IF(E2707=\"\",\"BANK NAME REQUIRED\",IF(ISERROR(VLOOKUP(E2707,'Reference Data'!C:C,1,FALSE)),\"PLEASE SELECT A BANK FROM DEFINED LIST PROVIDED\",\"\")),\"\")","v":""},"No Entry",0]
[null,null,null,null,null,null,null,null,null,null,null,null,"",{"$f":"IF(D2708=\"Cash and Deposits\",IF(E2708=\"\",\"BANK NAME REQUIRED\",IF(ISERROR(VLOOKUP(E2708,'Reference Data'!C:C,1,FALSE)),\"PLEASE SELECT A BANK FROM DEFINED LIST PROVIDED\",\"\")),\"\")","v":""},"No Entry",0]
[null,null,null,null,null,null,null,null,null,null,null,null,"",{"$f":"IF(D2709=\"Cash and Deposits\",IF(E2709=\"\",\"BANK NAME REQUIRED\",IF(ISERROR(VLOOKUP(E2709,'Reference Data'!C:C,1,FALSE)),\"PLEASE SELECT A BANK FROM DEFINED LIST PROVIDED\",\"\")),\"\")","v":""},"No Entry",0]
[null,null,null,null,null,null,null,null,null,null,null,null,"",{"$f":"IF(D2710=\"Cash and Deposits\",IF(E2710=\"\",\"BANK NAME REQUIRED\",IF(ISERROR(VLOOKUP(E2710,'Reference Data'!C:C,1,FALSE)),\"PLEASE SELECT A BANK FROM DEFINED LIST PROVIDED\",\"\")),\"\")","v":""},"No Entry",0]
[null,null,null,null,null,null,null,null,null,null,null,null,"",{"$f":"IF(D2711=\"Cash and Deposits\",IF(E2711=\"\",\"BANK NAME REQUIRED\",IF(ISERROR(VLOOKUP(E2711,'Reference Data'!C:C,1,FALSE)),\"PLEASE SELECT A BANK FROM DEFINED LIST PROVIDED\",\"\")),\"\")","v":""},"No Entry",0]
[null,null,null,null,null,null,null,null,null,null,null,null,"",{"$f":"IF(D2712=\"Cash and Deposits\",IF(E2712=\"\",\"BANK NAME REQUIRED\",IF(ISERROR(VLOOKUP(E2712,'Reference Data'!C:C,1,FALSE)),\"PLEASE SELECT A BANK FROM DEFINED LIST PROVIDED\",\"\")),\"\")","v":""},"No Entry",0]
[null,null,null,null,null,null,null,null,null,null,null,null,"",{"$f":"IF(D2713=\"Cash and Deposits\",IF(E2713=\"\",\"BANK NAME REQUIRED\",IF(ISERROR(VLOOKUP(E2713,'Reference Data'!C:C,1,FALSE)),\"PLEASE SELECT A BANK FROM DEFINED LIST PROVIDED\",\"\")),\"\")","v":""},"No Entry",0]
[null,null,null,null,null,null,null,null,null,null,null,null,"",{"$f":"IF(D2714=\"Cash and Deposits\",IF(E2714=\"\",\"BANK NAME REQUIRED\",IF(ISERROR(VLOOKUP(E2714,'Reference Data'!C:C,1,FALSE)),\"PLEASE SELECT A BANK FROM DEFINED LIST PROVIDED\",\"\")),\"\")","v":""},"No Entry",0]
[null,null,null,null,null,null,null,null,null,null,null,null,"",{"$f":"IF(D2715=\"Cash and Deposits\",IF(E2715=\"\",\"BANK NAME REQUIRED\",IF(ISERROR(VLOOKUP(E2715,'Reference Data'!C:C,1,FALSE)),\"PLEASE SELECT A BANK FROM DEFINED LIST PROVIDED\",\"\")),\"\")","v":""},"No Entry",0]
[null,null,null,null,null,null,null,null,null,null,null,null,"",{"$f":"IF(D2716=\"Cash and Deposits\",IF(E2716=\"\",\"BANK NAME REQUIRED\",IF(ISERROR(VLOOKUP(E2716,'Reference Data'!C:C,1,FALSE)),\"PLEASE SELECT A BANK FROM DEFINED LIST PROVIDED\",\"\")),\"\")","v":""},"No Entry",0]
[null,null,null,null,null,null,null,null,null,null,null,null,"",{"$f":"IF(D2717=\"Cash and Deposits\",IF(E2717=\"\",\"BANK NAME REQUIRED\",IF(ISERROR(VLOOKUP(E2717,'Reference Data'!C:C,1,FALSE)),\"PLEASE SELECT A BANK FROM DEFINED LIST PROVIDED\",\"\")),\"\")","v":""},"No Entry",0]
[null,null,null,null,null,null,null,null,null,null,null,null,"",{"$f":"IF(D2718=\"Cash and Deposits\",IF(E2718=\"\",\"BANK NAME REQUIRED\",IF(ISERROR(VLOOKUP(E2718,'Reference Data'!C:C,1,FALSE)),\"PLEASE SELECT A BANK FROM DEFINED LIST PROVIDED\",\"\")),\"\")","v":""},"No Entry",0]
[null,null,null,null,null,null,null,null,null,null,null,null,"",{"$f":"IF(D2719=\"Cash and Deposits\",IF(E2719=\"\",\"BANK NAME REQUIRED\",IF(ISERROR(VLOOKUP(E2719,'Reference Data'!C:C,1,FALSE)),\"PLEASE SELECT A BANK FROM DEFINED LIST PROVIDED\",\"\")),\"\")","v":""},"No Entry",0]
[null,null,null,null,null,null,null,null,null,null,null,null,"",{"$f":"IF(D2720=\"Cash and Deposits\",IF(E2720=\"\",\"BANK NAME REQUIRED\",IF(ISERROR(VLOOKUP(E2720,'Reference Data'!C:C,1,FALSE)),\"PLEASE SELECT A BANK FROM DEFINED LIST PROVIDED\",\"\")),\"\")","v":""},"No Entry",0]
[null,null,null,null,null,null,null,null,null,null,null,null,"",{"$f":"IF(D2721=\"Cash and Deposits\",IF(E2721=\"\",\"BANK NAME REQUIRED\",IF(ISERROR(VLOOKUP(E2721,'Reference Data'!C:C,1,FALSE)),\"PLEASE SELECT A BANK FROM DEFINED LIST PROVIDED\",\"\")),\"\")","v":""},"No Entry",0]
[null,null,null,null,null,null,null,null,null,null,null,null,"",{"$f":"IF(D2722=\"Cash and Deposits\",IF(E2722=\"\",\"BANK NAME REQUIRED\",IF(ISERROR(VLOOKUP(E2722,'Reference Data'!C:C,1,FALSE)),\"PLEASE SELECT A BANK FROM DEFINED LIST PROVIDED\",\"\")),\"\")","v":""},"No Entry",0]
[null,null,null,null,null,null,null,null,null,null,null,null,"",{"$f":"IF(D2723=\"Cash and Deposits\",IF(E2723=\"\",\"BANK NAME REQUIRED\",IF(ISERROR(VLOOKUP(E2723,'Reference Data'!C:C,1,FALSE)),\"PLEASE SELECT A BANK FROM DEFINED LIST PROVIDED\",\"\")),\"\")","v":""},"No Entry",0]
[null,null,null,null,null,null,null,null,null,null,null,null,"",{"$f":"IF(D2724=\"Cash and Deposits\",IF(E2724=\"\",\"BANK NAME REQUIRED\",IF(ISERROR(VLOOKUP(E2724,'Reference Data'!C:C,1,FALSE)),\"PLEASE SELECT A BANK FROM DEFINED LIST PROVIDED\",\"\")),\"\")","v":""},"No Entry",0]
[null,null,null,null,null,null,null,null,null,null,null,null,"",{"$f":"IF(D2725=\"Cash and Deposits\",IF(E2725=\"\",\"BANK NAME REQUIRED\",IF(ISERROR(VLOOKUP(E2725,'Reference Data'!C:C,1,FALSE)),\"PLEASE SELECT A BANK FROM DEFINED LIST PROVIDED\",\"\")),\"\")","v":""},"No Entry",0]
[null,null,null,null,null,null,null,null,null,null,null,null,"",{"$f":"IF(D2726=\"Cash and Deposits\",IF(E2726=\"\",\"BANK NAME REQUIRED\",IF(ISERROR(VLOOKUP(E2726,'Reference Data'!C:C,1,FALSE)),\"PLEASE SELECT A BANK FROM DEFINED LIST PROVIDED\",\"\")),\"\")","v":""},"No Entry",0]
[null,null,null,null,null,null,null,null,null,null,null,null,"",{"$f":"IF(D2727=\"Cash and Deposits\",IF(E2727=\"\",\"BANK NAME REQUIRED\",IF(ISERROR(VLOOKUP(E2727,'Reference Data'!C:C,1,FALSE)),\"PLEASE SELECT A BANK FROM DEFINED LIST PROVIDED\",\"\")),\"\")","v":""},"No Entry",0]
[null,null,null,null,null,null,null,null,null,null,null,null,"",{"$f":"IF(D2728=\"Cash and Deposits\",IF(E2728=\"\",\"BANK NAME REQUIRED\",IF(ISERROR(VLOOKUP(E2728,'Reference Data'!C:C,1,FALSE)),\"PLEASE SELECT A BANK FROM DEFINED LIST PROVIDED\",\"\")),\"\")","v":""},"No Entry",0]
[null,null,null,null,null,null,null,null,null,null,null,null,"",{"$f":"IF(D2729=\"Cash and Deposits\",IF(E2729=\"\",\"BANK NAME REQUIRED\",IF(ISERROR(VLOOKUP(E2729,'Reference Data'!C:C,1,FALSE)),\"PLEASE SELECT A BANK FROM DEFINED LIST PROVIDED\",\"\")),\"\")","v":""},"No Entry",0]
[null,null,null,null,null,null,null,null,null,null,null,null,"",{"$f":"IF(D2730=\"Cash and Deposits\",IF(E2730=\"\",\"BANK NAME REQUIRED\",IF(ISERROR(VLOOKUP(E2730,'Reference Data'!C:C,1,FALSE)),\"PLEASE SELECT A BANK FROM DEFINED LIST PROVIDED\",\"\")),\"\")","v":""},"No Entry",0]
[null,null,null,null,null,null,null,null,null,null,null,null,"",{"$f":"IF(D2731=\"Cash and Deposits\",IF(E2731=\"\",\"BANK NAME REQUIRED\",IF(ISERROR(VLOOKUP(E2731,'Reference Data'!C:C,1,FALSE)),\"PLEASE SELECT A BANK FROM DEFINED LIST PROVIDED\",\"\")),\"\")","v":""},"No Entry",0]
[null,null,null,null,null,null,null,null,null,null,null,null,"",{"$f":"IF(D2732=\"Cash and Deposits\",IF(E2732=\"\",\"BANK NAME REQUIRED\",IF(ISERROR(VLOOKUP(E2732,'Reference Data'!C:C,1,FALSE)),\"PLEASE SELECT A BANK FROM DEFINED LIST PROVIDED\",\"\")),\"\")","v":""},"No Entry",0]
[null,null,null,null,null,null,null,null,null,null,null,null,"",{"$f":"IF(D2733=\"Cash and Deposits\",IF(E2733=\"\",\"BANK NAME REQUIRED\",IF(ISERROR(VLOOKUP(E2733,'Reference Data'!C:C,1,FALSE)),\"PLEASE SELECT A BANK FROM DEFINED LIST PROVIDED\",\"\")),\"\")","v":""},"No Entry",0]
[null,null,null,null,null,null,null,null,null,null,null,null,"",{"$f":"IF(D2734=\"Cash and Deposits\",IF(E2734=\"\",\"BANK NAME REQUIRED\",IF(ISERROR(VLOOKUP(E2734,'Reference Data'!C:C,1,FALSE)),\"PLEASE SELECT A BANK FROM DEFINED LIST PROVIDED\",\"\")),\"\")","v":""},"No Entry",0]
[null,null,null,null,null,null,null,null,null,null,null,null,"",{"$f":"IF(D2735=\"Cash and Deposits\",IF(E2735=\"\",\"BANK NAME REQUIRED\",IF(ISERROR(VLOOKUP(E2735,'Reference Data'!C:C,1,FALSE)),\"PLEASE SELECT A BANK FROM DEFINED LIST PROVIDED\",\"\")),\"\")","v":""},"No Entry",0]
[null,null,null,null,null,null,null,null,null,null,null,null,"",{"$f":"IF(D2736=\"Cash and Deposits\",IF(E2736=\"\",\"BANK NAME REQUIRED\",IF(ISERROR(VLOOKUP(E2736,'Reference Data'!C:C,1,FALSE)),\"PLEASE SELECT A BANK FROM DEFINED LIST PROVIDED\",\"\")),\"\")","v":""},"No Entry",0]
[null,null,null,null,null,null,null,null,null,null,null,null,"",{"$f":"IF(D2737=\"Cash and Deposits\",IF(E2737=\"\",\"BANK NAME REQUIRED\",IF(ISERROR(VLOOKUP(E2737,'Reference Data'!C:C,1,FALSE)),\"PLEASE SELECT A BANK FROM DEFINED LIST PROVIDED\",\"\")),\"\")","v":""},"No Entry",0]
[null,null,null,null,null,null,null,null,null,null,null,null,"",{"$f":"IF(D2738=\"Cash and Deposits\",IF(E2738=\"\",\"BANK NAME REQUIRED\",IF(ISERROR(VLOOKUP(E2738,'Reference Data'!C:C,1,FALSE)),\"PLEASE SELECT A BANK FROM DEFINED LIST PROVIDED\",\"\")),\"\")","v":""},"No Entry",0]
[null,null,null,null,null,null,null,null,null,null,null,null,"",{"$f":"IF(D2739=\"Cash and Deposits\",IF(E2739=\"\",\"BANK NAME REQUIRED\",IF(ISERROR(VLOOKUP(E2739,'Reference Data'!C:C,1,FALSE)),\"PLEASE SELECT A BANK FROM DEFINED LIST PROVIDED\",\"\")),\"\")","v":""},"No Entry",0]
[null,null,null,null,null,null,null,null,null,null,null,null,"",{"$f":"IF(D2740=\"Cash and Deposits\",IF(E2740=\"\",\"BANK NAME REQUIRED\",IF(ISERROR(VLOOKUP(E2740,'Reference Data'!C:C,1,FALSE)),\"PLEASE SELECT A BANK FROM DEFINED LIST PROVIDED\",\"\")),\"\")","v":""},"No Entry",0]
[null,null,null,null,null,null,null,null,null,null,null,null,"",{"$f":"IF(D2741=\"Cash and Deposits\",IF(E2741=\"\",\"BANK NAME REQUIRED\",IF(ISERROR(VLOOKUP(E2741,'Reference Data'!C:C,1,FALSE)),\"PLEASE SELECT A BANK FROM DEFINED LIST PROVIDED\",\"\")),\"\")","v":""},"No Entry",0]
[null,null,null,null,null,null,null,null,null,null,null,null,"",{"$f":"IF(D2742=\"Cash and Deposits\",IF(E2742=\"\",\"BANK NAME REQUIRED\",IF(ISERROR(VLOOKUP(E2742,'Reference Data'!C:C,1,FALSE)),\"PLEASE SELECT A BANK FROM DEFINED LIST PROVIDED\",\"\")),\"\")","v":""},"No Entry",0]
[null,null,null,null,null,null,null,null,null,null,null,null,"",{"$f":"IF(D2743=\"Cash and Deposits\",IF(E2743=\"\",\"BANK NAME REQUIRED\",IF(ISERROR(VLOOKUP(E2743,'Reference Data'!C:C,1,FALSE)),\"PLEASE SELECT A BANK FROM DEFINED LIST PROVIDED\",\"\")),\"\")","v":""},"No Entry",0]
[null,null,null,null,null,null,null,null,null,null,null,null,"",{"$f":"IF(D2744=\"Cash and Deposits\",IF(E2744=\"\",\"BANK NAME REQUIRED\",IF(ISERROR(VLOOKUP(E2744,'Reference Data'!C:C,1,FALSE)),\"PLEASE SELECT A BANK FROM DEFINED LIST PROVIDED\",\"\")),\"\")","v":""},"No Entry",0]
[null,null,null,null,null,null,null,null,null,null,null,null,"",{"$f":"IF(D2745=\"Cash and Deposits\",IF(E2745=\"\",\"BANK NAME REQUIRED\",IF(ISERROR(VLOOKUP(E2745,'Reference Data'!C:C,1,FALSE)),\"PLEASE SELECT A BANK FROM DEFINED LIST PROVIDED\",\"\")),\"\")","v":""},"No Entry",0]
[null,null,null,null,null,null,null,null,null,null,null,null,"",{"$f":"IF(D2746=\"Cash and Deposits\",IF(E2746=\"\",\"BANK NAME REQUIRED\",IF(ISERROR(VLOOKUP(E2746,'Reference Data'!C:C,1,FALSE)),\"PLEASE SELECT A BANK FROM DEFINED LIST PROVIDED\",\"\")),\"\")","v":""},"No Entry",0]
[null,null,null,null,null,null,null,null,null,null,null,null,"",{"$f":"IF(D2747=\"Cash and Deposits\",IF(E2747=\"\",\"BANK NAME REQUIRED\",IF(ISERROR(VLOOKUP(E2747,'Reference Data'!C:C,1,FALSE)),\"PLEASE SELECT A BANK FROM DEFINED LIST PROVIDED\",\"\")),\"\")","v":""},"No Entry",0]
[null,null,null,null,null,null,null,null,null,null,null,null,"",{"$f":"IF(D2748=\"Cash and Deposits\",IF(E2748=\"\",\"BANK NAME REQUIRED\",IF(ISERROR(VLOOKUP(E2748,'Reference Data'!C:C,1,FALSE)),\"PLEASE SELECT A BANK FROM DEFINED LIST PROVIDED\",\"\")),\"\")","v":""},"No Entry",0]
[null,null,null,null,null,null,null,null,null,null,null,null,"",{"$f":"IF(D2749=\"Cash and Deposits\",IF(E2749=\"\",\"BANK NAME REQUIRED\",IF(ISERROR(VLOOKUP(E2749,'Reference Data'!C:C,1,FALSE)),\"PLEASE SELECT A BANK FROM DEFINED LIST PROVIDED\",\"\")),\"\")","v":""},"No Entry",0]
[null,null,null,null,null,null,null,null,null,null,null,null,"",{"$f":"IF(D2750=\"Cash and Deposits\",IF(E2750=\"\",\"BANK NAME REQUIRED\",IF(ISERROR(VLOOKUP(E2750,'Reference Data'!C:C,1,FALSE)),\"PLEASE SELECT A BANK FROM DEFINED LIST PROVIDED\",\"\")),\"\")","v":""},"No Entry",0]
[null,null,null,null,null,null,null,null,null,null,null,null,"",{"$f":"IF(D2751=\"Cash and Deposits\",IF(E2751=\"\",\"BANK NAME REQUIRED\",IF(ISERROR(VLOOKUP(E2751,'Reference Data'!C:C,1,FALSE)),\"PLEASE SELECT A BANK FROM DEFINED LIST PROVIDED\",\"\")),\"\")","v":""},"No Entry",0]
[null,null,null,null,null,null,null,null,null,null,null,null,"",{"$f":"IF(D2752=\"Cash and Deposits\",IF(E2752=\"\",\"BANK NAME REQUIRED\",IF(ISERROR(VLOOKUP(E2752,'Reference Data'!C:C,1,FALSE)),\"PLEASE SELECT A BANK FROM DEFINED LIST PROVIDED\",\"\")),\"\")","v":""},"No Entry",0]
[null,null,null,null,null,null,null,null,null,null,null,null,"",{"$f":"IF(D2753=\"Cash and Deposits\",IF(E2753=\"\",\"BANK NAME REQUIRED\",IF(ISERROR(VLOOKUP(E2753,'Reference Data'!C:C,1,FALSE)),\"PLEASE SELECT A BANK FROM DEFINED LIST PROVIDED\",\"\")),\"\")","v":""},"No Entry",0]
[null,null,null,null,null,null,null,null,null,null,null,null,"",{"$f":"IF(D2754=\"Cash and Deposits\",IF(E2754=\"\",\"BANK NAME REQUIRED\",IF(ISERROR(VLOOKUP(E2754,'Reference Data'!C:C,1,FALSE)),\"PLEASE SELECT A BANK FROM DEFINED LIST PROVIDED\",\"\")),\"\")","v":""},"No Entry",0]
[null,null,null,null,null,null,null,null,null,null,null,null,"",{"$f":"IF(D2755=\"Cash and Deposits\",IF(E2755=\"\",\"BANK NAME REQUIRED\",IF(ISERROR(VLOOKUP(E2755,'Reference Data'!C:C,1,FALSE)),\"PLEASE SELECT A BANK FROM DEFINED LIST PROVIDED\",\"\")),\"\")","v":""},"No Entry",0]
[null,null,null,null,null,null,null,null,null,null,null,null,"",{"$f":"IF(D2756=\"Cash and Deposits\",IF(E2756=\"\",\"BANK NAME REQUIRED\",IF(ISERROR(VLOOKUP(E2756,'Reference Data'!C:C,1,FALSE)),\"PLEASE SELECT A BANK FROM DEFINED LIST PROVIDED\",\"\")),\"\")","v":""},"No Entry",0]
[null,null,null,null,null,null,null,null,null,null,null,null,{"$f":"IF(K2757<>0,IF(B2757=\"\",\"ID CODE REQUIRED\",\"\"),\"\")","v":""},{"$f":"IF(D2757=\"Cash and Deposits\",IF(E2757=\"\",\"BANK NAME REQUIRED\",IF(ISERROR(VLOOKUP(E2757,'Reference Data'!C:C,1,FALSE)),\"PLEASE SELECT A BANK FROM DEFINED LIST PROVIDED\",\"\")),\"\")","v":""},{"$f":"IF(K2757=0,\"No Entry\",\"\")","v":"No Entry"},{"$f":"IF(K2757<>0,IF(A2757=\"\",1,0),0)","v":0}]
[null,null,null,null,null,null,null,null,null,null,null,null,"",{"$f":"IF(D2758=\"Cash and Deposits\",IF(E2758=\"\",\"BANK NAME REQUIRED\",IF(ISERROR(VLOOKUP(E2758,'Reference Data'!C:C,1,FALSE)),\"PLEASE SELECT A BANK FROM DEFINED LIST PROVIDED\",\"\")),\"\")","v":""},"No Entry",0]
[null,null,null,null,null,null,null,null,null,null,null,null,"",{"$f":"IF(D2759=\"Cash and Deposits\",IF(E2759=\"\",\"BANK NAME REQUIRED\",IF(ISERROR(VLOOKUP(E2759,'Reference Data'!C:C,1,FALSE)),\"PLEASE SELECT A BANK FROM DEFINED LIST PROVIDED\",\"\")),\"\")","v":""},"No Entry",0]
[null,null,null,null,null,null,null,null,null,null,null,null,"",{"$f":"IF(D2760=\"Cash and Deposits\",IF(E2760=\"\",\"BANK NAME REQUIRED\",IF(ISERROR(VLOOKUP(E2760,'Reference Data'!C:C,1,FALSE)),\"PLEASE SELECT A BANK FROM DEFINED LIST PROVIDED\",\"\")),\"\")","v":""},"No Entry",0]
[null,null,null,null,null,null,null,null,null,null,null,null,"",{"$f":"IF(D2761=\"Cash and Deposits\",IF(E2761=\"\",\"BANK NAME REQUIRED\",IF(ISERROR(VLOOKUP(E2761,'Reference Data'!C:C,1,FALSE)),\"PLEASE SELECT A BANK FROM DEFINED LIST PROVIDED\",\"\")),\"\")","v":""},"No Entry",0]
[null,null,null,null,null,null,null,null,null,null,null,null,"",{"$f":"IF(D2762=\"Cash and Deposits\",IF(E2762=\"\",\"BANK NAME REQUIRED\",IF(ISERROR(VLOOKUP(E2762,'Reference Data'!C:C,1,FALSE)),\"PLEASE SELECT A BANK FROM DEFINED LIST PROVIDED\",\"\")),\"\")","v":""},"No Entry",0]
[null,null,null,null,null,null,null,null,null,null,null,null,"",{"$f":"IF(D2763=\"Cash and Deposits\",IF(E2763=\"\",\"BANK NAME REQUIRED\",IF(ISERROR(VLOOKUP(E2763,'Reference Data'!C:C,1,FALSE)),\"PLEASE SELECT A BANK FROM DEFINED LIST PROVIDED\",\"\")),\"\")","v":""},"No Entry",0]
[null,null,null,null,null,null,null,null,null,null,null,null,"",{"$f":"IF(D2764=\"Cash and Deposits\",IF(E2764=\"\",\"BANK NAME REQUIRED\",IF(ISERROR(VLOOKUP(E2764,'Reference Data'!C:C,1,FALSE)),\"PLEASE SELECT A BANK FROM DEFINED LIST PROVIDED\",\"\")),\"\")","v":""},"No Entry",0]
[null,null,null,null,null,null,null,null,null,null,null,null,"",{"$f":"IF(D2765=\"Cash and Deposits\",IF(E2765=\"\",\"BANK NAME REQUIRED\",IF(ISERROR(VLOOKUP(E2765,'Reference Data'!C:C,1,FALSE)),\"PLEASE SELECT A BANK FROM DEFINED LIST PROVIDED\",\"\")),\"\")","v":""},"No Entry",0]
[null,null,null,null,null,null,null,null,null,null,null,null,"",{"$f":"IF(D2766=\"Cash and Deposits\",IF(E2766=\"\",\"BANK NAME REQUIRED\",IF(ISERROR(VLOOKUP(E2766,'Reference Data'!C:C,1,FALSE)),\"PLEASE SELECT A BANK FROM DEFINED LIST PROVIDED\",\"\")),\"\")","v":""},"No Entry",0]
[null,null,null,null,null,null,null,null,null,null,null,null,"",{"$f":"IF(D2767=\"Cash and Deposits\",IF(E2767=\"\",\"BANK NAME REQUIRED\",IF(ISERROR(VLOOKUP(E2767,'Reference Data'!C:C,1,FALSE)),\"PLEASE SELECT A BANK FROM DEFINED LIST PROVIDED\",\"\")),\"\")","v":""},"No Entry",0]
[null,null,null,null,null,null,null,null,null,null,null,null,"",{"$f":"IF(D2768=\"Cash and Deposits\",IF(E2768=\"\",\"BANK NAME REQUIRED\",IF(ISERROR(VLOOKUP(E2768,'Reference Data'!C:C,1,FALSE)),\"PLEASE SELECT A BANK FROM DEFINED LIST PROVIDED\",\"\")),\"\")","v":""},"No Entry",0]
[null,null,null,null,null,null,null,null,null,null,null,null,"",{"$f":"IF(D2769=\"Cash and Deposits\",IF(E2769=\"\",\"BANK NAME REQUIRED\",IF(ISERROR(VLOOKUP(E2769,'Reference Data'!C:C,1,FALSE)),\"PLEASE SELECT A BANK FROM DEFINED LIST PROVIDED\",\"\")),\"\")","v":""},"No Entry",0]
[null,null,null,null,null,null,null,null,null,null,null,null,"",{"$f":"IF(D2770=\"Cash and Deposits\",IF(E2770=\"\",\"BANK NAME REQUIRED\",IF(ISERROR(VLOOKUP(E2770,'Reference Data'!C:C,1,FALSE)),\"PLEASE SELECT A BANK FROM DEFINED LIST PROVIDED\",\"\")),\"\")","v":""},"No Entry",0]
[null,null,null,null,null,null,null,null,null,null,null,null,"",{"$f":"IF(D2771=\"Cash and Deposits\",IF(E2771=\"\",\"BANK NAME REQUIRED\",IF(ISERROR(VLOOKUP(E2771,'Reference Data'!C:C,1,FALSE)),\"PLEASE SELECT A BANK FROM DEFINED LIST PROVIDED\",\"\")),\"\")","v":""},"No Entry",0]
[null,null,null,null,null,null,null,null,null,null,null,null,"",{"$f":"IF(D2772=\"Cash and Deposits\",IF(E2772=\"\",\"BANK NAME REQUIRED\",IF(ISERROR(VLOOKUP(E2772,'Reference Data'!C:C,1,FALSE)),\"PLEASE SELECT A BANK FROM DEFINED LIST PROVIDED\",\"\")),\"\")","v":""},"No Entry",0]
[null,null,null,null,null,null,null,null,null,null,null,null,"",{"$f":"IF(D2773=\"Cash and Deposits\",IF(E2773=\"\",\"BANK NAME REQUIRED\",IF(ISERROR(VLOOKUP(E2773,'Reference Data'!C:C,1,FALSE)),\"PLEASE SELECT A BANK FROM DEFINED LIST PROVIDED\",\"\")),\"\")","v":""},"No Entry",0]
[null,null,null,null,null,null,null,null,null,null,null,null,"",{"$f":"IF(D2774=\"Cash and Deposits\",IF(E2774=\"\",\"BANK NAME REQUIRED\",IF(ISERROR(VLOOKUP(E2774,'Reference Data'!C:C,1,FALSE)),\"PLEASE SELECT A BANK FROM DEFINED LIST PROVIDED\",\"\")),\"\")","v":""},"No Entry",0]
[null,null,null,null,null,null,null,null,null,null,null,null,"",{"$f":"IF(D2775=\"Cash and Deposits\",IF(E2775=\"\",\"BANK NAME REQUIRED\",IF(ISERROR(VLOOKUP(E2775,'Reference Data'!C:C,1,FALSE)),\"PLEASE SELECT A BANK FROM DEFINED LIST PROVIDED\",\"\")),\"\")","v":""},"No Entry",0]
[null,null,null,null,null,null,null,null,null,null,null,null,"",{"$f":"IF(D2776=\"Cash and Deposits\",IF(E2776=\"\",\"BANK NAME REQUIRED\",IF(ISERROR(VLOOKUP(E2776,'Reference Data'!C:C,1,FALSE)),\"PLEASE SELECT A BANK FROM DEFINED LIST PROVIDED\",\"\")),\"\")","v":""},"No Entry",0]
[null,null,null,null,null,null,null,null,null,null,null,null,"",{"$f":"IF(D2777=\"Cash and Deposits\",IF(E2777=\"\",\"BANK NAME REQUIRED\",IF(ISERROR(VLOOKUP(E2777,'Reference Data'!C:C,1,FALSE)),\"PLEASE SELECT A BANK FROM DEFINED LIST PROVIDED\",\"\")),\"\")","v":""},"No Entry",0]
[null,null,null,null,null,null,null,null,null,null,null,null,"",{"$f":"IF(D2778=\"Cash and Deposits\",IF(E2778=\"\",\"BANK NAME REQUIRED\",IF(ISERROR(VLOOKUP(E2778,'Reference Data'!C:C,1,FALSE)),\"PLEASE SELECT A BANK FROM DEFINED LIST PROVIDED\",\"\")),\"\")","v":""},"No Entry",0]
[null,null,null,null,null,null,null,null,null,null,null,null,"",{"$f":"IF(D2779=\"Cash and Deposits\",IF(E2779=\"\",\"BANK NAME REQUIRED\",IF(ISERROR(VLOOKUP(E2779,'Reference Data'!C:C,1,FALSE)),\"PLEASE SELECT A BANK FROM DEFINED LIST PROVIDED\",\"\")),\"\")","v":""},"No Entry",0]
[null,null,null,null,null,null,null,null,null,null,null,null,"",{"$f":"IF(D2780=\"Cash and Deposits\",IF(E2780=\"\",\"BANK NAME REQUIRED\",IF(ISERROR(VLOOKUP(E2780,'Reference Data'!C:C,1,FALSE)),\"PLEASE SELECT A BANK FROM DEFINED LIST PROVIDED\",\"\")),\"\")","v":""},"No Entry",0]
[null,null,null,null,null,null,null,null,null,null,null,null,"",{"$f":"IF(D2781=\"Cash and Deposits\",IF(E2781=\"\",\"BANK NAME REQUIRED\",IF(ISERROR(VLOOKUP(E2781,'Reference Data'!C:C,1,FALSE)),\"PLEASE SELECT A BANK FROM DEFINED LIST PROVIDED\",\"\")),\"\")","v":""},"No Entry",0]
[null,null,null,null,null,null,null,null,null,null,null,null,"",{"$f":"IF(D2782=\"Cash and Deposits\",IF(E2782=\"\",\"BANK NAME REQUIRED\",IF(ISERROR(VLOOKUP(E2782,'Reference Data'!C:C,1,FALSE)),\"PLEASE SELECT A BANK FROM DEFINED LIST PROVIDED\",\"\")),\"\")","v":""},"No Entry",0]
[null,null,null,null,null,null,null,null,null,null,null,null,"",{"$f":"IF(D2783=\"Cash and Deposits\",IF(E2783=\"\",\"BANK NAME REQUIRED\",IF(ISERROR(VLOOKUP(E2783,'Reference Data'!C:C,1,FALSE)),\"PLEASE SELECT A BANK FROM DEFINED LIST PROVIDED\",\"\")),\"\")","v":""},"No Entry",0]
[null,null,null,null,null,null,null,null,null,null,null,null,"",{"$f":"IF(D2784=\"Cash and Deposits\",IF(E2784=\"\",\"BANK NAME REQUIRED\",IF(ISERROR(VLOOKUP(E2784,'Reference Data'!C:C,1,FALSE)),\"PLEASE SELECT A BANK FROM DEFINED LIST PROVIDED\",\"\")),\"\")","v":""},"No Entry",0]
[null,null,null,null,null,null,null,null,null,null,null,null,"",{"$f":"IF(D2785=\"Cash and Deposits\",IF(E2785=\"\",\"BANK NAME REQUIRED\",IF(ISERROR(VLOOKUP(E2785,'Reference Data'!C:C,1,FALSE)),\"PLEASE SELECT A BANK FROM DEFINED LIST PROVIDED\",\"\")),\"\")","v":""},"No Entry",0]
[null,null,null,null,null,null,null,null,null,null,null,null,"",{"$f":"IF(D2786=\"Cash and Deposits\",IF(E2786=\"\",\"BANK NAME REQUIRED\",IF(ISERROR(VLOOKUP(E2786,'Reference Data'!C:C,1,FALSE)),\"PLEASE SELECT A BANK FROM DEFINED LIST PROVIDED\",\"\")),\"\")","v":""},"No Entry",0]
[null,null,null,null,null,null,null,null,null,null,null,null,"",{"$f":"IF(D2787=\"Cash and Deposits\",IF(E2787=\"\",\"BANK NAME REQUIRED\",IF(ISERROR(VLOOKUP(E2787,'Reference Data'!C:C,1,FALSE)),\"PLEASE SELECT A BANK FROM DEFINED LIST PROVIDED\",\"\")),\"\")","v":""},"No Entry",0]
[null,null,null,null,null,null,null,null,null,null,null,null,"",{"$f":"IF(D2788=\"Cash and Deposits\",IF(E2788=\"\",\"BANK NAME REQUIRED\",IF(ISERROR(VLOOKUP(E2788,'Reference Data'!C:C,1,FALSE)),\"PLEASE SELECT A BANK FROM DEFINED LIST PROVIDED\",\"\")),\"\")","v":""},"No Entry",0]
[null,null,null,null,null,null,null,null,null,null,null,null,"",{"$f":"IF(D2789=\"Cash and Deposits\",IF(E2789=\"\",\"BANK NAME REQUIRED\",IF(ISERROR(VLOOKUP(E2789,'Reference Data'!C:C,1,FALSE)),\"PLEASE SELECT A BANK FROM DEFINED LIST PROVIDED\",\"\")),\"\")","v":""},"No Entry",0]
[null,null,null,null,null,null,null,null,null,null,null,null,"",{"$f":"IF(D2790=\"Cash and Deposits\",IF(E2790=\"\",\"BANK NAME REQUIRED\",IF(ISERROR(VLOOKUP(E2790,'Reference Data'!C:C,1,FALSE)),\"PLEASE SELECT A BANK FROM DEFINED LIST PROVIDED\",\"\")),\"\")","v":""},"No Entry",0]
[null,null,null,null,null,null,null,null,null,null,null,null,"",{"$f":"IF(D2791=\"Cash and Deposits\",IF(E2791=\"\",\"BANK NAME REQUIRED\",IF(ISERROR(VLOOKUP(E2791,'Reference Data'!C:C,1,FALSE)),\"PLEASE SELECT A BANK FROM DEFINED LIST PROVIDED\",\"\")),\"\")","v":""},"No Entry",0]
[null,null,null,null,null,null,null,null,null,null,null,null,"",{"$f":"IF(D2792=\"Cash and Deposits\",IF(E2792=\"\",\"BANK NAME REQUIRED\",IF(ISERROR(VLOOKUP(E2792,'Reference Data'!C:C,1,FALSE)),\"PLEASE SELECT A BANK FROM DEFINED LIST PROVIDED\",\"\")),\"\")","v":""},"No Entry",0]
[null,null,null,null,null,null,null,null,null,null,null,null,"",{"$f":"IF(D2793=\"Cash and Deposits\",IF(E2793=\"\",\"BANK NAME REQUIRED\",IF(ISERROR(VLOOKUP(E2793,'Reference Data'!C:C,1,FALSE)),\"PLEASE SELECT A BANK FROM DEFINED LIST PROVIDED\",\"\")),\"\")","v":""},"No Entry",0]
[null,null,null,null,null,null,null,null,null,null,null,null,"",{"$f":"IF(D2794=\"Cash and Deposits\",IF(E2794=\"\",\"BANK NAME REQUIRED\",IF(ISERROR(VLOOKUP(E2794,'Reference Data'!C:C,1,FALSE)),\"PLEASE SELECT A BANK FROM DEFINED LIST PROVIDED\",\"\")),\"\")","v":""},"No Entry",0]
[null,null,null,null,null,null,null,null,null,null,null,null,"",{"$f":"IF(D2795=\"Cash and Deposits\",IF(E2795=\"\",\"BANK NAME REQUIRED\",IF(ISERROR(VLOOKUP(E2795,'Reference Data'!C:C,1,FALSE)),\"PLEASE SELECT A BANK FROM DEFINED LIST PROVIDED\",\"\")),\"\")","v":""},"No Entry",0]
[null,null,null,null,null,null,null,null,null,null,null,null,"",{"$f":"IF(D2796=\"Cash and Deposits\",IF(E2796=\"\",\"BANK NAME REQUIRED\",IF(ISERROR(VLOOKUP(E2796,'Reference Data'!C:C,1,FALSE)),\"PLEASE SELECT A BANK FROM DEFINED LIST PROVIDED\",\"\")),\"\")","v":""},"No Entry",0]
[null,null,null,null,null,null,null,null,null,null,null,null,"",{"$f":"IF(D2797=\"Cash and Deposits\",IF(E2797=\"\",\"BANK NAME REQUIRED\",IF(ISERROR(VLOOKUP(E2797,'Reference Data'!C:C,1,FALSE)),\"PLEASE SELECT A BANK FROM DEFINED LIST PROVIDED\",\"\")),\"\")","v":""},"No Entry",0]
[null,null,null,null,null,null,null,null,null,null,null,null,"",{"$f":"IF(D2798=\"Cash and Deposits\",IF(E2798=\"\",\"BANK NAME REQUIRED\",IF(ISERROR(VLOOKUP(E2798,'Reference Data'!C:C,1,FALSE)),\"PLEASE SELECT A BANK FROM DEFINED LIST PROVIDED\",\"\")),\"\")","v":""},"No Entry",0]
[null,null,null,null,null,null,null,null,null,null,null,null,"",{"$f":"IF(D2799=\"Cash and Deposits\",IF(E2799=\"\",\"BANK NAME REQUIRED\",IF(ISERROR(VLOOKUP(E2799,'Reference Data'!C:C,1,FALSE)),\"PLEASE SELECT A BANK FROM DEFINED LIST PROVIDED\",\"\")),\"\")","v":""},"No Entry",0]
[null,null,null,null,null,null,null,null,null,null,null,null,"",{"$f":"IF(D2800=\"Cash and Deposits\",IF(E2800=\"\",\"BANK NAME REQUIRED\",IF(ISERROR(VLOOKUP(E2800,'Reference Data'!C:C,1,FALSE)),\"PLEASE SELECT A BANK FROM DEFINED LIST PROVIDED\",\"\")),\"\")","v":""},"No Entry",0]
[null,null,null,null,null,null,null,null,null,null,null,null,"",{"$f":"IF(D2801=\"Cash and Deposits\",IF(E2801=\"\",\"BANK NAME REQUIRED\",IF(ISERROR(VLOOKUP(E2801,'Reference Data'!C:C,1,FALSE)),\"PLEASE SELECT A BANK FROM DEFINED LIST PROVIDED\",\"\")),\"\")","v":""},"No Entry",0]
[null,null,null,null,null,null,null,null,null,null,null,null,"",{"$f":"IF(D2802=\"Cash and Deposits\",IF(E2802=\"\",\"BANK NAME REQUIRED\",IF(ISERROR(VLOOKUP(E2802,'Reference Data'!C:C,1,FALSE)),\"PLEASE SELECT A BANK FROM DEFINED LIST PROVIDED\",\"\")),\"\")","v":""},"No Entry",0]
[null,null,null,null,null,null,null,null,null,null,null,null,"",{"$f":"IF(D2803=\"Cash and Deposits\",IF(E2803=\"\",\"BANK NAME REQUIRED\",IF(ISERROR(VLOOKUP(E2803,'Reference Data'!C:C,1,FALSE)),\"PLEASE SELECT A BANK FROM DEFINED LIST PROVIDED\",\"\")),\"\")","v":""},"No Entry",0]
[null,null,null,null,null,null,null,null,null,null,null,null,"",{"$f":"IF(D2804=\"Cash and Deposits\",IF(E2804=\"\",\"BANK NAME REQUIRED\",IF(ISERROR(VLOOKUP(E2804,'Reference Data'!C:C,1,FALSE)),\"PLEASE SELECT A BANK FROM DEFINED LIST PROVIDED\",\"\")),\"\")","v":""},"No Entry",0]
[null,null,null,null,null,null,null,null,null,null,null,null,"",{"$f":"IF(D2805=\"Cash and Deposits\",IF(E2805=\"\",\"BANK NAME REQUIRED\",IF(ISERROR(VLOOKUP(E2805,'Reference Data'!C:C,1,FALSE)),\"PLEASE SELECT A BANK FROM DEFINED LIST PROVIDED\",\"\")),\"\")","v":""},"No Entry",0]
[null,null,null,null,null,null,null,null,null,null,null,null,"",{"$f":"IF(D2806=\"Cash and Deposits\",IF(E2806=\"\",\"BANK NAME REQUIRED\",IF(ISERROR(VLOOKUP(E2806,'Reference Data'!C:C,1,FALSE)),\"PLEASE SELECT A BANK FROM DEFINED LIST PROVIDED\",\"\")),\"\")","v":""},"No Entry",0]
[null,null,null,null,null,null,null,null,null,null,null,null,"",{"$f":"IF(D2807=\"Cash and Deposits\",IF(E2807=\"\",\"BANK NAME REQUIRED\",IF(ISERROR(VLOOKUP(E2807,'Reference Data'!C:C,1,FALSE)),\"PLEASE SELECT A BANK FROM DEFINED LIST PROVIDED\",\"\")),\"\")","v":""},"No Entry",0]
[null,null,null,null,null,null,null,null,null,null,null,null,"",{"$f":"IF(D2808=\"Cash and Deposits\",IF(E2808=\"\",\"BANK NAME REQUIRED\",IF(ISERROR(VLOOKUP(E2808,'Reference Data'!C:C,1,FALSE)),\"PLEASE SELECT A BANK FROM DEFINED LIST PROVIDED\",\"\")),\"\")","v":""},"No Entry",0]
[null,null,null,null,null,null,null,null,null,null,null,null,"",{"$f":"IF(D2809=\"Cash and Deposits\",IF(E2809=\"\",\"BANK NAME REQUIRED\",IF(ISERROR(VLOOKUP(E2809,'Reference Data'!C:C,1,FALSE)),\"PLEASE SELECT A BANK FROM DEFINED LIST PROVIDED\",\"\")),\"\")","v":""},"No Entry",0]
[null,null,null,null,null,null,null,null,null,null,null,null,"",{"$f":"IF(D2810=\"Cash and Deposits\",IF(E2810=\"\",\"BANK NAME REQUIRED\",IF(ISERROR(VLOOKUP(E2810,'Reference Data'!C:C,1,FALSE)),\"PLEASE SELECT A BANK FROM DEFINED LIST PROVIDED\",\"\")),\"\")","v":""},"No Entry",0]
[null,null,null,null,null,null,null,null,null,null,null,null,"",{"$f":"IF(D2811=\"Cash and Deposits\",IF(E2811=\"\",\"BANK NAME REQUIRED\",IF(ISERROR(VLOOKUP(E2811,'Reference Data'!C:C,1,FALSE)),\"PLEASE SELECT A BANK FROM DEFINED LIST PROVIDED\",\"\")),\"\")","v":""},"No Entry",0]
[null,null,null,null,null,null,null,null,null,null,null,null,"",{"$f":"IF(D2812=\"Cash and Deposits\",IF(E2812=\"\",\"BANK NAME REQUIRED\",IF(ISERROR(VLOOKUP(E2812,'Reference Data'!C:C,1,FALSE)),\"PLEASE SELECT A BANK FROM DEFINED LIST PROVIDED\",\"\")),\"\")","v":""},"No Entry",0]
[null,null,null,null,null,null,null,null,null,null,null,null,"",{"$f":"IF(D2813=\"Cash and Deposits\",IF(E2813=\"\",\"BANK NAME REQUIRED\",IF(ISERROR(VLOOKUP(E2813,'Reference Data'!C:C,1,FALSE)),\"PLEASE SELECT A BANK FROM DEFINED LIST PROVIDED\",\"\")),\"\")","v":""},"No Entry",0]
[null,null,null,null,null,null,null,null,null,null,null,null,"",{"$f":"IF(D2814=\"Cash and Deposits\",IF(E2814=\"\",\"BANK NAME REQUIRED\",IF(ISERROR(VLOOKUP(E2814,'Reference Data'!C:C,1,FALSE)),\"PLEASE SELECT A BANK FROM DEFINED LIST PROVIDED\",\"\")),\"\")","v":""},"No Entry",0]
[null,null,null,null,null,null,null,null,null,null,null,null,"",{"$f":"IF(D2815=\"Cash and Deposits\",IF(E2815=\"\",\"BANK NAME REQUIRED\",IF(ISERROR(VLOOKUP(E2815,'Reference Data'!C:C,1,FALSE)),\"PLEASE SELECT A BANK FROM DEFINED LIST PROVIDED\",\"\")),\"\")","v":""},"No Entry",0]
[null,null,null,null,null,null,null,null,null,null,null,null,"",{"$f":"IF(D2816=\"Cash and Deposits\",IF(E2816=\"\",\"BANK NAME REQUIRED\",IF(ISERROR(VLOOKUP(E2816,'Reference Data'!C:C,1,FALSE)),\"PLEASE SELECT A BANK FROM DEFINED LIST PROVIDED\",\"\")),\"\")","v":""},"No Entry",0]
[null,null,null,null,null,null,null,null,null,null,null,null,"",{"$f":"IF(D2817=\"Cash and Deposits\",IF(E2817=\"\",\"BANK NAME REQUIRED\",IF(ISERROR(VLOOKUP(E2817,'Reference Data'!C:C,1,FALSE)),\"PLEASE SELECT A BANK FROM DEFINED LIST PROVIDED\",\"\")),\"\")","v":""},"No Entry",0]
[null,null,null,null,null,null,null,null,null,null,null,null,"",{"$f":"IF(D2818=\"Cash and Deposits\",IF(E2818=\"\",\"BANK NAME REQUIRED\",IF(ISERROR(VLOOKUP(E2818,'Reference Data'!C:C,1,FALSE)),\"PLEASE SELECT A BANK FROM DEFINED LIST PROVIDED\",\"\")),\"\")","v":""},"No Entry",0]
[null,null,null,null,null,null,null,null,null,null,null,null,"",{"$f":"IF(D2819=\"Cash and Deposits\",IF(E2819=\"\",\"BANK NAME REQUIRED\",IF(ISERROR(VLOOKUP(E2819,'Reference Data'!C:C,1,FALSE)),\"PLEASE SELECT A BANK FROM DEFINED LIST PROVIDED\",\"\")),\"\")","v":""},"No Entry",0]
[null,null,null,null,null,null,null,null,null,null,null,null,"",{"$f":"IF(D2820=\"Cash and Deposits\",IF(E2820=\"\",\"BANK NAME REQUIRED\",IF(ISERROR(VLOOKUP(E2820,'Reference Data'!C:C,1,FALSE)),\"PLEASE SELECT A BANK FROM DEFINED LIST PROVIDED\",\"\")),\"\")","v":""},"No Entry",0]
[null,null,null,null,null,null,null,null,null,null,null,null,{"$f":"IF(K2821<>0,IF(B2821=\"\",\"ID CODE REQUIRED\",\"\"),\"\")","v":""},{"$f":"IF(D2821=\"Cash and Deposits\",IF(E2821=\"\",\"BANK NAME REQUIRED\",IF(ISERROR(VLOOKUP(E2821,'Reference Data'!C:C,1,FALSE)),\"PLEASE SELECT A BANK FROM DEFINED LIST PROVIDED\",\"\")),\"\")","v":""},{"$f":"IF(K2821=0,\"No Entry\",\"\")","v":"No Entry"},{"$f":"IF(K2821<>0,IF(A2821=\"\",1,0),0)","v":0}]
[null,null,null,null,null,null,null,null,null,null,null,null,"",{"$f":"IF(D2822=\"Cash and Deposits\",IF(E2822=\"\",\"BANK NAME REQUIRED\",IF(ISERROR(VLOOKUP(E2822,'Reference Data'!C:C,1,FALSE)),\"PLEASE SELECT A BANK FROM DEFINED LIST PROVIDED\",\"\")),\"\")","v":""},"No Entry",0]
[null,null,null,null,null,null,null,null,null,null,null,null,"",{"$f":"IF(D2823=\"Cash and Deposits\",IF(E2823=\"\",\"BANK NAME REQUIRED\",IF(ISERROR(VLOOKUP(E2823,'Reference Data'!C:C,1,FALSE)),\"PLEASE SELECT A BANK FROM DEFINED LIST PROVIDED\",\"\")),\"\")","v":""},"No Entry",0]
[null,null,null,null,null,null,null,null,null,null,null,null,"",{"$f":"IF(D2824=\"Cash and Deposits\",IF(E2824=\"\",\"BANK NAME REQUIRED\",IF(ISERROR(VLOOKUP(E2824,'Reference Data'!C:C,1,FALSE)),\"PLEASE SELECT A BANK FROM DEFINED LIST PROVIDED\",\"\")),\"\")","v":""},"No Entry",0]
[null,null,null,null,null,null,null,null,null,null,null,null,"",{"$f":"IF(D2825=\"Cash and Deposits\",IF(E2825=\"\",\"BANK NAME REQUIRED\",IF(ISERROR(VLOOKUP(E2825,'Reference Data'!C:C,1,FALSE)),\"PLEASE SELECT A BANK FROM DEFINED LIST PROVIDED\",\"\")),\"\")","v":""},"No Entry",0]
[null,null,null,null,null,null,null,null,null,null,null,null,"",{"$f":"IF(D2826=\"Cash and Deposits\",IF(E2826=\"\",\"BANK NAME REQUIRED\",IF(ISERROR(VLOOKUP(E2826,'Reference Data'!C:C,1,FALSE)),\"PLEASE SELECT A BANK FROM DEFINED LIST PROVIDED\",\"\")),\"\")","v":""},"No Entry",0]
[null,null,null,null,null,null,null,null,null,null,null,null,"",{"$f":"IF(D2827=\"Cash and Deposits\",IF(E2827=\"\",\"BANK NAME REQUIRED\",IF(ISERROR(VLOOKUP(E2827,'Reference Data'!C:C,1,FALSE)),\"PLEASE SELECT A BANK FROM DEFINED LIST PROVIDED\",\"\")),\"\")","v":""},"No Entry",0]
[null,null,null,null,null,null,null,null,null,null,null,null,"",{"$f":"IF(D2828=\"Cash and Deposits\",IF(E2828=\"\",\"BANK NAME REQUIRED\",IF(ISERROR(VLOOKUP(E2828,'Reference Data'!C:C,1,FALSE)),\"PLEASE SELECT A BANK FROM DEFINED LIST PROVIDED\",\"\")),\"\")","v":""},"No Entry",0]
[null,null,null,null,null,null,null,null,null,null,null,null,"",{"$f":"IF(D2829=\"Cash and Deposits\",IF(E2829=\"\",\"BANK NAME REQUIRED\",IF(ISERROR(VLOOKUP(E2829,'Reference Data'!C:C,1,FALSE)),\"PLEASE SELECT A BANK FROM DEFINED LIST PROVIDED\",\"\")),\"\")","v":""},"No Entry",0]
[null,null,null,null,null,null,null,null,null,null,null,null,"",{"$f":"IF(D2830=\"Cash and Deposits\",IF(E2830=\"\",\"BANK NAME REQUIRED\",IF(ISERROR(VLOOKUP(E2830,'Reference Data'!C:C,1,FALSE)),\"PLEASE SELECT A BANK FROM DEFINED LIST PROVIDED\",\"\")),\"\")","v":""},"No Entry",0]
[null,null,null,null,null,null,null,null,null,null,null,null,"",{"$f":"IF(D2831=\"Cash and Deposits\",IF(E2831=\"\",\"BANK NAME REQUIRED\",IF(ISERROR(VLOOKUP(E2831,'Reference Data'!C:C,1,FALSE)),\"PLEASE SELECT A BANK FROM DEFINED LIST PROVIDED\",\"\")),\"\")","v":""},"No Entry",0]
[null,null,null,null,null,null,null,null,null,null,null,null,"",{"$f":"IF(D2832=\"Cash and Deposits\",IF(E2832=\"\",\"BANK NAME REQUIRED\",IF(ISERROR(VLOOKUP(E2832,'Reference Data'!C:C,1,FALSE)),\"PLEASE SELECT A BANK FROM DEFINED LIST PROVIDED\",\"\")),\"\")","v":""},"No Entry",0]
[null,null,null,null,null,null,null,null,null,null,null,null,"",{"$f":"IF(D2833=\"Cash and Deposits\",IF(E2833=\"\",\"BANK NAME REQUIRED\",IF(ISERROR(VLOOKUP(E2833,'Reference Data'!C:C,1,FALSE)),\"PLEASE SELECT A BANK FROM DEFINED LIST PROVIDED\",\"\")),\"\")","v":""},"No Entry",0]
[null,null,null,null,null,null,null,null,null,null,null,null,"",{"$f":"IF(D2834=\"Cash and Deposits\",IF(E2834=\"\",\"BANK NAME REQUIRED\",IF(ISERROR(VLOOKUP(E2834,'Reference Data'!C:C,1,FALSE)),\"PLEASE SELECT A BANK FROM DEFINED LIST PROVIDED\",\"\")),\"\")","v":""},"No Entry",0]
[null,null,null,null,null,null,null,null,null,null,null,null,"",{"$f":"IF(D2835=\"Cash and Deposits\",IF(E2835=\"\",\"BANK NAME REQUIRED\",IF(ISERROR(VLOOKUP(E2835,'Reference Data'!C:C,1,FALSE)),\"PLEASE SELECT A BANK FROM DEFINED LIST PROVIDED\",\"\")),\"\")","v":""},"No Entry",0]
[null,null,null,null,null,null,null,null,null,null,null,null,"",{"$f":"IF(D2836=\"Cash and Deposits\",IF(E2836=\"\",\"BANK NAME REQUIRED\",IF(ISERROR(VLOOKUP(E2836,'Reference Data'!C:C,1,FALSE)),\"PLEASE SELECT A BANK FROM DEFINED LIST PROVIDED\",\"\")),\"\")","v":""},"No Entry",0]
[null,null,null,null,null,null,null,null,null,null,null,null,"",{"$f":"IF(D2837=\"Cash and Deposits\",IF(E2837=\"\",\"BANK NAME REQUIRED\",IF(ISERROR(VLOOKUP(E2837,'Reference Data'!C:C,1,FALSE)),\"PLEASE SELECT A BANK FROM DEFINED LIST PROVIDED\",\"\")),\"\")","v":""},"No Entry",0]
[null,null,null,null,null,null,null,null,null,null,null,null,"",{"$f":"IF(D2838=\"Cash and Deposits\",IF(E2838=\"\",\"BANK NAME REQUIRED\",IF(ISERROR(VLOOKUP(E2838,'Reference Data'!C:C,1,FALSE)),\"PLEASE SELECT A BANK FROM DEFINED LIST PROVIDED\",\"\")),\"\")","v":""},"No Entry",0]
[null,null,null,null,null,null,null,null,null,null,null,null,"",{"$f":"IF(D2839=\"Cash and Deposits\",IF(E2839=\"\",\"BANK NAME REQUIRED\",IF(ISERROR(VLOOKUP(E2839,'Reference Data'!C:C,1,FALSE)),\"PLEASE SELECT A BANK FROM DEFINED LIST PROVIDED\",\"\")),\"\")","v":""},"No Entry",0]
[null,null,null,null,null,null,null,null,null,null,null,null,"",{"$f":"IF(D2840=\"Cash and Deposits\",IF(E2840=\"\",\"BANK NAME REQUIRED\",IF(ISERROR(VLOOKUP(E2840,'Reference Data'!C:C,1,FALSE)),\"PLEASE SELECT A BANK FROM DEFINED LIST PROVIDED\",\"\")),\"\")","v":""},"No Entry",0]
[null,null,null,null,null,null,null,null,null,null,null,null,"",{"$f":"IF(D2841=\"Cash and Deposits\",IF(E2841=\"\",\"BANK NAME REQUIRED\",IF(ISERROR(VLOOKUP(E2841,'Reference Data'!C:C,1,FALSE)),\"PLEASE SELECT A BANK FROM DEFINED LIST PROVIDED\",\"\")),\"\")","v":""},"No Entry",0]
[null,null,null,null,null,null,null,null,null,null,null,null,"",{"$f":"IF(D2842=\"Cash and Deposits\",IF(E2842=\"\",\"BANK NAME REQUIRED\",IF(ISERROR(VLOOKUP(E2842,'Reference Data'!C:C,1,FALSE)),\"PLEASE SELECT A BANK FROM DEFINED LIST PROVIDED\",\"\")),\"\")","v":""},"No Entry",0]
[null,null,null,null,null,null,null,null,null,null,null,null,"",{"$f":"IF(D2843=\"Cash and Deposits\",IF(E2843=\"\",\"BANK NAME REQUIRED\",IF(ISERROR(VLOOKUP(E2843,'Reference Data'!C:C,1,FALSE)),\"PLEASE SELECT A BANK FROM DEFINED LIST PROVIDED\",\"\")),\"\")","v":""},"No Entry",0]
[null,null,null,null,null,null,null,null,null,null,null,null,"",{"$f":"IF(D2844=\"Cash and Deposits\",IF(E2844=\"\",\"BANK NAME REQUIRED\",IF(ISERROR(VLOOKUP(E2844,'Reference Data'!C:C,1,FALSE)),\"PLEASE SELECT A BANK FROM DEFINED LIST PROVIDED\",\"\")),\"\")","v":""},"No Entry",0]
[null,null,null,null,null,null,null,null,null,null,null,null,"",{"$f":"IF(D2845=\"Cash and Deposits\",IF(E2845=\"\",\"BANK NAME REQUIRED\",IF(ISERROR(VLOOKUP(E2845,'Reference Data'!C:C,1,FALSE)),\"PLEASE SELECT A BANK FROM DEFINED LIST PROVIDED\",\"\")),\"\")","v":""},"No Entry",0]
[null,null,null,null,null,null,null,null,null,null,null,null,"",{"$f":"IF(D2846=\"Cash and Deposits\",IF(E2846=\"\",\"BANK NAME REQUIRED\",IF(ISERROR(VLOOKUP(E2846,'Reference Data'!C:C,1,FALSE)),\"PLEASE SELECT A BANK FROM DEFINED LIST PROVIDED\",\"\")),\"\")","v":""},"No Entry",0]
[null,null,null,null,null,null,null,null,null,null,null,null,"",{"$f":"IF(D2847=\"Cash and Deposits\",IF(E2847=\"\",\"BANK NAME REQUIRED\",IF(ISERROR(VLOOKUP(E2847,'Reference Data'!C:C,1,FALSE)),\"PLEASE SELECT A BANK FROM DEFINED LIST PROVIDED\",\"\")),\"\")","v":""},"No Entry",0]
[null,null,null,null,null,null,null,null,null,null,null,null,"",{"$f":"IF(D2848=\"Cash and Deposits\",IF(E2848=\"\",\"BANK NAME REQUIRED\",IF(ISERROR(VLOOKUP(E2848,'Reference Data'!C:C,1,FALSE)),\"PLEASE SELECT A BANK FROM DEFINED LIST PROVIDED\",\"\")),\"\")","v":""},"No Entry",0]
[null,null,null,null,null,null,null,null,null,null,null,null,"",{"$f":"IF(D2849=\"Cash and Deposits\",IF(E2849=\"\",\"BANK NAME REQUIRED\",IF(ISERROR(VLOOKUP(E2849,'Reference Data'!C:C,1,FALSE)),\"PLEASE SELECT A BANK FROM DEFINED LIST PROVIDED\",\"\")),\"\")","v":""},"No Entry",0]
[null,null,null,null,null,null,null,null,null,null,null,null,"",{"$f":"IF(D2850=\"Cash and Deposits\",IF(E2850=\"\",\"BANK NAME REQUIRED\",IF(ISERROR(VLOOKUP(E2850,'Reference Data'!C:C,1,FALSE)),\"PLEASE SELECT A BANK FROM DEFINED LIST PROVIDED\",\"\")),\"\")","v":""},"No Entry",0]
[null,null,null,null,null,null,null,null,null,null,null,null,"",{"$f":"IF(D2851=\"Cash and Deposits\",IF(E2851=\"\",\"BANK NAME REQUIRED\",IF(ISERROR(VLOOKUP(E2851,'Reference Data'!C:C,1,FALSE)),\"PLEASE SELECT A BANK FROM DEFINED LIST PROVIDED\",\"\")),\"\")","v":""},"No Entry",0]
[null,null,null,null,null,null,null,null,null,null,null,null,"",{"$f":"IF(D2852=\"Cash and Deposits\",IF(E2852=\"\",\"BANK NAME REQUIRED\",IF(ISERROR(VLOOKUP(E2852,'Reference Data'!C:C,1,FALSE)),\"PLEASE SELECT A BANK FROM DEFINED LIST PROVIDED\",\"\")),\"\")","v":""},"No Entry",0]
[null,null,null,null,null,null,null,null,null,null,null,null,"",{"$f":"IF(D2853=\"Cash and Deposits\",IF(E2853=\"\",\"BANK NAME REQUIRED\",IF(ISERROR(VLOOKUP(E2853,'Reference Data'!C:C,1,FALSE)),\"PLEASE SELECT A BANK FROM DEFINED LIST PROVIDED\",\"\")),\"\")","v":""},"No Entry",0]
[null,null,null,null,null,null,null,null,null,null,null,null,"",{"$f":"IF(D2854=\"Cash and Deposits\",IF(E2854=\"\",\"BANK NAME REQUIRED\",IF(ISERROR(VLOOKUP(E2854,'Reference Data'!C:C,1,FALSE)),\"PLEASE SELECT A BANK FROM DEFINED LIST PROVIDED\",\"\")),\"\")","v":""},"No Entry",0]
[null,null,null,null,null,null,null,null,null,null,null,null,"",{"$f":"IF(D2855=\"Cash and Deposits\",IF(E2855=\"\",\"BANK NAME REQUIRED\",IF(ISERROR(VLOOKUP(E2855,'Reference Data'!C:C,1,FALSE)),\"PLEASE SELECT A BANK FROM DEFINED LIST PROVIDED\",\"\")),\"\")","v":""},"No Entry",0]
[null,null,null,null,null,null,null,null,null,null,null,null,"",{"$f":"IF(D2856=\"Cash and Deposits\",IF(E2856=\"\",\"BANK NAME REQUIRED\",IF(ISERROR(VLOOKUP(E2856,'Reference Data'!C:C,1,FALSE)),\"PLEASE SELECT A BANK FROM DEFINED LIST PROVIDED\",\"\")),\"\")","v":""},"No Entry",0]
[null,null,null,null,null,null,null,null,null,null,null,null,"",{"$f":"IF(D2857=\"Cash and Deposits\",IF(E2857=\"\",\"BANK NAME REQUIRED\",IF(ISERROR(VLOOKUP(E2857,'Reference Data'!C:C,1,FALSE)),\"PLEASE SELECT A BANK FROM DEFINED LIST PROVIDED\",\"\")),\"\")","v":""},"No Entry",0]
[null,null,null,null,null,null,null,null,null,null,null,null,"",{"$f":"IF(D2858=\"Cash and Deposits\",IF(E2858=\"\",\"BANK NAME REQUIRED\",IF(ISERROR(VLOOKUP(E2858,'Reference Data'!C:C,1,FALSE)),\"PLEASE SELECT A BANK FROM DEFINED LIST PROVIDED\",\"\")),\"\")","v":""},"No Entry",0]
[null,null,null,null,null,null,null,null,null,null,null,null,"",{"$f":"IF(D2859=\"Cash and Deposits\",IF(E2859=\"\",\"BANK NAME REQUIRED\",IF(ISERROR(VLOOKUP(E2859,'Reference Data'!C:C,1,FALSE)),\"PLEASE SELECT A BANK FROM DEFINED LIST PROVIDED\",\"\")),\"\")","v":""},"No Entry",0]
[null,null,null,null,null,null,null,null,null,null,null,null,"",{"$f":"IF(D2860=\"Cash and Deposits\",IF(E2860=\"\",\"BANK NAME REQUIRED\",IF(ISERROR(VLOOKUP(E2860,'Reference Data'!C:C,1,FALSE)),\"PLEASE SELECT A BANK FROM DEFINED LIST PROVIDED\",\"\")),\"\")","v":""},"No Entry",0]
[null,null,null,null,null,null,null,null,null,null,null,null,"",{"$f":"IF(D2861=\"Cash and Deposits\",IF(E2861=\"\",\"BANK NAME REQUIRED\",IF(ISERROR(VLOOKUP(E2861,'Reference Data'!C:C,1,FALSE)),\"PLEASE SELECT A BANK FROM DEFINED LIST PROVIDED\",\"\")),\"\")","v":""},"No Entry",0]
[null,null,null,null,null,null,null,null,null,null,null,null,"",{"$f":"IF(D2862=\"Cash and Deposits\",IF(E2862=\"\",\"BANK NAME REQUIRED\",IF(ISERROR(VLOOKUP(E2862,'Reference Data'!C:C,1,FALSE)),\"PLEASE SELECT A BANK FROM DEFINED LIST PROVIDED\",\"\")),\"\")","v":""},"No Entry",0]
[null,null,null,null,null,null,null,null,null,null,null,null,"",{"$f":"IF(D2863=\"Cash and Deposits\",IF(E2863=\"\",\"BANK NAME REQUIRED\",IF(ISERROR(VLOOKUP(E2863,'Reference Data'!C:C,1,FALSE)),\"PLEASE SELECT A BANK FROM DEFINED LIST PROVIDED\",\"\")),\"\")","v":""},"No Entry",0]
[null,null,null,null,null,null,null,null,null,null,null,null,"",{"$f":"IF(D2864=\"Cash and Deposits\",IF(E2864=\"\",\"BANK NAME REQUIRED\",IF(ISERROR(VLOOKUP(E2864,'Reference Data'!C:C,1,FALSE)),\"PLEASE SELECT A BANK FROM DEFINED LIST PROVIDED\",\"\")),\"\")","v":""},"No Entry",0]
[null,null,null,null,null,null,null,null,null,null,null,null,"",{"$f":"IF(D2865=\"Cash and Deposits\",IF(E2865=\"\",\"BANK NAME REQUIRED\",IF(ISERROR(VLOOKUP(E2865,'Reference Data'!C:C,1,FALSE)),\"PLEASE SELECT A BANK FROM DEFINED LIST PROVIDED\",\"\")),\"\")","v":""},"No Entry",0]
[null,null,null,null,null,null,null,null,null,null,null,null,"",{"$f":"IF(D2866=\"Cash and Deposits\",IF(E2866=\"\",\"BANK NAME REQUIRED\",IF(ISERROR(VLOOKUP(E2866,'Reference Data'!C:C,1,FALSE)),\"PLEASE SELECT A BANK FROM DEFINED LIST PROVIDED\",\"\")),\"\")","v":""},"No Entry",0]
[null,null,null,null,null,null,null,null,null,null,null,null,"",{"$f":"IF(D2867=\"Cash and Deposits\",IF(E2867=\"\",\"BANK NAME REQUIRED\",IF(ISERROR(VLOOKUP(E2867,'Reference Data'!C:C,1,FALSE)),\"PLEASE SELECT A BANK FROM DEFINED LIST PROVIDED\",\"\")),\"\")","v":""},"No Entry",0]
[null,null,null,null,null,null,null,null,null,null,null,null,"",{"$f":"IF(D2868=\"Cash and Deposits\",IF(E2868=\"\",\"BANK NAME REQUIRED\",IF(ISERROR(VLOOKUP(E2868,'Reference Data'!C:C,1,FALSE)),\"PLEASE SELECT A BANK FROM DEFINED LIST PROVIDED\",\"\")),\"\")","v":""},"No Entry",0]
[null,null,null,null,null,null,null,null,null,null,null,null,"",{"$f":"IF(D2869=\"Cash and Deposits\",IF(E2869=\"\",\"BANK NAME REQUIRED\",IF(ISERROR(VLOOKUP(E2869,'Reference Data'!C:C,1,FALSE)),\"PLEASE SELECT A BANK FROM DEFINED LIST PROVIDED\",\"\")),\"\")","v":""},"No Entry",0]
[null,null,null,null,null,null,null,null,null,null,null,null,"",{"$f":"IF(D2870=\"Cash and Deposits\",IF(E2870=\"\",\"BANK NAME REQUIRED\",IF(ISERROR(VLOOKUP(E2870,'Reference Data'!C:C,1,FALSE)),\"PLEASE SELECT A BANK FROM DEFINED LIST PROVIDED\",\"\")),\"\")","v":""},"No Entry",0]
[null,null,null,null,null,null,null,null,null,null,null,null,"",{"$f":"IF(D2871=\"Cash and Deposits\",IF(E2871=\"\",\"BANK NAME REQUIRED\",IF(ISERROR(VLOOKUP(E2871,'Reference Data'!C:C,1,FALSE)),\"PLEASE SELECT A BANK FROM DEFINED LIST PROVIDED\",\"\")),\"\")","v":""},"No Entry",0]
[null,null,null,null,null,null,null,null,null,null,null,null,"",{"$f":"IF(D2872=\"Cash and Deposits\",IF(E2872=\"\",\"BANK NAME REQUIRED\",IF(ISERROR(VLOOKUP(E2872,'Reference Data'!C:C,1,FALSE)),\"PLEASE SELECT A BANK FROM DEFINED LIST PROVIDED\",\"\")),\"\")","v":""},"No Entry",0]
[null,null,null,null,null,null,null,null,null,null,null,null,"",{"$f":"IF(D2873=\"Cash and Deposits\",IF(E2873=\"\",\"BANK NAME REQUIRED\",IF(ISERROR(VLOOKUP(E2873,'Reference Data'!C:C,1,FALSE)),\"PLEASE SELECT A BANK FROM DEFINED LIST PROVIDED\",\"\")),\"\")","v":""},"No Entry",0]
[null,null,null,null,null,null,null,null,null,null,null,null,"",{"$f":"IF(D2874=\"Cash and Deposits\",IF(E2874=\"\",\"BANK NAME REQUIRED\",IF(ISERROR(VLOOKUP(E2874,'Reference Data'!C:C,1,FALSE)),\"PLEASE SELECT A BANK FROM DEFINED LIST PROVIDED\",\"\")),\"\")","v":""},"No Entry",0]
[null,null,null,null,null,null,null,null,null,null,null,null,"",{"$f":"IF(D2875=\"Cash and Deposits\",IF(E2875=\"\",\"BANK NAME REQUIRED\",IF(ISERROR(VLOOKUP(E2875,'Reference Data'!C:C,1,FALSE)),\"PLEASE SELECT A BANK FROM DEFINED LIST PROVIDED\",\"\")),\"\")","v":""},"No Entry",0]
[null,null,null,null,null,null,null,null,null,null,null,null,"",{"$f":"IF(D2876=\"Cash and Deposits\",IF(E2876=\"\",\"BANK NAME REQUIRED\",IF(ISERROR(VLOOKUP(E2876,'Reference Data'!C:C,1,FALSE)),\"PLEASE SELECT A BANK FROM DEFINED LIST PROVIDED\",\"\")),\"\")","v":""},"No Entry",0]
[null,null,null,null,null,null,null,null,null,null,null,null,"",{"$f":"IF(D2877=\"Cash and Deposits\",IF(E2877=\"\",\"BANK NAME REQUIRED\",IF(ISERROR(VLOOKUP(E2877,'Reference Data'!C:C,1,FALSE)),\"PLEASE SELECT A BANK FROM DEFINED LIST PROVIDED\",\"\")),\"\")","v":""},"No Entry",0]
[null,null,null,null,null,null,null,null,null,null,null,null,"",{"$f":"IF(D2878=\"Cash and Deposits\",IF(E2878=\"\",\"BANK NAME REQUIRED\",IF(ISERROR(VLOOKUP(E2878,'Reference Data'!C:C,1,FALSE)),\"PLEASE SELECT A BANK FROM DEFINED LIST PROVIDED\",\"\")),\"\")","v":""},"No Entry",0]
[null,null,null,null,null,null,null,null,null,null,null,null,"",{"$f":"IF(D2879=\"Cash and Deposits\",IF(E2879=\"\",\"BANK NAME REQUIRED\",IF(ISERROR(VLOOKUP(E2879,'Reference Data'!C:C,1,FALSE)),\"PLEASE SELECT A BANK FROM DEFINED LIST PROVIDED\",\"\")),\"\")","v":""},"No Entry",0]
[null,null,null,null,null,null,null,null,null,null,null,null,"",{"$f":"IF(D2880=\"Cash and Deposits\",IF(E2880=\"\",\"BANK NAME REQUIRED\",IF(ISERROR(VLOOKUP(E2880,'Reference Data'!C:C,1,FALSE)),\"PLEASE SELECT A BANK FROM DEFINED LIST PROVIDED\",\"\")),\"\")","v":""},"No Entry",0]
[null,null,null,null,null,null,null,null,null,null,null,null,"",{"$f":"IF(D2881=\"Cash and Deposits\",IF(E2881=\"\",\"BANK NAME REQUIRED\",IF(ISERROR(VLOOKUP(E2881,'Reference Data'!C:C,1,FALSE)),\"PLEASE SELECT A BANK FROM DEFINED LIST PROVIDED\",\"\")),\"\")","v":""},"No Entry",0]
[null,null,null,null,null,null,null,null,null,null,null,null,"",{"$f":"IF(D2882=\"Cash and Deposits\",IF(E2882=\"\",\"BANK NAME REQUIRED\",IF(ISERROR(VLOOKUP(E2882,'Reference Data'!C:C,1,FALSE)),\"PLEASE SELECT A BANK FROM DEFINED LIST PROVIDED\",\"\")),\"\")","v":""},"No Entry",0]
[null,null,null,null,null,null,null,null,null,null,null,null,"",{"$f":"IF(D2883=\"Cash and Deposits\",IF(E2883=\"\",\"BANK NAME REQUIRED\",IF(ISERROR(VLOOKUP(E2883,'Reference Data'!C:C,1,FALSE)),\"PLEASE SELECT A BANK FROM DEFINED LIST PROVIDED\",\"\")),\"\")","v":""},"No Entry",0]
[null,null,null,null,null,null,null,null,null,null,null,null,"",{"$f":"IF(D2884=\"Cash and Deposits\",IF(E2884=\"\",\"BANK NAME REQUIRED\",IF(ISERROR(VLOOKUP(E2884,'Reference Data'!C:C,1,FALSE)),\"PLEASE SELECT A BANK FROM DEFINED LIST PROVIDED\",\"\")),\"\")","v":""},"No Entry",0]
[null,null,null,null,null,null,null,null,null,null,null,null,{"$f":"IF(K2885<>0,IF(B2885=\"\",\"ID CODE REQUIRED\",\"\"),\"\")","v":""},{"$f":"IF(D2885=\"Cash and Deposits\",IF(E2885=\"\",\"BANK NAME REQUIRED\",IF(ISERROR(VLOOKUP(E2885,'Reference Data'!C:C,1,FALSE)),\"PLEASE SELECT A BANK FROM DEFINED LIST PROVIDED\",\"\")),\"\")","v":""},{"$f":"IF(K2885=0,\"No Entry\",\"\")","v":"No Entry"},{"$f":"IF(K2885<>0,IF(A2885=\"\",1,0),0)","v":0}]
[null,null,null,null,null,null,null,null,null,null,null,null,"",{"$f":"IF(D2886=\"Cash and Deposits\",IF(E2886=\"\",\"BANK NAME REQUIRED\",IF(ISERROR(VLOOKUP(E2886,'Reference Data'!C:C,1,FALSE)),\"PLEASE SELECT A BANK FROM DEFINED LIST PROVIDED\",\"\")),\"\")","v":""},"No Entry",0]
[null,null,null,null,null,null,null,null,null,null,null,null,"",{"$f":"IF(D2887=\"Cash and Deposits\",IF(E2887=\"\",\"BANK NAME REQUIRED\",IF(ISERROR(VLOOKUP(E2887,'Reference Data'!C:C,1,FALSE)),\"PLEASE SELECT A BANK FROM DEFINED LIST PROVIDED\",\"\")),\"\")","v":""},"No Entry",0]
[null,null,null,null,null,null,null,null,null,null,null,null,"",{"$f":"IF(D2888=\"Cash and Deposits\",IF(E2888=\"\",\"BANK NAME REQUIRED\",IF(ISERROR(VLOOKUP(E2888,'Reference Data'!C:C,1,FALSE)),\"PLEASE SELECT A BANK FROM DEFINED LIST PROVIDED\",\"\")),\"\")","v":""},"No Entry",0]
[null,null,null,null,null,null,null,null,null,null,null,null,"",{"$f":"IF(D2889=\"Cash and Deposits\",IF(E2889=\"\",\"BANK NAME REQUIRED\",IF(ISERROR(VLOOKUP(E2889,'Reference Data'!C:C,1,FALSE)),\"PLEASE SELECT A BANK FROM DEFINED LIST PROVIDED\",\"\")),\"\")","v":""},"No Entry",0]
[null,null,null,null,null,null,null,null,null,null,null,null,"",{"$f":"IF(D2890=\"Cash and Deposits\",IF(E2890=\"\",\"BANK NAME REQUIRED\",IF(ISERROR(VLOOKUP(E2890,'Reference Data'!C:C,1,FALSE)),\"PLEASE SELECT A BANK FROM DEFINED LIST PROVIDED\",\"\")),\"\")","v":""},"No Entry",0]
[null,null,null,null,null,null,null,null,null,null,null,null,"",{"$f":"IF(D2891=\"Cash and Deposits\",IF(E2891=\"\",\"BANK NAME REQUIRED\",IF(ISERROR(VLOOKUP(E2891,'Reference Data'!C:C,1,FALSE)),\"PLEASE SELECT A BANK FROM DEFINED LIST PROVIDED\",\"\")),\"\")","v":""},"No Entry",0]
[null,null,null,null,null,null,null,null,null,null,null,null,"",{"$f":"IF(D2892=\"Cash and Deposits\",IF(E2892=\"\",\"BANK NAME REQUIRED\",IF(ISERROR(VLOOKUP(E2892,'Reference Data'!C:C,1,FALSE)),\"PLEASE SELECT A BANK FROM DEFINED LIST PROVIDED\",\"\")),\"\")","v":""},"No Entry",0]
[null,null,null,null,null,null,null,null,null,null,null,null,"",{"$f":"IF(D2893=\"Cash and Deposits\",IF(E2893=\"\",\"BANK NAME REQUIRED\",IF(ISERROR(VLOOKUP(E2893,'Reference Data'!C:C,1,FALSE)),\"PLEASE SELECT A BANK FROM DEFINED LIST PROVIDED\",\"\")),\"\")","v":""},"No Entry",0]
[null,null,null,null,null,null,null,null,null,null,null,null,"",{"$f":"IF(D2894=\"Cash and Deposits\",IF(E2894=\"\",\"BANK NAME REQUIRED\",IF(ISERROR(VLOOKUP(E2894,'Reference Data'!C:C,1,FALSE)),\"PLEASE SELECT A BANK FROM DEFINED LIST PROVIDED\",\"\")),\"\")","v":""},"No Entry",0]
[null,null,null,null,null,null,null,null,null,null,null,null,"",{"$f":"IF(D2895=\"Cash and Deposits\",IF(E2895=\"\",\"BANK NAME REQUIRED\",IF(ISERROR(VLOOKUP(E2895,'Reference Data'!C:C,1,FALSE)),\"PLEASE SELECT A BANK FROM DEFINED LIST PROVIDED\",\"\")),\"\")","v":""},"No Entry",0]
[null,null,null,null,null,null,null,null,null,null,null,null,"",{"$f":"IF(D2896=\"Cash and Deposits\",IF(E2896=\"\",\"BANK NAME REQUIRED\",IF(ISERROR(VLOOKUP(E2896,'Reference Data'!C:C,1,FALSE)),\"PLEASE SELECT A BANK FROM DEFINED LIST PROVIDED\",\"\")),\"\")","v":""},"No Entry",0]
[null,null,null,null,null,null,null,null,null,null,null,null,"",{"$f":"IF(D2897=\"Cash and Deposits\",IF(E2897=\"\",\"BANK NAME REQUIRED\",IF(ISERROR(VLOOKUP(E2897,'Reference Data'!C:C,1,FALSE)),\"PLEASE SELECT A BANK FROM DEFINED LIST PROVIDED\",\"\")),\"\")","v":""},"No Entry",0]
[null,null,null,null,null,null,null,null,null,null,null,null,"",{"$f":"IF(D2898=\"Cash and Deposits\",IF(E2898=\"\",\"BANK NAME REQUIRED\",IF(ISERROR(VLOOKUP(E2898,'Reference Data'!C:C,1,FALSE)),\"PLEASE SELECT A BANK FROM DEFINED LIST PROVIDED\",\"\")),\"\")","v":""},"No Entry",0]
[null,null,null,null,null,null,null,null,null,null,null,null,"",{"$f":"IF(D2899=\"Cash and Deposits\",IF(E2899=\"\",\"BANK NAME REQUIRED\",IF(ISERROR(VLOOKUP(E2899,'Reference Data'!C:C,1,FALSE)),\"PLEASE SELECT A BANK FROM DEFINED LIST PROVIDED\",\"\")),\"\")","v":""},"No Entry",0]
[null,null,null,null,null,null,null,null,null,null,null,null,"",{"$f":"IF(D2900=\"Cash and Deposits\",IF(E2900=\"\",\"BANK NAME REQUIRED\",IF(ISERROR(VLOOKUP(E2900,'Reference Data'!C:C,1,FALSE)),\"PLEASE SELECT A BANK FROM DEFINED LIST PROVIDED\",\"\")),\"\")","v":""},"No Entry",0]
[null,null,null,null,null,null,null,null,null,null,null,null,"",{"$f":"IF(D2901=\"Cash and Deposits\",IF(E2901=\"\",\"BANK NAME REQUIRED\",IF(ISERROR(VLOOKUP(E2901,'Reference Data'!C:C,1,FALSE)),\"PLEASE SELECT A BANK FROM DEFINED LIST PROVIDED\",\"\")),\"\")","v":""},"No Entry",0]
[null,null,null,null,null,null,null,null,null,null,null,null,"",{"$f":"IF(D2902=\"Cash and Deposits\",IF(E2902=\"\",\"BANK NAME REQUIRED\",IF(ISERROR(VLOOKUP(E2902,'Reference Data'!C:C,1,FALSE)),\"PLEASE SELECT A BANK FROM DEFINED LIST PROVIDED\",\"\")),\"\")","v":""},"No Entry",0]
[null,null,null,null,null,null,null,null,null,null,null,null,"",{"$f":"IF(D2903=\"Cash and Deposits\",IF(E2903=\"\",\"BANK NAME REQUIRED\",IF(ISERROR(VLOOKUP(E2903,'Reference Data'!C:C,1,FALSE)),\"PLEASE SELECT A BANK FROM DEFINED LIST PROVIDED\",\"\")),\"\")","v":""},"No Entry",0]
[null,null,null,null,null,null,null,null,null,null,null,null,"",{"$f":"IF(D2904=\"Cash and Deposits\",IF(E2904=\"\",\"BANK NAME REQUIRED\",IF(ISERROR(VLOOKUP(E2904,'Reference Data'!C:C,1,FALSE)),\"PLEASE SELECT A BANK FROM DEFINED LIST PROVIDED\",\"\")),\"\")","v":""},"No Entry",0]
[null,null,null,null,null,null,null,null,null,null,null,null,"",{"$f":"IF(D2905=\"Cash and Deposits\",IF(E2905=\"\",\"BANK NAME REQUIRED\",IF(ISERROR(VLOOKUP(E2905,'Reference Data'!C:C,1,FALSE)),\"PLEASE SELECT A BANK FROM DEFINED LIST PROVIDED\",\"\")),\"\")","v":""},"No Entry",0]
[null,null,null,null,null,null,null,null,null,null,null,null,"",{"$f":"IF(D2906=\"Cash and Deposits\",IF(E2906=\"\",\"BANK NAME REQUIRED\",IF(ISERROR(VLOOKUP(E2906,'Reference Data'!C:C,1,FALSE)),\"PLEASE SELECT A BANK FROM DEFINED LIST PROVIDED\",\"\")),\"\")","v":""},"No Entry",0]
[null,null,null,null,null,null,null,null,null,null,null,null,"",{"$f":"IF(D2907=\"Cash and Deposits\",IF(E2907=\"\",\"BANK NAME REQUIRED\",IF(ISERROR(VLOOKUP(E2907,'Reference Data'!C:C,1,FALSE)),\"PLEASE SELECT A BANK FROM DEFINED LIST PROVIDED\",\"\")),\"\")","v":""},"No Entry",0]
[null,null,null,null,null,null,null,null,null,null,null,null,"",{"$f":"IF(D2908=\"Cash and Deposits\",IF(E2908=\"\",\"BANK NAME REQUIRED\",IF(ISERROR(VLOOKUP(E2908,'Reference Data'!C:C,1,FALSE)),\"PLEASE SELECT A BANK FROM DEFINED LIST PROVIDED\",\"\")),\"\")","v":""},"No Entry",0]
[null,null,null,null,null,null,null,null,null,null,null,null,"",{"$f":"IF(D2909=\"Cash and Deposits\",IF(E2909=\"\",\"BANK NAME REQUIRED\",IF(ISERROR(VLOOKUP(E2909,'Reference Data'!C:C,1,FALSE)),\"PLEASE SELECT A BANK FROM DEFINED LIST PROVIDED\",\"\")),\"\")","v":""},"No Entry",0]
[null,null,null,null,null,null,null,null,null,null,null,null,"",{"$f":"IF(D2910=\"Cash and Deposits\",IF(E2910=\"\",\"BANK NAME REQUIRED\",IF(ISERROR(VLOOKUP(E2910,'Reference Data'!C:C,1,FALSE)),\"PLEASE SELECT A BANK FROM DEFINED LIST PROVIDED\",\"\")),\"\")","v":""},"No Entry",0]
[null,null,null,null,null,null,null,null,null,null,null,null,"",{"$f":"IF(D2911=\"Cash and Deposits\",IF(E2911=\"\",\"BANK NAME REQUIRED\",IF(ISERROR(VLOOKUP(E2911,'Reference Data'!C:C,1,FALSE)),\"PLEASE SELECT A BANK FROM DEFINED LIST PROVIDED\",\"\")),\"\")","v":""},"No Entry",0]
[null,null,null,null,null,null,null,null,null,null,null,null,"",{"$f":"IF(D2912=\"Cash and Deposits\",IF(E2912=\"\",\"BANK NAME REQUIRED\",IF(ISERROR(VLOOKUP(E2912,'Reference Data'!C:C,1,FALSE)),\"PLEASE SELECT A BANK FROM DEFINED LIST PROVIDED\",\"\")),\"\")","v":""},"No Entry",0]
[null,null,null,null,null,null,null,null,null,null,null,null,"",{"$f":"IF(D2913=\"Cash and Deposits\",IF(E2913=\"\",\"BANK NAME REQUIRED\",IF(ISERROR(VLOOKUP(E2913,'Reference Data'!C:C,1,FALSE)),\"PLEASE SELECT A BANK FROM DEFINED LIST PROVIDED\",\"\")),\"\")","v":""},"No Entry",0]
[null,null,null,null,null,null,null,null,null,null,null,null,"",{"$f":"IF(D2914=\"Cash and Deposits\",IF(E2914=\"\",\"BANK NAME REQUIRED\",IF(ISERROR(VLOOKUP(E2914,'Reference Data'!C:C,1,FALSE)),\"PLEASE SELECT A BANK FROM DEFINED LIST PROVIDED\",\"\")),\"\")","v":""},"No Entry",0]
[null,null,null,null,null,null,null,null,null,null,null,null,"",{"$f":"IF(D2915=\"Cash and Deposits\",IF(E2915=\"\",\"BANK NAME REQUIRED\",IF(ISERROR(VLOOKUP(E2915,'Reference Data'!C:C,1,FALSE)),\"PLEASE SELECT A BANK FROM DEFINED LIST PROVIDED\",\"\")),\"\")","v":""},"No Entry",0]
[null,null,null,null,null,null,null,null,null,null,null,null,"",{"$f":"IF(D2916=\"Cash and Deposits\",IF(E2916=\"\",\"BANK NAME REQUIRED\",IF(ISERROR(VLOOKUP(E2916,'Reference Data'!C:C,1,FALSE)),\"PLEASE SELECT A BANK FROM DEFINED LIST PROVIDED\",\"\")),\"\")","v":""},"No Entry",0]
[null,null,null,null,null,null,null,null,null,null,null,null,"",{"$f":"IF(D2917=\"Cash and Deposits\",IF(E2917=\"\",\"BANK NAME REQUIRED\",IF(ISERROR(VLOOKUP(E2917,'Reference Data'!C:C,1,FALSE)),\"PLEASE SELECT A BANK FROM DEFINED LIST PROVIDED\",\"\")),\"\")","v":""},"No Entry",0]
[null,null,null,null,null,null,null,null,null,null,null,null,"",{"$f":"IF(D2918=\"Cash and Deposits\",IF(E2918=\"\",\"BANK NAME REQUIRED\",IF(ISERROR(VLOOKUP(E2918,'Reference Data'!C:C,1,FALSE)),\"PLEASE SELECT A BANK FROM DEFINED LIST PROVIDED\",\"\")),\"\")","v":""},"No Entry",0]
[null,null,null,null,null,null,null,null,null,null,null,null,"",{"$f":"IF(D2919=\"Cash and Deposits\",IF(E2919=\"\",\"BANK NAME REQUIRED\",IF(ISERROR(VLOOKUP(E2919,'Reference Data'!C:C,1,FALSE)),\"PLEASE SELECT A BANK FROM DEFINED LIST PROVIDED\",\"\")),\"\")","v":""},"No Entry",0]
[null,null,null,null,null,null,null,null,null,null,null,null,"",{"$f":"IF(D2920=\"Cash and Deposits\",IF(E2920=\"\",\"BANK NAME REQUIRED\",IF(ISERROR(VLOOKUP(E2920,'Reference Data'!C:C,1,FALSE)),\"PLEASE SELECT A BANK FROM DEFINED LIST PROVIDED\",\"\")),\"\")","v":""},"No Entry",0]
[null,null,null,null,null,null,null,null,null,null,null,null,"",{"$f":"IF(D2921=\"Cash and Deposits\",IF(E2921=\"\",\"BANK NAME REQUIRED\",IF(ISERROR(VLOOKUP(E2921,'Reference Data'!C:C,1,FALSE)),\"PLEASE SELECT A BANK FROM DEFINED LIST PROVIDED\",\"\")),\"\")","v":""},"No Entry",0]
[null,null,null,null,null,null,null,null,null,null,null,null,"",{"$f":"IF(D2922=\"Cash and Deposits\",IF(E2922=\"\",\"BANK NAME REQUIRED\",IF(ISERROR(VLOOKUP(E2922,'Reference Data'!C:C,1,FALSE)),\"PLEASE SELECT A BANK FROM DEFINED LIST PROVIDED\",\"\")),\"\")","v":""},"No Entry",0]
[null,null,null,null,null,null,null,null,null,null,null,null,"",{"$f":"IF(D2923=\"Cash and Deposits\",IF(E2923=\"\",\"BANK NAME REQUIRED\",IF(ISERROR(VLOOKUP(E2923,'Reference Data'!C:C,1,FALSE)),\"PLEASE SELECT A BANK FROM DEFINED LIST PROVIDED\",\"\")),\"\")","v":""},"No Entry",0]
[null,null,null,null,null,null,null,null,null,null,null,null,"",{"$f":"IF(D2924=\"Cash and Deposits\",IF(E2924=\"\",\"BANK NAME REQUIRED\",IF(ISERROR(VLOOKUP(E2924,'Reference Data'!C:C,1,FALSE)),\"PLEASE SELECT A BANK FROM DEFINED LIST PROVIDED\",\"\")),\"\")","v":""},"No Entry",0]
[null,null,null,null,null,null,null,null,null,null,null,null,"",{"$f":"IF(D2925=\"Cash and Deposits\",IF(E2925=\"\",\"BANK NAME REQUIRED\",IF(ISERROR(VLOOKUP(E2925,'Reference Data'!C:C,1,FALSE)),\"PLEASE SELECT A BANK FROM DEFINED LIST PROVIDED\",\"\")),\"\")","v":""},"No Entry",0]
[null,null,null,null,null,null,null,null,null,null,null,null,"",{"$f":"IF(D2926=\"Cash and Deposits\",IF(E2926=\"\",\"BANK NAME REQUIRED\",IF(ISERROR(VLOOKUP(E2926,'Reference Data'!C:C,1,FALSE)),\"PLEASE SELECT A BANK FROM DEFINED LIST PROVIDED\",\"\")),\"\")","v":""},"No Entry",0]
[null,null,null,null,null,null,null,null,null,null,null,null,"",{"$f":"IF(D2927=\"Cash and Deposits\",IF(E2927=\"\",\"BANK NAME REQUIRED\",IF(ISERROR(VLOOKUP(E2927,'Reference Data'!C:C,1,FALSE)),\"PLEASE SELECT A BANK FROM DEFINED LIST PROVIDED\",\"\")),\"\")","v":""},"No Entry",0]
[null,null,null,null,null,null,null,null,null,null,null,null,"",{"$f":"IF(D2928=\"Cash and Deposits\",IF(E2928=\"\",\"BANK NAME REQUIRED\",IF(ISERROR(VLOOKUP(E2928,'Reference Data'!C:C,1,FALSE)),\"PLEASE SELECT A BANK FROM DEFINED LIST PROVIDED\",\"\")),\"\")","v":""},"No Entry",0]
[null,null,null,null,null,null,null,null,null,null,null,null,"",{"$f":"IF(D2929=\"Cash and Deposits\",IF(E2929=\"\",\"BANK NAME REQUIRED\",IF(ISERROR(VLOOKUP(E2929,'Reference Data'!C:C,1,FALSE)),\"PLEASE SELECT A BANK FROM DEFINED LIST PROVIDED\",\"\")),\"\")","v":""},"No Entry",0]
[null,null,null,null,null,null,null,null,null,null,null,null,"",{"$f":"IF(D2930=\"Cash and Deposits\",IF(E2930=\"\",\"BANK NAME REQUIRED\",IF(ISERROR(VLOOKUP(E2930,'Reference Data'!C:C,1,FALSE)),\"PLEASE SELECT A BANK FROM DEFINED LIST PROVIDED\",\"\")),\"\")","v":""},"No Entry",0]
[null,null,null,null,null,null,null,null,null,null,null,null,"",{"$f":"IF(D2931=\"Cash and Deposits\",IF(E2931=\"\",\"BANK NAME REQUIRED\",IF(ISERROR(VLOOKUP(E2931,'Reference Data'!C:C,1,FALSE)),\"PLEASE SELECT A BANK FROM DEFINED LIST PROVIDED\",\"\")),\"\")","v":""},"No Entry",0]
[null,null,null,null,null,null,null,null,null,null,null,null,"",{"$f":"IF(D2932=\"Cash and Deposits\",IF(E2932=\"\",\"BANK NAME REQUIRED\",IF(ISERROR(VLOOKUP(E2932,'Reference Data'!C:C,1,FALSE)),\"PLEASE SELECT A BANK FROM DEFINED LIST PROVIDED\",\"\")),\"\")","v":""},"No Entry",0]
[null,null,null,null,null,null,null,null,null,null,null,null,"",{"$f":"IF(D2933=\"Cash and Deposits\",IF(E2933=\"\",\"BANK NAME REQUIRED\",IF(ISERROR(VLOOKUP(E2933,'Reference Data'!C:C,1,FALSE)),\"PLEASE SELECT A BANK FROM DEFINED LIST PROVIDED\",\"\")),\"\")","v":""},"No Entry",0]
[null,null,null,null,null,null,null,null,null,null,null,null,"",{"$f":"IF(D2934=\"Cash and Deposits\",IF(E2934=\"\",\"BANK NAME REQUIRED\",IF(ISERROR(VLOOKUP(E2934,'Reference Data'!C:C,1,FALSE)),\"PLEASE SELECT A BANK FROM DEFINED LIST PROVIDED\",\"\")),\"\")","v":""},"No Entry",0]
[null,null,null,null,null,null,null,null,null,null,null,null,"",{"$f":"IF(D2935=\"Cash and Deposits\",IF(E2935=\"\",\"BANK NAME REQUIRED\",IF(ISERROR(VLOOKUP(E2935,'Reference Data'!C:C,1,FALSE)),\"PLEASE SELECT A BANK FROM DEFINED LIST PROVIDED\",\"\")),\"\")","v":""},"No Entry",0]
[null,null,null,null,null,null,null,null,null,null,null,null,"",{"$f":"IF(D2936=\"Cash and Deposits\",IF(E2936=\"\",\"BANK NAME REQUIRED\",IF(ISERROR(VLOOKUP(E2936,'Reference Data'!C:C,1,FALSE)),\"PLEASE SELECT A BANK FROM DEFINED LIST PROVIDED\",\"\")),\"\")","v":""},"No Entry",0]
[null,null,null,null,null,null,null,null,null,null,null,null,"",{"$f":"IF(D2937=\"Cash and Deposits\",IF(E2937=\"\",\"BANK NAME REQUIRED\",IF(ISERROR(VLOOKUP(E2937,'Reference Data'!C:C,1,FALSE)),\"PLEASE SELECT A BANK FROM DEFINED LIST PROVIDED\",\"\")),\"\")","v":""},"No Entry",0]
[null,null,null,null,null,null,null,null,null,null,null,null,"",{"$f":"IF(D2938=\"Cash and Deposits\",IF(E2938=\"\",\"BANK NAME REQUIRED\",IF(ISERROR(VLOOKUP(E2938,'Reference Data'!C:C,1,FALSE)),\"PLEASE SELECT A BANK FROM DEFINED LIST PROVIDED\",\"\")),\"\")","v":""},"No Entry",0]
[null,null,null,null,null,null,null,null,null,null,null,null,"",{"$f":"IF(D2939=\"Cash and Deposits\",IF(E2939=\"\",\"BANK NAME REQUIRED\",IF(ISERROR(VLOOKUP(E2939,'Reference Data'!C:C,1,FALSE)),\"PLEASE SELECT A BANK FROM DEFINED LIST PROVIDED\",\"\")),\"\")","v":""},"No Entry",0]
[null,null,null,null,null,null,null,null,null,null,null,null,"",{"$f":"IF(D2940=\"Cash and Deposits\",IF(E2940=\"\",\"BANK NAME REQUIRED\",IF(ISERROR(VLOOKUP(E2940,'Reference Data'!C:C,1,FALSE)),\"PLEASE SELECT A BANK FROM DEFINED LIST PROVIDED\",\"\")),\"\")","v":""},"No Entry",0]
[null,null,null,null,null,null,null,null,null,null,null,null,"",{"$f":"IF(D2941=\"Cash and Deposits\",IF(E2941=\"\",\"BANK NAME REQUIRED\",IF(ISERROR(VLOOKUP(E2941,'Reference Data'!C:C,1,FALSE)),\"PLEASE SELECT A BANK FROM DEFINED LIST PROVIDED\",\"\")),\"\")","v":""},"No Entry",0]
[null,null,null,null,null,null,null,null,null,null,null,null,"",{"$f":"IF(D2942=\"Cash and Deposits\",IF(E2942=\"\",\"BANK NAME REQUIRED\",IF(ISERROR(VLOOKUP(E2942,'Reference Data'!C:C,1,FALSE)),\"PLEASE SELECT A BANK FROM DEFINED LIST PROVIDED\",\"\")),\"\")","v":""},"No Entry",0]
[null,null,null,null,null,null,null,null,null,null,null,null,"",{"$f":"IF(D2943=\"Cash and Deposits\",IF(E2943=\"\",\"BANK NAME REQUIRED\",IF(ISERROR(VLOOKUP(E2943,'Reference Data'!C:C,1,FALSE)),\"PLEASE SELECT A BANK FROM DEFINED LIST PROVIDED\",\"\")),\"\")","v":""},"No Entry",0]
[null,null,null,null,null,null,null,null,null,null,null,null,"",{"$f":"IF(D2944=\"Cash and Deposits\",IF(E2944=\"\",\"BANK NAME REQUIRED\",IF(ISERROR(VLOOKUP(E2944,'Reference Data'!C:C,1,FALSE)),\"PLEASE SELECT A BANK FROM DEFINED LIST PROVIDED\",\"\")),\"\")","v":""},"No Entry",0]
[null,null,null,null,null,null,null,null,null,null,null,null,"",{"$f":"IF(D2945=\"Cash and Deposits\",IF(E2945=\"\",\"BANK NAME REQUIRED\",IF(ISERROR(VLOOKUP(E2945,'Reference Data'!C:C,1,FALSE)),\"PLEASE SELECT A BANK FROM DEFINED LIST PROVIDED\",\"\")),\"\")","v":""},"No Entry",0]
[null,null,null,null,null,null,null,null,null,null,null,null,"",{"$f":"IF(D2946=\"Cash and Deposits\",IF(E2946=\"\",\"BANK NAME REQUIRED\",IF(ISERROR(VLOOKUP(E2946,'Reference Data'!C:C,1,FALSE)),\"PLEASE SELECT A BANK FROM DEFINED LIST PROVIDED\",\"\")),\"\")","v":""},"No Entry",0]
[null,null,null,null,null,null,null,null,null,null,null,null,"",{"$f":"IF(D2947=\"Cash and Deposits\",IF(E2947=\"\",\"BANK NAME REQUIRED\",IF(ISERROR(VLOOKUP(E2947,'Reference Data'!C:C,1,FALSE)),\"PLEASE SELECT A BANK FROM DEFINED LIST PROVIDED\",\"\")),\"\")","v":""},"No Entry",0]
[null,null,null,null,null,null,null,null,null,null,null,null,"",{"$f":"IF(D2948=\"Cash and Deposits\",IF(E2948=\"\",\"BANK NAME REQUIRED\",IF(ISERROR(VLOOKUP(E2948,'Reference Data'!C:C,1,FALSE)),\"PLEASE SELECT A BANK FROM DEFINED LIST PROVIDED\",\"\")),\"\")","v":""},"No Entry",0]
[null,null,null,null,null,null,null,null,null,null,null,null,{"$f":"IF(K2949<>0,IF(B2949=\"\",\"ID CODE REQUIRED\",\"\"),\"\")","v":""},{"$f":"IF(D2949=\"Cash and Deposits\",IF(E2949=\"\",\"BANK NAME REQUIRED\",IF(ISERROR(VLOOKUP(E2949,'Reference Data'!C:C,1,FALSE)),\"PLEASE SELECT A BANK FROM DEFINED LIST PROVIDED\",\"\")),\"\")","v":""},{"$f":"IF(K2949=0,\"No Entry\",\"\")","v":"No Entry"},{"$f":"IF(K2949<>0,IF(A2949=\"\",1,0),0)","v":0}]
[null,null,null,null,null,null,null,null,null,null,null,null,"",{"$f":"IF(D2950=\"Cash and Deposits\",IF(E2950=\"\",\"BANK NAME REQUIRED\",IF(ISERROR(VLOOKUP(E2950,'Reference Data'!C:C,1,FALSE)),\"PLEASE SELECT A BANK FROM DEFINED LIST PROVIDED\",\"\")),\"\")","v":""},"No Entry",0]
[null,null,null,null,null,null,null,null,null,null,null,null,"",{"$f":"IF(D2951=\"Cash and Deposits\",IF(E2951=\"\",\"BANK NAME REQUIRED\",IF(ISERROR(VLOOKUP(E2951,'Reference Data'!C:C,1,FALSE)),\"PLEASE SELECT A BANK FROM DEFINED LIST PROVIDED\",\"\")),\"\")","v":""},"No Entry",0]
[null,null,null,null,null,null,null,null,null,null,null,null,"",{"$f":"IF(D2952=\"Cash and Deposits\",IF(E2952=\"\",\"BANK NAME REQUIRED\",IF(ISERROR(VLOOKUP(E2952,'Reference Data'!C:C,1,FALSE)),\"PLEASE SELECT A BANK FROM DEFINED LIST PROVIDED\",\"\")),\"\")","v":""},"No Entry",0]
[null,null,null,null,null,null,null,null,null,null,null,null,"",{"$f":"IF(D2953=\"Cash and Deposits\",IF(E2953=\"\",\"BANK NAME REQUIRED\",IF(ISERROR(VLOOKUP(E2953,'Reference Data'!C:C,1,FALSE)),\"PLEASE SELECT A BANK FROM DEFINED LIST PROVIDED\",\"\")),\"\")","v":""},"No Entry",0]
[null,null,null,null,null,null,null,null,null,null,null,null,"",{"$f":"IF(D2954=\"Cash and Deposits\",IF(E2954=\"\",\"BANK NAME REQUIRED\",IF(ISERROR(VLOOKUP(E2954,'Reference Data'!C:C,1,FALSE)),\"PLEASE SELECT A BANK FROM DEFINED LIST PROVIDED\",\"\")),\"\")","v":""},"No Entry",0]
[null,null,null,null,null,null,null,null,null,null,null,null,"",{"$f":"IF(D2955=\"Cash and Deposits\",IF(E2955=\"\",\"BANK NAME REQUIRED\",IF(ISERROR(VLOOKUP(E2955,'Reference Data'!C:C,1,FALSE)),\"PLEASE SELECT A BANK FROM DEFINED LIST PROVIDED\",\"\")),\"\")","v":""},"No Entry",0]
[null,null,null,null,null,null,null,null,null,null,null,null,"",{"$f":"IF(D2956=\"Cash and Deposits\",IF(E2956=\"\",\"BANK NAME REQUIRED\",IF(ISERROR(VLOOKUP(E2956,'Reference Data'!C:C,1,FALSE)),\"PLEASE SELECT A BANK FROM DEFINED LIST PROVIDED\",\"\")),\"\")","v":""},"No Entry",0]
[null,null,null,null,null,null,null,null,null,null,null,null,"",{"$f":"IF(D2957=\"Cash and Deposits\",IF(E2957=\"\",\"BANK NAME REQUIRED\",IF(ISERROR(VLOOKUP(E2957,'Reference Data'!C:C,1,FALSE)),\"PLEASE SELECT A BANK FROM DEFINED LIST PROVIDED\",\"\")),\"\")","v":""},"No Entry",0]
[null,null,null,null,null,null,null,null,null,null,null,null,"",{"$f":"IF(D2958=\"Cash and Deposits\",IF(E2958=\"\",\"BANK NAME REQUIRED\",IF(ISERROR(VLOOKUP(E2958,'Reference Data'!C:C,1,FALSE)),\"PLEASE SELECT A BANK FROM DEFINED LIST PROVIDED\",\"\")),\"\")","v":""},"No Entry",0]
[null,null,null,null,null,null,null,null,null,null,null,null,"",{"$f":"IF(D2959=\"Cash and Deposits\",IF(E2959=\"\",\"BANK NAME REQUIRED\",IF(ISERROR(VLOOKUP(E2959,'Reference Data'!C:C,1,FALSE)),\"PLEASE SELECT A BANK FROM DEFINED LIST PROVIDED\",\"\")),\"\")","v":""},"No Entry",0]
[null,null,null,null,null,null,null,null,null,null,null,null,"",{"$f":"IF(D2960=\"Cash and Deposits\",IF(E2960=\"\",\"BANK NAME REQUIRED\",IF(ISERROR(VLOOKUP(E2960,'Reference Data'!C:C,1,FALSE)),\"PLEASE SELECT A BANK FROM DEFINED LIST PROVIDED\",\"\")),\"\")","v":""},"No Entry",0]
[null,null,null,null,null,null,null,null,null,null,null,null,"",{"$f":"IF(D2961=\"Cash and Deposits\",IF(E2961=\"\",\"BANK NAME REQUIRED\",IF(ISERROR(VLOOKUP(E2961,'Reference Data'!C:C,1,FALSE)),\"PLEASE SELECT A BANK FROM DEFINED LIST PROVIDED\",\"\")),\"\")","v":""},"No Entry",0]
[null,null,null,null,null,null,null,null,null,null,null,null,"",{"$f":"IF(D2962=\"Cash and Deposits\",IF(E2962=\"\",\"BANK NAME REQUIRED\",IF(ISERROR(VLOOKUP(E2962,'Reference Data'!C:C,1,FALSE)),\"PLEASE SELECT A BANK FROM DEFINED LIST PROVIDED\",\"\")),\"\")","v":""},"No Entry",0]
[null,null,null,null,null,null,null,null,null,null,null,null,"",{"$f":"IF(D2963=\"Cash and Deposits\",IF(E2963=\"\",\"BANK NAME REQUIRED\",IF(ISERROR(VLOOKUP(E2963,'Reference Data'!C:C,1,FALSE)),\"PLEASE SELECT A BANK FROM DEFINED LIST PROVIDED\",\"\")),\"\")","v":""},"No Entry",0]
[null,null,null,null,null,null,null,null,null,null,null,null,"",{"$f":"IF(D2964=\"Cash and Deposits\",IF(E2964=\"\",\"BANK NAME REQUIRED\",IF(ISERROR(VLOOKUP(E2964,'Reference Data'!C:C,1,FALSE)),\"PLEASE SELECT A BANK FROM DEFINED LIST PROVIDED\",\"\")),\"\")","v":""},"No Entry",0]
[null,null,null,null,null,null,null,null,null,null,null,null,"",{"$f":"IF(D2965=\"Cash and Deposits\",IF(E2965=\"\",\"BANK NAME REQUIRED\",IF(ISERROR(VLOOKUP(E2965,'Reference Data'!C:C,1,FALSE)),\"PLEASE SELECT A BANK FROM DEFINED LIST PROVIDED\",\"\")),\"\")","v":""},"No Entry",0]
[null,null,null,null,null,null,null,null,null,null,null,null,"",{"$f":"IF(D2966=\"Cash and Deposits\",IF(E2966=\"\",\"BANK NAME REQUIRED\",IF(ISERROR(VLOOKUP(E2966,'Reference Data'!C:C,1,FALSE)),\"PLEASE SELECT A BANK FROM DEFINED LIST PROVIDED\",\"\")),\"\")","v":""},"No Entry",0]
[null,null,null,null,null,null,null,null,null,null,null,null,"",{"$f":"IF(D2967=\"Cash and Deposits\",IF(E2967=\"\",\"BANK NAME REQUIRED\",IF(ISERROR(VLOOKUP(E2967,'Reference Data'!C:C,1,FALSE)),\"PLEASE SELECT A BANK FROM DEFINED LIST PROVIDED\",\"\")),\"\")","v":""},"No Entry",0]
[null,null,null,null,null,null,null,null,null,null,null,null,"",{"$f":"IF(D2968=\"Cash and Deposits\",IF(E2968=\"\",\"BANK NAME REQUIRED\",IF(ISERROR(VLOOKUP(E2968,'Reference Data'!C:C,1,FALSE)),\"PLEASE SELECT A BANK FROM DEFINED LIST PROVIDED\",\"\")),\"\")","v":""},"No Entry",0]
[null,null,null,null,null,null,null,null,null,null,null,null,"",{"$f":"IF(D2969=\"Cash and Deposits\",IF(E2969=\"\",\"BANK NAME REQUIRED\",IF(ISERROR(VLOOKUP(E2969,'Reference Data'!C:C,1,FALSE)),\"PLEASE SELECT A BANK FROM DEFINED LIST PROVIDED\",\"\")),\"\")","v":""},"No Entry",0]
[null,null,null,null,null,null,null,null,null,null,null,null,"",{"$f":"IF(D2970=\"Cash and Deposits\",IF(E2970=\"\",\"BANK NAME REQUIRED\",IF(ISERROR(VLOOKUP(E2970,'Reference Data'!C:C,1,FALSE)),\"PLEASE SELECT A BANK FROM DEFINED LIST PROVIDED\",\"\")),\"\")","v":""},"No Entry",0]
[null,null,null,null,null,null,null,null,null,null,null,null,"",{"$f":"IF(D2971=\"Cash and Deposits\",IF(E2971=\"\",\"BANK NAME REQUIRED\",IF(ISERROR(VLOOKUP(E2971,'Reference Data'!C:C,1,FALSE)),\"PLEASE SELECT A BANK FROM DEFINED LIST PROVIDED\",\"\")),\"\")","v":""},"No Entry",0]
[null,null,null,null,null,null,null,null,null,null,null,null,"",{"$f":"IF(D2972=\"Cash and Deposits\",IF(E2972=\"\",\"BANK NAME REQUIRED\",IF(ISERROR(VLOOKUP(E2972,'Reference Data'!C:C,1,FALSE)),\"PLEASE SELECT A BANK FROM DEFINED LIST PROVIDED\",\"\")),\"\")","v":""},"No Entry",0]
[null,null,null,null,null,null,null,null,null,null,null,null,"",{"$f":"IF(D2973=\"Cash and Deposits\",IF(E2973=\"\",\"BANK NAME REQUIRED\",IF(ISERROR(VLOOKUP(E2973,'Reference Data'!C:C,1,FALSE)),\"PLEASE SELECT A BANK FROM DEFINED LIST PROVIDED\",\"\")),\"\")","v":""},"No Entry",0]
[null,null,null,null,null,null,null,null,null,null,null,null,"",{"$f":"IF(D2974=\"Cash and Deposits\",IF(E2974=\"\",\"BANK NAME REQUIRED\",IF(ISERROR(VLOOKUP(E2974,'Reference Data'!C:C,1,FALSE)),\"PLEASE SELECT A BANK FROM DEFINED LIST PROVIDED\",\"\")),\"\")","v":""},"No Entry",0]
[null,null,null,null,null,null,null,null,null,null,null,null,"",{"$f":"IF(D2975=\"Cash and Deposits\",IF(E2975=\"\",\"BANK NAME REQUIRED\",IF(ISERROR(VLOOKUP(E2975,'Reference Data'!C:C,1,FALSE)),\"PLEASE SELECT A BANK FROM DEFINED LIST PROVIDED\",\"\")),\"\")","v":""},"No Entry",0]
[null,null,null,null,null,null,null,null,null,null,null,null,"",{"$f":"IF(D2976=\"Cash and Deposits\",IF(E2976=\"\",\"BANK NAME REQUIRED\",IF(ISERROR(VLOOKUP(E2976,'Reference Data'!C:C,1,FALSE)),\"PLEASE SELECT A BANK FROM DEFINED LIST PROVIDED\",\"\")),\"\")","v":""},"No Entry",0]
[null,null,null,null,null,null,null,null,null,null,null,null,"",{"$f":"IF(D2977=\"Cash and Deposits\",IF(E2977=\"\",\"BANK NAME REQUIRED\",IF(ISERROR(VLOOKUP(E2977,'Reference Data'!C:C,1,FALSE)),\"PLEASE SELECT A BANK FROM DEFINED LIST PROVIDED\",\"\")),\"\")","v":""},"No Entry",0]
[null,null,null,null,null,null,null,null,null,null,null,null,"",{"$f":"IF(D2978=\"Cash and Deposits\",IF(E2978=\"\",\"BANK NAME REQUIRED\",IF(ISERROR(VLOOKUP(E2978,'Reference Data'!C:C,1,FALSE)),\"PLEASE SELECT A BANK FROM DEFINED LIST PROVIDED\",\"\")),\"\")","v":""},"No Entry",0]
[null,null,null,null,null,null,null,null,null,null,null,null,"",{"$f":"IF(D2979=\"Cash and Deposits\",IF(E2979=\"\",\"BANK NAME REQUIRED\",IF(ISERROR(VLOOKUP(E2979,'Reference Data'!C:C,1,FALSE)),\"PLEASE SELECT A BANK FROM DEFINED LIST PROVIDED\",\"\")),\"\")","v":""},"No Entry",0]
[null,null,null,null,null,null,null,null,null,null,null,null,"",{"$f":"IF(D2980=\"Cash and Deposits\",IF(E2980=\"\",\"BANK NAME REQUIRED\",IF(ISERROR(VLOOKUP(E2980,'Reference Data'!C:C,1,FALSE)),\"PLEASE SELECT A BANK FROM DEFINED LIST PROVIDED\",\"\")),\"\")","v":""},"No Entry",0]
[null,null,null,null,null,null,null,null,null,null,null,null,"",{"$f":"IF(D2981=\"Cash and Deposits\",IF(E2981=\"\",\"BANK NAME REQUIRED\",IF(ISERROR(VLOOKUP(E2981,'Reference Data'!C:C,1,FALSE)),\"PLEASE SELECT A BANK FROM DEFINED LIST PROVIDED\",\"\")),\"\")","v":""},"No Entry",0]
[null,null,null,null,null,null,null,null,null,null,null,null,"",{"$f":"IF(D2982=\"Cash and Deposits\",IF(E2982=\"\",\"BANK NAME REQUIRED\",IF(ISERROR(VLOOKUP(E2982,'Reference Data'!C:C,1,FALSE)),\"PLEASE SELECT A BANK FROM DEFINED LIST PROVIDED\",\"\")),\"\")","v":""},"No Entry",0]
[null,null,null,null,null,null,null,null,null,null,null,null,"",{"$f":"IF(D2983=\"Cash and Deposits\",IF(E2983=\"\",\"BANK NAME REQUIRED\",IF(ISERROR(VLOOKUP(E2983,'Reference Data'!C:C,1,FALSE)),\"PLEASE SELECT A BANK FROM DEFINED LIST PROVIDED\",\"\")),\"\")","v":""},"No Entry",0]
[null,null,null,null,null,null,null,null,null,null,null,null,"",{"$f":"IF(D2984=\"Cash and Deposits\",IF(E2984=\"\",\"BANK NAME REQUIRED\",IF(ISERROR(VLOOKUP(E2984,'Reference Data'!C:C,1,FALSE)),\"PLEASE SELECT A BANK FROM DEFINED LIST PROVIDED\",\"\")),\"\")","v":""},"No Entry",0]
[null,null,null,null,null,null,null,null,null,null,null,null,"",{"$f":"IF(D2985=\"Cash and Deposits\",IF(E2985=\"\",\"BANK NAME REQUIRED\",IF(ISERROR(VLOOKUP(E2985,'Reference Data'!C:C,1,FALSE)),\"PLEASE SELECT A BANK FROM DEFINED LIST PROVIDED\",\"\")),\"\")","v":""},"No Entry",0]
[null,null,null,null,null,null,null,null,null,null,null,null,"",{"$f":"IF(D2986=\"Cash and Deposits\",IF(E2986=\"\",\"BANK NAME REQUIRED\",IF(ISERROR(VLOOKUP(E2986,'Reference Data'!C:C,1,FALSE)),\"PLEASE SELECT A BANK FROM DEFINED LIST PROVIDED\",\"\")),\"\")","v":""},"No Entry",0]
[null,null,null,null,null,null,null,null,null,null,null,null,"",{"$f":"IF(D2987=\"Cash and Deposits\",IF(E2987=\"\",\"BANK NAME REQUIRED\",IF(ISERROR(VLOOKUP(E2987,'Reference Data'!C:C,1,FALSE)),\"PLEASE SELECT A BANK FROM DEFINED LIST PROVIDED\",\"\")),\"\")","v":""},"No Entry",0]
[null,null,null,null,null,null,null,null,null,null,null,null,"",{"$f":"IF(D2988=\"Cash and Deposits\",IF(E2988=\"\",\"BANK NAME REQUIRED\",IF(ISERROR(VLOOKUP(E2988,'Reference Data'!C:C,1,FALSE)),\"PLEASE SELECT A BANK FROM DEFINED LIST PROVIDED\",\"\")),\"\")","v":""},"No Entry",0]
[null,null,null,null,null,null,null,null,null,null,null,null,"",{"$f":"IF(D2989=\"Cash and Deposits\",IF(E2989=\"\",\"BANK NAME REQUIRED\",IF(ISERROR(VLOOKUP(E2989,'Reference Data'!C:C,1,FALSE)),\"PLEASE SELECT A BANK FROM DEFINED LIST PROVIDED\",\"\")),\"\")","v":""},"No Entry",0]
[null,null,null,null,null,null,null,null,null,null,null,null,"",{"$f":"IF(D2990=\"Cash and Deposits\",IF(E2990=\"\",\"BANK NAME REQUIRED\",IF(ISERROR(VLOOKUP(E2990,'Reference Data'!C:C,1,FALSE)),\"PLEASE SELECT A BANK FROM DEFINED LIST PROVIDED\",\"\")),\"\")","v":""},"No Entry",0]
[null,null,null,null,null,null,null,null,null,null,null,null,"",{"$f":"IF(D2991=\"Cash and Deposits\",IF(E2991=\"\",\"BANK NAME REQUIRED\",IF(ISERROR(VLOOKUP(E2991,'Reference Data'!C:C,1,FALSE)),\"PLEASE SELECT A BANK FROM DEFINED LIST PROVIDED\",\"\")),\"\")","v":""},"No Entry",0]
[null,null,null,null,null,null,null,null,null,null,null,null,"",{"$f":"IF(D2992=\"Cash and Deposits\",IF(E2992=\"\",\"BANK NAME REQUIRED\",IF(ISERROR(VLOOKUP(E2992,'Reference Data'!C:C,1,FALSE)),\"PLEASE SELECT A BANK FROM DEFINED LIST PROVIDED\",\"\")),\"\")","v":""},"No Entry",0]
[null,null,null,null,null,null,null,null,null,null,null,null,"",{"$f":"IF(D2993=\"Cash and Deposits\",IF(E2993=\"\",\"BANK NAME REQUIRED\",IF(ISERROR(VLOOKUP(E2993,'Reference Data'!C:C,1,FALSE)),\"PLEASE SELECT A BANK FROM DEFINED LIST PROVIDED\",\"\")),\"\")","v":""},"No Entry",0]
[null,null,null,null,null,null,null,null,null,null,null,null,"",{"$f":"IF(D2994=\"Cash and Deposits\",IF(E2994=\"\",\"BANK NAME REQUIRED\",IF(ISERROR(VLOOKUP(E2994,'Reference Data'!C:C,1,FALSE)),\"PLEASE SELECT A BANK FROM DEFINED LIST PROVIDED\",\"\")),\"\")","v":""},"No Entry",0]
[null,null,null,null,null,null,null,null,null,null,null,null,"",{"$f":"IF(D2995=\"Cash and Deposits\",IF(E2995=\"\",\"BANK NAME REQUIRED\",IF(ISERROR(VLOOKUP(E2995,'Reference Data'!C:C,1,FALSE)),\"PLEASE SELECT A BANK FROM DEFINED LIST PROVIDED\",\"\")),\"\")","v":""},"No Entry",0]
[null,null,null,null,null,null,null,null,null,null,null,null,"",{"$f":"IF(D2996=\"Cash and Deposits\",IF(E2996=\"\",\"BANK NAME REQUIRED\",IF(ISERROR(VLOOKUP(E2996,'Reference Data'!C:C,1,FALSE)),\"PLEASE SELECT A BANK FROM DEFINED LIST PROVIDED\",\"\")),\"\")","v":""},"No Entry",0]
[null,null,null,null,null,null,null,null,null,null,null,null,"",{"$f":"IF(D2997=\"Cash and Deposits\",IF(E2997=\"\",\"BANK NAME REQUIRED\",IF(ISERROR(VLOOKUP(E2997,'Reference Data'!C:C,1,FALSE)),\"PLEASE SELECT A BANK FROM DEFINED LIST PROVIDED\",\"\")),\"\")","v":""},"No Entry",0]
[null,null,null,null,null,null,null,null,null,null,null,null,"",{"$f":"IF(D2998=\"Cash and Deposits\",IF(E2998=\"\",\"BANK NAME REQUIRED\",IF(ISERROR(VLOOKUP(E2998,'Reference Data'!C:C,1,FALSE)),\"PLEASE SELECT A BANK FROM DEFINED LIST PROVIDED\",\"\")),\"\")","v":""},"No Entry",0]
[null,null,null,null,null,null,null,null,null,null,null,null,"",{"$f":"IF(D2999=\"Cash and Deposits\",IF(E2999=\"\",\"BANK NAME REQUIRED\",IF(ISERROR(VLOOKUP(E2999,'Reference Data'!C:C,1,FALSE)),\"PLEASE SELECT A BANK FROM DEFINED LIST PROVIDED\",\"\")),\"\")","v":""},"No Entry",0]
[null,null,null,null,null,null,null,null,null,null,null,null,"",{"$f":"IF(D3000=\"Cash and Deposits\",IF(E3000=\"\",\"BANK NAME REQUIRED\",IF(ISERROR(VLOOKUP(E3000,'Reference Data'!C:C,1,FALSE)),\"PLEASE SELECT A BANK FROM DEFINED LIST PROVIDED\",\"\")),\"\")","v":""},"No Entry",0]
[null,null,null,null,null,null,null,null,null,null,null,null,"",{"$f":"IF(D3001=\"Cash and Deposits\",IF(E3001=\"\",\"BANK NAME REQUIRED\",IF(ISERROR(VLOOKUP(E3001,'Reference Data'!C:C,1,FALSE)),\"PLEASE SELECT A BANK FROM DEFINED LIST PROVIDED\",\"\")),\"\")","v":""},"No Entry",0]
[null,null,null,null,null,null,null,null,null,null,null,null,"",{"$f":"IF(D3002=\"Cash and Deposits\",IF(E3002=\"\",\"BANK NAME REQUIRED\",IF(ISERROR(VLOOKUP(E3002,'Reference Data'!C:C,1,FALSE)),\"PLEASE SELECT A BANK FROM DEFINED LIST PROVIDED\",\"\")),\"\")","v":""},"No Entry",0]
[null,null,null,null,null,null,null,null,null,null,null,null,"",{"$f":"IF(D3003=\"Cash and Deposits\",IF(E3003=\"\",\"BANK NAME REQUIRED\",IF(ISERROR(VLOOKUP(E3003,'Reference Data'!C:C,1,FALSE)),\"PLEASE SELECT A BANK FROM DEFINED LIST PROVIDED\",\"\")),\"\")","v":""},"No Entry",0]
[null,null,null,null,null,null,null,null,null,null,null,null,"",{"$f":"IF(D3004=\"Cash and Deposits\",IF(E3004=\"\",\"BANK NAME REQUIRED\",IF(ISERROR(VLOOKUP(E3004,'Reference Data'!C:C,1,FALSE)),\"PLEASE SELECT A BANK FROM DEFINED LIST PROVIDED\",\"\")),\"\")","v":""},"No Entry",0]
[null,null,null,null,null,null,null,null,null,null,null,null,"",{"$f":"IF(D3005=\"Cash and Deposits\",IF(E3005=\"\",\"BANK NAME REQUIRED\",IF(ISERROR(VLOOKUP(E3005,'Reference Data'!C:C,1,FALSE)),\"PLEASE SELECT A BANK FROM DEFINED LIST PROVIDED\",\"\")),\"\")","v":""},"No Entry",0]
[null,null,null,null,null,null,null,null,null,null,null,null,"",{"$f":"IF(D3006=\"Cash and Deposits\",IF(E3006=\"\",\"BANK NAME REQUIRED\",IF(ISERROR(VLOOKUP(E3006,'Reference Data'!C:C,1,FALSE)),\"PLEASE SELECT A BANK FROM DEFINED LIST PROVIDED\",\"\")),\"\")","v":""},"No Entry",0]
[null,null,null,null,null,null,null,null,null,null,null,null,"",{"$f":"IF(D3007=\"Cash and Deposits\",IF(E3007=\"\",\"BANK NAME REQUIRED\",IF(ISERROR(VLOOKUP(E3007,'Reference Data'!C:C,1,FALSE)),\"PLEASE SELECT A BANK FROM DEFINED LIST PROVIDED\",\"\")),\"\")","v":""},"No Entry",0]
[null,null,null,null,null,null,null,null,null,null,null,null,"",{"$f":"IF(D3008=\"Cash and Deposits\",IF(E3008=\"\",\"BANK NAME REQUIRED\",IF(ISERROR(VLOOKUP(E3008,'Reference Data'!C:C,1,FALSE)),\"PLEASE SELECT A BANK FROM DEFINED LIST PROVIDED\",\"\")),\"\")","v":""},"No Entry",0]
[null,null,null,null,null,null,null,null,null,null,null,null,"",{"$f":"IF(D3009=\"Cash and Deposits\",IF(E3009=\"\",\"BANK NAME REQUIRED\",IF(ISERROR(VLOOKUP(E3009,'Reference Data'!C:C,1,FALSE)),\"PLEASE SELECT A BANK FROM DEFINED LIST PROVIDED\",\"\")),\"\")","v":""},"No Entry",0]
[null,null,null,null,null,null,null,null,null,null,null,null,"",{"$f":"IF(D3010=\"Cash and Deposits\",IF(E3010=\"\",\"BANK NAME REQUIRED\",IF(ISERROR(VLOOKUP(E3010,'Reference Data'!C:C,1,FALSE)),\"PLEASE SELECT A BANK FROM DEFINED LIST PROVIDED\",\"\")),\"\")","v":""},"No Entry",0]
[null,null,null,null,null,null,null,null,null,null,null,null,"",{"$f":"IF(D3011=\"Cash and Deposits\",IF(E3011=\"\",\"BANK NAME REQUIRED\",IF(ISERROR(VLOOKUP(E3011,'Reference Data'!C:C,1,FALSE)),\"PLEASE SELECT A BANK FROM DEFINED LIST PROVIDED\",\"\")),\"\")","v":""},"No Entry",0]
[null,null,null,null,null,null,null,null,null,null,null,null,"",{"$f":"IF(D3012=\"Cash and Deposits\",IF(E3012=\"\",\"BANK NAME REQUIRED\",IF(ISERROR(VLOOKUP(E3012,'Reference Data'!C:C,1,FALSE)),\"PLEASE SELECT A BANK FROM DEFINED LIST PROVIDED\",\"\")),\"\")","v":""},"No Entry",0]
[null,null,null,null,null,null,null,null,null,null,null,null,{"$f":"IF(K3013<>0,IF(B3013=\"\",\"ID CODE REQUIRED\",\"\"),\"\")","v":""},{"$f":"IF(D3013=\"Cash and Deposits\",IF(E3013=\"\",\"BANK NAME REQUIRED\",IF(ISERROR(VLOOKUP(E3013,'Reference Data'!C:C,1,FALSE)),\"PLEASE SELECT A BANK FROM DEFINED LIST PROVIDED\",\"\")),\"\")","v":""},{"$f":"IF(K3013=0,\"No Entry\",\"\")","v":"No Entry"},{"$f":"IF(K3013<>0,IF(A3013=\"\",1,0),0)","v":0}]
[null,null,null,null,null,null,null,null,null,null,null,null,"",{"$f":"IF(D3014=\"Cash and Deposits\",IF(E3014=\"\",\"BANK NAME REQUIRED\",IF(ISERROR(VLOOKUP(E3014,'Reference Data'!C:C,1,FALSE)),\"PLEASE SELECT A BANK FROM DEFINED LIST PROVIDED\",\"\")),\"\")","v":""},"No Entry",0]
[null,null,null,null,null,null,null,null,null,null,null,null,"",{"$f":"IF(D3015=\"Cash and Deposits\",IF(E3015=\"\",\"BANK NAME REQUIRED\",IF(ISERROR(VLOOKUP(E3015,'Reference Data'!C:C,1,FALSE)),\"PLEASE SELECT A BANK FROM DEFINED LIST PROVIDED\",\"\")),\"\")","v":""},"No Entry",0]
[null,null,null,null,null,null,null,null,null,null,null,null,"",{"$f":"IF(D3016=\"Cash and Deposits\",IF(E3016=\"\",\"BANK NAME REQUIRED\",IF(ISERROR(VLOOKUP(E3016,'Reference Data'!C:C,1,FALSE)),\"PLEASE SELECT A BANK FROM DEFINED LIST PROVIDED\",\"\")),\"\")","v":""},"No Entry",0]
[null,null,null,null,null,null,null,null,null,null,null,null,"",{"$f":"IF(D3017=\"Cash and Deposits\",IF(E3017=\"\",\"BANK NAME REQUIRED\",IF(ISERROR(VLOOKUP(E3017,'Reference Data'!C:C,1,FALSE)),\"PLEASE SELECT A BANK FROM DEFINED LIST PROVIDED\",\"\")),\"\")","v":""},"No Entry",0]
[null,null,null,null,null,null,null,null,null,null,null,null,"",{"$f":"IF(D3018=\"Cash and Deposits\",IF(E3018=\"\",\"BANK NAME REQUIRED\",IF(ISERROR(VLOOKUP(E3018,'Reference Data'!C:C,1,FALSE)),\"PLEASE SELECT A BANK FROM DEFINED LIST PROVIDED\",\"\")),\"\")","v":""},"No Entry",0]
[null,null,null,null,null,null,null,null,null,null,null,null,"",{"$f":"IF(D3019=\"Cash and Deposits\",IF(E3019=\"\",\"BANK NAME REQUIRED\",IF(ISERROR(VLOOKUP(E3019,'Reference Data'!C:C,1,FALSE)),\"PLEASE SELECT A BANK FROM DEFINED LIST PROVIDED\",\"\")),\"\")","v":""},"No Entry",0]
[null,null,null,null,null,null,null,null,null,null,null,null,"",{"$f":"IF(D3020=\"Cash and Deposits\",IF(E3020=\"\",\"BANK NAME REQUIRED\",IF(ISERROR(VLOOKUP(E3020,'Reference Data'!C:C,1,FALSE)),\"PLEASE SELECT A BANK FROM DEFINED LIST PROVIDED\",\"\")),\"\")","v":""},"No Entry",0]
[null,null,null,null,null,null,null,null,null,null,null,null,"",{"$f":"IF(D3021=\"Cash and Deposits\",IF(E3021=\"\",\"BANK NAME REQUIRED\",IF(ISERROR(VLOOKUP(E3021,'Reference Data'!C:C,1,FALSE)),\"PLEASE SELECT A BANK FROM DEFINED LIST PROVIDED\",\"\")),\"\")","v":""},"No Entry",0]
[null,null,null,null,null,null,null,null,null,null,null,null,"",{"$f":"IF(D3022=\"Cash and Deposits\",IF(E3022=\"\",\"BANK NAME REQUIRED\",IF(ISERROR(VLOOKUP(E3022,'Reference Data'!C:C,1,FALSE)),\"PLEASE SELECT A BANK FROM DEFINED LIST PROVIDED\",\"\")),\"\")","v":""},"No Entry",0]
[null,null,null,null,null,null,null,null,null,null,null,null,"",{"$f":"IF(D3023=\"Cash and Deposits\",IF(E3023=\"\",\"BANK NAME REQUIRED\",IF(ISERROR(VLOOKUP(E3023,'Reference Data'!C:C,1,FALSE)),\"PLEASE SELECT A BANK FROM DEFINED LIST PROVIDED\",\"\")),\"\")","v":""},"No Entry",0]
[null,null,null,null,null,null,null,null,null,null,null,null,"",{"$f":"IF(D3024=\"Cash and Deposits\",IF(E3024=\"\",\"BANK NAME REQUIRED\",IF(ISERROR(VLOOKUP(E3024,'Reference Data'!C:C,1,FALSE)),\"PLEASE SELECT A BANK FROM DEFINED LIST PROVIDED\",\"\")),\"\")","v":""},"No Entry",0]
[null,null,null,null,null,null,null,null,null,null,null,null,"",{"$f":"IF(D3025=\"Cash and Deposits\",IF(E3025=\"\",\"BANK NAME REQUIRED\",IF(ISERROR(VLOOKUP(E3025,'Reference Data'!C:C,1,FALSE)),\"PLEASE SELECT A BANK FROM DEFINED LIST PROVIDED\",\"\")),\"\")","v":""},"No Entry",0]
[null,null,null,null,null,null,null,null,null,null,null,null,"",{"$f":"IF(D3026=\"Cash and Deposits\",IF(E3026=\"\",\"BANK NAME REQUIRED\",IF(ISERROR(VLOOKUP(E3026,'Reference Data'!C:C,1,FALSE)),\"PLEASE SELECT A BANK FROM DEFINED LIST PROVIDED\",\"\")),\"\")","v":""},"No Entry",0]
[null,null,null,null,null,null,null,null,null,null,null,null,"",{"$f":"IF(D3027=\"Cash and Deposits\",IF(E3027=\"\",\"BANK NAME REQUIRED\",IF(ISERROR(VLOOKUP(E3027,'Reference Data'!C:C,1,FALSE)),\"PLEASE SELECT A BANK FROM DEFINED LIST PROVIDED\",\"\")),\"\")","v":""},"No Entry",0]
[null,null,null,null,null,null,null,null,null,null,null,null,"",{"$f":"IF(D3028=\"Cash and Deposits\",IF(E3028=\"\",\"BANK NAME REQUIRED\",IF(ISERROR(VLOOKUP(E3028,'Reference Data'!C:C,1,FALSE)),\"PLEASE SELECT A BANK FROM DEFINED LIST PROVIDED\",\"\")),\"\")","v":""},"No Entry",0]
[null,null,null,null,null,null,null,null,null,null,null,null,"",{"$f":"IF(D3029=\"Cash and Deposits\",IF(E3029=\"\",\"BANK NAME REQUIRED\",IF(ISERROR(VLOOKUP(E3029,'Reference Data'!C:C,1,FALSE)),\"PLEASE SELECT A BANK FROM DEFINED LIST PROVIDED\",\"\")),\"\")","v":""},"No Entry",0]
[null,null,null,null,null,null,null,null,null,null,null,null,"",{"$f":"IF(D3030=\"Cash and Deposits\",IF(E3030=\"\",\"BANK NAME REQUIRED\",IF(ISERROR(VLOOKUP(E3030,'Reference Data'!C:C,1,FALSE)),\"PLEASE SELECT A BANK FROM DEFINED LIST PROVIDED\",\"\")),\"\")","v":""},"No Entry",0]
[null,null,null,null,null,null,null,null,null,null,null,null,"",{"$f":"IF(D3031=\"Cash and Deposits\",IF(E3031=\"\",\"BANK NAME REQUIRED\",IF(ISERROR(VLOOKUP(E3031,'Reference Data'!C:C,1,FALSE)),\"PLEASE SELECT A BANK FROM DEFINED LIST PROVIDED\",\"\")),\"\")","v":""},"No Entry",0]
[null,null,null,null,null,null,null,null,null,null,null,null,"",{"$f":"IF(D3032=\"Cash and Deposits\",IF(E3032=\"\",\"BANK NAME REQUIRED\",IF(ISERROR(VLOOKUP(E3032,'Reference Data'!C:C,1,FALSE)),\"PLEASE SELECT A BANK FROM DEFINED LIST PROVIDED\",\"\")),\"\")","v":""},"No Entry",0]
[null,null,null,null,null,null,null,null,null,null,null,null,"",{"$f":"IF(D3033=\"Cash and Deposits\",IF(E3033=\"\",\"BANK NAME REQUIRED\",IF(ISERROR(VLOOKUP(E3033,'Reference Data'!C:C,1,FALSE)),\"PLEASE SELECT A BANK FROM DEFINED LIST PROVIDED\",\"\")),\"\")","v":""},"No Entry",0]
[null,null,null,null,null,null,null,null,null,null,null,null,"",{"$f":"IF(D3034=\"Cash and Deposits\",IF(E3034=\"\",\"BANK NAME REQUIRED\",IF(ISERROR(VLOOKUP(E3034,'Reference Data'!C:C,1,FALSE)),\"PLEASE SELECT A BANK FROM DEFINED LIST PROVIDED\",\"\")),\"\")","v":""},"No Entry",0]
[null,null,null,null,null,null,null,null,null,null,null,null,"",{"$f":"IF(D3035=\"Cash and Deposits\",IF(E3035=\"\",\"BANK NAME REQUIRED\",IF(ISERROR(VLOOKUP(E3035,'Reference Data'!C:C,1,FALSE)),\"PLEASE SELECT A BANK FROM DEFINED LIST PROVIDED\",\"\")),\"\")","v":""},"No Entry",0]
[null,null,null,null,null,null,null,null,null,null,null,null,"",{"$f":"IF(D3036=\"Cash and Deposits\",IF(E3036=\"\",\"BANK NAME REQUIRED\",IF(ISERROR(VLOOKUP(E3036,'Reference Data'!C:C,1,FALSE)),\"PLEASE SELECT A BANK FROM DEFINED LIST PROVIDED\",\"\")),\"\")","v":""},"No Entry",0]
[null,null,null,null,null,null,null,null,null,null,null,null,"",{"$f":"IF(D3037=\"Cash and Deposits\",IF(E3037=\"\",\"BANK NAME REQUIRED\",IF(ISERROR(VLOOKUP(E3037,'Reference Data'!C:C,1,FALSE)),\"PLEASE SELECT A BANK FROM DEFINED LIST PROVIDED\",\"\")),\"\")","v":""},"No Entry",0]
[null,null,null,null,null,null,null,null,null,null,null,null,"",{"$f":"IF(D3038=\"Cash and Deposits\",IF(E3038=\"\",\"BANK NAME REQUIRED\",IF(ISERROR(VLOOKUP(E3038,'Reference Data'!C:C,1,FALSE)),\"PLEASE SELECT A BANK FROM DEFINED LIST PROVIDED\",\"\")),\"\")","v":""},"No Entry",0]
[null,null,null,null,null,null,null,null,null,null,null,null,"",{"$f":"IF(D3039=\"Cash and Deposits\",IF(E3039=\"\",\"BANK NAME REQUIRED\",IF(ISERROR(VLOOKUP(E3039,'Reference Data'!C:C,1,FALSE)),\"PLEASE SELECT A BANK FROM DEFINED LIST PROVIDED\",\"\")),\"\")","v":""},"No Entry",0]
[null,null,null,null,null,null,null,null,null,null,null,null,"",{"$f":"IF(D3040=\"Cash and Deposits\",IF(E3040=\"\",\"BANK NAME REQUIRED\",IF(ISERROR(VLOOKUP(E3040,'Reference Data'!C:C,1,FALSE)),\"PLEASE SELECT A BANK FROM DEFINED LIST PROVIDED\",\"\")),\"\")","v":""},"No Entry",0]
[null,null,null,null,null,null,null,null,null,null,null,null,"",{"$f":"IF(D3041=\"Cash and Deposits\",IF(E3041=\"\",\"BANK NAME REQUIRED\",IF(ISERROR(VLOOKUP(E3041,'Reference Data'!C:C,1,FALSE)),\"PLEASE SELECT A BANK FROM DEFINED LIST PROVIDED\",\"\")),\"\")","v":""},"No Entry",0]
[null,null,null,null,null,null,null,null,null,null,null,null,"",{"$f":"IF(D3042=\"Cash and Deposits\",IF(E3042=\"\",\"BANK NAME REQUIRED\",IF(ISERROR(VLOOKUP(E3042,'Reference Data'!C:C,1,FALSE)),\"PLEASE SELECT A BANK FROM DEFINED LIST PROVIDED\",\"\")),\"\")","v":""},"No Entry",0]
[null,null,null,null,null,null,null,null,null,null,null,null,"",{"$f":"IF(D3043=\"Cash and Deposits\",IF(E3043=\"\",\"BANK NAME REQUIRED\",IF(ISERROR(VLOOKUP(E3043,'Reference Data'!C:C,1,FALSE)),\"PLEASE SELECT A BANK FROM DEFINED LIST PROVIDED\",\"\")),\"\")","v":""},"No Entry",0]
[null,null,null,null,null,null,null,null,null,null,null,null,"",{"$f":"IF(D3044=\"Cash and Deposits\",IF(E3044=\"\",\"BANK NAME REQUIRED\",IF(ISERROR(VLOOKUP(E3044,'Reference Data'!C:C,1,FALSE)),\"PLEASE SELECT A BANK FROM DEFINED LIST PROVIDED\",\"\")),\"\")","v":""},"No Entry",0]
[null,null,null,null,null,null,null,null,null,null,null,null,"",{"$f":"IF(D3045=\"Cash and Deposits\",IF(E3045=\"\",\"BANK NAME REQUIRED\",IF(ISERROR(VLOOKUP(E3045,'Reference Data'!C:C,1,FALSE)),\"PLEASE SELECT A BANK FROM DEFINED LIST PROVIDED\",\"\")),\"\")","v":""},"No Entry",0]
[null,null,null,null,null,null,null,null,null,null,null,null,"",{"$f":"IF(D3046=\"Cash and Deposits\",IF(E3046=\"\",\"BANK NAME REQUIRED\",IF(ISERROR(VLOOKUP(E3046,'Reference Data'!C:C,1,FALSE)),\"PLEASE SELECT A BANK FROM DEFINED LIST PROVIDED\",\"\")),\"\")","v":""},"No Entry",0]
[null,null,null,null,null,null,null,null,null,null,null,null,"",{"$f":"IF(D3047=\"Cash and Deposits\",IF(E3047=\"\",\"BANK NAME REQUIRED\",IF(ISERROR(VLOOKUP(E3047,'Reference Data'!C:C,1,FALSE)),\"PLEASE SELECT A BANK FROM DEFINED LIST PROVIDED\",\"\")),\"\")","v":""},"No Entry",0]
[null,null,null,null,null,null,null,null,null,null,null,null,"",{"$f":"IF(D3048=\"Cash and Deposits\",IF(E3048=\"\",\"BANK NAME REQUIRED\",IF(ISERROR(VLOOKUP(E3048,'Reference Data'!C:C,1,FALSE)),\"PLEASE SELECT A BANK FROM DEFINED LIST PROVIDED\",\"\")),\"\")","v":""},"No Entry",0]
[null,null,null,null,null,null,null,null,null,null,null,null,"",{"$f":"IF(D3049=\"Cash and Deposits\",IF(E3049=\"\",\"BANK NAME REQUIRED\",IF(ISERROR(VLOOKUP(E3049,'Reference Data'!C:C,1,FALSE)),\"PLEASE SELECT A BANK FROM DEFINED LIST PROVIDED\",\"\")),\"\")","v":""},"No Entry",0]
[null,null,null,null,null,null,null,null,null,null,null,null,"",{"$f":"IF(D3050=\"Cash and Deposits\",IF(E3050=\"\",\"BANK NAME REQUIRED\",IF(ISERROR(VLOOKUP(E3050,'Reference Data'!C:C,1,FALSE)),\"PLEASE SELECT A BANK FROM DEFINED LIST PROVIDED\",\"\")),\"\")","v":""},"No Entry",0]
[null,null,null,null,null,null,null,null,null,null,null,null,"",{"$f":"IF(D3051=\"Cash and Deposits\",IF(E3051=\"\",\"BANK NAME REQUIRED\",IF(ISERROR(VLOOKUP(E3051,'Reference Data'!C:C,1,FALSE)),\"PLEASE SELECT A BANK FROM DEFINED LIST PROVIDED\",\"\")),\"\")","v":""},"No Entry",0]
[null,null,null,null,null,null,null,null,null,null,null,null,"",{"$f":"IF(D3052=\"Cash and Deposits\",IF(E3052=\"\",\"BANK NAME REQUIRED\",IF(ISERROR(VLOOKUP(E3052,'Reference Data'!C:C,1,FALSE)),\"PLEASE SELECT A BANK FROM DEFINED LIST PROVIDED\",\"\")),\"\")","v":""},"No Entry",0]
[null,null,null,null,null,null,null,null,null,null,null,null,"",{"$f":"IF(D3053=\"Cash and Deposits\",IF(E3053=\"\",\"BANK NAME REQUIRED\",IF(ISERROR(VLOOKUP(E3053,'Reference Data'!C:C,1,FALSE)),\"PLEASE SELECT A BANK FROM DEFINED LIST PROVIDED\",\"\")),\"\")","v":""},"No Entry",0]
[null,null,null,null,null,null,null,null,null,null,null,null,"",{"$f":"IF(D3054=\"Cash and Deposits\",IF(E3054=\"\",\"BANK NAME REQUIRED\",IF(ISERROR(VLOOKUP(E3054,'Reference Data'!C:C,1,FALSE)),\"PLEASE SELECT A BANK FROM DEFINED LIST PROVIDED\",\"\")),\"\")","v":""},"No Entry",0]
[null,null,null,null,null,null,null,null,null,null,null,null,"",{"$f":"IF(D3055=\"Cash and Deposits\",IF(E3055=\"\",\"BANK NAME REQUIRED\",IF(ISERROR(VLOOKUP(E3055,'Reference Data'!C:C,1,FALSE)),\"PLEASE SELECT A BANK FROM DEFINED LIST PROVIDED\",\"\")),\"\")","v":""},"No Entry",0]
[null,null,null,null,null,null,null,null,null,null,null,null,"",{"$f":"IF(D3056=\"Cash and Deposits\",IF(E3056=\"\",\"BANK NAME REQUIRED\",IF(ISERROR(VLOOKUP(E3056,'Reference Data'!C:C,1,FALSE)),\"PLEASE SELECT A BANK FROM DEFINED LIST PROVIDED\",\"\")),\"\")","v":""},"No Entry",0]
[null,null,null,null,null,null,null,null,null,null,null,null,"",{"$f":"IF(D3057=\"Cash and Deposits\",IF(E3057=\"\",\"BANK NAME REQUIRED\",IF(ISERROR(VLOOKUP(E3057,'Reference Data'!C:C,1,FALSE)),\"PLEASE SELECT A BANK FROM DEFINED LIST PROVIDED\",\"\")),\"\")","v":""},"No Entry",0]
[null,null,null,null,null,null,null,null,null,null,null,null,"",{"$f":"IF(D3058=\"Cash and Deposits\",IF(E3058=\"\",\"BANK NAME REQUIRED\",IF(ISERROR(VLOOKUP(E3058,'Reference Data'!C:C,1,FALSE)),\"PLEASE SELECT A BANK FROM DEFINED LIST PROVIDED\",\"\")),\"\")","v":""},"No Entry",0]
[null,null,null,null,null,null,null,null,null,null,null,null,"",{"$f":"IF(D3059=\"Cash and Deposits\",IF(E3059=\"\",\"BANK NAME REQUIRED\",IF(ISERROR(VLOOKUP(E3059,'Reference Data'!C:C,1,FALSE)),\"PLEASE SELECT A BANK FROM DEFINED LIST PROVIDED\",\"\")),\"\")","v":""},"No Entry",0]
[null,null,null,null,null,null,null,null,null,null,null,null,"",{"$f":"IF(D3060=\"Cash and Deposits\",IF(E3060=\"\",\"BANK NAME REQUIRED\",IF(ISERROR(VLOOKUP(E3060,'Reference Data'!C:C,1,FALSE)),\"PLEASE SELECT A BANK FROM DEFINED LIST PROVIDED\",\"\")),\"\")","v":""},"No Entry",0]
[null,null,null,null,null,null,null,null,null,null,null,null,"",{"$f":"IF(D3061=\"Cash and Deposits\",IF(E3061=\"\",\"BANK NAME REQUIRED\",IF(ISERROR(VLOOKUP(E3061,'Reference Data'!C:C,1,FALSE)),\"PLEASE SELECT A BANK FROM DEFINED LIST PROVIDED\",\"\")),\"\")","v":""},"No Entry",0]
[null,null,null,null,null,null,null,null,null,null,null,null,"",{"$f":"IF(D3062=\"Cash and Deposits\",IF(E3062=\"\",\"BANK NAME REQUIRED\",IF(ISERROR(VLOOKUP(E3062,'Reference Data'!C:C,1,FALSE)),\"PLEASE SELECT A BANK FROM DEFINED LIST PROVIDED\",\"\")),\"\")","v":""},"No Entry",0]
[null,null,null,null,null,null,null,null,null,null,null,null,"",{"$f":"IF(D3063=\"Cash and Deposits\",IF(E3063=\"\",\"BANK NAME REQUIRED\",IF(ISERROR(VLOOKUP(E3063,'Reference Data'!C:C,1,FALSE)),\"PLEASE SELECT A BANK FROM DEFINED LIST PROVIDED\",\"\")),\"\")","v":""},"No Entry",0]
[null,null,null,null,null,null,null,null,null,null,null,null,"",{"$f":"IF(D3064=\"Cash and Deposits\",IF(E3064=\"\",\"BANK NAME REQUIRED\",IF(ISERROR(VLOOKUP(E3064,'Reference Data'!C:C,1,FALSE)),\"PLEASE SELECT A BANK FROM DEFINED LIST PROVIDED\",\"\")),\"\")","v":""},"No Entry",0]
[null,null,null,null,null,null,null,null,null,null,null,null,"",{"$f":"IF(D3065=\"Cash and Deposits\",IF(E3065=\"\",\"BANK NAME REQUIRED\",IF(ISERROR(VLOOKUP(E3065,'Reference Data'!C:C,1,FALSE)),\"PLEASE SELECT A BANK FROM DEFINED LIST PROVIDED\",\"\")),\"\")","v":""},"No Entry",0]
[null,null,null,null,null,null,null,null,null,null,null,null,"",{"$f":"IF(D3066=\"Cash and Deposits\",IF(E3066=\"\",\"BANK NAME REQUIRED\",IF(ISERROR(VLOOKUP(E3066,'Reference Data'!C:C,1,FALSE)),\"PLEASE SELECT A BANK FROM DEFINED LIST PROVIDED\",\"\")),\"\")","v":""},"No Entry",0]
[null,null,null,null,null,null,null,null,null,null,null,null,"",{"$f":"IF(D3067=\"Cash and Deposits\",IF(E3067=\"\",\"BANK NAME REQUIRED\",IF(ISERROR(VLOOKUP(E3067,'Reference Data'!C:C,1,FALSE)),\"PLEASE SELECT A BANK FROM DEFINED LIST PROVIDED\",\"\")),\"\")","v":""},"No Entry",0]
[null,null,null,null,null,null,null,null,null,null,null,null,"",{"$f":"IF(D3068=\"Cash and Deposits\",IF(E3068=\"\",\"BANK NAME REQUIRED\",IF(ISERROR(VLOOKUP(E3068,'Reference Data'!C:C,1,FALSE)),\"PLEASE SELECT A BANK FROM DEFINED LIST PROVIDED\",\"\")),\"\")","v":""},"No Entry",0]
[null,null,null,null,null,null,null,null,null,null,null,null,"",{"$f":"IF(D3069=\"Cash and Deposits\",IF(E3069=\"\",\"BANK NAME REQUIRED\",IF(ISERROR(VLOOKUP(E3069,'Reference Data'!C:C,1,FALSE)),\"PLEASE SELECT A BANK FROM DEFINED LIST PROVIDED\",\"\")),\"\")","v":""},"No Entry",0]
[null,null,null,null,null,null,null,null,null,null,null,null,"",{"$f":"IF(D3070=\"Cash and Deposits\",IF(E3070=\"\",\"BANK NAME REQUIRED\",IF(ISERROR(VLOOKUP(E3070,'Reference Data'!C:C,1,FALSE)),\"PLEASE SELECT A BANK FROM DEFINED LIST PROVIDED\",\"\")),\"\")","v":""},"No Entry",0]
[null,null,null,null,null,null,null,null,null,null,null,null,"",{"$f":"IF(D3071=\"Cash and Deposits\",IF(E3071=\"\",\"BANK NAME REQUIRED\",IF(ISERROR(VLOOKUP(E3071,'Reference Data'!C:C,1,FALSE)),\"PLEASE SELECT A BANK FROM DEFINED LIST PROVIDED\",\"\")),\"\")","v":""},"No Entry",0]
[null,null,null,null,null,null,null,null,null,null,null,null,"",{"$f":"IF(D3072=\"Cash and Deposits\",IF(E3072=\"\",\"BANK NAME REQUIRED\",IF(ISERROR(VLOOKUP(E3072,'Reference Data'!C:C,1,FALSE)),\"PLEASE SELECT A BANK FROM DEFINED LIST PROVIDED\",\"\")),\"\")","v":""},"No Entry",0]
[null,null,null,null,null,null,null,null,null,null,null,null,"",{"$f":"IF(D3073=\"Cash and Deposits\",IF(E3073=\"\",\"BANK NAME REQUIRED\",IF(ISERROR(VLOOKUP(E3073,'Reference Data'!C:C,1,FALSE)),\"PLEASE SELECT A BANK FROM DEFINED LIST PROVIDED\",\"\")),\"\")","v":""},"No Entry",0]
[null,null,null,null,null,null,null,null,null,null,null,null,"",{"$f":"IF(D3074=\"Cash and Deposits\",IF(E3074=\"\",\"BANK NAME REQUIRED\",IF(ISERROR(VLOOKUP(E3074,'Reference Data'!C:C,1,FALSE)),\"PLEASE SELECT A BANK FROM DEFINED LIST PROVIDED\",\"\")),\"\")","v":""},"No Entry",0]
[null,null,null,null,null,null,null,null,null,null,null,null,"",{"$f":"IF(D3075=\"Cash and Deposits\",IF(E3075=\"\",\"BANK NAME REQUIRED\",IF(ISERROR(VLOOKUP(E3075,'Reference Data'!C:C,1,FALSE)),\"PLEASE SELECT A BANK FROM DEFINED LIST PROVIDED\",\"\")),\"\")","v":""},"No Entry",0]
[null,null,null,null,null,null,null,null,null,null,null,null,"",{"$f":"IF(D3076=\"Cash and Deposits\",IF(E3076=\"\",\"BANK NAME REQUIRED\",IF(ISERROR(VLOOKUP(E3076,'Reference Data'!C:C,1,FALSE)),\"PLEASE SELECT A BANK FROM DEFINED LIST PROVIDED\",\"\")),\"\")","v":""},"No Entry",0]
[null,null,null,null,null,null,null,null,null,null,null,null,{"$f":"IF(K3077<>0,IF(B3077=\"\",\"ID CODE REQUIRED\",\"\"),\"\")","v":""},{"$f":"IF(D3077=\"Cash and Deposits\",IF(E3077=\"\",\"BANK NAME REQUIRED\",IF(ISERROR(VLOOKUP(E3077,'Reference Data'!C:C,1,FALSE)),\"PLEASE SELECT A BANK FROM DEFINED LIST PROVIDED\",\"\")),\"\")","v":""},{"$f":"IF(K3077=0,\"No Entry\",\"\")","v":"No Entry"},{"$f":"IF(K3077<>0,IF(A3077=\"\",1,0),0)","v":0}]
[null,null,null,null,null,null,null,null,null,null,null,null,"",{"$f":"IF(D3078=\"Cash and Deposits\",IF(E3078=\"\",\"BANK NAME REQUIRED\",IF(ISERROR(VLOOKUP(E3078,'Reference Data'!C:C,1,FALSE)),\"PLEASE SELECT A BANK FROM DEFINED LIST PROVIDED\",\"\")),\"\")","v":""},"No Entry",0]
[null,null,null,null,null,null,null,null,null,null,null,null,"",{"$f":"IF(D3079=\"Cash and Deposits\",IF(E3079=\"\",\"BANK NAME REQUIRED\",IF(ISERROR(VLOOKUP(E3079,'Reference Data'!C:C,1,FALSE)),\"PLEASE SELECT A BANK FROM DEFINED LIST PROVIDED\",\"\")),\"\")","v":""},"No Entry",0]
[null,null,null,null,null,null,null,null,null,null,null,null,"",{"$f":"IF(D3080=\"Cash and Deposits\",IF(E3080=\"\",\"BANK NAME REQUIRED\",IF(ISERROR(VLOOKUP(E3080,'Reference Data'!C:C,1,FALSE)),\"PLEASE SELECT A BANK FROM DEFINED LIST PROVIDED\",\"\")),\"\")","v":""},"No Entry",0]
[null,null,null,null,null,null,null,null,null,null,null,null,"",{"$f":"IF(D3081=\"Cash and Deposits\",IF(E3081=\"\",\"BANK NAME REQUIRED\",IF(ISERROR(VLOOKUP(E3081,'Reference Data'!C:C,1,FALSE)),\"PLEASE SELECT A BANK FROM DEFINED LIST PROVIDED\",\"\")),\"\")","v":""},"No Entry",0]
[null,null,null,null,null,null,null,null,null,null,null,null,"",{"$f":"IF(D3082=\"Cash and Deposits\",IF(E3082=\"\",\"BANK NAME REQUIRED\",IF(ISERROR(VLOOKUP(E3082,'Reference Data'!C:C,1,FALSE)),\"PLEASE SELECT A BANK FROM DEFINED LIST PROVIDED\",\"\")),\"\")","v":""},"No Entry",0]
[null,null,null,null,null,null,null,null,null,null,null,null,"",{"$f":"IF(D3083=\"Cash and Deposits\",IF(E3083=\"\",\"BANK NAME REQUIRED\",IF(ISERROR(VLOOKUP(E3083,'Reference Data'!C:C,1,FALSE)),\"PLEASE SELECT A BANK FROM DEFINED LIST PROVIDED\",\"\")),\"\")","v":""},"No Entry",0]
[null,null,null,null,null,null,null,null,null,null,null,null,"",{"$f":"IF(D3084=\"Cash and Deposits\",IF(E3084=\"\",\"BANK NAME REQUIRED\",IF(ISERROR(VLOOKUP(E3084,'Reference Data'!C:C,1,FALSE)),\"PLEASE SELECT A BANK FROM DEFINED LIST PROVIDED\",\"\")),\"\")","v":""},"No Entry",0]
[null,null,null,null,null,null,null,null,null,null,null,null,"",{"$f":"IF(D3085=\"Cash and Deposits\",IF(E3085=\"\",\"BANK NAME REQUIRED\",IF(ISERROR(VLOOKUP(E3085,'Reference Data'!C:C,1,FALSE)),\"PLEASE SELECT A BANK FROM DEFINED LIST PROVIDED\",\"\")),\"\")","v":""},"No Entry",0]
[null,null,null,null,null,null,null,null,null,null,null,null,"",{"$f":"IF(D3086=\"Cash and Deposits\",IF(E3086=\"\",\"BANK NAME REQUIRED\",IF(ISERROR(VLOOKUP(E3086,'Reference Data'!C:C,1,FALSE)),\"PLEASE SELECT A BANK FROM DEFINED LIST PROVIDED\",\"\")),\"\")","v":""},"No Entry",0]
[null,null,null,null,null,null,null,null,null,null,null,null,"",{"$f":"IF(D3087=\"Cash and Deposits\",IF(E3087=\"\",\"BANK NAME REQUIRED\",IF(ISERROR(VLOOKUP(E3087,'Reference Data'!C:C,1,FALSE)),\"PLEASE SELECT A BANK FROM DEFINED LIST PROVIDED\",\"\")),\"\")","v":""},"No Entry",0]
[null,null,null,null,null,null,null,null,null,null,null,null,"",{"$f":"IF(D3088=\"Cash and Deposits\",IF(E3088=\"\",\"BANK NAME REQUIRED\",IF(ISERROR(VLOOKUP(E3088,'Reference Data'!C:C,1,FALSE)),\"PLEASE SELECT A BANK FROM DEFINED LIST PROVIDED\",\"\")),\"\")","v":""},"No Entry",0]
[null,null,null,null,null,null,null,null,null,null,null,null,"",{"$f":"IF(D3089=\"Cash and Deposits\",IF(E3089=\"\",\"BANK NAME REQUIRED\",IF(ISERROR(VLOOKUP(E3089,'Reference Data'!C:C,1,FALSE)),\"PLEASE SELECT A BANK FROM DEFINED LIST PROVIDED\",\"\")),\"\")","v":""},"No Entry",0]
[null,null,null,null,null,null,null,null,null,null,null,null,"",{"$f":"IF(D3090=\"Cash and Deposits\",IF(E3090=\"\",\"BANK NAME REQUIRED\",IF(ISERROR(VLOOKUP(E3090,'Reference Data'!C:C,1,FALSE)),\"PLEASE SELECT A BANK FROM DEFINED LIST PROVIDED\",\"\")),\"\")","v":""},"No Entry",0]
[null,null,null,null,null,null,null,null,null,null,null,null,"",{"$f":"IF(D3091=\"Cash and Deposits\",IF(E3091=\"\",\"BANK NAME REQUIRED\",IF(ISERROR(VLOOKUP(E3091,'Reference Data'!C:C,1,FALSE)),\"PLEASE SELECT A BANK FROM DEFINED LIST PROVIDED\",\"\")),\"\")","v":""},"No Entry",0]
[null,null,null,null,null,null,null,null,null,null,null,null,"",{"$f":"IF(D3092=\"Cash and Deposits\",IF(E3092=\"\",\"BANK NAME REQUIRED\",IF(ISERROR(VLOOKUP(E3092,'Reference Data'!C:C,1,FALSE)),\"PLEASE SELECT A BANK FROM DEFINED LIST PROVIDED\",\"\")),\"\")","v":""},"No Entry",0]
[null,null,null,null,null,null,null,null,null,null,null,null,"",{"$f":"IF(D3093=\"Cash and Deposits\",IF(E3093=\"\",\"BANK NAME REQUIRED\",IF(ISERROR(VLOOKUP(E3093,'Reference Data'!C:C,1,FALSE)),\"PLEASE SELECT A BANK FROM DEFINED LIST PROVIDED\",\"\")),\"\")","v":""},"No Entry",0]
[null,null,null,null,null,null,null,null,null,null,null,null,"",{"$f":"IF(D3094=\"Cash and Deposits\",IF(E3094=\"\",\"BANK NAME REQUIRED\",IF(ISERROR(VLOOKUP(E3094,'Reference Data'!C:C,1,FALSE)),\"PLEASE SELECT A BANK FROM DEFINED LIST PROVIDED\",\"\")),\"\")","v":""},"No Entry",0]
[null,null,null,null,null,null,null,null,null,null,null,null,"",{"$f":"IF(D3095=\"Cash and Deposits\",IF(E3095=\"\",\"BANK NAME REQUIRED\",IF(ISERROR(VLOOKUP(E3095,'Reference Data'!C:C,1,FALSE)),\"PLEASE SELECT A BANK FROM DEFINED LIST PROVIDED\",\"\")),\"\")","v":""},"No Entry",0]
[null,null,null,null,null,null,null,null,null,null,null,null,"",{"$f":"IF(D3096=\"Cash and Deposits\",IF(E3096=\"\",\"BANK NAME REQUIRED\",IF(ISERROR(VLOOKUP(E3096,'Reference Data'!C:C,1,FALSE)),\"PLEASE SELECT A BANK FROM DEFINED LIST PROVIDED\",\"\")),\"\")","v":""},"No Entry",0]
[null,null,null,null,null,null,null,null,null,null,null,null,"",{"$f":"IF(D3097=\"Cash and Deposits\",IF(E3097=\"\",\"BANK NAME REQUIRED\",IF(ISERROR(VLOOKUP(E3097,'Reference Data'!C:C,1,FALSE)),\"PLEASE SELECT A BANK FROM DEFINED LIST PROVIDED\",\"\")),\"\")","v":""},"No Entry",0]
[null,null,null,null,null,null,null,null,null,null,null,null,"",{"$f":"IF(D3098=\"Cash and Deposits\",IF(E3098=\"\",\"BANK NAME REQUIRED\",IF(ISERROR(VLOOKUP(E3098,'Reference Data'!C:C,1,FALSE)),\"PLEASE SELECT A BANK FROM DEFINED LIST PROVIDED\",\"\")),\"\")","v":""},"No Entry",0]
[null,null,null,null,null,null,null,null,null,null,null,null,"",{"$f":"IF(D3099=\"Cash and Deposits\",IF(E3099=\"\",\"BANK NAME REQUIRED\",IF(ISERROR(VLOOKUP(E3099,'Reference Data'!C:C,1,FALSE)),\"PLEASE SELECT A BANK FROM DEFINED LIST PROVIDED\",\"\")),\"\")","v":""},"No Entry",0]
[null,null,null,null,null,null,null,null,null,null,null,null,"",{"$f":"IF(D3100=\"Cash and Deposits\",IF(E3100=\"\",\"BANK NAME REQUIRED\",IF(ISERROR(VLOOKUP(E3100,'Reference Data'!C:C,1,FALSE)),\"PLEASE SELECT A BANK FROM DEFINED LIST PROVIDED\",\"\")),\"\")","v":""},"No Entry",0]
[null,null,null,null,null,null,null,null,null,null,null,null,"",{"$f":"IF(D3101=\"Cash and Deposits\",IF(E3101=\"\",\"BANK NAME REQUIRED\",IF(ISERROR(VLOOKUP(E3101,'Reference Data'!C:C,1,FALSE)),\"PLEASE SELECT A BANK FROM DEFINED LIST PROVIDED\",\"\")),\"\")","v":""},"No Entry",0]
[null,null,null,null,null,null,null,null,null,null,null,null,"",{"$f":"IF(D3102=\"Cash and Deposits\",IF(E3102=\"\",\"BANK NAME REQUIRED\",IF(ISERROR(VLOOKUP(E3102,'Reference Data'!C:C,1,FALSE)),\"PLEASE SELECT A BANK FROM DEFINED LIST PROVIDED\",\"\")),\"\")","v":""},"No Entry",0]
[null,null,null,null,null,null,null,null,null,null,null,null,"",{"$f":"IF(D3103=\"Cash and Deposits\",IF(E3103=\"\",\"BANK NAME REQUIRED\",IF(ISERROR(VLOOKUP(E3103,'Reference Data'!C:C,1,FALSE)),\"PLEASE SELECT A BANK FROM DEFINED LIST PROVIDED\",\"\")),\"\")","v":""},"No Entry",0]
[null,null,null,null,null,null,null,null,null,null,null,null,"",{"$f":"IF(D3104=\"Cash and Deposits\",IF(E3104=\"\",\"BANK NAME REQUIRED\",IF(ISERROR(VLOOKUP(E3104,'Reference Data'!C:C,1,FALSE)),\"PLEASE SELECT A BANK FROM DEFINED LIST PROVIDED\",\"\")),\"\")","v":""},"No Entry",0]
[null,null,null,null,null,null,null,null,null,null,null,null,"",{"$f":"IF(D3105=\"Cash and Deposits\",IF(E3105=\"\",\"BANK NAME REQUIRED\",IF(ISERROR(VLOOKUP(E3105,'Reference Data'!C:C,1,FALSE)),\"PLEASE SELECT A BANK FROM DEFINED LIST PROVIDED\",\"\")),\"\")","v":""},"No Entry",0]
[null,null,null,null,null,null,null,null,null,null,null,null,"",{"$f":"IF(D3106=\"Cash and Deposits\",IF(E3106=\"\",\"BANK NAME REQUIRED\",IF(ISERROR(VLOOKUP(E3106,'Reference Data'!C:C,1,FALSE)),\"PLEASE SELECT A BANK FROM DEFINED LIST PROVIDED\",\"\")),\"\")","v":""},"No Entry",0]
[null,null,null,null,null,null,null,null,null,null,null,null,"",{"$f":"IF(D3107=\"Cash and Deposits\",IF(E3107=\"\",\"BANK NAME REQUIRED\",IF(ISERROR(VLOOKUP(E3107,'Reference Data'!C:C,1,FALSE)),\"PLEASE SELECT A BANK FROM DEFINED LIST PROVIDED\",\"\")),\"\")","v":""},"No Entry",0]
[null,null,null,null,null,null,null,null,null,null,null,null,"",{"$f":"IF(D3108=\"Cash and Deposits\",IF(E3108=\"\",\"BANK NAME REQUIRED\",IF(ISERROR(VLOOKUP(E3108,'Reference Data'!C:C,1,FALSE)),\"PLEASE SELECT A BANK FROM DEFINED LIST PROVIDED\",\"\")),\"\")","v":""},"No Entry",0]
[null,null,null,null,null,null,null,null,null,null,null,null,"",{"$f":"IF(D3109=\"Cash and Deposits\",IF(E3109=\"\",\"BANK NAME REQUIRED\",IF(ISERROR(VLOOKUP(E3109,'Reference Data'!C:C,1,FALSE)),\"PLEASE SELECT A BANK FROM DEFINED LIST PROVIDED\",\"\")),\"\")","v":""},"No Entry",0]
[null,null,null,null,null,null,null,null,null,null,null,null,"",{"$f":"IF(D3110=\"Cash and Deposits\",IF(E3110=\"\",\"BANK NAME REQUIRED\",IF(ISERROR(VLOOKUP(E3110,'Reference Data'!C:C,1,FALSE)),\"PLEASE SELECT A BANK FROM DEFINED LIST PROVIDED\",\"\")),\"\")","v":""},"No Entry",0]
[null,null,null,null,null,null,null,null,null,null,null,null,"",{"$f":"IF(D3111=\"Cash and Deposits\",IF(E3111=\"\",\"BANK NAME REQUIRED\",IF(ISERROR(VLOOKUP(E3111,'Reference Data'!C:C,1,FALSE)),\"PLEASE SELECT A BANK FROM DEFINED LIST PROVIDED\",\"\")),\"\")","v":""},"No Entry",0]
[null,null,null,null,null,null,null,null,null,null,null,null,"",{"$f":"IF(D3112=\"Cash and Deposits\",IF(E3112=\"\",\"BANK NAME REQUIRED\",IF(ISERROR(VLOOKUP(E3112,'Reference Data'!C:C,1,FALSE)),\"PLEASE SELECT A BANK FROM DEFINED LIST PROVIDED\",\"\")),\"\")","v":""},"No Entry",0]
[null,null,null,null,null,null,null,null,null,null,null,null,"",{"$f":"IF(D3113=\"Cash and Deposits\",IF(E3113=\"\",\"BANK NAME REQUIRED\",IF(ISERROR(VLOOKUP(E3113,'Reference Data'!C:C,1,FALSE)),\"PLEASE SELECT A BANK FROM DEFINED LIST PROVIDED\",\"\")),\"\")","v":""},"No Entry",0]
[null,null,null,null,null,null,null,null,null,null,null,null,"",{"$f":"IF(D3114=\"Cash and Deposits\",IF(E3114=\"\",\"BANK NAME REQUIRED\",IF(ISERROR(VLOOKUP(E3114,'Reference Data'!C:C,1,FALSE)),\"PLEASE SELECT A BANK FROM DEFINED LIST PROVIDED\",\"\")),\"\")","v":""},"No Entry",0]
[null,null,null,null,null,null,null,null,null,null,null,null,"",{"$f":"IF(D3115=\"Cash and Deposits\",IF(E3115=\"\",\"BANK NAME REQUIRED\",IF(ISERROR(VLOOKUP(E3115,'Reference Data'!C:C,1,FALSE)),\"PLEASE SELECT A BANK FROM DEFINED LIST PROVIDED\",\"\")),\"\")","v":""},"No Entry",0]
[null,null,null,null,null,null,null,null,null,null,null,null,"",{"$f":"IF(D3116=\"Cash and Deposits\",IF(E3116=\"\",\"BANK NAME REQUIRED\",IF(ISERROR(VLOOKUP(E3116,'Reference Data'!C:C,1,FALSE)),\"PLEASE SELECT A BANK FROM DEFINED LIST PROVIDED\",\"\")),\"\")","v":""},"No Entry",0]
[null,null,null,null,null,null,null,null,null,null,null,null,"",{"$f":"IF(D3117=\"Cash and Deposits\",IF(E3117=\"\",\"BANK NAME REQUIRED\",IF(ISERROR(VLOOKUP(E3117,'Reference Data'!C:C,1,FALSE)),\"PLEASE SELECT A BANK FROM DEFINED LIST PROVIDED\",\"\")),\"\")","v":""},"No Entry",0]
[null,null,null,null,null,null,null,null,null,null,null,null,"",{"$f":"IF(D3118=\"Cash and Deposits\",IF(E3118=\"\",\"BANK NAME REQUIRED\",IF(ISERROR(VLOOKUP(E3118,'Reference Data'!C:C,1,FALSE)),\"PLEASE SELECT A BANK FROM DEFINED LIST PROVIDED\",\"\")),\"\")","v":""},"No Entry",0]
[null,null,null,null,null,null,null,null,null,null,null,null,"",{"$f":"IF(D3119=\"Cash and Deposits\",IF(E3119=\"\",\"BANK NAME REQUIRED\",IF(ISERROR(VLOOKUP(E3119,'Reference Data'!C:C,1,FALSE)),\"PLEASE SELECT A BANK FROM DEFINED LIST PROVIDED\",\"\")),\"\")","v":""},"No Entry",0]
[null,null,null,null,null,null,null,null,null,null,null,null,"",{"$f":"IF(D3120=\"Cash and Deposits\",IF(E3120=\"\",\"BANK NAME REQUIRED\",IF(ISERROR(VLOOKUP(E3120,'Reference Data'!C:C,1,FALSE)),\"PLEASE SELECT A BANK FROM DEFINED LIST PROVIDED\",\"\")),\"\")","v":""},"No Entry",0]
[null,null,null,null,null,null,null,null,null,null,null,null,"",{"$f":"IF(D3121=\"Cash and Deposits\",IF(E3121=\"\",\"BANK NAME REQUIRED\",IF(ISERROR(VLOOKUP(E3121,'Reference Data'!C:C,1,FALSE)),\"PLEASE SELECT A BANK FROM DEFINED LIST PROVIDED\",\"\")),\"\")","v":""},"No Entry",0]
[null,null,null,null,null,null,null,null,null,null,null,null,"",{"$f":"IF(D3122=\"Cash and Deposits\",IF(E3122=\"\",\"BANK NAME REQUIRED\",IF(ISERROR(VLOOKUP(E3122,'Reference Data'!C:C,1,FALSE)),\"PLEASE SELECT A BANK FROM DEFINED LIST PROVIDED\",\"\")),\"\")","v":""},"No Entry",0]
[null,null,null,null,null,null,null,null,null,null,null,null,"",{"$f":"IF(D3123=\"Cash and Deposits\",IF(E3123=\"\",\"BANK NAME REQUIRED\",IF(ISERROR(VLOOKUP(E3123,'Reference Data'!C:C,1,FALSE)),\"PLEASE SELECT A BANK FROM DEFINED LIST PROVIDED\",\"\")),\"\")","v":""},"No Entry",0]
[null,null,null,null,null,null,null,null,null,null,null,null,"",{"$f":"IF(D3124=\"Cash and Deposits\",IF(E3124=\"\",\"BANK NAME REQUIRED\",IF(ISERROR(VLOOKUP(E3124,'Reference Data'!C:C,1,FALSE)),\"PLEASE SELECT A BANK FROM DEFINED LIST PROVIDED\",\"\")),\"\")","v":""},"No Entry",0]
[null,null,null,null,null,null,null,null,null,null,null,null,"",{"$f":"IF(D3125=\"Cash and Deposits\",IF(E3125=\"\",\"BANK NAME REQUIRED\",IF(ISERROR(VLOOKUP(E3125,'Reference Data'!C:C,1,FALSE)),\"PLEASE SELECT A BANK FROM DEFINED LIST PROVIDED\",\"\")),\"\")","v":""},"No Entry",0]
[null,null,null,null,null,null,null,null,null,null,null,null,"",{"$f":"IF(D3126=\"Cash and Deposits\",IF(E3126=\"\",\"BANK NAME REQUIRED\",IF(ISERROR(VLOOKUP(E3126,'Reference Data'!C:C,1,FALSE)),\"PLEASE SELECT A BANK FROM DEFINED LIST PROVIDED\",\"\")),\"\")","v":""},"No Entry",0]
[null,null,null,null,null,null,null,null,null,null,null,null,"",{"$f":"IF(D3127=\"Cash and Deposits\",IF(E3127=\"\",\"BANK NAME REQUIRED\",IF(ISERROR(VLOOKUP(E3127,'Reference Data'!C:C,1,FALSE)),\"PLEASE SELECT A BANK FROM DEFINED LIST PROVIDED\",\"\")),\"\")","v":""},"No Entry",0]
[null,null,null,null,null,null,null,null,null,null,null,null,"",{"$f":"IF(D3128=\"Cash and Deposits\",IF(E3128=\"\",\"BANK NAME REQUIRED\",IF(ISERROR(VLOOKUP(E3128,'Reference Data'!C:C,1,FALSE)),\"PLEASE SELECT A BANK FROM DEFINED LIST PROVIDED\",\"\")),\"\")","v":""},"No Entry",0]
[null,null,null,null,null,null,null,null,null,null,null,null,"",{"$f":"IF(D3129=\"Cash and Deposits\",IF(E3129=\"\",\"BANK NAME REQUIRED\",IF(ISERROR(VLOOKUP(E3129,'Reference Data'!C:C,1,FALSE)),\"PLEASE SELECT A BANK FROM DEFINED LIST PROVIDED\",\"\")),\"\")","v":""},"No Entry",0]
[null,null,null,null,null,null,null,null,null,null,null,null,"",{"$f":"IF(D3130=\"Cash and Deposits\",IF(E3130=\"\",\"BANK NAME REQUIRED\",IF(ISERROR(VLOOKUP(E3130,'Reference Data'!C:C,1,FALSE)),\"PLEASE SELECT A BANK FROM DEFINED LIST PROVIDED\",\"\")),\"\")","v":""},"No Entry",0]
[null,null,null,null,null,null,null,null,null,null,null,null,"",{"$f":"IF(D3131=\"Cash and Deposits\",IF(E3131=\"\",\"BANK NAME REQUIRED\",IF(ISERROR(VLOOKUP(E3131,'Reference Data'!C:C,1,FALSE)),\"PLEASE SELECT A BANK FROM DEFINED LIST PROVIDED\",\"\")),\"\")","v":""},"No Entry",0]
[null,null,null,null,null,null,null,null,null,null,null,null,"",{"$f":"IF(D3132=\"Cash and Deposits\",IF(E3132=\"\",\"BANK NAME REQUIRED\",IF(ISERROR(VLOOKUP(E3132,'Reference Data'!C:C,1,FALSE)),\"PLEASE SELECT A BANK FROM DEFINED LIST PROVIDED\",\"\")),\"\")","v":""},"No Entry",0]
[null,null,null,null,null,null,null,null,null,null,null,null,"",{"$f":"IF(D3133=\"Cash and Deposits\",IF(E3133=\"\",\"BANK NAME REQUIRED\",IF(ISERROR(VLOOKUP(E3133,'Reference Data'!C:C,1,FALSE)),\"PLEASE SELECT A BANK FROM DEFINED LIST PROVIDED\",\"\")),\"\")","v":""},"No Entry",0]
[null,null,null,null,null,null,null,null,null,null,null,null,"",{"$f":"IF(D3134=\"Cash and Deposits\",IF(E3134=\"\",\"BANK NAME REQUIRED\",IF(ISERROR(VLOOKUP(E3134,'Reference Data'!C:C,1,FALSE)),\"PLEASE SELECT A BANK FROM DEFINED LIST PROVIDED\",\"\")),\"\")","v":""},"No Entry",0]
[null,null,null,null,null,null,null,null,null,null,null,null,"",{"$f":"IF(D3135=\"Cash and Deposits\",IF(E3135=\"\",\"BANK NAME REQUIRED\",IF(ISERROR(VLOOKUP(E3135,'Reference Data'!C:C,1,FALSE)),\"PLEASE SELECT A BANK FROM DEFINED LIST PROVIDED\",\"\")),\"\")","v":""},"No Entry",0]
[null,null,null,null,null,null,null,null,null,null,null,null,"",{"$f":"IF(D3136=\"Cash and Deposits\",IF(E3136=\"\",\"BANK NAME REQUIRED\",IF(ISERROR(VLOOKUP(E3136,'Reference Data'!C:C,1,FALSE)),\"PLEASE SELECT A BANK FROM DEFINED LIST PROVIDED\",\"\")),\"\")","v":""},"No Entry",0]
[null,null,null,null,null,null,null,null,null,null,null,null,"",{"$f":"IF(D3137=\"Cash and Deposits\",IF(E3137=\"\",\"BANK NAME REQUIRED\",IF(ISERROR(VLOOKUP(E3137,'Reference Data'!C:C,1,FALSE)),\"PLEASE SELECT A BANK FROM DEFINED LIST PROVIDED\",\"\")),\"\")","v":""},"No Entry",0]
[null,null,null,null,null,null,null,null,null,null,null,null,"",{"$f":"IF(D3138=\"Cash and Deposits\",IF(E3138=\"\",\"BANK NAME REQUIRED\",IF(ISERROR(VLOOKUP(E3138,'Reference Data'!C:C,1,FALSE)),\"PLEASE SELECT A BANK FROM DEFINED LIST PROVIDED\",\"\")),\"\")","v":""},"No Entry",0]
[null,null,null,null,null,null,null,null,null,null,null,null,"",{"$f":"IF(D3139=\"Cash and Deposits\",IF(E3139=\"\",\"BANK NAME REQUIRED\",IF(ISERROR(VLOOKUP(E3139,'Reference Data'!C:C,1,FALSE)),\"PLEASE SELECT A BANK FROM DEFINED LIST PROVIDED\",\"\")),\"\")","v":""},"No Entry",0]
[null,null,null,null,null,null,null,null,null,null,null,null,"",{"$f":"IF(D3140=\"Cash and Deposits\",IF(E3140=\"\",\"BANK NAME REQUIRED\",IF(ISERROR(VLOOKUP(E3140,'Reference Data'!C:C,1,FALSE)),\"PLEASE SELECT A BANK FROM DEFINED LIST PROVIDED\",\"\")),\"\")","v":""},"No Entry",0]
[null,null,null,null,null,null,null,null,null,null,null,null,{"$f":"IF(K3141<>0,IF(B3141=\"\",\"ID CODE REQUIRED\",\"\"),\"\")","v":""},{"$f":"IF(D3141=\"Cash and Deposits\",IF(E3141=\"\",\"BANK NAME REQUIRED\",IF(ISERROR(VLOOKUP(E3141,'Reference Data'!C:C,1,FALSE)),\"PLEASE SELECT A BANK FROM DEFINED LIST PROVIDED\",\"\")),\"\")","v":""},{"$f":"IF(K3141=0,\"No Entry\",\"\")","v":"No Entry"},{"$f":"IF(K3141<>0,IF(A3141=\"\",1,0),0)","v":0}]
[null,null,null,null,null,null,null,null,null,null,null,null,"",{"$f":"IF(D3142=\"Cash and Deposits\",IF(E3142=\"\",\"BANK NAME REQUIRED\",IF(ISERROR(VLOOKUP(E3142,'Reference Data'!C:C,1,FALSE)),\"PLEASE SELECT A BANK FROM DEFINED LIST PROVIDED\",\"\")),\"\")","v":""},"No Entry",0]
[null,null,null,null,null,null,null,null,null,null,null,null,"",{"$f":"IF(D3143=\"Cash and Deposits\",IF(E3143=\"\",\"BANK NAME REQUIRED\",IF(ISERROR(VLOOKUP(E3143,'Reference Data'!C:C,1,FALSE)),\"PLEASE SELECT A BANK FROM DEFINED LIST PROVIDED\",\"\")),\"\")","v":""},"No Entry",0]
[null,null,null,null,null,null,null,null,null,null,null,null,"",{"$f":"IF(D3144=\"Cash and Deposits\",IF(E3144=\"\",\"BANK NAME REQUIRED\",IF(ISERROR(VLOOKUP(E3144,'Reference Data'!C:C,1,FALSE)),\"PLEASE SELECT A BANK FROM DEFINED LIST PROVIDED\",\"\")),\"\")","v":""},"No Entry",0]
[null,null,null,null,null,null,null,null,null,null,null,null,"",{"$f":"IF(D3145=\"Cash and Deposits\",IF(E3145=\"\",\"BANK NAME REQUIRED\",IF(ISERROR(VLOOKUP(E3145,'Reference Data'!C:C,1,FALSE)),\"PLEASE SELECT A BANK FROM DEFINED LIST PROVIDED\",\"\")),\"\")","v":""},"No Entry",0]
[null,null,null,null,null,null,null,null,null,null,null,null,"",{"$f":"IF(D3146=\"Cash and Deposits\",IF(E3146=\"\",\"BANK NAME REQUIRED\",IF(ISERROR(VLOOKUP(E3146,'Reference Data'!C:C,1,FALSE)),\"PLEASE SELECT A BANK FROM DEFINED LIST PROVIDED\",\"\")),\"\")","v":""},"No Entry",0]
[null,null,null,null,null,null,null,null,null,null,null,null,"",{"$f":"IF(D3147=\"Cash and Deposits\",IF(E3147=\"\",\"BANK NAME REQUIRED\",IF(ISERROR(VLOOKUP(E3147,'Reference Data'!C:C,1,FALSE)),\"PLEASE SELECT A BANK FROM DEFINED LIST PROVIDED\",\"\")),\"\")","v":""},"No Entry",0]
[null,null,null,null,null,null,null,null,null,null,null,null,"",{"$f":"IF(D3148=\"Cash and Deposits\",IF(E3148=\"\",\"BANK NAME REQUIRED\",IF(ISERROR(VLOOKUP(E3148,'Reference Data'!C:C,1,FALSE)),\"PLEASE SELECT A BANK FROM DEFINED LIST PROVIDED\",\"\")),\"\")","v":""},"No Entry",0]
[null,null,null,null,null,null,null,null,null,null,null,null,"",{"$f":"IF(D3149=\"Cash and Deposits\",IF(E3149=\"\",\"BANK NAME REQUIRED\",IF(ISERROR(VLOOKUP(E3149,'Reference Data'!C:C,1,FALSE)),\"PLEASE SELECT A BANK FROM DEFINED LIST PROVIDED\",\"\")),\"\")","v":""},"No Entry",0]
[null,null,null,null,null,null,null,null,null,null,null,null,"",{"$f":"IF(D3150=\"Cash and Deposits\",IF(E3150=\"\",\"BANK NAME REQUIRED\",IF(ISERROR(VLOOKUP(E3150,'Reference Data'!C:C,1,FALSE)),\"PLEASE SELECT A BANK FROM DEFINED LIST PROVIDED\",\"\")),\"\")","v":""},"No Entry",0]
[null,null,null,null,null,null,null,null,null,null,null,null,"",{"$f":"IF(D3151=\"Cash and Deposits\",IF(E3151=\"\",\"BANK NAME REQUIRED\",IF(ISERROR(VLOOKUP(E3151,'Reference Data'!C:C,1,FALSE)),\"PLEASE SELECT A BANK FROM DEFINED LIST PROVIDED\",\"\")),\"\")","v":""},"No Entry",0]
[null,null,null,null,null,null,null,null,null,null,null,null,"",{"$f":"IF(D3152=\"Cash and Deposits\",IF(E3152=\"\",\"BANK NAME REQUIRED\",IF(ISERROR(VLOOKUP(E3152,'Reference Data'!C:C,1,FALSE)),\"PLEASE SELECT A BANK FROM DEFINED LIST PROVIDED\",\"\")),\"\")","v":""},"No Entry",0]
[null,null,null,null,null,null,null,null,null,null,null,null,"",{"$f":"IF(D3153=\"Cash and Deposits\",IF(E3153=\"\",\"BANK NAME REQUIRED\",IF(ISERROR(VLOOKUP(E3153,'Reference Data'!C:C,1,FALSE)),\"PLEASE SELECT A BANK FROM DEFINED LIST PROVIDED\",\"\")),\"\")","v":""},"No Entry",0]
[null,null,null,null,null,null,null,null,null,null,null,null,"",{"$f":"IF(D3154=\"Cash and Deposits\",IF(E3154=\"\",\"BANK NAME REQUIRED\",IF(ISERROR(VLOOKUP(E3154,'Reference Data'!C:C,1,FALSE)),\"PLEASE SELECT A BANK FROM DEFINED LIST PROVIDED\",\"\")),\"\")","v":""},"No Entry",0]
[null,null,null,null,null,null,null,null,null,null,null,null,"",{"$f":"IF(D3155=\"Cash and Deposits\",IF(E3155=\"\",\"BANK NAME REQUIRED\",IF(ISERROR(VLOOKUP(E3155,'Reference Data'!C:C,1,FALSE)),\"PLEASE SELECT A BANK FROM DEFINED LIST PROVIDED\",\"\")),\"\")","v":""},"No Entry",0]
[null,null,null,null,null,null,null,null,null,null,null,null,"",{"$f":"IF(D3156=\"Cash and Deposits\",IF(E3156=\"\",\"BANK NAME REQUIRED\",IF(ISERROR(VLOOKUP(E3156,'Reference Data'!C:C,1,FALSE)),\"PLEASE SELECT A BANK FROM DEFINED LIST PROVIDED\",\"\")),\"\")","v":""},"No Entry",0]
[null,null,null,null,null,null,null,null,null,null,null,null,"",{"$f":"IF(D3157=\"Cash and Deposits\",IF(E3157=\"\",\"BANK NAME REQUIRED\",IF(ISERROR(VLOOKUP(E3157,'Reference Data'!C:C,1,FALSE)),\"PLEASE SELECT A BANK FROM DEFINED LIST PROVIDED\",\"\")),\"\")","v":""},"No Entry",0]
[null,null,null,null,null,null,null,null,null,null,null,null,"",{"$f":"IF(D3158=\"Cash and Deposits\",IF(E3158=\"\",\"BANK NAME REQUIRED\",IF(ISERROR(VLOOKUP(E3158,'Reference Data'!C:C,1,FALSE)),\"PLEASE SELECT A BANK FROM DEFINED LIST PROVIDED\",\"\")),\"\")","v":""},"No Entry",0]
[null,null,null,null,null,null,null,null,null,null,null,null,"",{"$f":"IF(D3159=\"Cash and Deposits\",IF(E3159=\"\",\"BANK NAME REQUIRED\",IF(ISERROR(VLOOKUP(E3159,'Reference Data'!C:C,1,FALSE)),\"PLEASE SELECT A BANK FROM DEFINED LIST PROVIDED\",\"\")),\"\")","v":""},"No Entry",0]
[null,null,null,null,null,null,null,null,null,null,null,null,"",{"$f":"IF(D3160=\"Cash and Deposits\",IF(E3160=\"\",\"BANK NAME REQUIRED\",IF(ISERROR(VLOOKUP(E3160,'Reference Data'!C:C,1,FALSE)),\"PLEASE SELECT A BANK FROM DEFINED LIST PROVIDED\",\"\")),\"\")","v":""},"No Entry",0]
[null,null,null,null,null,null,null,null,null,null,null,null,"",{"$f":"IF(D3161=\"Cash and Deposits\",IF(E3161=\"\",\"BANK NAME REQUIRED\",IF(ISERROR(VLOOKUP(E3161,'Reference Data'!C:C,1,FALSE)),\"PLEASE SELECT A BANK FROM DEFINED LIST PROVIDED\",\"\")),\"\")","v":""},"No Entry",0]
[null,null,null,null,null,null,null,null,null,null,null,null,"",{"$f":"IF(D3162=\"Cash and Deposits\",IF(E3162=\"\",\"BANK NAME REQUIRED\",IF(ISERROR(VLOOKUP(E3162,'Reference Data'!C:C,1,FALSE)),\"PLEASE SELECT A BANK FROM DEFINED LIST PROVIDED\",\"\")),\"\")","v":""},"No Entry",0]
[null,null,null,null,null,null,null,null,null,null,null,null,"",{"$f":"IF(D3163=\"Cash and Deposits\",IF(E3163=\"\",\"BANK NAME REQUIRED\",IF(ISERROR(VLOOKUP(E3163,'Reference Data'!C:C,1,FALSE)),\"PLEASE SELECT A BANK FROM DEFINED LIST PROVIDED\",\"\")),\"\")","v":""},"No Entry",0]
[null,null,null,null,null,null,null,null,null,null,null,null,"",{"$f":"IF(D3164=\"Cash and Deposits\",IF(E3164=\"\",\"BANK NAME REQUIRED\",IF(ISERROR(VLOOKUP(E3164,'Reference Data'!C:C,1,FALSE)),\"PLEASE SELECT A BANK FROM DEFINED LIST PROVIDED\",\"\")),\"\")","v":""},"No Entry",0]
[null,null,null,null,null,null,null,null,null,null,null,null,"",{"$f":"IF(D3165=\"Cash and Deposits\",IF(E3165=\"\",\"BANK NAME REQUIRED\",IF(ISERROR(VLOOKUP(E3165,'Reference Data'!C:C,1,FALSE)),\"PLEASE SELECT A BANK FROM DEFINED LIST PROVIDED\",\"\")),\"\")","v":""},"No Entry",0]
[null,null,null,null,null,null,null,null,null,null,null,null,"",{"$f":"IF(D3166=\"Cash and Deposits\",IF(E3166=\"\",\"BANK NAME REQUIRED\",IF(ISERROR(VLOOKUP(E3166,'Reference Data'!C:C,1,FALSE)),\"PLEASE SELECT A BANK FROM DEFINED LIST PROVIDED\",\"\")),\"\")","v":""},"No Entry",0]
[null,null,null,null,null,null,null,null,null,null,null,null,"",{"$f":"IF(D3167=\"Cash and Deposits\",IF(E3167=\"\",\"BANK NAME REQUIRED\",IF(ISERROR(VLOOKUP(E3167,'Reference Data'!C:C,1,FALSE)),\"PLEASE SELECT A BANK FROM DEFINED LIST PROVIDED\",\"\")),\"\")","v":""},"No Entry",0]
[null,null,null,null,null,null,null,null,null,null,null,null,"",{"$f":"IF(D3168=\"Cash and Deposits\",IF(E3168=\"\",\"BANK NAME REQUIRED\",IF(ISERROR(VLOOKUP(E3168,'Reference Data'!C:C,1,FALSE)),\"PLEASE SELECT A BANK FROM DEFINED LIST PROVIDED\",\"\")),\"\")","v":""},"No Entry",0]
[null,null,null,null,null,null,null,null,null,null,null,null,"",{"$f":"IF(D3169=\"Cash and Deposits\",IF(E3169=\"\",\"BANK NAME REQUIRED\",IF(ISERROR(VLOOKUP(E3169,'Reference Data'!C:C,1,FALSE)),\"PLEASE SELECT A BANK FROM DEFINED LIST PROVIDED\",\"\")),\"\")","v":""},"No Entry",0]
[null,null,null,null,null,null,null,null,null,null,null,null,"",{"$f":"IF(D3170=\"Cash and Deposits\",IF(E3170=\"\",\"BANK NAME REQUIRED\",IF(ISERROR(VLOOKUP(E3170,'Reference Data'!C:C,1,FALSE)),\"PLEASE SELECT A BANK FROM DEFINED LIST PROVIDED\",\"\")),\"\")","v":""},"No Entry",0]
[null,null,null,null,null,null,null,null,null,null,null,null,"",{"$f":"IF(D3171=\"Cash and Deposits\",IF(E3171=\"\",\"BANK NAME REQUIRED\",IF(ISERROR(VLOOKUP(E3171,'Reference Data'!C:C,1,FALSE)),\"PLEASE SELECT A BANK FROM DEFINED LIST PROVIDED\",\"\")),\"\")","v":""},"No Entry",0]
[null,null,null,null,null,null,null,null,null,null,null,null,"",{"$f":"IF(D3172=\"Cash and Deposits\",IF(E3172=\"\",\"BANK NAME REQUIRED\",IF(ISERROR(VLOOKUP(E3172,'Reference Data'!C:C,1,FALSE)),\"PLEASE SELECT A BANK FROM DEFINED LIST PROVIDED\",\"\")),\"\")","v":""},"No Entry",0]
[null,null,null,null,null,null,null,null,null,null,null,null,"",{"$f":"IF(D3173=\"Cash and Deposits\",IF(E3173=\"\",\"BANK NAME REQUIRED\",IF(ISERROR(VLOOKUP(E3173,'Reference Data'!C:C,1,FALSE)),\"PLEASE SELECT A BANK FROM DEFINED LIST PROVIDED\",\"\")),\"\")","v":""},"No Entry",0]
[null,null,null,null,null,null,null,null,null,null,null,null,"",{"$f":"IF(D3174=\"Cash and Deposits\",IF(E3174=\"\",\"BANK NAME REQUIRED\",IF(ISERROR(VLOOKUP(E3174,'Reference Data'!C:C,1,FALSE)),\"PLEASE SELECT A BANK FROM DEFINED LIST PROVIDED\",\"\")),\"\")","v":""},"No Entry",0]
[null,null,null,null,null,null,null,null,null,null,null,null,"",{"$f":"IF(D3175=\"Cash and Deposits\",IF(E3175=\"\",\"BANK NAME REQUIRED\",IF(ISERROR(VLOOKUP(E3175,'Reference Data'!C:C,1,FALSE)),\"PLEASE SELECT A BANK FROM DEFINED LIST PROVIDED\",\"\")),\"\")","v":""},"No Entry",0]
[null,null,null,null,null,null,null,null,null,null,null,null,"",{"$f":"IF(D3176=\"Cash and Deposits\",IF(E3176=\"\",\"BANK NAME REQUIRED\",IF(ISERROR(VLOOKUP(E3176,'Reference Data'!C:C,1,FALSE)),\"PLEASE SELECT A BANK FROM DEFINED LIST PROVIDED\",\"\")),\"\")","v":""},"No Entry",0]
[null,null,null,null,null,null,null,null,null,null,null,null,"",{"$f":"IF(D3177=\"Cash and Deposits\",IF(E3177=\"\",\"BANK NAME REQUIRED\",IF(ISERROR(VLOOKUP(E3177,'Reference Data'!C:C,1,FALSE)),\"PLEASE SELECT A BANK FROM DEFINED LIST PROVIDED\",\"\")),\"\")","v":""},"No Entry",0]
[null,null,null,null,null,null,null,null,null,null,null,null,"",{"$f":"IF(D3178=\"Cash and Deposits\",IF(E3178=\"\",\"BANK NAME REQUIRED\",IF(ISERROR(VLOOKUP(E3178,'Reference Data'!C:C,1,FALSE)),\"PLEASE SELECT A BANK FROM DEFINED LIST PROVIDED\",\"\")),\"\")","v":""},"No Entry",0]
[null,null,null,null,null,null,null,null,null,null,null,null,"",{"$f":"IF(D3179=\"Cash and Deposits\",IF(E3179=\"\",\"BANK NAME REQUIRED\",IF(ISERROR(VLOOKUP(E3179,'Reference Data'!C:C,1,FALSE)),\"PLEASE SELECT A BANK FROM DEFINED LIST PROVIDED\",\"\")),\"\")","v":""},"No Entry",0]
[null,null,null,null,null,null,null,null,null,null,null,null,"",{"$f":"IF(D3180=\"Cash and Deposits\",IF(E3180=\"\",\"BANK NAME REQUIRED\",IF(ISERROR(VLOOKUP(E3180,'Reference Data'!C:C,1,FALSE)),\"PLEASE SELECT A BANK FROM DEFINED LIST PROVIDED\",\"\")),\"\")","v":""},"No Entry",0]
[null,null,null,null,null,null,null,null,null,null,null,null,"",{"$f":"IF(D3181=\"Cash and Deposits\",IF(E3181=\"\",\"BANK NAME REQUIRED\",IF(ISERROR(VLOOKUP(E3181,'Reference Data'!C:C,1,FALSE)),\"PLEASE SELECT A BANK FROM DEFINED LIST PROVIDED\",\"\")),\"\")","v":""},"No Entry",0]
[null,null,null,null,null,null,null,null,null,null,null,null,"",{"$f":"IF(D3182=\"Cash and Deposits\",IF(E3182=\"\",\"BANK NAME REQUIRED\",IF(ISERROR(VLOOKUP(E3182,'Reference Data'!C:C,1,FALSE)),\"PLEASE SELECT A BANK FROM DEFINED LIST PROVIDED\",\"\")),\"\")","v":""},"No Entry",0]
[null,null,null,null,null,null,null,null,null,null,null,null,"",{"$f":"IF(D3183=\"Cash and Deposits\",IF(E3183=\"\",\"BANK NAME REQUIRED\",IF(ISERROR(VLOOKUP(E3183,'Reference Data'!C:C,1,FALSE)),\"PLEASE SELECT A BANK FROM DEFINED LIST PROVIDED\",\"\")),\"\")","v":""},"No Entry",0]
[null,null,null,null,null,null,null,null,null,null,null,null,"",{"$f":"IF(D3184=\"Cash and Deposits\",IF(E3184=\"\",\"BANK NAME REQUIRED\",IF(ISERROR(VLOOKUP(E3184,'Reference Data'!C:C,1,FALSE)),\"PLEASE SELECT A BANK FROM DEFINED LIST PROVIDED\",\"\")),\"\")","v":""},"No Entry",0]
[null,null,null,null,null,null,null,null,null,null,null,null,"",{"$f":"IF(D3185=\"Cash and Deposits\",IF(E3185=\"\",\"BANK NAME REQUIRED\",IF(ISERROR(VLOOKUP(E3185,'Reference Data'!C:C,1,FALSE)),\"PLEASE SELECT A BANK FROM DEFINED LIST PROVIDED\",\"\")),\"\")","v":""},"No Entry",0]
[null,null,null,null,null,null,null,null,null,null,null,null,"",{"$f":"IF(D3186=\"Cash and Deposits\",IF(E3186=\"\",\"BANK NAME REQUIRED\",IF(ISERROR(VLOOKUP(E3186,'Reference Data'!C:C,1,FALSE)),\"PLEASE SELECT A BANK FROM DEFINED LIST PROVIDED\",\"\")),\"\")","v":""},"No Entry",0]
[null,null,null,null,null,null,null,null,null,null,null,null,"",{"$f":"IF(D3187=\"Cash and Deposits\",IF(E3187=\"\",\"BANK NAME REQUIRED\",IF(ISERROR(VLOOKUP(E3187,'Reference Data'!C:C,1,FALSE)),\"PLEASE SELECT A BANK FROM DEFINED LIST PROVIDED\",\"\")),\"\")","v":""},"No Entry",0]
[null,null,null,null,null,null,null,null,null,null,null,null,"",{"$f":"IF(D3188=\"Cash and Deposits\",IF(E3188=\"\",\"BANK NAME REQUIRED\",IF(ISERROR(VLOOKUP(E3188,'Reference Data'!C:C,1,FALSE)),\"PLEASE SELECT A BANK FROM DEFINED LIST PROVIDED\",\"\")),\"\")","v":""},"No Entry",0]
[null,null,null,null,null,null,null,null,null,null,null,null,"",{"$f":"IF(D3189=\"Cash and Deposits\",IF(E3189=\"\",\"BANK NAME REQUIRED\",IF(ISERROR(VLOOKUP(E3189,'Reference Data'!C:C,1,FALSE)),\"PLEASE SELECT A BANK FROM DEFINED LIST PROVIDED\",\"\")),\"\")","v":""},"No Entry",0]
[null,null,null,null,null,null,null,null,null,null,null,null,"",{"$f":"IF(D3190=\"Cash and Deposits\",IF(E3190=\"\",\"BANK NAME REQUIRED\",IF(ISERROR(VLOOKUP(E3190,'Reference Data'!C:C,1,FALSE)),\"PLEASE SELECT A BANK FROM DEFINED LIST PROVIDED\",\"\")),\"\")","v":""},"No Entry",0]
[null,null,null,null,null,null,null,null,null,null,null,null,"",{"$f":"IF(D3191=\"Cash and Deposits\",IF(E3191=\"\",\"BANK NAME REQUIRED\",IF(ISERROR(VLOOKUP(E3191,'Reference Data'!C:C,1,FALSE)),\"PLEASE SELECT A BANK FROM DEFINED LIST PROVIDED\",\"\")),\"\")","v":""},"No Entry",0]
[null,null,null,null,null,null,null,null,null,null,null,null,"",{"$f":"IF(D3192=\"Cash and Deposits\",IF(E3192=\"\",\"BANK NAME REQUIRED\",IF(ISERROR(VLOOKUP(E3192,'Reference Data'!C:C,1,FALSE)),\"PLEASE SELECT A BANK FROM DEFINED LIST PROVIDED\",\"\")),\"\")","v":""},"No Entry",0]
[null,null,null,null,null,null,null,null,null,null,null,null,"",{"$f":"IF(D3193=\"Cash and Deposits\",IF(E3193=\"\",\"BANK NAME REQUIRED\",IF(ISERROR(VLOOKUP(E3193,'Reference Data'!C:C,1,FALSE)),\"PLEASE SELECT A BANK FROM DEFINED LIST PROVIDED\",\"\")),\"\")","v":""},"No Entry",0]
[null,null,null,null,null,null,null,null,null,null,null,null,"",{"$f":"IF(D3194=\"Cash and Deposits\",IF(E3194=\"\",\"BANK NAME REQUIRED\",IF(ISERROR(VLOOKUP(E3194,'Reference Data'!C:C,1,FALSE)),\"PLEASE SELECT A BANK FROM DEFINED LIST PROVIDED\",\"\")),\"\")","v":""},"No Entry",0]
[null,null,null,null,null,null,null,null,null,null,null,null,"",{"$f":"IF(D3195=\"Cash and Deposits\",IF(E3195=\"\",\"BANK NAME REQUIRED\",IF(ISERROR(VLOOKUP(E3195,'Reference Data'!C:C,1,FALSE)),\"PLEASE SELECT A BANK FROM DEFINED LIST PROVIDED\",\"\")),\"\")","v":""},"No Entry",0]
[null,null,null,null,null,null,null,null,null,null,null,null,"",{"$f":"IF(D3196=\"Cash and Deposits\",IF(E3196=\"\",\"BANK NAME REQUIRED\",IF(ISERROR(VLOOKUP(E3196,'Reference Data'!C:C,1,FALSE)),\"PLEASE SELECT A BANK FROM DEFINED LIST PROVIDED\",\"\")),\"\")","v":""},"No Entry",0]
[null,null,null,null,null,null,null,null,null,null,null,null,"",{"$f":"IF(D3197=\"Cash and Deposits\",IF(E3197=\"\",\"BANK NAME REQUIRED\",IF(ISERROR(VLOOKUP(E3197,'Reference Data'!C:C,1,FALSE)),\"PLEASE SELECT A BANK FROM DEFINED LIST PROVIDED\",\"\")),\"\")","v":""},"No Entry",0]
[null,null,null,null,null,null,null,null,null,null,null,null,"",{"$f":"IF(D3198=\"Cash and Deposits\",IF(E3198=\"\",\"BANK NAME REQUIRED\",IF(ISERROR(VLOOKUP(E3198,'Reference Data'!C:C,1,FALSE)),\"PLEASE SELECT A BANK FROM DEFINED LIST PROVIDED\",\"\")),\"\")","v":""},"No Entry",0]
[null,null,null,null,null,null,null,null,null,null,null,null,"",{"$f":"IF(D3199=\"Cash and Deposits\",IF(E3199=\"\",\"BANK NAME REQUIRED\",IF(ISERROR(VLOOKUP(E3199,'Reference Data'!C:C,1,FALSE)),\"PLEASE SELECT A BANK FROM DEFINED LIST PROVIDED\",\"\")),\"\")","v":""},"No Entry",0]
[null,null,null,null,null,null,null,null,null,null,null,null,"",{"$f":"IF(D3200=\"Cash and Deposits\",IF(E3200=\"\",\"BANK NAME REQUIRED\",IF(ISERROR(VLOOKUP(E3200,'Reference Data'!C:C,1,FALSE)),\"PLEASE SELECT A BANK FROM DEFINED LIST PROVIDED\",\"\")),\"\")","v":""},"No Entry",0]
[null,null,null,null,null,null,null,null,null,null,null,null,"",{"$f":"IF(D3201=\"Cash and Deposits\",IF(E3201=\"\",\"BANK NAME REQUIRED\",IF(ISERROR(VLOOKUP(E3201,'Reference Data'!C:C,1,FALSE)),\"PLEASE SELECT A BANK FROM DEFINED LIST PROVIDED\",\"\")),\"\")","v":""},"No Entry",0]
[null,null,null,null,null,null,null,null,null,null,null,null,"",{"$f":"IF(D3202=\"Cash and Deposits\",IF(E3202=\"\",\"BANK NAME REQUIRED\",IF(ISERROR(VLOOKUP(E3202,'Reference Data'!C:C,1,FALSE)),\"PLEASE SELECT A BANK FROM DEFINED LIST PROVIDED\",\"\")),\"\")","v":""},"No Entry",0]
[null,null,null,null,null,null,null,null,null,null,null,null,"",{"$f":"IF(D3203=\"Cash and Deposits\",IF(E3203=\"\",\"BANK NAME REQUIRED\",IF(ISERROR(VLOOKUP(E3203,'Reference Data'!C:C,1,FALSE)),\"PLEASE SELECT A BANK FROM DEFINED LIST PROVIDED\",\"\")),\"\")","v":""},"No Entry",0]
[null,null,null,null,null,null,null,null,null,null,null,null,"",{"$f":"IF(D3204=\"Cash and Deposits\",IF(E3204=\"\",\"BANK NAME REQUIRED\",IF(ISERROR(VLOOKUP(E3204,'Reference Data'!C:C,1,FALSE)),\"PLEASE SELECT A BANK FROM DEFINED LIST PROVIDED\",\"\")),\"\")","v":""},"No Entry",0]
[null,null,null,null,null,null,null,null,null,null,null,null,{"$f":"IF(K3205<>0,IF(B3205=\"\",\"ID CODE REQUIRED\",\"\"),\"\")","v":""},{"$f":"IF(D3205=\"Cash and Deposits\",IF(E3205=\"\",\"BANK NAME REQUIRED\",IF(ISERROR(VLOOKUP(E3205,'Reference Data'!C:C,1,FALSE)),\"PLEASE SELECT A BANK FROM DEFINED LIST PROVIDED\",\"\")),\"\")","v":""},{"$f":"IF(K3205=0,\"No Entry\",\"\")","v":"No Entry"},{"$f":"IF(K3205<>0,IF(A3205=\"\",1,0),0)","v":0}]
[null,null,null,null,null,null,null,null,null,null,null,null,"",{"$f":"IF(D3206=\"Cash and Deposits\",IF(E3206=\"\",\"BANK NAME REQUIRED\",IF(ISERROR(VLOOKUP(E3206,'Reference Data'!C:C,1,FALSE)),\"PLEASE SELECT A BANK FROM DEFINED LIST PROVIDED\",\"\")),\"\")","v":""},"No Entry",0]
[null,null,null,null,null,null,null,null,null,null,null,null,"",{"$f":"IF(D3207=\"Cash and Deposits\",IF(E3207=\"\",\"BANK NAME REQUIRED\",IF(ISERROR(VLOOKUP(E3207,'Reference Data'!C:C,1,FALSE)),\"PLEASE SELECT A BANK FROM DEFINED LIST PROVIDED\",\"\")),\"\")","v":""},"No Entry",0]
[null,null,null,null,null,null,null,null,null,null,null,null,"",{"$f":"IF(D3208=\"Cash and Deposits\",IF(E3208=\"\",\"BANK NAME REQUIRED\",IF(ISERROR(VLOOKUP(E3208,'Reference Data'!C:C,1,FALSE)),\"PLEASE SELECT A BANK FROM DEFINED LIST PROVIDED\",\"\")),\"\")","v":""},"No Entry",0]
[null,null,null,null,null,null,null,null,null,null,null,null,"",{"$f":"IF(D3209=\"Cash and Deposits\",IF(E3209=\"\",\"BANK NAME REQUIRED\",IF(ISERROR(VLOOKUP(E3209,'Reference Data'!C:C,1,FALSE)),\"PLEASE SELECT A BANK FROM DEFINED LIST PROVIDED\",\"\")),\"\")","v":""},"No Entry",0]
[null,null,null,null,null,null,null,null,null,null,null,null,"",{"$f":"IF(D3210=\"Cash and Deposits\",IF(E3210=\"\",\"BANK NAME REQUIRED\",IF(ISERROR(VLOOKUP(E3210,'Reference Data'!C:C,1,FALSE)),\"PLEASE SELECT A BANK FROM DEFINED LIST PROVIDED\",\"\")),\"\")","v":""},"No Entry",0]
[null,null,null,null,null,null,null,null,null,null,null,null,"",{"$f":"IF(D3211=\"Cash and Deposits\",IF(E3211=\"\",\"BANK NAME REQUIRED\",IF(ISERROR(VLOOKUP(E3211,'Reference Data'!C:C,1,FALSE)),\"PLEASE SELECT A BANK FROM DEFINED LIST PROVIDED\",\"\")),\"\")","v":""},"No Entry",0]
[null,null,null,null,null,null,null,null,null,null,null,null,"",{"$f":"IF(D3212=\"Cash and Deposits\",IF(E3212=\"\",\"BANK NAME REQUIRED\",IF(ISERROR(VLOOKUP(E3212,'Reference Data'!C:C,1,FALSE)),\"PLEASE SELECT A BANK FROM DEFINED LIST PROVIDED\",\"\")),\"\")","v":""},"No Entry",0]
[null,null,null,null,null,null,null,null,null,null,null,null,"",{"$f":"IF(D3213=\"Cash and Deposits\",IF(E3213=\"\",\"BANK NAME REQUIRED\",IF(ISERROR(VLOOKUP(E3213,'Reference Data'!C:C,1,FALSE)),\"PLEASE SELECT A BANK FROM DEFINED LIST PROVIDED\",\"\")),\"\")","v":""},"No Entry",0]
[null,null,null,null,null,null,null,null,null,null,null,null,"",{"$f":"IF(D3214=\"Cash and Deposits\",IF(E3214=\"\",\"BANK NAME REQUIRED\",IF(ISERROR(VLOOKUP(E3214,'Reference Data'!C:C,1,FALSE)),\"PLEASE SELECT A BANK FROM DEFINED LIST PROVIDED\",\"\")),\"\")","v":""},"No Entry",0]
[null,null,null,null,null,null,null,null,null,null,null,null,"",{"$f":"IF(D3215=\"Cash and Deposits\",IF(E3215=\"\",\"BANK NAME REQUIRED\",IF(ISERROR(VLOOKUP(E3215,'Reference Data'!C:C,1,FALSE)),\"PLEASE SELECT A BANK FROM DEFINED LIST PROVIDED\",\"\")),\"\")","v":""},"No Entry",0]
[null,null,null,null,null,null,null,null,null,null,null,null,"",{"$f":"IF(D3216=\"Cash and Deposits\",IF(E3216=\"\",\"BANK NAME REQUIRED\",IF(ISERROR(VLOOKUP(E3216,'Reference Data'!C:C,1,FALSE)),\"PLEASE SELECT A BANK FROM DEFINED LIST PROVIDED\",\"\")),\"\")","v":""},"No Entry",0]
[null,null,null,null,null,null,null,null,null,null,null,null,"",{"$f":"IF(D3217=\"Cash and Deposits\",IF(E3217=\"\",\"BANK NAME REQUIRED\",IF(ISERROR(VLOOKUP(E3217,'Reference Data'!C:C,1,FALSE)),\"PLEASE SELECT A BANK FROM DEFINED LIST PROVIDED\",\"\")),\"\")","v":""},"No Entry",0]
[null,null,null,null,null,null,null,null,null,null,null,null,"",{"$f":"IF(D3218=\"Cash and Deposits\",IF(E3218=\"\",\"BANK NAME REQUIRED\",IF(ISERROR(VLOOKUP(E3218,'Reference Data'!C:C,1,FALSE)),\"PLEASE SELECT A BANK FROM DEFINED LIST PROVIDED\",\"\")),\"\")","v":""},"No Entry",0]
[null,null,null,null,null,null,null,null,null,null,null,null,"",{"$f":"IF(D3219=\"Cash and Deposits\",IF(E3219=\"\",\"BANK NAME REQUIRED\",IF(ISERROR(VLOOKUP(E3219,'Reference Data'!C:C,1,FALSE)),\"PLEASE SELECT A BANK FROM DEFINED LIST PROVIDED\",\"\")),\"\")","v":""},"No Entry",0]
[null,null,null,null,null,null,null,null,null,null,null,null,"",{"$f":"IF(D3220=\"Cash and Deposits\",IF(E3220=\"\",\"BANK NAME REQUIRED\",IF(ISERROR(VLOOKUP(E3220,'Reference Data'!C:C,1,FALSE)),\"PLEASE SELECT A BANK FROM DEFINED LIST PROVIDED\",\"\")),\"\")","v":""},"No Entry",0]
[null,null,null,null,null,null,null,null,null,null,null,null,"",{"$f":"IF(D3221=\"Cash and Deposits\",IF(E3221=\"\",\"BANK NAME REQUIRED\",IF(ISERROR(VLOOKUP(E3221,'Reference Data'!C:C,1,FALSE)),\"PLEASE SELECT A BANK FROM DEFINED LIST PROVIDED\",\"\")),\"\")","v":""},"No Entry",0]
[null,null,null,null,null,null,null,null,null,null,null,null,"",{"$f":"IF(D3222=\"Cash and Deposits\",IF(E3222=\"\",\"BANK NAME REQUIRED\",IF(ISERROR(VLOOKUP(E3222,'Reference Data'!C:C,1,FALSE)),\"PLEASE SELECT A BANK FROM DEFINED LIST PROVIDED\",\"\")),\"\")","v":""},"No Entry",0]
[null,null,null,null,null,null,null,null,null,null,null,null,"",{"$f":"IF(D3223=\"Cash and Deposits\",IF(E3223=\"\",\"BANK NAME REQUIRED\",IF(ISERROR(VLOOKUP(E3223,'Reference Data'!C:C,1,FALSE)),\"PLEASE SELECT A BANK FROM DEFINED LIST PROVIDED\",\"\")),\"\")","v":""},"No Entry",0]
[null,null,null,null,null,null,null,null,null,null,null,null,"",{"$f":"IF(D3224=\"Cash and Deposits\",IF(E3224=\"\",\"BANK NAME REQUIRED\",IF(ISERROR(VLOOKUP(E3224,'Reference Data'!C:C,1,FALSE)),\"PLEASE SELECT A BANK FROM DEFINED LIST PROVIDED\",\"\")),\"\")","v":""},"No Entry",0]
[null,null,null,null,null,null,null,null,null,null,null,null,"",{"$f":"IF(D3225=\"Cash and Deposits\",IF(E3225=\"\",\"BANK NAME REQUIRED\",IF(ISERROR(VLOOKUP(E3225,'Reference Data'!C:C,1,FALSE)),\"PLEASE SELECT A BANK FROM DEFINED LIST PROVIDED\",\"\")),\"\")","v":""},"No Entry",0]
[null,null,null,null,null,null,null,null,null,null,null,null,"",{"$f":"IF(D3226=\"Cash and Deposits\",IF(E3226=\"\",\"BANK NAME REQUIRED\",IF(ISERROR(VLOOKUP(E3226,'Reference Data'!C:C,1,FALSE)),\"PLEASE SELECT A BANK FROM DEFINED LIST PROVIDED\",\"\")),\"\")","v":""},"No Entry",0]
[null,null,null,null,null,null,null,null,null,null,null,null,"",{"$f":"IF(D3227=\"Cash and Deposits\",IF(E3227=\"\",\"BANK NAME REQUIRED\",IF(ISERROR(VLOOKUP(E3227,'Reference Data'!C:C,1,FALSE)),\"PLEASE SELECT A BANK FROM DEFINED LIST PROVIDED\",\"\")),\"\")","v":""},"No Entry",0]
[null,null,null,null,null,null,null,null,null,null,null,null,"",{"$f":"IF(D3228=\"Cash and Deposits\",IF(E3228=\"\",\"BANK NAME REQUIRED\",IF(ISERROR(VLOOKUP(E3228,'Reference Data'!C:C,1,FALSE)),\"PLEASE SELECT A BANK FROM DEFINED LIST PROVIDED\",\"\")),\"\")","v":""},"No Entry",0]
[null,null,null,null,null,null,null,null,null,null,null,null,"",{"$f":"IF(D3229=\"Cash and Deposits\",IF(E3229=\"\",\"BANK NAME REQUIRED\",IF(ISERROR(VLOOKUP(E3229,'Reference Data'!C:C,1,FALSE)),\"PLEASE SELECT A BANK FROM DEFINED LIST PROVIDED\",\"\")),\"\")","v":""},"No Entry",0]
[null,null,null,null,null,null,null,null,null,null,null,null,"",{"$f":"IF(D3230=\"Cash and Deposits\",IF(E3230=\"\",\"BANK NAME REQUIRED\",IF(ISERROR(VLOOKUP(E3230,'Reference Data'!C:C,1,FALSE)),\"PLEASE SELECT A BANK FROM DEFINED LIST PROVIDED\",\"\")),\"\")","v":""},"No Entry",0]
[null,null,null,null,null,null,null,null,null,null,null,null,"",{"$f":"IF(D3231=\"Cash and Deposits\",IF(E3231=\"\",\"BANK NAME REQUIRED\",IF(ISERROR(VLOOKUP(E3231,'Reference Data'!C:C,1,FALSE)),\"PLEASE SELECT A BANK FROM DEFINED LIST PROVIDED\",\"\")),\"\")","v":""},"No Entry",0]
[null,null,null,null,null,null,null,null,null,null,null,null,"",{"$f":"IF(D3232=\"Cash and Deposits\",IF(E3232=\"\",\"BANK NAME REQUIRED\",IF(ISERROR(VLOOKUP(E3232,'Reference Data'!C:C,1,FALSE)),\"PLEASE SELECT A BANK FROM DEFINED LIST PROVIDED\",\"\")),\"\")","v":""},"No Entry",0]
[null,null,null,null,null,null,null,null,null,null,null,null,"",{"$f":"IF(D3233=\"Cash and Deposits\",IF(E3233=\"\",\"BANK NAME REQUIRED\",IF(ISERROR(VLOOKUP(E3233,'Reference Data'!C:C,1,FALSE)),\"PLEASE SELECT A BANK FROM DEFINED LIST PROVIDED\",\"\")),\"\")","v":""},"No Entry",0]
[null,null,null,null,null,null,null,null,null,null,null,null,"",{"$f":"IF(D3234=\"Cash and Deposits\",IF(E3234=\"\",\"BANK NAME REQUIRED\",IF(ISERROR(VLOOKUP(E3234,'Reference Data'!C:C,1,FALSE)),\"PLEASE SELECT A BANK FROM DEFINED LIST PROVIDED\",\"\")),\"\")","v":""},"No Entry",0]
[null,null,null,null,null,null,null,null,null,null,null,null,"",{"$f":"IF(D3235=\"Cash and Deposits\",IF(E3235=\"\",\"BANK NAME REQUIRED\",IF(ISERROR(VLOOKUP(E3235,'Reference Data'!C:C,1,FALSE)),\"PLEASE SELECT A BANK FROM DEFINED LIST PROVIDED\",\"\")),\"\")","v":""},"No Entry",0]
[null,null,null,null,null,null,null,null,null,null,null,null,"",{"$f":"IF(D3236=\"Cash and Deposits\",IF(E3236=\"\",\"BANK NAME REQUIRED\",IF(ISERROR(VLOOKUP(E3236,'Reference Data'!C:C,1,FALSE)),\"PLEASE SELECT A BANK FROM DEFINED LIST PROVIDED\",\"\")),\"\")","v":""},"No Entry",0]
[null,null,null,null,null,null,null,null,null,null,null,null,"",{"$f":"IF(D3237=\"Cash and Deposits\",IF(E3237=\"\",\"BANK NAME REQUIRED\",IF(ISERROR(VLOOKUP(E3237,'Reference Data'!C:C,1,FALSE)),\"PLEASE SELECT A BANK FROM DEFINED LIST PROVIDED\",\"\")),\"\")","v":""},"No Entry",0]
[null,null,null,null,null,null,null,null,null,null,null,null,"",{"$f":"IF(D3238=\"Cash and Deposits\",IF(E3238=\"\",\"BANK NAME REQUIRED\",IF(ISERROR(VLOOKUP(E3238,'Reference Data'!C:C,1,FALSE)),\"PLEASE SELECT A BANK FROM DEFINED LIST PROVIDED\",\"\")),\"\")","v":""},"No Entry",0]
[null,null,null,null,null,null,null,null,null,null,null,null,"",{"$f":"IF(D3239=\"Cash and Deposits\",IF(E3239=\"\",\"BANK NAME REQUIRED\",IF(ISERROR(VLOOKUP(E3239,'Reference Data'!C:C,1,FALSE)),\"PLEASE SELECT A BANK FROM DEFINED LIST PROVIDED\",\"\")),\"\")","v":""},"No Entry",0]
[null,null,null,null,null,null,null,null,null,null,null,null,"",{"$f":"IF(D3240=\"Cash and Deposits\",IF(E3240=\"\",\"BANK NAME REQUIRED\",IF(ISERROR(VLOOKUP(E3240,'Reference Data'!C:C,1,FALSE)),\"PLEASE SELECT A BANK FROM DEFINED LIST PROVIDED\",\"\")),\"\")","v":""},"No Entry",0]
[null,null,null,null,null,null,null,null,null,null,null,null,"",{"$f":"IF(D3241=\"Cash and Deposits\",IF(E3241=\"\",\"BANK NAME REQUIRED\",IF(ISERROR(VLOOKUP(E3241,'Reference Data'!C:C,1,FALSE)),\"PLEASE SELECT A BANK FROM DEFINED LIST PROVIDED\",\"\")),\"\")","v":""},"No Entry",0]
[null,null,null,null,null,null,null,null,null,null,null,null,"",{"$f":"IF(D3242=\"Cash and Deposits\",IF(E3242=\"\",\"BANK NAME REQUIRED\",IF(ISERROR(VLOOKUP(E3242,'Reference Data'!C:C,1,FALSE)),\"PLEASE SELECT A BANK FROM DEFINED LIST PROVIDED\",\"\")),\"\")","v":""},"No Entry",0]
[null,null,null,null,null,null,null,null,null,null,null,null,"",{"$f":"IF(D3243=\"Cash and Deposits\",IF(E3243=\"\",\"BANK NAME REQUIRED\",IF(ISERROR(VLOOKUP(E3243,'Reference Data'!C:C,1,FALSE)),\"PLEASE SELECT A BANK FROM DEFINED LIST PROVIDED\",\"\")),\"\")","v":""},"No Entry",0]
[null,null,null,null,null,null,null,null,null,null,null,null,"",{"$f":"IF(D3244=\"Cash and Deposits\",IF(E3244=\"\",\"BANK NAME REQUIRED\",IF(ISERROR(VLOOKUP(E3244,'Reference Data'!C:C,1,FALSE)),\"PLEASE SELECT A BANK FROM DEFINED LIST PROVIDED\",\"\")),\"\")","v":""},"No Entry",0]
[null,null,null,null,null,null,null,null,null,null,null,null,"",{"$f":"IF(D3245=\"Cash and Deposits\",IF(E3245=\"\",\"BANK NAME REQUIRED\",IF(ISERROR(VLOOKUP(E3245,'Reference Data'!C:C,1,FALSE)),\"PLEASE SELECT A BANK FROM DEFINED LIST PROVIDED\",\"\")),\"\")","v":""},"No Entry",0]
[null,null,null,null,null,null,null,null,null,null,null,null,"",{"$f":"IF(D3246=\"Cash and Deposits\",IF(E3246=\"\",\"BANK NAME REQUIRED\",IF(ISERROR(VLOOKUP(E3246,'Reference Data'!C:C,1,FALSE)),\"PLEASE SELECT A BANK FROM DEFINED LIST PROVIDED\",\"\")),\"\")","v":""},"No Entry",0]
[null,null,null,null,null,null,null,null,null,null,null,null,"",{"$f":"IF(D3247=\"Cash and Deposits\",IF(E3247=\"\",\"BANK NAME REQUIRED\",IF(ISERROR(VLOOKUP(E3247,'Reference Data'!C:C,1,FALSE)),\"PLEASE SELECT A BANK FROM DEFINED LIST PROVIDED\",\"\")),\"\")","v":""},"No Entry",0]
[null,null,null,null,null,null,null,null,null,null,null,null,"",{"$f":"IF(D3248=\"Cash and Deposits\",IF(E3248=\"\",\"BANK NAME REQUIRED\",IF(ISERROR(VLOOKUP(E3248,'Reference Data'!C:C,1,FALSE)),\"PLEASE SELECT A BANK FROM DEFINED LIST PROVIDED\",\"\")),\"\")","v":""},"No Entry",0]
[null,null,null,null,null,null,null,null,null,null,null,null,"",{"$f":"IF(D3249=\"Cash and Deposits\",IF(E3249=\"\",\"BANK NAME REQUIRED\",IF(ISERROR(VLOOKUP(E3249,'Reference Data'!C:C,1,FALSE)),\"PLEASE SELECT A BANK FROM DEFINED LIST PROVIDED\",\"\")),\"\")","v":""},"No Entry",0]
[null,null,null,null,null,null,null,null,null,null,null,null,"",{"$f":"IF(D3250=\"Cash and Deposits\",IF(E3250=\"\",\"BANK NAME REQUIRED\",IF(ISERROR(VLOOKUP(E3250,'Reference Data'!C:C,1,FALSE)),\"PLEASE SELECT A BANK FROM DEFINED LIST PROVIDED\",\"\")),\"\")","v":""},"No Entry",0]
[null,null,null,null,null,null,null,null,null,null,null,null,"",{"$f":"IF(D3251=\"Cash and Deposits\",IF(E3251=\"\",\"BANK NAME REQUIRED\",IF(ISERROR(VLOOKUP(E3251,'Reference Data'!C:C,1,FALSE)),\"PLEASE SELECT A BANK FROM DEFINED LIST PROVIDED\",\"\")),\"\")","v":""},"No Entry",0]
[null,null,null,null,null,null,null,null,null,null,null,null,"",{"$f":"IF(D3252=\"Cash and Deposits\",IF(E3252=\"\",\"BANK NAME REQUIRED\",IF(ISERROR(VLOOKUP(E3252,'Reference Data'!C:C,1,FALSE)),\"PLEASE SELECT A BANK FROM DEFINED LIST PROVIDED\",\"\")),\"\")","v":""},"No Entry",0]
[null,null,null,null,null,null,null,null,null,null,null,null,"",{"$f":"IF(D3253=\"Cash and Deposits\",IF(E3253=\"\",\"BANK NAME REQUIRED\",IF(ISERROR(VLOOKUP(E3253,'Reference Data'!C:C,1,FALSE)),\"PLEASE SELECT A BANK FROM DEFINED LIST PROVIDED\",\"\")),\"\")","v":""},"No Entry",0]
[null,null,null,null,null,null,null,null,null,null,null,null,"",{"$f":"IF(D3254=\"Cash and Deposits\",IF(E3254=\"\",\"BANK NAME REQUIRED\",IF(ISERROR(VLOOKUP(E3254,'Reference Data'!C:C,1,FALSE)),\"PLEASE SELECT A BANK FROM DEFINED LIST PROVIDED\",\"\")),\"\")","v":""},"No Entry",0]
[null,null,null,null,null,null,null,null,null,null,null,null,"",{"$f":"IF(D3255=\"Cash and Deposits\",IF(E3255=\"\",\"BANK NAME REQUIRED\",IF(ISERROR(VLOOKUP(E3255,'Reference Data'!C:C,1,FALSE)),\"PLEASE SELECT A BANK FROM DEFINED LIST PROVIDED\",\"\")),\"\")","v":""},"No Entry",0]
[null,null,null,null,null,null,null,null,null,null,null,null,"",{"$f":"IF(D3256=\"Cash and Deposits\",IF(E3256=\"\",\"BANK NAME REQUIRED\",IF(ISERROR(VLOOKUP(E3256,'Reference Data'!C:C,1,FALSE)),\"PLEASE SELECT A BANK FROM DEFINED LIST PROVIDED\",\"\")),\"\")","v":""},"No Entry",0]
[null,null,null,null,null,null,null,null,null,null,null,null,"",{"$f":"IF(D3257=\"Cash and Deposits\",IF(E3257=\"\",\"BANK NAME REQUIRED\",IF(ISERROR(VLOOKUP(E3257,'Reference Data'!C:C,1,FALSE)),\"PLEASE SELECT A BANK FROM DEFINED LIST PROVIDED\",\"\")),\"\")","v":""},"No Entry",0]
[null,null,null,null,null,null,null,null,null,null,null,null,"",{"$f":"IF(D3258=\"Cash and Deposits\",IF(E3258=\"\",\"BANK NAME REQUIRED\",IF(ISERROR(VLOOKUP(E3258,'Reference Data'!C:C,1,FALSE)),\"PLEASE SELECT A BANK FROM DEFINED LIST PROVIDED\",\"\")),\"\")","v":""},"No Entry",0]
[null,null,null,null,null,null,null,null,null,null,null,null,"",{"$f":"IF(D3259=\"Cash and Deposits\",IF(E3259=\"\",\"BANK NAME REQUIRED\",IF(ISERROR(VLOOKUP(E3259,'Reference Data'!C:C,1,FALSE)),\"PLEASE SELECT A BANK FROM DEFINED LIST PROVIDED\",\"\")),\"\")","v":""},"No Entry",0]
[null,null,null,null,null,null,null,null,null,null,null,null,"",{"$f":"IF(D3260=\"Cash and Deposits\",IF(E3260=\"\",\"BANK NAME REQUIRED\",IF(ISERROR(VLOOKUP(E3260,'Reference Data'!C:C,1,FALSE)),\"PLEASE SELECT A BANK FROM DEFINED LIST PROVIDED\",\"\")),\"\")","v":""},"No Entry",0]
[null,null,null,null,null,null,null,null,null,null,null,null,"",{"$f":"IF(D3261=\"Cash and Deposits\",IF(E3261=\"\",\"BANK NAME REQUIRED\",IF(ISERROR(VLOOKUP(E3261,'Reference Data'!C:C,1,FALSE)),\"PLEASE SELECT A BANK FROM DEFINED LIST PROVIDED\",\"\")),\"\")","v":""},"No Entry",0]
[null,null,null,null,null,null,null,null,null,null,null,null,"",{"$f":"IF(D3262=\"Cash and Deposits\",IF(E3262=\"\",\"BANK NAME REQUIRED\",IF(ISERROR(VLOOKUP(E3262,'Reference Data'!C:C,1,FALSE)),\"PLEASE SELECT A BANK FROM DEFINED LIST PROVIDED\",\"\")),\"\")","v":""},"No Entry",0]
[null,null,null,null,null,null,null,null,null,null,null,null,"",{"$f":"IF(D3263=\"Cash and Deposits\",IF(E3263=\"\",\"BANK NAME REQUIRED\",IF(ISERROR(VLOOKUP(E3263,'Reference Data'!C:C,1,FALSE)),\"PLEASE SELECT A BANK FROM DEFINED LIST PROVIDED\",\"\")),\"\")","v":""},"No Entry",0]
[null,null,null,null,null,null,null,null,null,null,null,null,"",{"$f":"IF(D3264=\"Cash and Deposits\",IF(E3264=\"\",\"BANK NAME REQUIRED\",IF(ISERROR(VLOOKUP(E3264,'Reference Data'!C:C,1,FALSE)),\"PLEASE SELECT A BANK FROM DEFINED LIST PROVIDED\",\"\")),\"\")","v":""},"No Entry",0]
[null,null,null,null,null,null,null,null,null,null,null,null,"",{"$f":"IF(D3265=\"Cash and Deposits\",IF(E3265=\"\",\"BANK NAME REQUIRED\",IF(ISERROR(VLOOKUP(E3265,'Reference Data'!C:C,1,FALSE)),\"PLEASE SELECT A BANK FROM DEFINED LIST PROVIDED\",\"\")),\"\")","v":""},"No Entry",0]
[null,null,null,null,null,null,null,null,null,null,null,null,"",{"$f":"IF(D3266=\"Cash and Deposits\",IF(E3266=\"\",\"BANK NAME REQUIRED\",IF(ISERROR(VLOOKUP(E3266,'Reference Data'!C:C,1,FALSE)),\"PLEASE SELECT A BANK FROM DEFINED LIST PROVIDED\",\"\")),\"\")","v":""},"No Entry",0]
[null,null,null,null,null,null,null,null,null,null,null,null,"",{"$f":"IF(D3267=\"Cash and Deposits\",IF(E3267=\"\",\"BANK NAME REQUIRED\",IF(ISERROR(VLOOKUP(E3267,'Reference Data'!C:C,1,FALSE)),\"PLEASE SELECT A BANK FROM DEFINED LIST PROVIDED\",\"\")),\"\")","v":""},"No Entry",0]
[null,null,null,null,null,null,null,null,null,null,null,null,"",{"$f":"IF(D3268=\"Cash and Deposits\",IF(E3268=\"\",\"BANK NAME REQUIRED\",IF(ISERROR(VLOOKUP(E3268,'Reference Data'!C:C,1,FALSE)),\"PLEASE SELECT A BANK FROM DEFINED LIST PROVIDED\",\"\")),\"\")","v":""},"No Entry",0]
[null,null,null,null,null,null,null,null,null,null,null,null,{"$f":"IF(K3269<>0,IF(B3269=\"\",\"ID CODE REQUIRED\",\"\"),\"\")","v":""},{"$f":"IF(D3269=\"Cash and Deposits\",IF(E3269=\"\",\"BANK NAME REQUIRED\",IF(ISERROR(VLOOKUP(E3269,'Reference Data'!C:C,1,FALSE)),\"PLEASE SELECT A BANK FROM DEFINED LIST PROVIDED\",\"\")),\"\")","v":""},{"$f":"IF(K3269=0,\"No Entry\",\"\")","v":"No Entry"},{"$f":"IF(K3269<>0,IF(A3269=\"\",1,0),0)","v":0}]
[null,null,null,null,null,null,null,null,null,null,null,null,"",{"$f":"IF(D3270=\"Cash and Deposits\",IF(E3270=\"\",\"BANK NAME REQUIRED\",IF(ISERROR(VLOOKUP(E3270,'Reference Data'!C:C,1,FALSE)),\"PLEASE SELECT A BANK FROM DEFINED LIST PROVIDED\",\"\")),\"\")","v":""},"No Entry",0]
[null,null,null,null,null,null,null,null,null,null,null,null,"",{"$f":"IF(D3271=\"Cash and Deposits\",IF(E3271=\"\",\"BANK NAME REQUIRED\",IF(ISERROR(VLOOKUP(E3271,'Reference Data'!C:C,1,FALSE)),\"PLEASE SELECT A BANK FROM DEFINED LIST PROVIDED\",\"\")),\"\")","v":""},"No Entry",0]
[null,null,null,null,null,null,null,null,null,null,null,null,"",{"$f":"IF(D3272=\"Cash and Deposits\",IF(E3272=\"\",\"BANK NAME REQUIRED\",IF(ISERROR(VLOOKUP(E3272,'Reference Data'!C:C,1,FALSE)),\"PLEASE SELECT A BANK FROM DEFINED LIST PROVIDED\",\"\")),\"\")","v":""},"No Entry",0]
[null,null,null,null,null,null,null,null,null,null,null,null,"",{"$f":"IF(D3273=\"Cash and Deposits\",IF(E3273=\"\",\"BANK NAME REQUIRED\",IF(ISERROR(VLOOKUP(E3273,'Reference Data'!C:C,1,FALSE)),\"PLEASE SELECT A BANK FROM DEFINED LIST PROVIDED\",\"\")),\"\")","v":""},"No Entry",0]
[null,null,null,null,null,null,null,null,null,null,null,null,"",{"$f":"IF(D3274=\"Cash and Deposits\",IF(E3274=\"\",\"BANK NAME REQUIRED\",IF(ISERROR(VLOOKUP(E3274,'Reference Data'!C:C,1,FALSE)),\"PLEASE SELECT A BANK FROM DEFINED LIST PROVIDED\",\"\")),\"\")","v":""},"No Entry",0]
[null,null,null,null,null,null,null,null,null,null,null,null,"",{"$f":"IF(D3275=\"Cash and Deposits\",IF(E3275=\"\",\"BANK NAME REQUIRED\",IF(ISERROR(VLOOKUP(E3275,'Reference Data'!C:C,1,FALSE)),\"PLEASE SELECT A BANK FROM DEFINED LIST PROVIDED\",\"\")),\"\")","v":""},"No Entry",0]
[null,null,null,null,null,null,null,null,null,null,null,null,"",{"$f":"IF(D3276=\"Cash and Deposits\",IF(E3276=\"\",\"BANK NAME REQUIRED\",IF(ISERROR(VLOOKUP(E3276,'Reference Data'!C:C,1,FALSE)),\"PLEASE SELECT A BANK FROM DEFINED LIST PROVIDED\",\"\")),\"\")","v":""},"No Entry",0]
[null,null,null,null,null,null,null,null,null,null,null,null,"",{"$f":"IF(D3277=\"Cash and Deposits\",IF(E3277=\"\",\"BANK NAME REQUIRED\",IF(ISERROR(VLOOKUP(E3277,'Reference Data'!C:C,1,FALSE)),\"PLEASE SELECT A BANK FROM DEFINED LIST PROVIDED\",\"\")),\"\")","v":""},"No Entry",0]
[null,null,null,null,null,null,null,null,null,null,null,null,"",{"$f":"IF(D3278=\"Cash and Deposits\",IF(E3278=\"\",\"BANK NAME REQUIRED\",IF(ISERROR(VLOOKUP(E3278,'Reference Data'!C:C,1,FALSE)),\"PLEASE SELECT A BANK FROM DEFINED LIST PROVIDED\",\"\")),\"\")","v":""},"No Entry",0]
[null,null,null,null,null,null,null,null,null,null,null,null,"",{"$f":"IF(D3279=\"Cash and Deposits\",IF(E3279=\"\",\"BANK NAME REQUIRED\",IF(ISERROR(VLOOKUP(E3279,'Reference Data'!C:C,1,FALSE)),\"PLEASE SELECT A BANK FROM DEFINED LIST PROVIDED\",\"\")),\"\")","v":""},"No Entry",0]
[null,null,null,null,null,null,null,null,null,null,null,null,"",{"$f":"IF(D3280=\"Cash and Deposits\",IF(E3280=\"\",\"BANK NAME REQUIRED\",IF(ISERROR(VLOOKUP(E3280,'Reference Data'!C:C,1,FALSE)),\"PLEASE SELECT A BANK FROM DEFINED LIST PROVIDED\",\"\")),\"\")","v":""},"No Entry",0]
[null,null,null,null,null,null,null,null,null,null,null,null,"",{"$f":"IF(D3281=\"Cash and Deposits\",IF(E3281=\"\",\"BANK NAME REQUIRED\",IF(ISERROR(VLOOKUP(E3281,'Reference Data'!C:C,1,FALSE)),\"PLEASE SELECT A BANK FROM DEFINED LIST PROVIDED\",\"\")),\"\")","v":""},"No Entry",0]
[null,null,null,null,null,null,null,null,null,null,null,null,"",{"$f":"IF(D3282=\"Cash and Deposits\",IF(E3282=\"\",\"BANK NAME REQUIRED\",IF(ISERROR(VLOOKUP(E3282,'Reference Data'!C:C,1,FALSE)),\"PLEASE SELECT A BANK FROM DEFINED LIST PROVIDED\",\"\")),\"\")","v":""},"No Entry",0]
[null,null,null,null,null,null,null,null,null,null,null,null,"",{"$f":"IF(D3283=\"Cash and Deposits\",IF(E3283=\"\",\"BANK NAME REQUIRED\",IF(ISERROR(VLOOKUP(E3283,'Reference Data'!C:C,1,FALSE)),\"PLEASE SELECT A BANK FROM DEFINED LIST PROVIDED\",\"\")),\"\")","v":""},"No Entry",0]
[null,null,null,null,null,null,null,null,null,null,null,null,"",{"$f":"IF(D3284=\"Cash and Deposits\",IF(E3284=\"\",\"BANK NAME REQUIRED\",IF(ISERROR(VLOOKUP(E3284,'Reference Data'!C:C,1,FALSE)),\"PLEASE SELECT A BANK FROM DEFINED LIST PROVIDED\",\"\")),\"\")","v":""},"No Entry",0]
[null,null,null,null,null,null,null,null,null,null,null,null,"",{"$f":"IF(D3285=\"Cash and Deposits\",IF(E3285=\"\",\"BANK NAME REQUIRED\",IF(ISERROR(VLOOKUP(E3285,'Reference Data'!C:C,1,FALSE)),\"PLEASE SELECT A BANK FROM DEFINED LIST PROVIDED\",\"\")),\"\")","v":""},"No Entry",0]
[null,null,null,null,null,null,null,null,null,null,null,null,"",{"$f":"IF(D3286=\"Cash and Deposits\",IF(E3286=\"\",\"BANK NAME REQUIRED\",IF(ISERROR(VLOOKUP(E3286,'Reference Data'!C:C,1,FALSE)),\"PLEASE SELECT A BANK FROM DEFINED LIST PROVIDED\",\"\")),\"\")","v":""},"No Entry",0]
[null,null,null,null,null,null,null,null,null,null,null,null,"",{"$f":"IF(D3287=\"Cash and Deposits\",IF(E3287=\"\",\"BANK NAME REQUIRED\",IF(ISERROR(VLOOKUP(E3287,'Reference Data'!C:C,1,FALSE)),\"PLEASE SELECT A BANK FROM DEFINED LIST PROVIDED\",\"\")),\"\")","v":""},"No Entry",0]
[null,null,null,null,null,null,null,null,null,null,null,null,"",{"$f":"IF(D3288=\"Cash and Deposits\",IF(E3288=\"\",\"BANK NAME REQUIRED\",IF(ISERROR(VLOOKUP(E3288,'Reference Data'!C:C,1,FALSE)),\"PLEASE SELECT A BANK FROM DEFINED LIST PROVIDED\",\"\")),\"\")","v":""},"No Entry",0]
[null,null,null,null,null,null,null,null,null,null,null,null,"",{"$f":"IF(D3289=\"Cash and Deposits\",IF(E3289=\"\",\"BANK NAME REQUIRED\",IF(ISERROR(VLOOKUP(E3289,'Reference Data'!C:C,1,FALSE)),\"PLEASE SELECT A BANK FROM DEFINED LIST PROVIDED\",\"\")),\"\")","v":""},"No Entry",0]
[null,null,null,null,null,null,null,null,null,null,null,null,"",{"$f":"IF(D3290=\"Cash and Deposits\",IF(E3290=\"\",\"BANK NAME REQUIRED\",IF(ISERROR(VLOOKUP(E3290,'Reference Data'!C:C,1,FALSE)),\"PLEASE SELECT A BANK FROM DEFINED LIST PROVIDED\",\"\")),\"\")","v":""},"No Entry",0]
[null,null,null,null,null,null,null,null,null,null,null,null,"",{"$f":"IF(D3291=\"Cash and Deposits\",IF(E3291=\"\",\"BANK NAME REQUIRED\",IF(ISERROR(VLOOKUP(E3291,'Reference Data'!C:C,1,FALSE)),\"PLEASE SELECT A BANK FROM DEFINED LIST PROVIDED\",\"\")),\"\")","v":""},"No Entry",0]
[null,null,null,null,null,null,null,null,null,null,null,null,"",{"$f":"IF(D3292=\"Cash and Deposits\",IF(E3292=\"\",\"BANK NAME REQUIRED\",IF(ISERROR(VLOOKUP(E3292,'Reference Data'!C:C,1,FALSE)),\"PLEASE SELECT A BANK FROM DEFINED LIST PROVIDED\",\"\")),\"\")","v":""},"No Entry",0]
[null,null,null,null,null,null,null,null,null,null,null,null,"",{"$f":"IF(D3293=\"Cash and Deposits\",IF(E3293=\"\",\"BANK NAME REQUIRED\",IF(ISERROR(VLOOKUP(E3293,'Reference Data'!C:C,1,FALSE)),\"PLEASE SELECT A BANK FROM DEFINED LIST PROVIDED\",\"\")),\"\")","v":""},"No Entry",0]
[null,null,null,null,null,null,null,null,null,null,null,null,"",{"$f":"IF(D3294=\"Cash and Deposits\",IF(E3294=\"\",\"BANK NAME REQUIRED\",IF(ISERROR(VLOOKUP(E3294,'Reference Data'!C:C,1,FALSE)),\"PLEASE SELECT A BANK FROM DEFINED LIST PROVIDED\",\"\")),\"\")","v":""},"No Entry",0]
[null,null,null,null,null,null,null,null,null,null,null,null,"",{"$f":"IF(D3295=\"Cash and Deposits\",IF(E3295=\"\",\"BANK NAME REQUIRED\",IF(ISERROR(VLOOKUP(E3295,'Reference Data'!C:C,1,FALSE)),\"PLEASE SELECT A BANK FROM DEFINED LIST PROVIDED\",\"\")),\"\")","v":""},"No Entry",0]
[null,null,null,null,null,null,null,null,null,null,null,null,"",{"$f":"IF(D3296=\"Cash and Deposits\",IF(E3296=\"\",\"BANK NAME REQUIRED\",IF(ISERROR(VLOOKUP(E3296,'Reference Data'!C:C,1,FALSE)),\"PLEASE SELECT A BANK FROM DEFINED LIST PROVIDED\",\"\")),\"\")","v":""},"No Entry",0]
[null,null,null,null,null,null,null,null,null,null,null,null,"",{"$f":"IF(D3297=\"Cash and Deposits\",IF(E3297=\"\",\"BANK NAME REQUIRED\",IF(ISERROR(VLOOKUP(E3297,'Reference Data'!C:C,1,FALSE)),\"PLEASE SELECT A BANK FROM DEFINED LIST PROVIDED\",\"\")),\"\")","v":""},"No Entry",0]
[null,null,null,null,null,null,null,null,null,null,null,null,"",{"$f":"IF(D3298=\"Cash and Deposits\",IF(E3298=\"\",\"BANK NAME REQUIRED\",IF(ISERROR(VLOOKUP(E3298,'Reference Data'!C:C,1,FALSE)),\"PLEASE SELECT A BANK FROM DEFINED LIST PROVIDED\",\"\")),\"\")","v":""},"No Entry",0]
[null,null,null,null,null,null,null,null,null,null,null,null,"",{"$f":"IF(D3299=\"Cash and Deposits\",IF(E3299=\"\",\"BANK NAME REQUIRED\",IF(ISERROR(VLOOKUP(E3299,'Reference Data'!C:C,1,FALSE)),\"PLEASE SELECT A BANK FROM DEFINED LIST PROVIDED\",\"\")),\"\")","v":""},"No Entry",0]
[null,null,null,null,null,null,null,null,null,null,null,null,"",{"$f":"IF(D3300=\"Cash and Deposits\",IF(E3300=\"\",\"BANK NAME REQUIRED\",IF(ISERROR(VLOOKUP(E3300,'Reference Data'!C:C,1,FALSE)),\"PLEASE SELECT A BANK FROM DEFINED LIST PROVIDED\",\"\")),\"\")","v":""},"No Entry",0]
[null,null,null,null,null,null,null,null,null,null,null,null,"",{"$f":"IF(D3301=\"Cash and Deposits\",IF(E3301=\"\",\"BANK NAME REQUIRED\",IF(ISERROR(VLOOKUP(E3301,'Reference Data'!C:C,1,FALSE)),\"PLEASE SELECT A BANK FROM DEFINED LIST PROVIDED\",\"\")),\"\")","v":""},"No Entry",0]
[null,null,null,null,null,null,null,null,null,null,null,null,"",{"$f":"IF(D3302=\"Cash and Deposits\",IF(E3302=\"\",\"BANK NAME REQUIRED\",IF(ISERROR(VLOOKUP(E3302,'Reference Data'!C:C,1,FALSE)),\"PLEASE SELECT A BANK FROM DEFINED LIST PROVIDED\",\"\")),\"\")","v":""},"No Entry",0]
[null,null,null,null,null,null,null,null,null,null,null,null,"",{"$f":"IF(D3303=\"Cash and Deposits\",IF(E3303=\"\",\"BANK NAME REQUIRED\",IF(ISERROR(VLOOKUP(E3303,'Reference Data'!C:C,1,FALSE)),\"PLEASE SELECT A BANK FROM DEFINED LIST PROVIDED\",\"\")),\"\")","v":""},"No Entry",0]
[null,null,null,null,null,null,null,null,null,null,null,null,"",{"$f":"IF(D3304=\"Cash and Deposits\",IF(E3304=\"\",\"BANK NAME REQUIRED\",IF(ISERROR(VLOOKUP(E3304,'Reference Data'!C:C,1,FALSE)),\"PLEASE SELECT A BANK FROM DEFINED LIST PROVIDED\",\"\")),\"\")","v":""},"No Entry",0]
[null,null,null,null,null,null,null,null,null,null,null,null,"",{"$f":"IF(D3305=\"Cash and Deposits\",IF(E3305=\"\",\"BANK NAME REQUIRED\",IF(ISERROR(VLOOKUP(E3305,'Reference Data'!C:C,1,FALSE)),\"PLEASE SELECT A BANK FROM DEFINED LIST PROVIDED\",\"\")),\"\")","v":""},"No Entry",0]
[null,null,null,null,null,null,null,null,null,null,null,null,"",{"$f":"IF(D3306=\"Cash and Deposits\",IF(E3306=\"\",\"BANK NAME REQUIRED\",IF(ISERROR(VLOOKUP(E3306,'Reference Data'!C:C,1,FALSE)),\"PLEASE SELECT A BANK FROM DEFINED LIST PROVIDED\",\"\")),\"\")","v":""},"No Entry",0]
[null,null,null,null,null,null,null,null,null,null,null,null,"",{"$f":"IF(D3307=\"Cash and Deposits\",IF(E3307=\"\",\"BANK NAME REQUIRED\",IF(ISERROR(VLOOKUP(E3307,'Reference Data'!C:C,1,FALSE)),\"PLEASE SELECT A BANK FROM DEFINED LIST PROVIDED\",\"\")),\"\")","v":""},"No Entry",0]
[null,null,null,null,null,null,null,null,null,null,null,null,"",{"$f":"IF(D3308=\"Cash and Deposits\",IF(E3308=\"\",\"BANK NAME REQUIRED\",IF(ISERROR(VLOOKUP(E3308,'Reference Data'!C:C,1,FALSE)),\"PLEASE SELECT A BANK FROM DEFINED LIST PROVIDED\",\"\")),\"\")","v":""},"No Entry",0]
[null,null,null,null,null,null,null,null,null,null,null,null,"",{"$f":"IF(D3309=\"Cash and Deposits\",IF(E3309=\"\",\"BANK NAME REQUIRED\",IF(ISERROR(VLOOKUP(E3309,'Reference Data'!C:C,1,FALSE)),\"PLEASE SELECT A BANK FROM DEFINED LIST PROVIDED\",\"\")),\"\")","v":""},"No Entry",0]
[null,null,null,null,null,null,null,null,null,null,null,null,"",{"$f":"IF(D3310=\"Cash and Deposits\",IF(E3310=\"\",\"BANK NAME REQUIRED\",IF(ISERROR(VLOOKUP(E3310,'Reference Data'!C:C,1,FALSE)),\"PLEASE SELECT A BANK FROM DEFINED LIST PROVIDED\",\"\")),\"\")","v":""},"No Entry",0]
[null,null,null,null,null,null,null,null,null,null,null,null,"",{"$f":"IF(D3311=\"Cash and Deposits\",IF(E3311=\"\",\"BANK NAME REQUIRED\",IF(ISERROR(VLOOKUP(E3311,'Reference Data'!C:C,1,FALSE)),\"PLEASE SELECT A BANK FROM DEFINED LIST PROVIDED\",\"\")),\"\")","v":""},"No Entry",0]
[null,null,null,null,null,null,null,null,null,null,null,null,"",{"$f":"IF(D3312=\"Cash and Deposits\",IF(E3312=\"\",\"BANK NAME REQUIRED\",IF(ISERROR(VLOOKUP(E3312,'Reference Data'!C:C,1,FALSE)),\"PLEASE SELECT A BANK FROM DEFINED LIST PROVIDED\",\"\")),\"\")","v":""},"No Entry",0]
[null,null,null,null,null,null,null,null,null,null,null,null,"",{"$f":"IF(D3313=\"Cash and Deposits\",IF(E3313=\"\",\"BANK NAME REQUIRED\",IF(ISERROR(VLOOKUP(E3313,'Reference Data'!C:C,1,FALSE)),\"PLEASE SELECT A BANK FROM DEFINED LIST PROVIDED\",\"\")),\"\")","v":""},"No Entry",0]
[null,null,null,null,null,null,null,null,null,null,null,null,"",{"$f":"IF(D3314=\"Cash and Deposits\",IF(E3314=\"\",\"BANK NAME REQUIRED\",IF(ISERROR(VLOOKUP(E3314,'Reference Data'!C:C,1,FALSE)),\"PLEASE SELECT A BANK FROM DEFINED LIST PROVIDED\",\"\")),\"\")","v":""},"No Entry",0]
[null,null,null,null,null,null,null,null,null,null,null,null,"",{"$f":"IF(D3315=\"Cash and Deposits\",IF(E3315=\"\",\"BANK NAME REQUIRED\",IF(ISERROR(VLOOKUP(E3315,'Reference Data'!C:C,1,FALSE)),\"PLEASE SELECT A BANK FROM DEFINED LIST PROVIDED\",\"\")),\"\")","v":""},"No Entry",0]
[null,null,null,null,null,null,null,null,null,null,null,null,"",{"$f":"IF(D3316=\"Cash and Deposits\",IF(E3316=\"\",\"BANK NAME REQUIRED\",IF(ISERROR(VLOOKUP(E3316,'Reference Data'!C:C,1,FALSE)),\"PLEASE SELECT A BANK FROM DEFINED LIST PROVIDED\",\"\")),\"\")","v":""},"No Entry",0]
[null,null,null,null,null,null,null,null,null,null,null,null,"",{"$f":"IF(D3317=\"Cash and Deposits\",IF(E3317=\"\",\"BANK NAME REQUIRED\",IF(ISERROR(VLOOKUP(E3317,'Reference Data'!C:C,1,FALSE)),\"PLEASE SELECT A BANK FROM DEFINED LIST PROVIDED\",\"\")),\"\")","v":""},"No Entry",0]
[null,null,null,null,null,null,null,null,null,null,null,null,"",{"$f":"IF(D3318=\"Cash and Deposits\",IF(E3318=\"\",\"BANK NAME REQUIRED\",IF(ISERROR(VLOOKUP(E3318,'Reference Data'!C:C,1,FALSE)),\"PLEASE SELECT A BANK FROM DEFINED LIST PROVIDED\",\"\")),\"\")","v":""},"No Entry",0]
[null,null,null,null,null,null,null,null,null,null,null,null,"",{"$f":"IF(D3319=\"Cash and Deposits\",IF(E3319=\"\",\"BANK NAME REQUIRED\",IF(ISERROR(VLOOKUP(E3319,'Reference Data'!C:C,1,FALSE)),\"PLEASE SELECT A BANK FROM DEFINED LIST PROVIDED\",\"\")),\"\")","v":""},"No Entry",0]
[null,null,null,null,null,null,null,null,null,null,null,null,"",{"$f":"IF(D3320=\"Cash and Deposits\",IF(E3320=\"\",\"BANK NAME REQUIRED\",IF(ISERROR(VLOOKUP(E3320,'Reference Data'!C:C,1,FALSE)),\"PLEASE SELECT A BANK FROM DEFINED LIST PROVIDED\",\"\")),\"\")","v":""},"No Entry",0]
[null,null,null,null,null,null,null,null,null,null,null,null,"",{"$f":"IF(D3321=\"Cash and Deposits\",IF(E3321=\"\",\"BANK NAME REQUIRED\",IF(ISERROR(VLOOKUP(E3321,'Reference Data'!C:C,1,FALSE)),\"PLEASE SELECT A BANK FROM DEFINED LIST PROVIDED\",\"\")),\"\")","v":""},"No Entry",0]
[null,null,null,null,null,null,null,null,null,null,null,null,"",{"$f":"IF(D3322=\"Cash and Deposits\",IF(E3322=\"\",\"BANK NAME REQUIRED\",IF(ISERROR(VLOOKUP(E3322,'Reference Data'!C:C,1,FALSE)),\"PLEASE SELECT A BANK FROM DEFINED LIST PROVIDED\",\"\")),\"\")","v":""},"No Entry",0]
[null,null,null,null,null,null,null,null,null,null,null,null,"",{"$f":"IF(D3323=\"Cash and Deposits\",IF(E3323=\"\",\"BANK NAME REQUIRED\",IF(ISERROR(VLOOKUP(E3323,'Reference Data'!C:C,1,FALSE)),\"PLEASE SELECT A BANK FROM DEFINED LIST PROVIDED\",\"\")),\"\")","v":""},"No Entry",0]
[null,null,null,null,null,null,null,null,null,null,null,null,"",{"$f":"IF(D3324=\"Cash and Deposits\",IF(E3324=\"\",\"BANK NAME REQUIRED\",IF(ISERROR(VLOOKUP(E3324,'Reference Data'!C:C,1,FALSE)),\"PLEASE SELECT A BANK FROM DEFINED LIST PROVIDED\",\"\")),\"\")","v":""},"No Entry",0]
[null,null,null,null,null,null,null,null,null,null,null,null,"",{"$f":"IF(D3325=\"Cash and Deposits\",IF(E3325=\"\",\"BANK NAME REQUIRED\",IF(ISERROR(VLOOKUP(E3325,'Reference Data'!C:C,1,FALSE)),\"PLEASE SELECT A BANK FROM DEFINED LIST PROVIDED\",\"\")),\"\")","v":""},"No Entry",0]
[null,null,null,null,null,null,null,null,null,null,null,null,"",{"$f":"IF(D3326=\"Cash and Deposits\",IF(E3326=\"\",\"BANK NAME REQUIRED\",IF(ISERROR(VLOOKUP(E3326,'Reference Data'!C:C,1,FALSE)),\"PLEASE SELECT A BANK FROM DEFINED LIST PROVIDED\",\"\")),\"\")","v":""},"No Entry",0]
[null,null,null,null,null,null,null,null,null,null,null,null,"",{"$f":"IF(D3327=\"Cash and Deposits\",IF(E3327=\"\",\"BANK NAME REQUIRED\",IF(ISERROR(VLOOKUP(E3327,'Reference Data'!C:C,1,FALSE)),\"PLEASE SELECT A BANK FROM DEFINED LIST PROVIDED\",\"\")),\"\")","v":""},"No Entry",0]
[null,null,null,null,null,null,null,null,null,null,null,null,"",{"$f":"IF(D3328=\"Cash and Deposits\",IF(E3328=\"\",\"BANK NAME REQUIRED\",IF(ISERROR(VLOOKUP(E3328,'Reference Data'!C:C,1,FALSE)),\"PLEASE SELECT A BANK FROM DEFINED LIST PROVIDED\",\"\")),\"\")","v":""},"No Entry",0]
[null,null,null,null,null,null,null,null,null,null,null,null,"",{"$f":"IF(D3329=\"Cash and Deposits\",IF(E3329=\"\",\"BANK NAME REQUIRED\",IF(ISERROR(VLOOKUP(E3329,'Reference Data'!C:C,1,FALSE)),\"PLEASE SELECT A BANK FROM DEFINED LIST PROVIDED\",\"\")),\"\")","v":""},"No Entry",0]
[null,null,null,null,null,null,null,null,null,null,null,null,"",{"$f":"IF(D3330=\"Cash and Deposits\",IF(E3330=\"\",\"BANK NAME REQUIRED\",IF(ISERROR(VLOOKUP(E3330,'Reference Data'!C:C,1,FALSE)),\"PLEASE SELECT A BANK FROM DEFINED LIST PROVIDED\",\"\")),\"\")","v":""},"No Entry",0]
[null,null,null,null,null,null,null,null,null,null,null,null,"",{"$f":"IF(D3331=\"Cash and Deposits\",IF(E3331=\"\",\"BANK NAME REQUIRED\",IF(ISERROR(VLOOKUP(E3331,'Reference Data'!C:C,1,FALSE)),\"PLEASE SELECT A BANK FROM DEFINED LIST PROVIDED\",\"\")),\"\")","v":""},"No Entry",0]
[null,null,null,null,null,null,null,null,null,null,null,null,"",{"$f":"IF(D3332=\"Cash and Deposits\",IF(E3332=\"\",\"BANK NAME REQUIRED\",IF(ISERROR(VLOOKUP(E3332,'Reference Data'!C:C,1,FALSE)),\"PLEASE SELECT A BANK FROM DEFINED LIST PROVIDED\",\"\")),\"\")","v":""},"No Entry",0]
[null,null,null,null,null,null,null,null,null,null,null,null,{"$f":"IF(K3333<>0,IF(B3333=\"\",\"ID CODE REQUIRED\",\"\"),\"\")","v":""},{"$f":"IF(D3333=\"Cash and Deposits\",IF(E3333=\"\",\"BANK NAME REQUIRED\",IF(ISERROR(VLOOKUP(E3333,'Reference Data'!C:C,1,FALSE)),\"PLEASE SELECT A BANK FROM DEFINED LIST PROVIDED\",\"\")),\"\")","v":""},{"$f":"IF(K3333=0,\"No Entry\",\"\")","v":"No Entry"},{"$f":"IF(K3333<>0,IF(A3333=\"\",1,0),0)","v":0}]
[null,null,null,null,null,null,null,null,null,null,null,null,"",{"$f":"IF(D3334=\"Cash and Deposits\",IF(E3334=\"\",\"BANK NAME REQUIRED\",IF(ISERROR(VLOOKUP(E3334,'Reference Data'!C:C,1,FALSE)),\"PLEASE SELECT A BANK FROM DEFINED LIST PROVIDED\",\"\")),\"\")","v":""},"No Entry",0]
[null,null,null,null,null,null,null,null,null,null,null,null,"",{"$f":"IF(D3335=\"Cash and Deposits\",IF(E3335=\"\",\"BANK NAME REQUIRED\",IF(ISERROR(VLOOKUP(E3335,'Reference Data'!C:C,1,FALSE)),\"PLEASE SELECT A BANK FROM DEFINED LIST PROVIDED\",\"\")),\"\")","v":""},"No Entry",0]
[null,null,null,null,null,null,null,null,null,null,null,null,"",{"$f":"IF(D3336=\"Cash and Deposits\",IF(E3336=\"\",\"BANK NAME REQUIRED\",IF(ISERROR(VLOOKUP(E3336,'Reference Data'!C:C,1,FALSE)),\"PLEASE SELECT A BANK FROM DEFINED LIST PROVIDED\",\"\")),\"\")","v":""},"No Entry",0]
[null,null,null,null,null,null,null,null,null,null,null,null,"",{"$f":"IF(D3337=\"Cash and Deposits\",IF(E3337=\"\",\"BANK NAME REQUIRED\",IF(ISERROR(VLOOKUP(E3337,'Reference Data'!C:C,1,FALSE)),\"PLEASE SELECT A BANK FROM DEFINED LIST PROVIDED\",\"\")),\"\")","v":""},"No Entry",0]
[null,null,null,null,null,null,null,null,null,null,null,null,"",{"$f":"IF(D3338=\"Cash and Deposits\",IF(E3338=\"\",\"BANK NAME REQUIRED\",IF(ISERROR(VLOOKUP(E3338,'Reference Data'!C:C,1,FALSE)),\"PLEASE SELECT A BANK FROM DEFINED LIST PROVIDED\",\"\")),\"\")","v":""},"No Entry",0]
[null,null,null,null,null,null,null,null,null,null,null,null,"",{"$f":"IF(D3339=\"Cash and Deposits\",IF(E3339=\"\",\"BANK NAME REQUIRED\",IF(ISERROR(VLOOKUP(E3339,'Reference Data'!C:C,1,FALSE)),\"PLEASE SELECT A BANK FROM DEFINED LIST PROVIDED\",\"\")),\"\")","v":""},"No Entry",0]
[null,null,null,null,null,null,null,null,null,null,null,null,"",{"$f":"IF(D3340=\"Cash and Deposits\",IF(E3340=\"\",\"BANK NAME REQUIRED\",IF(ISERROR(VLOOKUP(E3340,'Reference Data'!C:C,1,FALSE)),\"PLEASE SELECT A BANK FROM DEFINED LIST PROVIDED\",\"\")),\"\")","v":""},"No Entry",0]
[null,null,null,null,null,null,null,null,null,null,null,null,"",{"$f":"IF(D3341=\"Cash and Deposits\",IF(E3341=\"\",\"BANK NAME REQUIRED\",IF(ISERROR(VLOOKUP(E3341,'Reference Data'!C:C,1,FALSE)),\"PLEASE SELECT A BANK FROM DEFINED LIST PROVIDED\",\"\")),\"\")","v":""},"No Entry",0]
[null,null,null,null,null,null,null,null,null,null,null,null,"",{"$f":"IF(D3342=\"Cash and Deposits\",IF(E3342=\"\",\"BANK NAME REQUIRED\",IF(ISERROR(VLOOKUP(E3342,'Reference Data'!C:C,1,FALSE)),\"PLEASE SELECT A BANK FROM DEFINED LIST PROVIDED\",\"\")),\"\")","v":""},"No Entry",0]
[null,null,null,null,null,null,null,null,null,null,null,null,"",{"$f":"IF(D3343=\"Cash and Deposits\",IF(E3343=\"\",\"BANK NAME REQUIRED\",IF(ISERROR(VLOOKUP(E3343,'Reference Data'!C:C,1,FALSE)),\"PLEASE SELECT A BANK FROM DEFINED LIST PROVIDED\",\"\")),\"\")","v":""},"No Entry",0]
[null,null,null,null,null,null,null,null,null,null,null,null,"",{"$f":"IF(D3344=\"Cash and Deposits\",IF(E3344=\"\",\"BANK NAME REQUIRED\",IF(ISERROR(VLOOKUP(E3344,'Reference Data'!C:C,1,FALSE)),\"PLEASE SELECT A BANK FROM DEFINED LIST PROVIDED\",\"\")),\"\")","v":""},"No Entry",0]
[null,null,null,null,null,null,null,null,null,null,null,null,"",{"$f":"IF(D3345=\"Cash and Deposits\",IF(E3345=\"\",\"BANK NAME REQUIRED\",IF(ISERROR(VLOOKUP(E3345,'Reference Data'!C:C,1,FALSE)),\"PLEASE SELECT A BANK FROM DEFINED LIST PROVIDED\",\"\")),\"\")","v":""},"No Entry",0]
[null,null,null,null,null,null,null,null,null,null,null,null,"",{"$f":"IF(D3346=\"Cash and Deposits\",IF(E3346=\"\",\"BANK NAME REQUIRED\",IF(ISERROR(VLOOKUP(E3346,'Reference Data'!C:C,1,FALSE)),\"PLEASE SELECT A BANK FROM DEFINED LIST PROVIDED\",\"\")),\"\")","v":""},"No Entry",0]
[null,null,null,null,null,null,null,null,null,null,null,null,"",{"$f":"IF(D3347=\"Cash and Deposits\",IF(E3347=\"\",\"BANK NAME REQUIRED\",IF(ISERROR(VLOOKUP(E3347,'Reference Data'!C:C,1,FALSE)),\"PLEASE SELECT A BANK FROM DEFINED LIST PROVIDED\",\"\")),\"\")","v":""},"No Entry",0]
[null,null,null,null,null,null,null,null,null,null,null,null,"",{"$f":"IF(D3348=\"Cash and Deposits\",IF(E3348=\"\",\"BANK NAME REQUIRED\",IF(ISERROR(VLOOKUP(E3348,'Reference Data'!C:C,1,FALSE)),\"PLEASE SELECT A BANK FROM DEFINED LIST PROVIDED\",\"\")),\"\")","v":""},"No Entry",0]
[null,null,null,null,null,null,null,null,null,null,null,null,"",{"$f":"IF(D3349=\"Cash and Deposits\",IF(E3349=\"\",\"BANK NAME REQUIRED\",IF(ISERROR(VLOOKUP(E3349,'Reference Data'!C:C,1,FALSE)),\"PLEASE SELECT A BANK FROM DEFINED LIST PROVIDED\",\"\")),\"\")","v":""},"No Entry",0]
[null,null,null,null,null,null,null,null,null,null,null,null,"",{"$f":"IF(D3350=\"Cash and Deposits\",IF(E3350=\"\",\"BANK NAME REQUIRED\",IF(ISERROR(VLOOKUP(E3350,'Reference Data'!C:C,1,FALSE)),\"PLEASE SELECT A BANK FROM DEFINED LIST PROVIDED\",\"\")),\"\")","v":""},"No Entry",0]
[null,null,null,null,null,null,null,null,null,null,null,null,"",{"$f":"IF(D3351=\"Cash and Deposits\",IF(E3351=\"\",\"BANK NAME REQUIRED\",IF(ISERROR(VLOOKUP(E3351,'Reference Data'!C:C,1,FALSE)),\"PLEASE SELECT A BANK FROM DEFINED LIST PROVIDED\",\"\")),\"\")","v":""},"No Entry",0]
[null,null,null,null,null,null,null,null,null,null,null,null,"",{"$f":"IF(D3352=\"Cash and Deposits\",IF(E3352=\"\",\"BANK NAME REQUIRED\",IF(ISERROR(VLOOKUP(E3352,'Reference Data'!C:C,1,FALSE)),\"PLEASE SELECT A BANK FROM DEFINED LIST PROVIDED\",\"\")),\"\")","v":""},"No Entry",0]
[null,null,null,null,null,null,null,null,null,null,null,null,"",{"$f":"IF(D3353=\"Cash and Deposits\",IF(E3353=\"\",\"BANK NAME REQUIRED\",IF(ISERROR(VLOOKUP(E3353,'Reference Data'!C:C,1,FALSE)),\"PLEASE SELECT A BANK FROM DEFINED LIST PROVIDED\",\"\")),\"\")","v":""},"No Entry",0]
[null,null,null,null,null,null,null,null,null,null,null,null,"",{"$f":"IF(D3354=\"Cash and Deposits\",IF(E3354=\"\",\"BANK NAME REQUIRED\",IF(ISERROR(VLOOKUP(E3354,'Reference Data'!C:C,1,FALSE)),\"PLEASE SELECT A BANK FROM DEFINED LIST PROVIDED\",\"\")),\"\")","v":""},"No Entry",0]
[null,null,null,null,null,null,null,null,null,null,null,null,"",{"$f":"IF(D3355=\"Cash and Deposits\",IF(E3355=\"\",\"BANK NAME REQUIRED\",IF(ISERROR(VLOOKUP(E3355,'Reference Data'!C:C,1,FALSE)),\"PLEASE SELECT A BANK FROM DEFINED LIST PROVIDED\",\"\")),\"\")","v":""},"No Entry",0]
[null,null,null,null,null,null,null,null,null,null,null,null,"",{"$f":"IF(D3356=\"Cash and Deposits\",IF(E3356=\"\",\"BANK NAME REQUIRED\",IF(ISERROR(VLOOKUP(E3356,'Reference Data'!C:C,1,FALSE)),\"PLEASE SELECT A BANK FROM DEFINED LIST PROVIDED\",\"\")),\"\")","v":""},"No Entry",0]
[null,null,null,null,null,null,null,null,null,null,null,null,"",{"$f":"IF(D3357=\"Cash and Deposits\",IF(E3357=\"\",\"BANK NAME REQUIRED\",IF(ISERROR(VLOOKUP(E3357,'Reference Data'!C:C,1,FALSE)),\"PLEASE SELECT A BANK FROM DEFINED LIST PROVIDED\",\"\")),\"\")","v":""},"No Entry",0]
[null,null,null,null,null,null,null,null,null,null,null,null,"",{"$f":"IF(D3358=\"Cash and Deposits\",IF(E3358=\"\",\"BANK NAME REQUIRED\",IF(ISERROR(VLOOKUP(E3358,'Reference Data'!C:C,1,FALSE)),\"PLEASE SELECT A BANK FROM DEFINED LIST PROVIDED\",\"\")),\"\")","v":""},"No Entry",0]
[null,null,null,null,null,null,null,null,null,null,null,null,"",{"$f":"IF(D3359=\"Cash and Deposits\",IF(E3359=\"\",\"BANK NAME REQUIRED\",IF(ISERROR(VLOOKUP(E3359,'Reference Data'!C:C,1,FALSE)),\"PLEASE SELECT A BANK FROM DEFINED LIST PROVIDED\",\"\")),\"\")","v":""},"No Entry",0]
[null,null,null,null,null,null,null,null,null,null,null,null,"",{"$f":"IF(D3360=\"Cash and Deposits\",IF(E3360=\"\",\"BANK NAME REQUIRED\",IF(ISERROR(VLOOKUP(E3360,'Reference Data'!C:C,1,FALSE)),\"PLEASE SELECT A BANK FROM DEFINED LIST PROVIDED\",\"\")),\"\")","v":""},"No Entry",0]
[null,null,null,null,null,null,null,null,null,null,null,null,"",{"$f":"IF(D3361=\"Cash and Deposits\",IF(E3361=\"\",\"BANK NAME REQUIRED\",IF(ISERROR(VLOOKUP(E3361,'Reference Data'!C:C,1,FALSE)),\"PLEASE SELECT A BANK FROM DEFINED LIST PROVIDED\",\"\")),\"\")","v":""},"No Entry",0]
[null,null,null,null,null,null,null,null,null,null,null,null,"",{"$f":"IF(D3362=\"Cash and Deposits\",IF(E3362=\"\",\"BANK NAME REQUIRED\",IF(ISERROR(VLOOKUP(E3362,'Reference Data'!C:C,1,FALSE)),\"PLEASE SELECT A BANK FROM DEFINED LIST PROVIDED\",\"\")),\"\")","v":""},"No Entry",0]
[null,null,null,null,null,null,null,null,null,null,null,null,"",{"$f":"IF(D3363=\"Cash and Deposits\",IF(E3363=\"\",\"BANK NAME REQUIRED\",IF(ISERROR(VLOOKUP(E3363,'Reference Data'!C:C,1,FALSE)),\"PLEASE SELECT A BANK FROM DEFINED LIST PROVIDED\",\"\")),\"\")","v":""},"No Entry",0]
[null,null,null,null,null,null,null,null,null,null,null,null,"",{"$f":"IF(D3364=\"Cash and Deposits\",IF(E3364=\"\",\"BANK NAME REQUIRED\",IF(ISERROR(VLOOKUP(E3364,'Reference Data'!C:C,1,FALSE)),\"PLEASE SELECT A BANK FROM DEFINED LIST PROVIDED\",\"\")),\"\")","v":""},"No Entry",0]
[null,null,null,null,null,null,null,null,null,null,null,null,"",{"$f":"IF(D3365=\"Cash and Deposits\",IF(E3365=\"\",\"BANK NAME REQUIRED\",IF(ISERROR(VLOOKUP(E3365,'Reference Data'!C:C,1,FALSE)),\"PLEASE SELECT A BANK FROM DEFINED LIST PROVIDED\",\"\")),\"\")","v":""},"No Entry",0]
[null,null,null,null,null,null,null,null,null,null,null,null,"",{"$f":"IF(D3366=\"Cash and Deposits\",IF(E3366=\"\",\"BANK NAME REQUIRED\",IF(ISERROR(VLOOKUP(E3366,'Reference Data'!C:C,1,FALSE)),\"PLEASE SELECT A BANK FROM DEFINED LIST PROVIDED\",\"\")),\"\")","v":""},"No Entry",0]
[null,null,null,null,null,null,null,null,null,null,null,null,"",{"$f":"IF(D3367=\"Cash and Deposits\",IF(E3367=\"\",\"BANK NAME REQUIRED\",IF(ISERROR(VLOOKUP(E3367,'Reference Data'!C:C,1,FALSE)),\"PLEASE SELECT A BANK FROM DEFINED LIST PROVIDED\",\"\")),\"\")","v":""},"No Entry",0]
[null,null,null,null,null,null,null,null,null,null,null,null,"",{"$f":"IF(D3368=\"Cash and Deposits\",IF(E3368=\"\",\"BANK NAME REQUIRED\",IF(ISERROR(VLOOKUP(E3368,'Reference Data'!C:C,1,FALSE)),\"PLEASE SELECT A BANK FROM DEFINED LIST PROVIDED\",\"\")),\"\")","v":""},"No Entry",0]
[null,null,null,null,null,null,null,null,null,null,null,null,"",{"$f":"IF(D3369=\"Cash and Deposits\",IF(E3369=\"\",\"BANK NAME REQUIRED\",IF(ISERROR(VLOOKUP(E3369,'Reference Data'!C:C,1,FALSE)),\"PLEASE SELECT A BANK FROM DEFINED LIST PROVIDED\",\"\")),\"\")","v":""},"No Entry",0]
[null,null,null,null,null,null,null,null,null,null,null,null,"",{"$f":"IF(D3370=\"Cash and Deposits\",IF(E3370=\"\",\"BANK NAME REQUIRED\",IF(ISERROR(VLOOKUP(E3370,'Reference Data'!C:C,1,FALSE)),\"PLEASE SELECT A BANK FROM DEFINED LIST PROVIDED\",\"\")),\"\")","v":""},"No Entry",0]
[null,null,null,null,null,null,null,null,null,null,null,null,"",{"$f":"IF(D3371=\"Cash and Deposits\",IF(E3371=\"\",\"BANK NAME REQUIRED\",IF(ISERROR(VLOOKUP(E3371,'Reference Data'!C:C,1,FALSE)),\"PLEASE SELECT A BANK FROM DEFINED LIST PROVIDED\",\"\")),\"\")","v":""},"No Entry",0]
[null,null,null,null,null,null,null,null,null,null,null,null,"",{"$f":"IF(D3372=\"Cash and Deposits\",IF(E3372=\"\",\"BANK NAME REQUIRED\",IF(ISERROR(VLOOKUP(E3372,'Reference Data'!C:C,1,FALSE)),\"PLEASE SELECT A BANK FROM DEFINED LIST PROVIDED\",\"\")),\"\")","v":""},"No Entry",0]
[null,null,null,null,null,null,null,null,null,null,null,null,"",{"$f":"IF(D3373=\"Cash and Deposits\",IF(E3373=\"\",\"BANK NAME REQUIRED\",IF(ISERROR(VLOOKUP(E3373,'Reference Data'!C:C,1,FALSE)),\"PLEASE SELECT A BANK FROM DEFINED LIST PROVIDED\",\"\")),\"\")","v":""},"No Entry",0]
[null,null,null,null,null,null,null,null,null,null,null,null,"",{"$f":"IF(D3374=\"Cash and Deposits\",IF(E3374=\"\",\"BANK NAME REQUIRED\",IF(ISERROR(VLOOKUP(E3374,'Reference Data'!C:C,1,FALSE)),\"PLEASE SELECT A BANK FROM DEFINED LIST PROVIDED\",\"\")),\"\")","v":""},"No Entry",0]
[null,null,null,null,null,null,null,null,null,null,null,null,"",{"$f":"IF(D3375=\"Cash and Deposits\",IF(E3375=\"\",\"BANK NAME REQUIRED\",IF(ISERROR(VLOOKUP(E3375,'Reference Data'!C:C,1,FALSE)),\"PLEASE SELECT A BANK FROM DEFINED LIST PROVIDED\",\"\")),\"\")","v":""},"No Entry",0]
[null,null,null,null,null,null,null,null,null,null,null,null,"",{"$f":"IF(D3376=\"Cash and Deposits\",IF(E3376=\"\",\"BANK NAME REQUIRED\",IF(ISERROR(VLOOKUP(E3376,'Reference Data'!C:C,1,FALSE)),\"PLEASE SELECT A BANK FROM DEFINED LIST PROVIDED\",\"\")),\"\")","v":""},"No Entry",0]
[null,null,null,null,null,null,null,null,null,null,null,null,"",{"$f":"IF(D3377=\"Cash and Deposits\",IF(E3377=\"\",\"BANK NAME REQUIRED\",IF(ISERROR(VLOOKUP(E3377,'Reference Data'!C:C,1,FALSE)),\"PLEASE SELECT A BANK FROM DEFINED LIST PROVIDED\",\"\")),\"\")","v":""},"No Entry",0]
[null,null,null,null,null,null,null,null,null,null,null,null,"",{"$f":"IF(D3378=\"Cash and Deposits\",IF(E3378=\"\",\"BANK NAME REQUIRED\",IF(ISERROR(VLOOKUP(E3378,'Reference Data'!C:C,1,FALSE)),\"PLEASE SELECT A BANK FROM DEFINED LIST PROVIDED\",\"\")),\"\")","v":""},"No Entry",0]
[null,null,null,null,null,null,null,null,null,null,null,null,"",{"$f":"IF(D3379=\"Cash and Deposits\",IF(E3379=\"\",\"BANK NAME REQUIRED\",IF(ISERROR(VLOOKUP(E3379,'Reference Data'!C:C,1,FALSE)),\"PLEASE SELECT A BANK FROM DEFINED LIST PROVIDED\",\"\")),\"\")","v":""},"No Entry",0]
[null,null,null,null,null,null,null,null,null,null,null,null,"",{"$f":"IF(D3380=\"Cash and Deposits\",IF(E3380=\"\",\"BANK NAME REQUIRED\",IF(ISERROR(VLOOKUP(E3380,'Reference Data'!C:C,1,FALSE)),\"PLEASE SELECT A BANK FROM DEFINED LIST PROVIDED\",\"\")),\"\")","v":""},"No Entry",0]
[null,null,null,null,null,null,null,null,null,null,null,null,"",{"$f":"IF(D3381=\"Cash and Deposits\",IF(E3381=\"\",\"BANK NAME REQUIRED\",IF(ISERROR(VLOOKUP(E3381,'Reference Data'!C:C,1,FALSE)),\"PLEASE SELECT A BANK FROM DEFINED LIST PROVIDED\",\"\")),\"\")","v":""},"No Entry",0]
[null,null,null,null,null,null,null,null,null,null,null,null,"",{"$f":"IF(D3382=\"Cash and Deposits\",IF(E3382=\"\",\"BANK NAME REQUIRED\",IF(ISERROR(VLOOKUP(E3382,'Reference Data'!C:C,1,FALSE)),\"PLEASE SELECT A BANK FROM DEFINED LIST PROVIDED\",\"\")),\"\")","v":""},"No Entry",0]
[null,null,null,null,null,null,null,null,null,null,null,null,"",{"$f":"IF(D3383=\"Cash and Deposits\",IF(E3383=\"\",\"BANK NAME REQUIRED\",IF(ISERROR(VLOOKUP(E3383,'Reference Data'!C:C,1,FALSE)),\"PLEASE SELECT A BANK FROM DEFINED LIST PROVIDED\",\"\")),\"\")","v":""},"No Entry",0]
[null,null,null,null,null,null,null,null,null,null,null,null,"",{"$f":"IF(D3384=\"Cash and Deposits\",IF(E3384=\"\",\"BANK NAME REQUIRED\",IF(ISERROR(VLOOKUP(E3384,'Reference Data'!C:C,1,FALSE)),\"PLEASE SELECT A BANK FROM DEFINED LIST PROVIDED\",\"\")),\"\")","v":""},"No Entry",0]
[null,null,null,null,null,null,null,null,null,null,null,null,"",{"$f":"IF(D3385=\"Cash and Deposits\",IF(E3385=\"\",\"BANK NAME REQUIRED\",IF(ISERROR(VLOOKUP(E3385,'Reference Data'!C:C,1,FALSE)),\"PLEASE SELECT A BANK FROM DEFINED LIST PROVIDED\",\"\")),\"\")","v":""},"No Entry",0]
[null,null,null,null,null,null,null,null,null,null,null,null,"",{"$f":"IF(D3386=\"Cash and Deposits\",IF(E3386=\"\",\"BANK NAME REQUIRED\",IF(ISERROR(VLOOKUP(E3386,'Reference Data'!C:C,1,FALSE)),\"PLEASE SELECT A BANK FROM DEFINED LIST PROVIDED\",\"\")),\"\")","v":""},"No Entry",0]
[null,null,null,null,null,null,null,null,null,null,null,null,"",{"$f":"IF(D3387=\"Cash and Deposits\",IF(E3387=\"\",\"BANK NAME REQUIRED\",IF(ISERROR(VLOOKUP(E3387,'Reference Data'!C:C,1,FALSE)),\"PLEASE SELECT A BANK FROM DEFINED LIST PROVIDED\",\"\")),\"\")","v":""},"No Entry",0]
[null,null,null,null,null,null,null,null,null,null,null,null,"",{"$f":"IF(D3388=\"Cash and Deposits\",IF(E3388=\"\",\"BANK NAME REQUIRED\",IF(ISERROR(VLOOKUP(E3388,'Reference Data'!C:C,1,FALSE)),\"PLEASE SELECT A BANK FROM DEFINED LIST PROVIDED\",\"\")),\"\")","v":""},"No Entry",0]
[null,null,null,null,null,null,null,null,null,null,null,null,"",{"$f":"IF(D3389=\"Cash and Deposits\",IF(E3389=\"\",\"BANK NAME REQUIRED\",IF(ISERROR(VLOOKUP(E3389,'Reference Data'!C:C,1,FALSE)),\"PLEASE SELECT A BANK FROM DEFINED LIST PROVIDED\",\"\")),\"\")","v":""},"No Entry",0]
[null,null,null,null,null,null,null,null,null,null,null,null,"",{"$f":"IF(D3390=\"Cash and Deposits\",IF(E3390=\"\",\"BANK NAME REQUIRED\",IF(ISERROR(VLOOKUP(E3390,'Reference Data'!C:C,1,FALSE)),\"PLEASE SELECT A BANK FROM DEFINED LIST PROVIDED\",\"\")),\"\")","v":""},"No Entry",0]
[null,null,null,null,null,null,null,null,null,null,null,null,"",{"$f":"IF(D3391=\"Cash and Deposits\",IF(E3391=\"\",\"BANK NAME REQUIRED\",IF(ISERROR(VLOOKUP(E3391,'Reference Data'!C:C,1,FALSE)),\"PLEASE SELECT A BANK FROM DEFINED LIST PROVIDED\",\"\")),\"\")","v":""},"No Entry",0]
[null,null,null,null,null,null,null,null,null,null,null,null,"",{"$f":"IF(D3392=\"Cash and Deposits\",IF(E3392=\"\",\"BANK NAME REQUIRED\",IF(ISERROR(VLOOKUP(E3392,'Reference Data'!C:C,1,FALSE)),\"PLEASE SELECT A BANK FROM DEFINED LIST PROVIDED\",\"\")),\"\")","v":""},"No Entry",0]
[null,null,null,null,null,null,null,null,null,null,null,null,"",{"$f":"IF(D3393=\"Cash and Deposits\",IF(E3393=\"\",\"BANK NAME REQUIRED\",IF(ISERROR(VLOOKUP(E3393,'Reference Data'!C:C,1,FALSE)),\"PLEASE SELECT A BANK FROM DEFINED LIST PROVIDED\",\"\")),\"\")","v":""},"No Entry",0]
[null,null,null,null,null,null,null,null,null,null,null,null,"",{"$f":"IF(D3394=\"Cash and Deposits\",IF(E3394=\"\",\"BANK NAME REQUIRED\",IF(ISERROR(VLOOKUP(E3394,'Reference Data'!C:C,1,FALSE)),\"PLEASE SELECT A BANK FROM DEFINED LIST PROVIDED\",\"\")),\"\")","v":""},"No Entry",0]
[null,null,null,null,null,null,null,null,null,null,null,null,"",{"$f":"IF(D3395=\"Cash and Deposits\",IF(E3395=\"\",\"BANK NAME REQUIRED\",IF(ISERROR(VLOOKUP(E3395,'Reference Data'!C:C,1,FALSE)),\"PLEASE SELECT A BANK FROM DEFINED LIST PROVIDED\",\"\")),\"\")","v":""},"No Entry",0]
[null,null,null,null,null,null,null,null,null,null,null,null,"",{"$f":"IF(D3396=\"Cash and Deposits\",IF(E3396=\"\",\"BANK NAME REQUIRED\",IF(ISERROR(VLOOKUP(E3396,'Reference Data'!C:C,1,FALSE)),\"PLEASE SELECT A BANK FROM DEFINED LIST PROVIDED\",\"\")),\"\")","v":""},"No Entry",0]
[null,null,null,null,null,null,null,null,null,null,null,null,{"$f":"IF(K3397<>0,IF(B3397=\"\",\"ID CODE REQUIRED\",\"\"),\"\")","v":""},{"$f":"IF(D3397=\"Cash and Deposits\",IF(E3397=\"\",\"BANK NAME REQUIRED\",IF(ISERROR(VLOOKUP(E3397,'Reference Data'!C:C,1,FALSE)),\"PLEASE SELECT A BANK FROM DEFINED LIST PROVIDED\",\"\")),\"\")","v":""},{"$f":"IF(K3397=0,\"No Entry\",\"\")","v":"No Entry"},{"$f":"IF(K3397<>0,IF(A3397=\"\",1,0),0)","v":0}]
[null,null,null,null,null,null,null,null,null,null,null,null,"",{"$f":"IF(D3398=\"Cash and Deposits\",IF(E3398=\"\",\"BANK NAME REQUIRED\",IF(ISERROR(VLOOKUP(E3398,'Reference Data'!C:C,1,FALSE)),\"PLEASE SELECT A BANK FROM DEFINED LIST PROVIDED\",\"\")),\"\")","v":""},"No Entry",0]
[null,null,null,null,null,null,null,null,null,null,null,null,"",{"$f":"IF(D3399=\"Cash and Deposits\",IF(E3399=\"\",\"BANK NAME REQUIRED\",IF(ISERROR(VLOOKUP(E3399,'Reference Data'!C:C,1,FALSE)),\"PLEASE SELECT A BANK FROM DEFINED LIST PROVIDED\",\"\")),\"\")","v":""},"No Entry",0]
[null,null,null,null,null,null,null,null,null,null,null,null,"",{"$f":"IF(D3400=\"Cash and Deposits\",IF(E3400=\"\",\"BANK NAME REQUIRED\",IF(ISERROR(VLOOKUP(E3400,'Reference Data'!C:C,1,FALSE)),\"PLEASE SELECT A BANK FROM DEFINED LIST PROVIDED\",\"\")),\"\")","v":""},"No Entry",0]
[null,null,null,null,null,null,null,null,null,null,null,null,"",{"$f":"IF(D3401=\"Cash and Deposits\",IF(E3401=\"\",\"BANK NAME REQUIRED\",IF(ISERROR(VLOOKUP(E3401,'Reference Data'!C:C,1,FALSE)),\"PLEASE SELECT A BANK FROM DEFINED LIST PROVIDED\",\"\")),\"\")","v":""},"No Entry",0]
[null,null,null,null,null,null,null,null,null,null,null,null,"",{"$f":"IF(D3402=\"Cash and Deposits\",IF(E3402=\"\",\"BANK NAME REQUIRED\",IF(ISERROR(VLOOKUP(E3402,'Reference Data'!C:C,1,FALSE)),\"PLEASE SELECT A BANK FROM DEFINED LIST PROVIDED\",\"\")),\"\")","v":""},"No Entry",0]
[null,null,null,null,null,null,null,null,null,null,null,null,"",{"$f":"IF(D3403=\"Cash and Deposits\",IF(E3403=\"\",\"BANK NAME REQUIRED\",IF(ISERROR(VLOOKUP(E3403,'Reference Data'!C:C,1,FALSE)),\"PLEASE SELECT A BANK FROM DEFINED LIST PROVIDED\",\"\")),\"\")","v":""},"No Entry",0]
[null,null,null,null,null,null,null,null,null,null,null,null,"",{"$f":"IF(D3404=\"Cash and Deposits\",IF(E3404=\"\",\"BANK NAME REQUIRED\",IF(ISERROR(VLOOKUP(E3404,'Reference Data'!C:C,1,FALSE)),\"PLEASE SELECT A BANK FROM DEFINED LIST PROVIDED\",\"\")),\"\")","v":""},"No Entry",0]
[null,null,null,null,null,null,null,null,null,null,null,null,"",{"$f":"IF(D3405=\"Cash and Deposits\",IF(E3405=\"\",\"BANK NAME REQUIRED\",IF(ISERROR(VLOOKUP(E3405,'Reference Data'!C:C,1,FALSE)),\"PLEASE SELECT A BANK FROM DEFINED LIST PROVIDED\",\"\")),\"\")","v":""},"No Entry",0]
[null,null,null,null,null,null,null,null,null,null,null,null,"",{"$f":"IF(D3406=\"Cash and Deposits\",IF(E3406=\"\",\"BANK NAME REQUIRED\",IF(ISERROR(VLOOKUP(E3406,'Reference Data'!C:C,1,FALSE)),\"PLEASE SELECT A BANK FROM DEFINED LIST PROVIDED\",\"\")),\"\")","v":""},"No Entry",0]
[null,null,null,null,null,null,null,null,null,null,null,null,"",{"$f":"IF(D3407=\"Cash and Deposits\",IF(E3407=\"\",\"BANK NAME REQUIRED\",IF(ISERROR(VLOOKUP(E3407,'Reference Data'!C:C,1,FALSE)),\"PLEASE SELECT A BANK FROM DEFINED LIST PROVIDED\",\"\")),\"\")","v":""},"No Entry",0]
[null,null,null,null,null,null,null,null,null,null,null,null,"",{"$f":"IF(D3408=\"Cash and Deposits\",IF(E3408=\"\",\"BANK NAME REQUIRED\",IF(ISERROR(VLOOKUP(E3408,'Reference Data'!C:C,1,FALSE)),\"PLEASE SELECT A BANK FROM DEFINED LIST PROVIDED\",\"\")),\"\")","v":""},"No Entry",0]
[null,null,null,null,null,null,null,null,null,null,null,null,"",{"$f":"IF(D3409=\"Cash and Deposits\",IF(E3409=\"\",\"BANK NAME REQUIRED\",IF(ISERROR(VLOOKUP(E3409,'Reference Data'!C:C,1,FALSE)),\"PLEASE SELECT A BANK FROM DEFINED LIST PROVIDED\",\"\")),\"\")","v":""},"No Entry",0]
[null,null,null,null,null,null,null,null,null,null,null,null,"",{"$f":"IF(D3410=\"Cash and Deposits\",IF(E3410=\"\",\"BANK NAME REQUIRED\",IF(ISERROR(VLOOKUP(E3410,'Reference Data'!C:C,1,FALSE)),\"PLEASE SELECT A BANK FROM DEFINED LIST PROVIDED\",\"\")),\"\")","v":""},"No Entry",0]
[null,null,null,null,null,null,null,null,null,null,null,null,"",{"$f":"IF(D3411=\"Cash and Deposits\",IF(E3411=\"\",\"BANK NAME REQUIRED\",IF(ISERROR(VLOOKUP(E3411,'Reference Data'!C:C,1,FALSE)),\"PLEASE SELECT A BANK FROM DEFINED LIST PROVIDED\",\"\")),\"\")","v":""},"No Entry",0]
[null,null,null,null,null,null,null,null,null,null,null,null,"",{"$f":"IF(D3412=\"Cash and Deposits\",IF(E3412=\"\",\"BANK NAME REQUIRED\",IF(ISERROR(VLOOKUP(E3412,'Reference Data'!C:C,1,FALSE)),\"PLEASE SELECT A BANK FROM DEFINED LIST PROVIDED\",\"\")),\"\")","v":""},"No Entry",0]
[null,null,null,null,null,null,null,null,null,null,null,null,"",{"$f":"IF(D3413=\"Cash and Deposits\",IF(E3413=\"\",\"BANK NAME REQUIRED\",IF(ISERROR(VLOOKUP(E3413,'Reference Data'!C:C,1,FALSE)),\"PLEASE SELECT A BANK FROM DEFINED LIST PROVIDED\",\"\")),\"\")","v":""},"No Entry",0]
[null,null,null,null,null,null,null,null,null,null,null,null,"",{"$f":"IF(D3414=\"Cash and Deposits\",IF(E3414=\"\",\"BANK NAME REQUIRED\",IF(ISERROR(VLOOKUP(E3414,'Reference Data'!C:C,1,FALSE)),\"PLEASE SELECT A BANK FROM DEFINED LIST PROVIDED\",\"\")),\"\")","v":""},"No Entry",0]
[null,null,null,null,null,null,null,null,null,null,null,null,"",{"$f":"IF(D3415=\"Cash and Deposits\",IF(E3415=\"\",\"BANK NAME REQUIRED\",IF(ISERROR(VLOOKUP(E3415,'Reference Data'!C:C,1,FALSE)),\"PLEASE SELECT A BANK FROM DEFINED LIST PROVIDED\",\"\")),\"\")","v":""},"No Entry",0]
[null,null,null,null,null,null,null,null,null,null,null,null,"",{"$f":"IF(D3416=\"Cash and Deposits\",IF(E3416=\"\",\"BANK NAME REQUIRED\",IF(ISERROR(VLOOKUP(E3416,'Reference Data'!C:C,1,FALSE)),\"PLEASE SELECT A BANK FROM DEFINED LIST PROVIDED\",\"\")),\"\")","v":""},"No Entry",0]
[null,null,null,null,null,null,null,null,null,null,null,null,"",{"$f":"IF(D3417=\"Cash and Deposits\",IF(E3417=\"\",\"BANK NAME REQUIRED\",IF(ISERROR(VLOOKUP(E3417,'Reference Data'!C:C,1,FALSE)),\"PLEASE SELECT A BANK FROM DEFINED LIST PROVIDED\",\"\")),\"\")","v":""},"No Entry",0]
[null,null,null,null,null,null,null,null,null,null,null,null,"",{"$f":"IF(D3418=\"Cash and Deposits\",IF(E3418=\"\",\"BANK NAME REQUIRED\",IF(ISERROR(VLOOKUP(E3418,'Reference Data'!C:C,1,FALSE)),\"PLEASE SELECT A BANK FROM DEFINED LIST PROVIDED\",\"\")),\"\")","v":""},"No Entry",0]
[null,null,null,null,null,null,null,null,null,null,null,null,"",{"$f":"IF(D3419=\"Cash and Deposits\",IF(E3419=\"\",\"BANK NAME REQUIRED\",IF(ISERROR(VLOOKUP(E3419,'Reference Data'!C:C,1,FALSE)),\"PLEASE SELECT A BANK FROM DEFINED LIST PROVIDED\",\"\")),\"\")","v":""},"No Entry",0]
[null,null,null,null,null,null,null,null,null,null,null,null,"",{"$f":"IF(D3420=\"Cash and Deposits\",IF(E3420=\"\",\"BANK NAME REQUIRED\",IF(ISERROR(VLOOKUP(E3420,'Reference Data'!C:C,1,FALSE)),\"PLEASE SELECT A BANK FROM DEFINED LIST PROVIDED\",\"\")),\"\")","v":""},"No Entry",0]
[null,null,null,null,null,null,null,null,null,null,null,null,"",{"$f":"IF(D3421=\"Cash and Deposits\",IF(E3421=\"\",\"BANK NAME REQUIRED\",IF(ISERROR(VLOOKUP(E3421,'Reference Data'!C:C,1,FALSE)),\"PLEASE SELECT A BANK FROM DEFINED LIST PROVIDED\",\"\")),\"\")","v":""},"No Entry",0]
[null,null,null,null,null,null,null,null,null,null,null,null,"",{"$f":"IF(D3422=\"Cash and Deposits\",IF(E3422=\"\",\"BANK NAME REQUIRED\",IF(ISERROR(VLOOKUP(E3422,'Reference Data'!C:C,1,FALSE)),\"PLEASE SELECT A BANK FROM DEFINED LIST PROVIDED\",\"\")),\"\")","v":""},"No Entry",0]
[null,null,null,null,null,null,null,null,null,null,null,null,"",{"$f":"IF(D3423=\"Cash and Deposits\",IF(E3423=\"\",\"BANK NAME REQUIRED\",IF(ISERROR(VLOOKUP(E3423,'Reference Data'!C:C,1,FALSE)),\"PLEASE SELECT A BANK FROM DEFINED LIST PROVIDED\",\"\")),\"\")","v":""},"No Entry",0]
[null,null,null,null,null,null,null,null,null,null,null,null,"",{"$f":"IF(D3424=\"Cash and Deposits\",IF(E3424=\"\",\"BANK NAME REQUIRED\",IF(ISERROR(VLOOKUP(E3424,'Reference Data'!C:C,1,FALSE)),\"PLEASE SELECT A BANK FROM DEFINED LIST PROVIDED\",\"\")),\"\")","v":""},"No Entry",0]
[null,null,null,null,null,null,null,null,null,null,null,null,"",{"$f":"IF(D3425=\"Cash and Deposits\",IF(E3425=\"\",\"BANK NAME REQUIRED\",IF(ISERROR(VLOOKUP(E3425,'Reference Data'!C:C,1,FALSE)),\"PLEASE SELECT A BANK FROM DEFINED LIST PROVIDED\",\"\")),\"\")","v":""},"No Entry",0]
[null,null,null,null,null,null,null,null,null,null,null,null,"",{"$f":"IF(D3426=\"Cash and Deposits\",IF(E3426=\"\",\"BANK NAME REQUIRED\",IF(ISERROR(VLOOKUP(E3426,'Reference Data'!C:C,1,FALSE)),\"PLEASE SELECT A BANK FROM DEFINED LIST PROVIDED\",\"\")),\"\")","v":""},"No Entry",0]
[null,null,null,null,null,null,null,null,null,null,null,null,"",{"$f":"IF(D3427=\"Cash and Deposits\",IF(E3427=\"\",\"BANK NAME REQUIRED\",IF(ISERROR(VLOOKUP(E3427,'Reference Data'!C:C,1,FALSE)),\"PLEASE SELECT A BANK FROM DEFINED LIST PROVIDED\",\"\")),\"\")","v":""},"No Entry",0]
[null,null,null,null,null,null,null,null,null,null,null,null,"",{"$f":"IF(D3428=\"Cash and Deposits\",IF(E3428=\"\",\"BANK NAME REQUIRED\",IF(ISERROR(VLOOKUP(E3428,'Reference Data'!C:C,1,FALSE)),\"PLEASE SELECT A BANK FROM DEFINED LIST PROVIDED\",\"\")),\"\")","v":""},"No Entry",0]
[null,null,null,null,null,null,null,null,null,null,null,null,"",{"$f":"IF(D3429=\"Cash and Deposits\",IF(E3429=\"\",\"BANK NAME REQUIRED\",IF(ISERROR(VLOOKUP(E3429,'Reference Data'!C:C,1,FALSE)),\"PLEASE SELECT A BANK FROM DEFINED LIST PROVIDED\",\"\")),\"\")","v":""},"No Entry",0]
[null,null,null,null,null,null,null,null,null,null,null,null,"",{"$f":"IF(D3430=\"Cash and Deposits\",IF(E3430=\"\",\"BANK NAME REQUIRED\",IF(ISERROR(VLOOKUP(E3430,'Reference Data'!C:C,1,FALSE)),\"PLEASE SELECT A BANK FROM DEFINED LIST PROVIDED\",\"\")),\"\")","v":""},"No Entry",0]
[null,null,null,null,null,null,null,null,null,null,null,null,"",{"$f":"IF(D3431=\"Cash and Deposits\",IF(E3431=\"\",\"BANK NAME REQUIRED\",IF(ISERROR(VLOOKUP(E3431,'Reference Data'!C:C,1,FALSE)),\"PLEASE SELECT A BANK FROM DEFINED LIST PROVIDED\",\"\")),\"\")","v":""},"No Entry",0]
[null,null,null,null,null,null,null,null,null,null,null,null,"",{"$f":"IF(D3432=\"Cash and Deposits\",IF(E3432=\"\",\"BANK NAME REQUIRED\",IF(ISERROR(VLOOKUP(E3432,'Reference Data'!C:C,1,FALSE)),\"PLEASE SELECT A BANK FROM DEFINED LIST PROVIDED\",\"\")),\"\")","v":""},"No Entry",0]
[null,null,null,null,null,null,null,null,null,null,null,null,"",{"$f":"IF(D3433=\"Cash and Deposits\",IF(E3433=\"\",\"BANK NAME REQUIRED\",IF(ISERROR(VLOOKUP(E3433,'Reference Data'!C:C,1,FALSE)),\"PLEASE SELECT A BANK FROM DEFINED LIST PROVIDED\",\"\")),\"\")","v":""},"No Entry",0]
[null,null,null,null,null,null,null,null,null,null,null,null,"",{"$f":"IF(D3434=\"Cash and Deposits\",IF(E3434=\"\",\"BANK NAME REQUIRED\",IF(ISERROR(VLOOKUP(E3434,'Reference Data'!C:C,1,FALSE)),\"PLEASE SELECT A BANK FROM DEFINED LIST PROVIDED\",\"\")),\"\")","v":""},"No Entry",0]
[null,null,null,null,null,null,null,null,null,null,null,null,"",{"$f":"IF(D3435=\"Cash and Deposits\",IF(E3435=\"\",\"BANK NAME REQUIRED\",IF(ISERROR(VLOOKUP(E3435,'Reference Data'!C:C,1,FALSE)),\"PLEASE SELECT A BANK FROM DEFINED LIST PROVIDED\",\"\")),\"\")","v":""},"No Entry",0]
[null,null,null,null,null,null,null,null,null,null,null,null,"",{"$f":"IF(D3436=\"Cash and Deposits\",IF(E3436=\"\",\"BANK NAME REQUIRED\",IF(ISERROR(VLOOKUP(E3436,'Reference Data'!C:C,1,FALSE)),\"PLEASE SELECT A BANK FROM DEFINED LIST PROVIDED\",\"\")),\"\")","v":""},"No Entry",0]
[null,null,null,null,null,null,null,null,null,null,null,null,"",{"$f":"IF(D3437=\"Cash and Deposits\",IF(E3437=\"\",\"BANK NAME REQUIRED\",IF(ISERROR(VLOOKUP(E3437,'Reference Data'!C:C,1,FALSE)),\"PLEASE SELECT A BANK FROM DEFINED LIST PROVIDED\",\"\")),\"\")","v":""},"No Entry",0]
[null,null,null,null,null,null,null,null,null,null,null,null,"",{"$f":"IF(D3438=\"Cash and Deposits\",IF(E3438=\"\",\"BANK NAME REQUIRED\",IF(ISERROR(VLOOKUP(E3438,'Reference Data'!C:C,1,FALSE)),\"PLEASE SELECT A BANK FROM DEFINED LIST PROVIDED\",\"\")),\"\")","v":""},"No Entry",0]
[null,null,null,null,null,null,null,null,null,null,null,null,"",{"$f":"IF(D3439=\"Cash and Deposits\",IF(E3439=\"\",\"BANK NAME REQUIRED\",IF(ISERROR(VLOOKUP(E3439,'Reference Data'!C:C,1,FALSE)),\"PLEASE SELECT A BANK FROM DEFINED LIST PROVIDED\",\"\")),\"\")","v":""},"No Entry",0]
[null,null,null,null,null,null,null,null,null,null,null,null,"",{"$f":"IF(D3440=\"Cash and Deposits\",IF(E3440=\"\",\"BANK NAME REQUIRED\",IF(ISERROR(VLOOKUP(E3440,'Reference Data'!C:C,1,FALSE)),\"PLEASE SELECT A BANK FROM DEFINED LIST PROVIDED\",\"\")),\"\")","v":""},"No Entry",0]
[null,null,null,null,null,null,null,null,null,null,null,null,"",{"$f":"IF(D3441=\"Cash and Deposits\",IF(E3441=\"\",\"BANK NAME REQUIRED\",IF(ISERROR(VLOOKUP(E3441,'Reference Data'!C:C,1,FALSE)),\"PLEASE SELECT A BANK FROM DEFINED LIST PROVIDED\",\"\")),\"\")","v":""},"No Entry",0]
[null,null,null,null,null,null,null,null,null,null,null,null,"",{"$f":"IF(D3442=\"Cash and Deposits\",IF(E3442=\"\",\"BANK NAME REQUIRED\",IF(ISERROR(VLOOKUP(E3442,'Reference Data'!C:C,1,FALSE)),\"PLEASE SELECT A BANK FROM DEFINED LIST PROVIDED\",\"\")),\"\")","v":""},"No Entry",0]
[null,null,null,null,null,null,null,null,null,null,null,null,"",{"$f":"IF(D3443=\"Cash and Deposits\",IF(E3443=\"\",\"BANK NAME REQUIRED\",IF(ISERROR(VLOOKUP(E3443,'Reference Data'!C:C,1,FALSE)),\"PLEASE SELECT A BANK FROM DEFINED LIST PROVIDED\",\"\")),\"\")","v":""},"No Entry",0]
[null,null,null,null,null,null,null,null,null,null,null,null,"",{"$f":"IF(D3444=\"Cash and Deposits\",IF(E3444=\"\",\"BANK NAME REQUIRED\",IF(ISERROR(VLOOKUP(E3444,'Reference Data'!C:C,1,FALSE)),\"PLEASE SELECT A BANK FROM DEFINED LIST PROVIDED\",\"\")),\"\")","v":""},"No Entry",0]
[null,null,null,null,null,null,null,null,null,null,null,null,"",{"$f":"IF(D3445=\"Cash and Deposits\",IF(E3445=\"\",\"BANK NAME REQUIRED\",IF(ISERROR(VLOOKUP(E3445,'Reference Data'!C:C,1,FALSE)),\"PLEASE SELECT A BANK FROM DEFINED LIST PROVIDED\",\"\")),\"\")","v":""},"No Entry",0]
[null,null,null,null,null,null,null,null,null,null,null,null,"",{"$f":"IF(D3446=\"Cash and Deposits\",IF(E3446=\"\",\"BANK NAME REQUIRED\",IF(ISERROR(VLOOKUP(E3446,'Reference Data'!C:C,1,FALSE)),\"PLEASE SELECT A BANK FROM DEFINED LIST PROVIDED\",\"\")),\"\")","v":""},"No Entry",0]
[null,null,null,null,null,null,null,null,null,null,null,null,"",{"$f":"IF(D3447=\"Cash and Deposits\",IF(E3447=\"\",\"BANK NAME REQUIRED\",IF(ISERROR(VLOOKUP(E3447,'Reference Data'!C:C,1,FALSE)),\"PLEASE SELECT A BANK FROM DEFINED LIST PROVIDED\",\"\")),\"\")","v":""},"No Entry",0]
[null,null,null,null,null,null,null,null,null,null,null,null,"",{"$f":"IF(D3448=\"Cash and Deposits\",IF(E3448=\"\",\"BANK NAME REQUIRED\",IF(ISERROR(VLOOKUP(E3448,'Reference Data'!C:C,1,FALSE)),\"PLEASE SELECT A BANK FROM DEFINED LIST PROVIDED\",\"\")),\"\")","v":""},"No Entry",0]
[null,null,null,null,null,null,null,null,null,null,null,null,"",{"$f":"IF(D3449=\"Cash and Deposits\",IF(E3449=\"\",\"BANK NAME REQUIRED\",IF(ISERROR(VLOOKUP(E3449,'Reference Data'!C:C,1,FALSE)),\"PLEASE SELECT A BANK FROM DEFINED LIST PROVIDED\",\"\")),\"\")","v":""},"No Entry",0]
[null,null,null,null,null,null,null,null,null,null,null,null,"",{"$f":"IF(D3450=\"Cash and Deposits\",IF(E3450=\"\",\"BANK NAME REQUIRED\",IF(ISERROR(VLOOKUP(E3450,'Reference Data'!C:C,1,FALSE)),\"PLEASE SELECT A BANK FROM DEFINED LIST PROVIDED\",\"\")),\"\")","v":""},"No Entry",0]
[null,null,null,null,null,null,null,null,null,null,null,null,"",{"$f":"IF(D3451=\"Cash and Deposits\",IF(E3451=\"\",\"BANK NAME REQUIRED\",IF(ISERROR(VLOOKUP(E3451,'Reference Data'!C:C,1,FALSE)),\"PLEASE SELECT A BANK FROM DEFINED LIST PROVIDED\",\"\")),\"\")","v":""},"No Entry",0]
[null,null,null,null,null,null,null,null,null,null,null,null,"",{"$f":"IF(D3452=\"Cash and Deposits\",IF(E3452=\"\",\"BANK NAME REQUIRED\",IF(ISERROR(VLOOKUP(E3452,'Reference Data'!C:C,1,FALSE)),\"PLEASE SELECT A BANK FROM DEFINED LIST PROVIDED\",\"\")),\"\")","v":""},"No Entry",0]
[null,null,null,null,null,null,null,null,null,null,null,null,"",{"$f":"IF(D3453=\"Cash and Deposits\",IF(E3453=\"\",\"BANK NAME REQUIRED\",IF(ISERROR(VLOOKUP(E3453,'Reference Data'!C:C,1,FALSE)),\"PLEASE SELECT A BANK FROM DEFINED LIST PROVIDED\",\"\")),\"\")","v":""},"No Entry",0]
[null,null,null,null,null,null,null,null,null,null,null,null,"",{"$f":"IF(D3454=\"Cash and Deposits\",IF(E3454=\"\",\"BANK NAME REQUIRED\",IF(ISERROR(VLOOKUP(E3454,'Reference Data'!C:C,1,FALSE)),\"PLEASE SELECT A BANK FROM DEFINED LIST PROVIDED\",\"\")),\"\")","v":""},"No Entry",0]
[null,null,null,null,null,null,null,null,null,null,null,null,"",{"$f":"IF(D3455=\"Cash and Deposits\",IF(E3455=\"\",\"BANK NAME REQUIRED\",IF(ISERROR(VLOOKUP(E3455,'Reference Data'!C:C,1,FALSE)),\"PLEASE SELECT A BANK FROM DEFINED LIST PROVIDED\",\"\")),\"\")","v":""},"No Entry",0]
[null,null,null,null,null,null,null,null,null,null,null,null,"",{"$f":"IF(D3456=\"Cash and Deposits\",IF(E3456=\"\",\"BANK NAME REQUIRED\",IF(ISERROR(VLOOKUP(E3456,'Reference Data'!C:C,1,FALSE)),\"PLEASE SELECT A BANK FROM DEFINED LIST PROVIDED\",\"\")),\"\")","v":""},"No Entry",0]
[null,null,null,null,null,null,null,null,null,null,null,null,"",{"$f":"IF(D3457=\"Cash and Deposits\",IF(E3457=\"\",\"BANK NAME REQUIRED\",IF(ISERROR(VLOOKUP(E3457,'Reference Data'!C:C,1,FALSE)),\"PLEASE SELECT A BANK FROM DEFINED LIST PROVIDED\",\"\")),\"\")","v":""},"No Entry",0]
[null,null,null,null,null,null,null,null,null,null,null,null,"",{"$f":"IF(D3458=\"Cash and Deposits\",IF(E3458=\"\",\"BANK NAME REQUIRED\",IF(ISERROR(VLOOKUP(E3458,'Reference Data'!C:C,1,FALSE)),\"PLEASE SELECT A BANK FROM DEFINED LIST PROVIDED\",\"\")),\"\")","v":""},"No Entry",0]
[null,null,null,null,null,null,null,null,null,null,null,null,"",{"$f":"IF(D3459=\"Cash and Deposits\",IF(E3459=\"\",\"BANK NAME REQUIRED\",IF(ISERROR(VLOOKUP(E3459,'Reference Data'!C:C,1,FALSE)),\"PLEASE SELECT A BANK FROM DEFINED LIST PROVIDED\",\"\")),\"\")","v":""},"No Entry",0]
[null,null,null,null,null,null,null,null,null,null,null,null,"",{"$f":"IF(D3460=\"Cash and Deposits\",IF(E3460=\"\",\"BANK NAME REQUIRED\",IF(ISERROR(VLOOKUP(E3460,'Reference Data'!C:C,1,FALSE)),\"PLEASE SELECT A BANK FROM DEFINED LIST PROVIDED\",\"\")),\"\")","v":""},"No Entry",0]
[null,null,null,null,null,null,null,null,null,null,null,null,{"$f":"IF(K3461<>0,IF(B3461=\"\",\"ID CODE REQUIRED\",\"\"),\"\")","v":""},{"$f":"IF(D3461=\"Cash and Deposits\",IF(E3461=\"\",\"BANK NAME REQUIRED\",IF(ISERROR(VLOOKUP(E3461,'Reference Data'!C:C,1,FALSE)),\"PLEASE SELECT A BANK FROM DEFINED LIST PROVIDED\",\"\")),\"\")","v":""},{"$f":"IF(K3461=0,\"No Entry\",\"\")","v":"No Entry"},{"$f":"IF(K3461<>0,IF(A3461=\"\",1,0),0)","v":0}]
[null,null,null,null,null,null,null,null,null,null,null,null,"",{"$f":"IF(D3462=\"Cash and Deposits\",IF(E3462=\"\",\"BANK NAME REQUIRED\",IF(ISERROR(VLOOKUP(E3462,'Reference Data'!C:C,1,FALSE)),\"PLEASE SELECT A BANK FROM DEFINED LIST PROVIDED\",\"\")),\"\")","v":""},"No Entry",0]
[null,null,null,null,null,null,null,null,null,null,null,null,"",{"$f":"IF(D3463=\"Cash and Deposits\",IF(E3463=\"\",\"BANK NAME REQUIRED\",IF(ISERROR(VLOOKUP(E3463,'Reference Data'!C:C,1,FALSE)),\"PLEASE SELECT A BANK FROM DEFINED LIST PROVIDED\",\"\")),\"\")","v":""},"No Entry",0]
[null,null,null,null,null,null,null,null,null,null,null,null,"",{"$f":"IF(D3464=\"Cash and Deposits\",IF(E3464=\"\",\"BANK NAME REQUIRED\",IF(ISERROR(VLOOKUP(E3464,'Reference Data'!C:C,1,FALSE)),\"PLEASE SELECT A BANK FROM DEFINED LIST PROVIDED\",\"\")),\"\")","v":""},"No Entry",0]
[null,null,null,null,null,null,null,null,null,null,null,null,"",{"$f":"IF(D3465=\"Cash and Deposits\",IF(E3465=\"\",\"BANK NAME REQUIRED\",IF(ISERROR(VLOOKUP(E3465,'Reference Data'!C:C,1,FALSE)),\"PLEASE SELECT A BANK FROM DEFINED LIST PROVIDED\",\"\")),\"\")","v":""},"No Entry",0]
[null,null,null,null,null,null,null,null,null,null,null,null,"",{"$f":"IF(D3466=\"Cash and Deposits\",IF(E3466=\"\",\"BANK NAME REQUIRED\",IF(ISERROR(VLOOKUP(E3466,'Reference Data'!C:C,1,FALSE)),\"PLEASE SELECT A BANK FROM DEFINED LIST PROVIDED\",\"\")),\"\")","v":""},"No Entry",0]
[null,null,null,null,null,null,null,null,null,null,null,null,"",{"$f":"IF(D3467=\"Cash and Deposits\",IF(E3467=\"\",\"BANK NAME REQUIRED\",IF(ISERROR(VLOOKUP(E3467,'Reference Data'!C:C,1,FALSE)),\"PLEASE SELECT A BANK FROM DEFINED LIST PROVIDED\",\"\")),\"\")","v":""},"No Entry",0]
[null,null,null,null,null,null,null,null,null,null,null,null,"",{"$f":"IF(D3468=\"Cash and Deposits\",IF(E3468=\"\",\"BANK NAME REQUIRED\",IF(ISERROR(VLOOKUP(E3468,'Reference Data'!C:C,1,FALSE)),\"PLEASE SELECT A BANK FROM DEFINED LIST PROVIDED\",\"\")),\"\")","v":""},"No Entry",0]
[null,null,null,null,null,null,null,null,null,null,null,null,"",{"$f":"IF(D3469=\"Cash and Deposits\",IF(E3469=\"\",\"BANK NAME REQUIRED\",IF(ISERROR(VLOOKUP(E3469,'Reference Data'!C:C,1,FALSE)),\"PLEASE SELECT A BANK FROM DEFINED LIST PROVIDED\",\"\")),\"\")","v":""},"No Entry",0]
[null,null,null,null,null,null,null,null,null,null,null,null,"",{"$f":"IF(D3470=\"Cash and Deposits\",IF(E3470=\"\",\"BANK NAME REQUIRED\",IF(ISERROR(VLOOKUP(E3470,'Reference Data'!C:C,1,FALSE)),\"PLEASE SELECT A BANK FROM DEFINED LIST PROVIDED\",\"\")),\"\")","v":""},"No Entry",0]
[null,null,null,null,null,null,null,null,null,null,null,null,"",{"$f":"IF(D3471=\"Cash and Deposits\",IF(E3471=\"\",\"BANK NAME REQUIRED\",IF(ISERROR(VLOOKUP(E3471,'Reference Data'!C:C,1,FALSE)),\"PLEASE SELECT A BANK FROM DEFINED LIST PROVIDED\",\"\")),\"\")","v":""},"No Entry",0]
[null,null,null,null,null,null,null,null,null,null,null,null,"",{"$f":"IF(D3472=\"Cash and Deposits\",IF(E3472=\"\",\"BANK NAME REQUIRED\",IF(ISERROR(VLOOKUP(E3472,'Reference Data'!C:C,1,FALSE)),\"PLEASE SELECT A BANK FROM DEFINED LIST PROVIDED\",\"\")),\"\")","v":""},"No Entry",0]
[null,null,null,null,null,null,null,null,null,null,null,null,"",{"$f":"IF(D3473=\"Cash and Deposits\",IF(E3473=\"\",\"BANK NAME REQUIRED\",IF(ISERROR(VLOOKUP(E3473,'Reference Data'!C:C,1,FALSE)),\"PLEASE SELECT A BANK FROM DEFINED LIST PROVIDED\",\"\")),\"\")","v":""},"No Entry",0]
[null,null,null,null,null,null,null,null,null,null,null,null,"",{"$f":"IF(D3474=\"Cash and Deposits\",IF(E3474=\"\",\"BANK NAME REQUIRED\",IF(ISERROR(VLOOKUP(E3474,'Reference Data'!C:C,1,FALSE)),\"PLEASE SELECT A BANK FROM DEFINED LIST PROVIDED\",\"\")),\"\")","v":""},"No Entry",0]
[null,null,null,null,null,null,null,null,null,null,null,null,"",{"$f":"IF(D3475=\"Cash and Deposits\",IF(E3475=\"\",\"BANK NAME REQUIRED\",IF(ISERROR(VLOOKUP(E3475,'Reference Data'!C:C,1,FALSE)),\"PLEASE SELECT A BANK FROM DEFINED LIST PROVIDED\",\"\")),\"\")","v":""},"No Entry",0]
[null,null,null,null,null,null,null,null,null,null,null,null,"",{"$f":"IF(D3476=\"Cash and Deposits\",IF(E3476=\"\",\"BANK NAME REQUIRED\",IF(ISERROR(VLOOKUP(E3476,'Reference Data'!C:C,1,FALSE)),\"PLEASE SELECT A BANK FROM DEFINED LIST PROVIDED\",\"\")),\"\")","v":""},"No Entry",0]
[null,null,null,null,null,null,null,null,null,null,null,null,"",{"$f":"IF(D3477=\"Cash and Deposits\",IF(E3477=\"\",\"BANK NAME REQUIRED\",IF(ISERROR(VLOOKUP(E3477,'Reference Data'!C:C,1,FALSE)),\"PLEASE SELECT A BANK FROM DEFINED LIST PROVIDED\",\"\")),\"\")","v":""},"No Entry",0]
[null,null,null,null,null,null,null,null,null,null,null,null,"",{"$f":"IF(D3478=\"Cash and Deposits\",IF(E3478=\"\",\"BANK NAME REQUIRED\",IF(ISERROR(VLOOKUP(E3478,'Reference Data'!C:C,1,FALSE)),\"PLEASE SELECT A BANK FROM DEFINED LIST PROVIDED\",\"\")),\"\")","v":""},"No Entry",0]
[null,null,null,null,null,null,null,null,null,null,null,null,"",{"$f":"IF(D3479=\"Cash and Deposits\",IF(E3479=\"\",\"BANK NAME REQUIRED\",IF(ISERROR(VLOOKUP(E3479,'Reference Data'!C:C,1,FALSE)),\"PLEASE SELECT A BANK FROM DEFINED LIST PROVIDED\",\"\")),\"\")","v":""},"No Entry",0]
[null,null,null,null,null,null,null,null,null,null,null,null,"",{"$f":"IF(D3480=\"Cash and Deposits\",IF(E3480=\"\",\"BANK NAME REQUIRED\",IF(ISERROR(VLOOKUP(E3480,'Reference Data'!C:C,1,FALSE)),\"PLEASE SELECT A BANK FROM DEFINED LIST PROVIDED\",\"\")),\"\")","v":""},"No Entry",0]
[null,null,null,null,null,null,null,null,null,null,null,null,"",{"$f":"IF(D3481=\"Cash and Deposits\",IF(E3481=\"\",\"BANK NAME REQUIRED\",IF(ISERROR(VLOOKUP(E3481,'Reference Data'!C:C,1,FALSE)),\"PLEASE SELECT A BANK FROM DEFINED LIST PROVIDED\",\"\")),\"\")","v":""},"No Entry",0]
[null,null,null,null,null,null,null,null,null,null,null,null,"",{"$f":"IF(D3482=\"Cash and Deposits\",IF(E3482=\"\",\"BANK NAME REQUIRED\",IF(ISERROR(VLOOKUP(E3482,'Reference Data'!C:C,1,FALSE)),\"PLEASE SELECT A BANK FROM DEFINED LIST PROVIDED\",\"\")),\"\")","v":""},"No Entry",0]
[null,null,null,null,null,null,null,null,null,null,null,null,"",{"$f":"IF(D3483=\"Cash and Deposits\",IF(E3483=\"\",\"BANK NAME REQUIRED\",IF(ISERROR(VLOOKUP(E3483,'Reference Data'!C:C,1,FALSE)),\"PLEASE SELECT A BANK FROM DEFINED LIST PROVIDED\",\"\")),\"\")","v":""},"No Entry",0]
[null,null,null,null,null,null,null,null,null,null,null,null,"",{"$f":"IF(D3484=\"Cash and Deposits\",IF(E3484=\"\",\"BANK NAME REQUIRED\",IF(ISERROR(VLOOKUP(E3484,'Reference Data'!C:C,1,FALSE)),\"PLEASE SELECT A BANK FROM DEFINED LIST PROVIDED\",\"\")),\"\")","v":""},"No Entry",0]
[null,null,null,null,null,null,null,null,null,null,null,null,"",{"$f":"IF(D3485=\"Cash and Deposits\",IF(E3485=\"\",\"BANK NAME REQUIRED\",IF(ISERROR(VLOOKUP(E3485,'Reference Data'!C:C,1,FALSE)),\"PLEASE SELECT A BANK FROM DEFINED LIST PROVIDED\",\"\")),\"\")","v":""},"No Entry",0]
[null,null,null,null,null,null,null,null,null,null,null,null,"",{"$f":"IF(D3486=\"Cash and Deposits\",IF(E3486=\"\",\"BANK NAME REQUIRED\",IF(ISERROR(VLOOKUP(E3486,'Reference Data'!C:C,1,FALSE)),\"PLEASE SELECT A BANK FROM DEFINED LIST PROVIDED\",\"\")),\"\")","v":""},"No Entry",0]
[null,null,null,null,null,null,null,null,null,null,null,null,"",{"$f":"IF(D3487=\"Cash and Deposits\",IF(E3487=\"\",\"BANK NAME REQUIRED\",IF(ISERROR(VLOOKUP(E3487,'Reference Data'!C:C,1,FALSE)),\"PLEASE SELECT A BANK FROM DEFINED LIST PROVIDED\",\"\")),\"\")","v":""},"No Entry",0]
[null,null,null,null,null,null,null,null,null,null,null,null,"",{"$f":"IF(D3488=\"Cash and Deposits\",IF(E3488=\"\",\"BANK NAME REQUIRED\",IF(ISERROR(VLOOKUP(E3488,'Reference Data'!C:C,1,FALSE)),\"PLEASE SELECT A BANK FROM DEFINED LIST PROVIDED\",\"\")),\"\")","v":""},"No Entry",0]
[null,null,null,null,null,null,null,null,null,null,null,null,"",{"$f":"IF(D3489=\"Cash and Deposits\",IF(E3489=\"\",\"BANK NAME REQUIRED\",IF(ISERROR(VLOOKUP(E3489,'Reference Data'!C:C,1,FALSE)),\"PLEASE SELECT A BANK FROM DEFINED LIST PROVIDED\",\"\")),\"\")","v":""},"No Entry",0]
[null,null,null,null,null,null,null,null,null,null,null,null,"",{"$f":"IF(D3490=\"Cash and Deposits\",IF(E3490=\"\",\"BANK NAME REQUIRED\",IF(ISERROR(VLOOKUP(E3490,'Reference Data'!C:C,1,FALSE)),\"PLEASE SELECT A BANK FROM DEFINED LIST PROVIDED\",\"\")),\"\")","v":""},"No Entry",0]
[null,null,null,null,null,null,null,null,null,null,null,null,"",{"$f":"IF(D3491=\"Cash and Deposits\",IF(E3491=\"\",\"BANK NAME REQUIRED\",IF(ISERROR(VLOOKUP(E3491,'Reference Data'!C:C,1,FALSE)),\"PLEASE SELECT A BANK FROM DEFINED LIST PROVIDED\",\"\")),\"\")","v":""},"No Entry",0]
[null,null,null,null,null,null,null,null,null,null,null,null,"",{"$f":"IF(D3492=\"Cash and Deposits\",IF(E3492=\"\",\"BANK NAME REQUIRED\",IF(ISERROR(VLOOKUP(E3492,'Reference Data'!C:C,1,FALSE)),\"PLEASE SELECT A BANK FROM DEFINED LIST PROVIDED\",\"\")),\"\")","v":""},"No Entry",0]
[null,null,null,null,null,null,null,null,null,null,null,null,"",{"$f":"IF(D3493=\"Cash and Deposits\",IF(E3493=\"\",\"BANK NAME REQUIRED\",IF(ISERROR(VLOOKUP(E3493,'Reference Data'!C:C,1,FALSE)),\"PLEASE SELECT A BANK FROM DEFINED LIST PROVIDED\",\"\")),\"\")","v":""},"No Entry",0]
[null,null,null,null,null,null,null,null,null,null,null,null,"",{"$f":"IF(D3494=\"Cash and Deposits\",IF(E3494=\"\",\"BANK NAME REQUIRED\",IF(ISERROR(VLOOKUP(E3494,'Reference Data'!C:C,1,FALSE)),\"PLEASE SELECT A BANK FROM DEFINED LIST PROVIDED\",\"\")),\"\")","v":""},"No Entry",0]
[null,null,null,null,null,null,null,null,null,null,null,null,"",{"$f":"IF(D3495=\"Cash and Deposits\",IF(E3495=\"\",\"BANK NAME REQUIRED\",IF(ISERROR(VLOOKUP(E3495,'Reference Data'!C:C,1,FALSE)),\"PLEASE SELECT A BANK FROM DEFINED LIST PROVIDED\",\"\")),\"\")","v":""},"No Entry",0]
[null,null,null,null,null,null,null,null,null,null,null,null,"",{"$f":"IF(D3496=\"Cash and Deposits\",IF(E3496=\"\",\"BANK NAME REQUIRED\",IF(ISERROR(VLOOKUP(E3496,'Reference Data'!C:C,1,FALSE)),\"PLEASE SELECT A BANK FROM DEFINED LIST PROVIDED\",\"\")),\"\")","v":""},"No Entry",0]
[null,null,null,null,null,null,null,null,null,null,null,null,"",{"$f":"IF(D3497=\"Cash and Deposits\",IF(E3497=\"\",\"BANK NAME REQUIRED\",IF(ISERROR(VLOOKUP(E3497,'Reference Data'!C:C,1,FALSE)),\"PLEASE SELECT A BANK FROM DEFINED LIST PROVIDED\",\"\")),\"\")","v":""},"No Entry",0]
[null,null,null,null,null,null,null,null,null,null,null,null,"",{"$f":"IF(D3498=\"Cash and Deposits\",IF(E3498=\"\",\"BANK NAME REQUIRED\",IF(ISERROR(VLOOKUP(E3498,'Reference Data'!C:C,1,FALSE)),\"PLEASE SELECT A BANK FROM DEFINED LIST PROVIDED\",\"\")),\"\")","v":""},"No Entry",0]
[null,null,null,null,null,null,null,null,null,null,null,null,"",{"$f":"IF(D3499=\"Cash and Deposits\",IF(E3499=\"\",\"BANK NAME REQUIRED\",IF(ISERROR(VLOOKUP(E3499,'Reference Data'!C:C,1,FALSE)),\"PLEASE SELECT A BANK FROM DEFINED LIST PROVIDED\",\"\")),\"\")","v":""},"No Entry",0]
[null,null,null,null,null,null,null,null,null,null,null,null,"",{"$f":"IF(D3500=\"Cash and Deposits\",IF(E3500=\"\",\"BANK NAME REQUIRED\",IF(ISERROR(VLOOKUP(E3500,'Reference Data'!C:C,1,FALSE)),\"PLEASE SELECT A BANK FROM DEFINED LIST PROVIDED\",\"\")),\"\")","v":""},"No Entry",0]
[null,null,null,null,null,null,null,null,null,null,null,null,"",{"$f":"IF(D3501=\"Cash and Deposits\",IF(E3501=\"\",\"BANK NAME REQUIRED\",IF(ISERROR(VLOOKUP(E3501,'Reference Data'!C:C,1,FALSE)),\"PLEASE SELECT A BANK FROM DEFINED LIST PROVIDED\",\"\")),\"\")","v":""},"No Entry",0]
[null,null,null,null,null,null,null,null,null,null,null,null,"",{"$f":"IF(D3502=\"Cash and Deposits\",IF(E3502=\"\",\"BANK NAME REQUIRED\",IF(ISERROR(VLOOKUP(E3502,'Reference Data'!C:C,1,FALSE)),\"PLEASE SELECT A BANK FROM DEFINED LIST PROVIDED\",\"\")),\"\")","v":""},"No Entry",0]
[null,null,null,null,null,null,null,null,null,null,null,null,"",{"$f":"IF(D3503=\"Cash and Deposits\",IF(E3503=\"\",\"BANK NAME REQUIRED\",IF(ISERROR(VLOOKUP(E3503,'Reference Data'!C:C,1,FALSE)),\"PLEASE SELECT A BANK FROM DEFINED LIST PROVIDED\",\"\")),\"\")","v":""},"No Entry",0]
[null,null,null,null,null,null,null,null,null,null,null,null,"",{"$f":"IF(D3504=\"Cash and Deposits\",IF(E3504=\"\",\"BANK NAME REQUIRED\",IF(ISERROR(VLOOKUP(E3504,'Reference Data'!C:C,1,FALSE)),\"PLEASE SELECT A BANK FROM DEFINED LIST PROVIDED\",\"\")),\"\")","v":""},"No Entry",0]
[null,null,null,null,null,null,null,null,null,null,null,null,"",{"$f":"IF(D3505=\"Cash and Deposits\",IF(E3505=\"\",\"BANK NAME REQUIRED\",IF(ISERROR(VLOOKUP(E3505,'Reference Data'!C:C,1,FALSE)),\"PLEASE SELECT A BANK FROM DEFINED LIST PROVIDED\",\"\")),\"\")","v":""},"No Entry",0]
[null,null,null,null,null,null,null,null,null,null,null,null,"",{"$f":"IF(D3506=\"Cash and Deposits\",IF(E3506=\"\",\"BANK NAME REQUIRED\",IF(ISERROR(VLOOKUP(E3506,'Reference Data'!C:C,1,FALSE)),\"PLEASE SELECT A BANK FROM DEFINED LIST PROVIDED\",\"\")),\"\")","v":""},"No Entry",0]
[null,null,null,null,null,null,null,null,null,null,null,null,"",{"$f":"IF(D3507=\"Cash and Deposits\",IF(E3507=\"\",\"BANK NAME REQUIRED\",IF(ISERROR(VLOOKUP(E3507,'Reference Data'!C:C,1,FALSE)),\"PLEASE SELECT A BANK FROM DEFINED LIST PROVIDED\",\"\")),\"\")","v":""},"No Entry",0]
[null,null,null,null,null,null,null,null,null,null,null,null,"",{"$f":"IF(D3508=\"Cash and Deposits\",IF(E3508=\"\",\"BANK NAME REQUIRED\",IF(ISERROR(VLOOKUP(E3508,'Reference Data'!C:C,1,FALSE)),\"PLEASE SELECT A BANK FROM DEFINED LIST PROVIDED\",\"\")),\"\")","v":""},"No Entry",0]
[null,null,null,null,null,null,null,null,null,null,null,null,"",{"$f":"IF(D3509=\"Cash and Deposits\",IF(E3509=\"\",\"BANK NAME REQUIRED\",IF(ISERROR(VLOOKUP(E3509,'Reference Data'!C:C,1,FALSE)),\"PLEASE SELECT A BANK FROM DEFINED LIST PROVIDED\",\"\")),\"\")","v":""},"No Entry",0]
[null,null,null,null,null,null,null,null,null,null,null,null,"",{"$f":"IF(D3510=\"Cash and Deposits\",IF(E3510=\"\",\"BANK NAME REQUIRED\",IF(ISERROR(VLOOKUP(E3510,'Reference Data'!C:C,1,FALSE)),\"PLEASE SELECT A BANK FROM DEFINED LIST PROVIDED\",\"\")),\"\")","v":""},"No Entry",0]
[null,null,null,null,null,null,null,null,null,null,null,null,"",{"$f":"IF(D3511=\"Cash and Deposits\",IF(E3511=\"\",\"BANK NAME REQUIRED\",IF(ISERROR(VLOOKUP(E3511,'Reference Data'!C:C,1,FALSE)),\"PLEASE SELECT A BANK FROM DEFINED LIST PROVIDED\",\"\")),\"\")","v":""},"No Entry",0]
[null,null,null,null,null,null,null,null,null,null,null,null,"",{"$f":"IF(D3512=\"Cash and Deposits\",IF(E3512=\"\",\"BANK NAME REQUIRED\",IF(ISERROR(VLOOKUP(E3512,'Reference Data'!C:C,1,FALSE)),\"PLEASE SELECT A BANK FROM DEFINED LIST PROVIDED\",\"\")),\"\")","v":""},"No Entry",0]
[null,null,null,null,null,null,null,null,null,null,null,null,"",{"$f":"IF(D3513=\"Cash and Deposits\",IF(E3513=\"\",\"BANK NAME REQUIRED\",IF(ISERROR(VLOOKUP(E3513,'Reference Data'!C:C,1,FALSE)),\"PLEASE SELECT A BANK FROM DEFINED LIST PROVIDED\",\"\")),\"\")","v":""},"No Entry",0]
[null,null,null,null,null,null,null,null,null,null,null,null,"",{"$f":"IF(D3514=\"Cash and Deposits\",IF(E3514=\"\",\"BANK NAME REQUIRED\",IF(ISERROR(VLOOKUP(E3514,'Reference Data'!C:C,1,FALSE)),\"PLEASE SELECT A BANK FROM DEFINED LIST PROVIDED\",\"\")),\"\")","v":""},"No Entry",0]
[null,null,null,null,null,null,null,null,null,null,null,null,"",{"$f":"IF(D3515=\"Cash and Deposits\",IF(E3515=\"\",\"BANK NAME REQUIRED\",IF(ISERROR(VLOOKUP(E3515,'Reference Data'!C:C,1,FALSE)),\"PLEASE SELECT A BANK FROM DEFINED LIST PROVIDED\",\"\")),\"\")","v":""},"No Entry",0]
[null,null,null,null,null,null,null,null,null,null,null,null,"",{"$f":"IF(D3516=\"Cash and Deposits\",IF(E3516=\"\",\"BANK NAME REQUIRED\",IF(ISERROR(VLOOKUP(E3516,'Reference Data'!C:C,1,FALSE)),\"PLEASE SELECT A BANK FROM DEFINED LIST PROVIDED\",\"\")),\"\")","v":""},"No Entry",0]
[null,null,null,null,null,null,null,null,null,null,null,null,"",{"$f":"IF(D3517=\"Cash and Deposits\",IF(E3517=\"\",\"BANK NAME REQUIRED\",IF(ISERROR(VLOOKUP(E3517,'Reference Data'!C:C,1,FALSE)),\"PLEASE SELECT A BANK FROM DEFINED LIST PROVIDED\",\"\")),\"\")","v":""},"No Entry",0]
[null,null,null,null,null,null,null,null,null,null,null,null,"",{"$f":"IF(D3518=\"Cash and Deposits\",IF(E3518=\"\",\"BANK NAME REQUIRED\",IF(ISERROR(VLOOKUP(E3518,'Reference Data'!C:C,1,FALSE)),\"PLEASE SELECT A BANK FROM DEFINED LIST PROVIDED\",\"\")),\"\")","v":""},"No Entry",0]
[null,null,null,null,null,null,null,null,null,null,null,null,"",{"$f":"IF(D3519=\"Cash and Deposits\",IF(E3519=\"\",\"BANK NAME REQUIRED\",IF(ISERROR(VLOOKUP(E3519,'Reference Data'!C:C,1,FALSE)),\"PLEASE SELECT A BANK FROM DEFINED LIST PROVIDED\",\"\")),\"\")","v":""},"No Entry",0]
[null,null,null,null,null,null,null,null,null,null,null,null,"",{"$f":"IF(D3520=\"Cash and Deposits\",IF(E3520=\"\",\"BANK NAME REQUIRED\",IF(ISERROR(VLOOKUP(E3520,'Reference Data'!C:C,1,FALSE)),\"PLEASE SELECT A BANK FROM DEFINED LIST PROVIDED\",\"\")),\"\")","v":""},"No Entry",0]
[null,null,null,null,null,null,null,null,null,null,null,null,"",{"$f":"IF(D3521=\"Cash and Deposits\",IF(E3521=\"\",\"BANK NAME REQUIRED\",IF(ISERROR(VLOOKUP(E3521,'Reference Data'!C:C,1,FALSE)),\"PLEASE SELECT A BANK FROM DEFINED LIST PROVIDED\",\"\")),\"\")","v":""},"No Entry",0]
[null,null,null,null,null,null,null,null,null,null,null,null,"",{"$f":"IF(D3522=\"Cash and Deposits\",IF(E3522=\"\",\"BANK NAME REQUIRED\",IF(ISERROR(VLOOKUP(E3522,'Reference Data'!C:C,1,FALSE)),\"PLEASE SELECT A BANK FROM DEFINED LIST PROVIDED\",\"\")),\"\")","v":""},"No Entry",0]
[null,null,null,null,null,null,null,null,null,null,null,null,"",{"$f":"IF(D3523=\"Cash and Deposits\",IF(E3523=\"\",\"BANK NAME REQUIRED\",IF(ISERROR(VLOOKUP(E3523,'Reference Data'!C:C,1,FALSE)),\"PLEASE SELECT A BANK FROM DEFINED LIST PROVIDED\",\"\")),\"\")","v":""},"No Entry",0]
[null,null,null,null,null,null,null,null,null,null,null,null,"",{"$f":"IF(D3524=\"Cash and Deposits\",IF(E3524=\"\",\"BANK NAME REQUIRED\",IF(ISERROR(VLOOKUP(E3524,'Reference Data'!C:C,1,FALSE)),\"PLEASE SELECT A BANK FROM DEFINED LIST PROVIDED\",\"\")),\"\")","v":""},"No Entry",0]
[null,null,null,null,null,null,null,null,null,null,null,null,{"$f":"IF(K3525<>0,IF(B3525=\"\",\"ID CODE REQUIRED\",\"\"),\"\")","v":""},{"$f":"IF(D3525=\"Cash and Deposits\",IF(E3525=\"\",\"BANK NAME REQUIRED\",IF(ISERROR(VLOOKUP(E3525,'Reference Data'!C:C,1,FALSE)),\"PLEASE SELECT A BANK FROM DEFINED LIST PROVIDED\",\"\")),\"\")","v":""},{"$f":"IF(K3525=0,\"No Entry\",\"\")","v":"No Entry"},{"$f":"IF(K3525<>0,IF(A3525=\"\",1,0),0)","v":0}]
[null,null,null,null,null,null,null,null,null,null,null,null,"",{"$f":"IF(D3526=\"Cash and Deposits\",IF(E3526=\"\",\"BANK NAME REQUIRED\",IF(ISERROR(VLOOKUP(E3526,'Reference Data'!C:C,1,FALSE)),\"PLEASE SELECT A BANK FROM DEFINED LIST PROVIDED\",\"\")),\"\")","v":""},"No Entry",0]
[null,null,null,null,null,null,null,null,null,null,null,null,"",{"$f":"IF(D3527=\"Cash and Deposits\",IF(E3527=\"\",\"BANK NAME REQUIRED\",IF(ISERROR(VLOOKUP(E3527,'Reference Data'!C:C,1,FALSE)),\"PLEASE SELECT A BANK FROM DEFINED LIST PROVIDED\",\"\")),\"\")","v":""},"No Entry",0]
[null,null,null,null,null,null,null,null,null,null,null,null,"",{"$f":"IF(D3528=\"Cash and Deposits\",IF(E3528=\"\",\"BANK NAME REQUIRED\",IF(ISERROR(VLOOKUP(E3528,'Reference Data'!C:C,1,FALSE)),\"PLEASE SELECT A BANK FROM DEFINED LIST PROVIDED\",\"\")),\"\")","v":""},"No Entry",0]
[null,null,null,null,null,null,null,null,null,null,null,null,"",{"$f":"IF(D3529=\"Cash and Deposits\",IF(E3529=\"\",\"BANK NAME REQUIRED\",IF(ISERROR(VLOOKUP(E3529,'Reference Data'!C:C,1,FALSE)),\"PLEASE SELECT A BANK FROM DEFINED LIST PROVIDED\",\"\")),\"\")","v":""},"No Entry",0]
[null,null,null,null,null,null,null,null,null,null,null,null,"",{"$f":"IF(D3530=\"Cash and Deposits\",IF(E3530=\"\",\"BANK NAME REQUIRED\",IF(ISERROR(VLOOKUP(E3530,'Reference Data'!C:C,1,FALSE)),\"PLEASE SELECT A BANK FROM DEFINED LIST PROVIDED\",\"\")),\"\")","v":""},"No Entry",0]
[null,null,null,null,null,null,null,null,null,null,null,null,"",{"$f":"IF(D3531=\"Cash and Deposits\",IF(E3531=\"\",\"BANK NAME REQUIRED\",IF(ISERROR(VLOOKUP(E3531,'Reference Data'!C:C,1,FALSE)),\"PLEASE SELECT A BANK FROM DEFINED LIST PROVIDED\",\"\")),\"\")","v":""},"No Entry",0]
[null,null,null,null,null,null,null,null,null,null,null,null,"",{"$f":"IF(D3532=\"Cash and Deposits\",IF(E3532=\"\",\"BANK NAME REQUIRED\",IF(ISERROR(VLOOKUP(E3532,'Reference Data'!C:C,1,FALSE)),\"PLEASE SELECT A BANK FROM DEFINED LIST PROVIDED\",\"\")),\"\")","v":""},"No Entry",0]
[null,null,null,null,null,null,null,null,null,null,null,null,"",{"$f":"IF(D3533=\"Cash and Deposits\",IF(E3533=\"\",\"BANK NAME REQUIRED\",IF(ISERROR(VLOOKUP(E3533,'Reference Data'!C:C,1,FALSE)),\"PLEASE SELECT A BANK FROM DEFINED LIST PROVIDED\",\"\")),\"\")","v":""},"No Entry",0]
[null,null,null,null,null,null,null,null,null,null,null,null,"",{"$f":"IF(D3534=\"Cash and Deposits\",IF(E3534=\"\",\"BANK NAME REQUIRED\",IF(ISERROR(VLOOKUP(E3534,'Reference Data'!C:C,1,FALSE)),\"PLEASE SELECT A BANK FROM DEFINED LIST PROVIDED\",\"\")),\"\")","v":""},"No Entry",0]
[null,null,null,null,null,null,null,null,null,null,null,null,"",{"$f":"IF(D3535=\"Cash and Deposits\",IF(E3535=\"\",\"BANK NAME REQUIRED\",IF(ISERROR(VLOOKUP(E3535,'Reference Data'!C:C,1,FALSE)),\"PLEASE SELECT A BANK FROM DEFINED LIST PROVIDED\",\"\")),\"\")","v":""},"No Entry",0]
[null,null,null,null,null,null,null,null,null,null,null,null,"",{"$f":"IF(D3536=\"Cash and Deposits\",IF(E3536=\"\",\"BANK NAME REQUIRED\",IF(ISERROR(VLOOKUP(E3536,'Reference Data'!C:C,1,FALSE)),\"PLEASE SELECT A BANK FROM DEFINED LIST PROVIDED\",\"\")),\"\")","v":""},"No Entry",0]
[null,null,null,null,null,null,null,null,null,null,null,null,"",{"$f":"IF(D3537=\"Cash and Deposits\",IF(E3537=\"\",\"BANK NAME REQUIRED\",IF(ISERROR(VLOOKUP(E3537,'Reference Data'!C:C,1,FALSE)),\"PLEASE SELECT A BANK FROM DEFINED LIST PROVIDED\",\"\")),\"\")","v":""},"No Entry",0]
[null,null,null,null,null,null,null,null,null,null,null,null,"",{"$f":"IF(D3538=\"Cash and Deposits\",IF(E3538=\"\",\"BANK NAME REQUIRED\",IF(ISERROR(VLOOKUP(E3538,'Reference Data'!C:C,1,FALSE)),\"PLEASE SELECT A BANK FROM DEFINED LIST PROVIDED\",\"\")),\"\")","v":""},"No Entry",0]
[null,null,null,null,null,null,null,null,null,null,null,null,"",{"$f":"IF(D3539=\"Cash and Deposits\",IF(E3539=\"\",\"BANK NAME REQUIRED\",IF(ISERROR(VLOOKUP(E3539,'Reference Data'!C:C,1,FALSE)),\"PLEASE SELECT A BANK FROM DEFINED LIST PROVIDED\",\"\")),\"\")","v":""},"No Entry",0]
[null,null,null,null,null,null,null,null,null,null,null,null,"",{"$f":"IF(D3540=\"Cash and Deposits\",IF(E3540=\"\",\"BANK NAME REQUIRED\",IF(ISERROR(VLOOKUP(E3540,'Reference Data'!C:C,1,FALSE)),\"PLEASE SELECT A BANK FROM DEFINED LIST PROVIDED\",\"\")),\"\")","v":""},"No Entry",0]
[null,null,null,null,null,null,null,null,null,null,null,null,"",{"$f":"IF(D3541=\"Cash and Deposits\",IF(E3541=\"\",\"BANK NAME REQUIRED\",IF(ISERROR(VLOOKUP(E3541,'Reference Data'!C:C,1,FALSE)),\"PLEASE SELECT A BANK FROM DEFINED LIST PROVIDED\",\"\")),\"\")","v":""},"No Entry",0]
[null,null,null,null,null,null,null,null,null,null,null,null,"",{"$f":"IF(D3542=\"Cash and Deposits\",IF(E3542=\"\",\"BANK NAME REQUIRED\",IF(ISERROR(VLOOKUP(E3542,'Reference Data'!C:C,1,FALSE)),\"PLEASE SELECT A BANK FROM DEFINED LIST PROVIDED\",\"\")),\"\")","v":""},"No Entry",0]
[null,null,null,null,null,null,null,null,null,null,null,null,"",{"$f":"IF(D3543=\"Cash and Deposits\",IF(E3543=\"\",\"BANK NAME REQUIRED\",IF(ISERROR(VLOOKUP(E3543,'Reference Data'!C:C,1,FALSE)),\"PLEASE SELECT A BANK FROM DEFINED LIST PROVIDED\",\"\")),\"\")","v":""},"No Entry",0]
[null,null,null,null,null,null,null,null,null,null,null,null,"",{"$f":"IF(D3544=\"Cash and Deposits\",IF(E3544=\"\",\"BANK NAME REQUIRED\",IF(ISERROR(VLOOKUP(E3544,'Reference Data'!C:C,1,FALSE)),\"PLEASE SELECT A BANK FROM DEFINED LIST PROVIDED\",\"\")),\"\")","v":""},"No Entry",0]
[null,null,null,null,null,null,null,null,null,null,null,null,"",{"$f":"IF(D3545=\"Cash and Deposits\",IF(E3545=\"\",\"BANK NAME REQUIRED\",IF(ISERROR(VLOOKUP(E3545,'Reference Data'!C:C,1,FALSE)),\"PLEASE SELECT A BANK FROM DEFINED LIST PROVIDED\",\"\")),\"\")","v":""},"No Entry",0]
[null,null,null,null,null,null,null,null,null,null,null,null,"",{"$f":"IF(D3546=\"Cash and Deposits\",IF(E3546=\"\",\"BANK NAME REQUIRED\",IF(ISERROR(VLOOKUP(E3546,'Reference Data'!C:C,1,FALSE)),\"PLEASE SELECT A BANK FROM DEFINED LIST PROVIDED\",\"\")),\"\")","v":""},"No Entry",0]
[null,null,null,null,null,null,null,null,null,null,null,null,"",{"$f":"IF(D3547=\"Cash and Deposits\",IF(E3547=\"\",\"BANK NAME REQUIRED\",IF(ISERROR(VLOOKUP(E3547,'Reference Data'!C:C,1,FALSE)),\"PLEASE SELECT A BANK FROM DEFINED LIST PROVIDED\",\"\")),\"\")","v":""},"No Entry",0]
[null,null,null,null,null,null,null,null,null,null,null,null,"",{"$f":"IF(D3548=\"Cash and Deposits\",IF(E3548=\"\",\"BANK NAME REQUIRED\",IF(ISERROR(VLOOKUP(E3548,'Reference Data'!C:C,1,FALSE)),\"PLEASE SELECT A BANK FROM DEFINED LIST PROVIDED\",\"\")),\"\")","v":""},"No Entry",0]
[null,null,null,null,null,null,null,null,null,null,null,null,"",{"$f":"IF(D3549=\"Cash and Deposits\",IF(E3549=\"\",\"BANK NAME REQUIRED\",IF(ISERROR(VLOOKUP(E3549,'Reference Data'!C:C,1,FALSE)),\"PLEASE SELECT A BANK FROM DEFINED LIST PROVIDED\",\"\")),\"\")","v":""},"No Entry",0]
[null,null,null,null,null,null,null,null,null,null,null,null,"",{"$f":"IF(D3550=\"Cash and Deposits\",IF(E3550=\"\",\"BANK NAME REQUIRED\",IF(ISERROR(VLOOKUP(E3550,'Reference Data'!C:C,1,FALSE)),\"PLEASE SELECT A BANK FROM DEFINED LIST PROVIDED\",\"\")),\"\")","v":""},"No Entry",0]
[null,null,null,null,null,null,null,null,null,null,null,null,"",{"$f":"IF(D3551=\"Cash and Deposits\",IF(E3551=\"\",\"BANK NAME REQUIRED\",IF(ISERROR(VLOOKUP(E3551,'Reference Data'!C:C,1,FALSE)),\"PLEASE SELECT A BANK FROM DEFINED LIST PROVIDED\",\"\")),\"\")","v":""},"No Entry",0]
[null,null,null,null,null,null,null,null,null,null,null,null,"",{"$f":"IF(D3552=\"Cash and Deposits\",IF(E3552=\"\",\"BANK NAME REQUIRED\",IF(ISERROR(VLOOKUP(E3552,'Reference Data'!C:C,1,FALSE)),\"PLEASE SELECT A BANK FROM DEFINED LIST PROVIDED\",\"\")),\"\")","v":""},"No Entry",0]
[null,null,null,null,null,null,null,null,null,null,null,null,"",{"$f":"IF(D3553=\"Cash and Deposits\",IF(E3553=\"\",\"BANK NAME REQUIRED\",IF(ISERROR(VLOOKUP(E3553,'Reference Data'!C:C,1,FALSE)),\"PLEASE SELECT A BANK FROM DEFINED LIST PROVIDED\",\"\")),\"\")","v":""},"No Entry",0]
[null,null,null,null,null,null,null,null,null,null,null,null,"",{"$f":"IF(D3554=\"Cash and Deposits\",IF(E3554=\"\",\"BANK NAME REQUIRED\",IF(ISERROR(VLOOKUP(E3554,'Reference Data'!C:C,1,FALSE)),\"PLEASE SELECT A BANK FROM DEFINED LIST PROVIDED\",\"\")),\"\")","v":""},"No Entry",0]
[null,null,null,null,null,null,null,null,null,null,null,null,"",{"$f":"IF(D3555=\"Cash and Deposits\",IF(E3555=\"\",\"BANK NAME REQUIRED\",IF(ISERROR(VLOOKUP(E3555,'Reference Data'!C:C,1,FALSE)),\"PLEASE SELECT A BANK FROM DEFINED LIST PROVIDED\",\"\")),\"\")","v":""},"No Entry",0]
[null,null,null,null,null,null,null,null,null,null,null,null,"",{"$f":"IF(D3556=\"Cash and Deposits\",IF(E3556=\"\",\"BANK NAME REQUIRED\",IF(ISERROR(VLOOKUP(E3556,'Reference Data'!C:C,1,FALSE)),\"PLEASE SELECT A BANK FROM DEFINED LIST PROVIDED\",\"\")),\"\")","v":""},"No Entry",0]
[null,null,null,null,null,null,null,null,null,null,null,null,"",{"$f":"IF(D3557=\"Cash and Deposits\",IF(E3557=\"\",\"BANK NAME REQUIRED\",IF(ISERROR(VLOOKUP(E3557,'Reference Data'!C:C,1,FALSE)),\"PLEASE SELECT A BANK FROM DEFINED LIST PROVIDED\",\"\")),\"\")","v":""},"No Entry",0]
[null,null,null,null,null,null,null,null,null,null,null,null,"",{"$f":"IF(D3558=\"Cash and Deposits\",IF(E3558=\"\",\"BANK NAME REQUIRED\",IF(ISERROR(VLOOKUP(E3558,'Reference Data'!C:C,1,FALSE)),\"PLEASE SELECT A BANK FROM DEFINED LIST PROVIDED\",\"\")),\"\")","v":""},"No Entry",0]
[null,null,null,null,null,null,null,null,null,null,null,null,"",{"$f":"IF(D3559=\"Cash and Deposits\",IF(E3559=\"\",\"BANK NAME REQUIRED\",IF(ISERROR(VLOOKUP(E3559,'Reference Data'!C:C,1,FALSE)),\"PLEASE SELECT A BANK FROM DEFINED LIST PROVIDED\",\"\")),\"\")","v":""},"No Entry",0]
[null,null,null,null,null,null,null,null,null,null,null,null,"",{"$f":"IF(D3560=\"Cash and Deposits\",IF(E3560=\"\",\"BANK NAME REQUIRED\",IF(ISERROR(VLOOKUP(E3560,'Reference Data'!C:C,1,FALSE)),\"PLEASE SELECT A BANK FROM DEFINED LIST PROVIDED\",\"\")),\"\")","v":""},"No Entry",0]
[null,null,null,null,null,null,null,null,null,null,null,null,"",{"$f":"IF(D3561=\"Cash and Deposits\",IF(E3561=\"\",\"BANK NAME REQUIRED\",IF(ISERROR(VLOOKUP(E3561,'Reference Data'!C:C,1,FALSE)),\"PLEASE SELECT A BANK FROM DEFINED LIST PROVIDED\",\"\")),\"\")","v":""},"No Entry",0]
[null,null,null,null,null,null,null,null,null,null,null,null,"",{"$f":"IF(D3562=\"Cash and Deposits\",IF(E3562=\"\",\"BANK NAME REQUIRED\",IF(ISERROR(VLOOKUP(E3562,'Reference Data'!C:C,1,FALSE)),\"PLEASE SELECT A BANK FROM DEFINED LIST PROVIDED\",\"\")),\"\")","v":""},"No Entry",0]
[null,null,null,null,null,null,null,null,null,null,null,null,"",{"$f":"IF(D3563=\"Cash and Deposits\",IF(E3563=\"\",\"BANK NAME REQUIRED\",IF(ISERROR(VLOOKUP(E3563,'Reference Data'!C:C,1,FALSE)),\"PLEASE SELECT A BANK FROM DEFINED LIST PROVIDED\",\"\")),\"\")","v":""},"No Entry",0]
[null,null,null,null,null,null,null,null,null,null,null,null,"",{"$f":"IF(D3564=\"Cash and Deposits\",IF(E3564=\"\",\"BANK NAME REQUIRED\",IF(ISERROR(VLOOKUP(E3564,'Reference Data'!C:C,1,FALSE)),\"PLEASE SELECT A BANK FROM DEFINED LIST PROVIDED\",\"\")),\"\")","v":""},"No Entry",0]
[null,null,null,null,null,null,null,null,null,null,null,null,"",{"$f":"IF(D3565=\"Cash and Deposits\",IF(E3565=\"\",\"BANK NAME REQUIRED\",IF(ISERROR(VLOOKUP(E3565,'Reference Data'!C:C,1,FALSE)),\"PLEASE SELECT A BANK FROM DEFINED LIST PROVIDED\",\"\")),\"\")","v":""},"No Entry",0]
[null,null,null,null,null,null,null,null,null,null,null,null,"",{"$f":"IF(D3566=\"Cash and Deposits\",IF(E3566=\"\",\"BANK NAME REQUIRED\",IF(ISERROR(VLOOKUP(E3566,'Reference Data'!C:C,1,FALSE)),\"PLEASE SELECT A BANK FROM DEFINED LIST PROVIDED\",\"\")),\"\")","v":""},"No Entry",0]
[null,null,null,null,null,null,null,null,null,null,null,null,"",{"$f":"IF(D3567=\"Cash and Deposits\",IF(E3567=\"\",\"BANK NAME REQUIRED\",IF(ISERROR(VLOOKUP(E3567,'Reference Data'!C:C,1,FALSE)),\"PLEASE SELECT A BANK FROM DEFINED LIST PROVIDED\",\"\")),\"\")","v":""},"No Entry",0]
[null,null,null,null,null,null,null,null,null,null,null,null,"",{"$f":"IF(D3568=\"Cash and Deposits\",IF(E3568=\"\",\"BANK NAME REQUIRED\",IF(ISERROR(VLOOKUP(E3568,'Reference Data'!C:C,1,FALSE)),\"PLEASE SELECT A BANK FROM DEFINED LIST PROVIDED\",\"\")),\"\")","v":""},"No Entry",0]
[null,null,null,null,null,null,null,null,null,null,null,null,"",{"$f":"IF(D3569=\"Cash and Deposits\",IF(E3569=\"\",\"BANK NAME REQUIRED\",IF(ISERROR(VLOOKUP(E3569,'Reference Data'!C:C,1,FALSE)),\"PLEASE SELECT A BANK FROM DEFINED LIST PROVIDED\",\"\")),\"\")","v":""},"No Entry",0]
[null,null,null,null,null,null,null,null,null,null,null,null,"",{"$f":"IF(D3570=\"Cash and Deposits\",IF(E3570=\"\",\"BANK NAME REQUIRED\",IF(ISERROR(VLOOKUP(E3570,'Reference Data'!C:C,1,FALSE)),\"PLEASE SELECT A BANK FROM DEFINED LIST PROVIDED\",\"\")),\"\")","v":""},"No Entry",0]
[null,null,null,null,null,null,null,null,null,null,null,null,"",{"$f":"IF(D3571=\"Cash and Deposits\",IF(E3571=\"\",\"BANK NAME REQUIRED\",IF(ISERROR(VLOOKUP(E3571,'Reference Data'!C:C,1,FALSE)),\"PLEASE SELECT A BANK FROM DEFINED LIST PROVIDED\",\"\")),\"\")","v":""},"No Entry",0]
[null,null,null,null,null,null,null,null,null,null,null,null,"",{"$f":"IF(D3572=\"Cash and Deposits\",IF(E3572=\"\",\"BANK NAME REQUIRED\",IF(ISERROR(VLOOKUP(E3572,'Reference Data'!C:C,1,FALSE)),\"PLEASE SELECT A BANK FROM DEFINED LIST PROVIDED\",\"\")),\"\")","v":""},"No Entry",0]
[null,null,null,null,null,null,null,null,null,null,null,null,"",{"$f":"IF(D3573=\"Cash and Deposits\",IF(E3573=\"\",\"BANK NAME REQUIRED\",IF(ISERROR(VLOOKUP(E3573,'Reference Data'!C:C,1,FALSE)),\"PLEASE SELECT A BANK FROM DEFINED LIST PROVIDED\",\"\")),\"\")","v":""},"No Entry",0]
[null,null,null,null,null,null,null,null,null,null,null,null,"",{"$f":"IF(D3574=\"Cash and Deposits\",IF(E3574=\"\",\"BANK NAME REQUIRED\",IF(ISERROR(VLOOKUP(E3574,'Reference Data'!C:C,1,FALSE)),\"PLEASE SELECT A BANK FROM DEFINED LIST PROVIDED\",\"\")),\"\")","v":""},"No Entry",0]
[null,null,null,null,null,null,null,null,null,null,null,null,"",{"$f":"IF(D3575=\"Cash and Deposits\",IF(E3575=\"\",\"BANK NAME REQUIRED\",IF(ISERROR(VLOOKUP(E3575,'Reference Data'!C:C,1,FALSE)),\"PLEASE SELECT A BANK FROM DEFINED LIST PROVIDED\",\"\")),\"\")","v":""},"No Entry",0]
[null,null,null,null,null,null,null,null,null,null,null,null,"",{"$f":"IF(D3576=\"Cash and Deposits\",IF(E3576=\"\",\"BANK NAME REQUIRED\",IF(ISERROR(VLOOKUP(E3576,'Reference Data'!C:C,1,FALSE)),\"PLEASE SELECT A BANK FROM DEFINED LIST PROVIDED\",\"\")),\"\")","v":""},"No Entry",0]
[null,null,null,null,null,null,null,null,null,null,null,null,"",{"$f":"IF(D3577=\"Cash and Deposits\",IF(E3577=\"\",\"BANK NAME REQUIRED\",IF(ISERROR(VLOOKUP(E3577,'Reference Data'!C:C,1,FALSE)),\"PLEASE SELECT A BANK FROM DEFINED LIST PROVIDED\",\"\")),\"\")","v":""},"No Entry",0]
[null,null,null,null,null,null,null,null,null,null,null,null,"",{"$f":"IF(D3578=\"Cash and Deposits\",IF(E3578=\"\",\"BANK NAME REQUIRED\",IF(ISERROR(VLOOKUP(E3578,'Reference Data'!C:C,1,FALSE)),\"PLEASE SELECT A BANK FROM DEFINED LIST PROVIDED\",\"\")),\"\")","v":""},"No Entry",0]
[null,null,null,null,null,null,null,null,null,null,null,null,"",{"$f":"IF(D3579=\"Cash and Deposits\",IF(E3579=\"\",\"BANK NAME REQUIRED\",IF(ISERROR(VLOOKUP(E3579,'Reference Data'!C:C,1,FALSE)),\"PLEASE SELECT A BANK FROM DEFINED LIST PROVIDED\",\"\")),\"\")","v":""},"No Entry",0]
[null,null,null,null,null,null,null,null,null,null,null,null,"",{"$f":"IF(D3580=\"Cash and Deposits\",IF(E3580=\"\",\"BANK NAME REQUIRED\",IF(ISERROR(VLOOKUP(E3580,'Reference Data'!C:C,1,FALSE)),\"PLEASE SELECT A BANK FROM DEFINED LIST PROVIDED\",\"\")),\"\")","v":""},"No Entry",0]
[null,null,null,null,null,null,null,null,null,null,null,null,"",{"$f":"IF(D3581=\"Cash and Deposits\",IF(E3581=\"\",\"BANK NAME REQUIRED\",IF(ISERROR(VLOOKUP(E3581,'Reference Data'!C:C,1,FALSE)),\"PLEASE SELECT A BANK FROM DEFINED LIST PROVIDED\",\"\")),\"\")","v":""},"No Entry",0]
[null,null,null,null,null,null,null,null,null,null,null,null,"",{"$f":"IF(D3582=\"Cash and Deposits\",IF(E3582=\"\",\"BANK NAME REQUIRED\",IF(ISERROR(VLOOKUP(E3582,'Reference Data'!C:C,1,FALSE)),\"PLEASE SELECT A BANK FROM DEFINED LIST PROVIDED\",\"\")),\"\")","v":""},"No Entry",0]
[null,null,null,null,null,null,null,null,null,null,null,null,"",{"$f":"IF(D3583=\"Cash and Deposits\",IF(E3583=\"\",\"BANK NAME REQUIRED\",IF(ISERROR(VLOOKUP(E3583,'Reference Data'!C:C,1,FALSE)),\"PLEASE SELECT A BANK FROM DEFINED LIST PROVIDED\",\"\")),\"\")","v":""},"No Entry",0]
[null,null,null,null,null,null,null,null,null,null,null,null,"",{"$f":"IF(D3584=\"Cash and Deposits\",IF(E3584=\"\",\"BANK NAME REQUIRED\",IF(ISERROR(VLOOKUP(E3584,'Reference Data'!C:C,1,FALSE)),\"PLEASE SELECT A BANK FROM DEFINED LIST PROVIDED\",\"\")),\"\")","v":""},"No Entry",0]
[null,null,null,null,null,null,null,null,null,null,null,null,"",{"$f":"IF(D3585=\"Cash and Deposits\",IF(E3585=\"\",\"BANK NAME REQUIRED\",IF(ISERROR(VLOOKUP(E3585,'Reference Data'!C:C,1,FALSE)),\"PLEASE SELECT A BANK FROM DEFINED LIST PROVIDED\",\"\")),\"\")","v":""},"No Entry",0]
[null,null,null,null,null,null,null,null,null,null,null,null,"",{"$f":"IF(D3586=\"Cash and Deposits\",IF(E3586=\"\",\"BANK NAME REQUIRED\",IF(ISERROR(VLOOKUP(E3586,'Reference Data'!C:C,1,FALSE)),\"PLEASE SELECT A BANK FROM DEFINED LIST PROVIDED\",\"\")),\"\")","v":""},"No Entry",0]
[null,null,null,null,null,null,null,null,null,null,null,null,"",{"$f":"IF(D3587=\"Cash and Deposits\",IF(E3587=\"\",\"BANK NAME REQUIRED\",IF(ISERROR(VLOOKUP(E3587,'Reference Data'!C:C,1,FALSE)),\"PLEASE SELECT A BANK FROM DEFINED LIST PROVIDED\",\"\")),\"\")","v":""},"No Entry",0]
[null,null,null,null,null,null,null,null,null,null,null,null,"",{"$f":"IF(D3588=\"Cash and Deposits\",IF(E3588=\"\",\"BANK NAME REQUIRED\",IF(ISERROR(VLOOKUP(E3588,'Reference Data'!C:C,1,FALSE)),\"PLEASE SELECT A BANK FROM DEFINED LIST PROVIDED\",\"\")),\"\")","v":""},"No Entry",0]
[null,null,null,null,null,null,null,null,null,null,null,null,{"$f":"IF(K3589<>0,IF(B3589=\"\",\"ID CODE REQUIRED\",\"\"),\"\")","v":""},{"$f":"IF(D3589=\"Cash and Deposits\",IF(E3589=\"\",\"BANK NAME REQUIRED\",IF(ISERROR(VLOOKUP(E3589,'Reference Data'!C:C,1,FALSE)),\"PLEASE SELECT A BANK FROM DEFINED LIST PROVIDED\",\"\")),\"\")","v":""},{"$f":"IF(K3589=0,\"No Entry\",\"\")","v":"No Entry"},{"$f":"IF(K3589<>0,IF(A3589=\"\",1,0),0)","v":0}]
[null,null,null,null,null,null,null,null,null,null,null,null,"",{"$f":"IF(D3590=\"Cash and Deposits\",IF(E3590=\"\",\"BANK NAME REQUIRED\",IF(ISERROR(VLOOKUP(E3590,'Reference Data'!C:C,1,FALSE)),\"PLEASE SELECT A BANK FROM DEFINED LIST PROVIDED\",\"\")),\"\")","v":""},"No Entry",0]
[null,null,null,null,null,null,null,null,null,null,null,null,"",{"$f":"IF(D3591=\"Cash and Deposits\",IF(E3591=\"\",\"BANK NAME REQUIRED\",IF(ISERROR(VLOOKUP(E3591,'Reference Data'!C:C,1,FALSE)),\"PLEASE SELECT A BANK FROM DEFINED LIST PROVIDED\",\"\")),\"\")","v":""},"No Entry",0]
[null,null,null,null,null,null,null,null,null,null,null,null,"",{"$f":"IF(D3592=\"Cash and Deposits\",IF(E3592=\"\",\"BANK NAME REQUIRED\",IF(ISERROR(VLOOKUP(E3592,'Reference Data'!C:C,1,FALSE)),\"PLEASE SELECT A BANK FROM DEFINED LIST PROVIDED\",\"\")),\"\")","v":""},"No Entry",0]
[null,null,null,null,null,null,null,null,null,null,null,null,"",{"$f":"IF(D3593=\"Cash and Deposits\",IF(E3593=\"\",\"BANK NAME REQUIRED\",IF(ISERROR(VLOOKUP(E3593,'Reference Data'!C:C,1,FALSE)),\"PLEASE SELECT A BANK FROM DEFINED LIST PROVIDED\",\"\")),\"\")","v":""},"No Entry",0]
[null,null,null,null,null,null,null,null,null,null,null,null,"",{"$f":"IF(D3594=\"Cash and Deposits\",IF(E3594=\"\",\"BANK NAME REQUIRED\",IF(ISERROR(VLOOKUP(E3594,'Reference Data'!C:C,1,FALSE)),\"PLEASE SELECT A BANK FROM DEFINED LIST PROVIDED\",\"\")),\"\")","v":""},"No Entry",0]
[null,null,null,null,null,null,null,null,null,null,null,null,"",{"$f":"IF(D3595=\"Cash and Deposits\",IF(E3595=\"\",\"BANK NAME REQUIRED\",IF(ISERROR(VLOOKUP(E3595,'Reference Data'!C:C,1,FALSE)),\"PLEASE SELECT A BANK FROM DEFINED LIST PROVIDED\",\"\")),\"\")","v":""},"No Entry",0]
[null,null,null,null,null,null,null,null,null,null,null,null,"",{"$f":"IF(D3596=\"Cash and Deposits\",IF(E3596=\"\",\"BANK NAME REQUIRED\",IF(ISERROR(VLOOKUP(E3596,'Reference Data'!C:C,1,FALSE)),\"PLEASE SELECT A BANK FROM DEFINED LIST PROVIDED\",\"\")),\"\")","v":""},"No Entry",0]
[null,null,null,null,null,null,null,null,null,null,null,null,"",{"$f":"IF(D3597=\"Cash and Deposits\",IF(E3597=\"\",\"BANK NAME REQUIRED\",IF(ISERROR(VLOOKUP(E3597,'Reference Data'!C:C,1,FALSE)),\"PLEASE SELECT A BANK FROM DEFINED LIST PROVIDED\",\"\")),\"\")","v":""},"No Entry",0]
[null,null,null,null,null,null,null,null,null,null,null,null,"",{"$f":"IF(D3598=\"Cash and Deposits\",IF(E3598=\"\",\"BANK NAME REQUIRED\",IF(ISERROR(VLOOKUP(E3598,'Reference Data'!C:C,1,FALSE)),\"PLEASE SELECT A BANK FROM DEFINED LIST PROVIDED\",\"\")),\"\")","v":""},"No Entry",0]
[null,null,null,null,null,null,null,null,null,null,null,null,"",{"$f":"IF(D3599=\"Cash and Deposits\",IF(E3599=\"\",\"BANK NAME REQUIRED\",IF(ISERROR(VLOOKUP(E3599,'Reference Data'!C:C,1,FALSE)),\"PLEASE SELECT A BANK FROM DEFINED LIST PROVIDED\",\"\")),\"\")","v":""},"No Entry",0]
[null,null,null,null,null,null,null,null,null,null,null,null,"",{"$f":"IF(D3600=\"Cash and Deposits\",IF(E3600=\"\",\"BANK NAME REQUIRED\",IF(ISERROR(VLOOKUP(E3600,'Reference Data'!C:C,1,FALSE)),\"PLEASE SELECT A BANK FROM DEFINED LIST PROVIDED\",\"\")),\"\")","v":""},"No Entry",0]
[null,null,null,null,null,null,null,null,null,null,null,null,"",{"$f":"IF(D3601=\"Cash and Deposits\",IF(E3601=\"\",\"BANK NAME REQUIRED\",IF(ISERROR(VLOOKUP(E3601,'Reference Data'!C:C,1,FALSE)),\"PLEASE SELECT A BANK FROM DEFINED LIST PROVIDED\",\"\")),\"\")","v":""},"No Entry",0]
[null,null,null,null,null,null,null,null,null,null,null,null,"",{"$f":"IF(D3602=\"Cash and Deposits\",IF(E3602=\"\",\"BANK NAME REQUIRED\",IF(ISERROR(VLOOKUP(E3602,'Reference Data'!C:C,1,FALSE)),\"PLEASE SELECT A BANK FROM DEFINED LIST PROVIDED\",\"\")),\"\")","v":""},"No Entry",0]
[null,null,null,null,null,null,null,null,null,null,null,null,"",{"$f":"IF(D3603=\"Cash and Deposits\",IF(E3603=\"\",\"BANK NAME REQUIRED\",IF(ISERROR(VLOOKUP(E3603,'Reference Data'!C:C,1,FALSE)),\"PLEASE SELECT A BANK FROM DEFINED LIST PROVIDED\",\"\")),\"\")","v":""},"No Entry",0]
[null,null,null,null,null,null,null,null,null,null,null,null,"",{"$f":"IF(D3604=\"Cash and Deposits\",IF(E3604=\"\",\"BANK NAME REQUIRED\",IF(ISERROR(VLOOKUP(E3604,'Reference Data'!C:C,1,FALSE)),\"PLEASE SELECT A BANK FROM DEFINED LIST PROVIDED\",\"\")),\"\")","v":""},"No Entry",0]
[null,null,null,null,null,null,null,null,null,null,null,null,"",{"$f":"IF(D3605=\"Cash and Deposits\",IF(E3605=\"\",\"BANK NAME REQUIRED\",IF(ISERROR(VLOOKUP(E3605,'Reference Data'!C:C,1,FALSE)),\"PLEASE SELECT A BANK FROM DEFINED LIST PROVIDED\",\"\")),\"\")","v":""},"No Entry",0]
[null,null,null,null,null,null,null,null,null,null,null,null,"",{"$f":"IF(D3606=\"Cash and Deposits\",IF(E3606=\"\",\"BANK NAME REQUIRED\",IF(ISERROR(VLOOKUP(E3606,'Reference Data'!C:C,1,FALSE)),\"PLEASE SELECT A BANK FROM DEFINED LIST PROVIDED\",\"\")),\"\")","v":""},"No Entry",0]
[null,null,null,null,null,null,null,null,null,null,null,null,"",{"$f":"IF(D3607=\"Cash and Deposits\",IF(E3607=\"\",\"BANK NAME REQUIRED\",IF(ISERROR(VLOOKUP(E3607,'Reference Data'!C:C,1,FALSE)),\"PLEASE SELECT A BANK FROM DEFINED LIST PROVIDED\",\"\")),\"\")","v":""},"No Entry",0]
[null,null,null,null,null,null,null,null,null,null,null,null,"",{"$f":"IF(D3608=\"Cash and Deposits\",IF(E3608=\"\",\"BANK NAME REQUIRED\",IF(ISERROR(VLOOKUP(E3608,'Reference Data'!C:C,1,FALSE)),\"PLEASE SELECT A BANK FROM DEFINED LIST PROVIDED\",\"\")),\"\")","v":""},"No Entry",0]
[null,null,null,null,null,null,null,null,null,null,null,null,"",{"$f":"IF(D3609=\"Cash and Deposits\",IF(E3609=\"\",\"BANK NAME REQUIRED\",IF(ISERROR(VLOOKUP(E3609,'Reference Data'!C:C,1,FALSE)),\"PLEASE SELECT A BANK FROM DEFINED LIST PROVIDED\",\"\")),\"\")","v":""},"No Entry",0]
[null,null,null,null,null,null,null,null,null,null,null,null,"",{"$f":"IF(D3610=\"Cash and Deposits\",IF(E3610=\"\",\"BANK NAME REQUIRED\",IF(ISERROR(VLOOKUP(E3610,'Reference Data'!C:C,1,FALSE)),\"PLEASE SELECT A BANK FROM DEFINED LIST PROVIDED\",\"\")),\"\")","v":""},"No Entry",0]
[null,null,null,null,null,null,null,null,null,null,null,null,"",{"$f":"IF(D3611=\"Cash and Deposits\",IF(E3611=\"\",\"BANK NAME REQUIRED\",IF(ISERROR(VLOOKUP(E3611,'Reference Data'!C:C,1,FALSE)),\"PLEASE SELECT A BANK FROM DEFINED LIST PROVIDED\",\"\")),\"\")","v":""},"No Entry",0]
[null,null,null,null,null,null,null,null,null,null,null,null,"",{"$f":"IF(D3612=\"Cash and Deposits\",IF(E3612=\"\",\"BANK NAME REQUIRED\",IF(ISERROR(VLOOKUP(E3612,'Reference Data'!C:C,1,FALSE)),\"PLEASE SELECT A BANK FROM DEFINED LIST PROVIDED\",\"\")),\"\")","v":""},"No Entry",0]
[null,null,null,null,null,null,null,null,null,null,null,null,"",{"$f":"IF(D3613=\"Cash and Deposits\",IF(E3613=\"\",\"BANK NAME REQUIRED\",IF(ISERROR(VLOOKUP(E3613,'Reference Data'!C:C,1,FALSE)),\"PLEASE SELECT A BANK FROM DEFINED LIST PROVIDED\",\"\")),\"\")","v":""},"No Entry",0]
[null,null,null,null,null,null,null,null,null,null,null,null,"",{"$f":"IF(D3614=\"Cash and Deposits\",IF(E3614=\"\",\"BANK NAME REQUIRED\",IF(ISERROR(VLOOKUP(E3614,'Reference Data'!C:C,1,FALSE)),\"PLEASE SELECT A BANK FROM DEFINED LIST PROVIDED\",\"\")),\"\")","v":""},"No Entry",0]
[null,null,null,null,null,null,null,null,null,null,null,null,"",{"$f":"IF(D3615=\"Cash and Deposits\",IF(E3615=\"\",\"BANK NAME REQUIRED\",IF(ISERROR(VLOOKUP(E3615,'Reference Data'!C:C,1,FALSE)),\"PLEASE SELECT A BANK FROM DEFINED LIST PROVIDED\",\"\")),\"\")","v":""},"No Entry",0]
[null,null,null,null,null,null,null,null,null,null,null,null,"",{"$f":"IF(D3616=\"Cash and Deposits\",IF(E3616=\"\",\"BANK NAME REQUIRED\",IF(ISERROR(VLOOKUP(E3616,'Reference Data'!C:C,1,FALSE)),\"PLEASE SELECT A BANK FROM DEFINED LIST PROVIDED\",\"\")),\"\")","v":""},"No Entry",0]
[null,null,null,null,null,null,null,null,null,null,null,null,"",{"$f":"IF(D3617=\"Cash and Deposits\",IF(E3617=\"\",\"BANK NAME REQUIRED\",IF(ISERROR(VLOOKUP(E3617,'Reference Data'!C:C,1,FALSE)),\"PLEASE SELECT A BANK FROM DEFINED LIST PROVIDED\",\"\")),\"\")","v":""},"No Entry",0]
[null,null,null,null,null,null,null,null,null,null,null,null,"",{"$f":"IF(D3618=\"Cash and Deposits\",IF(E3618=\"\",\"BANK NAME REQUIRED\",IF(ISERROR(VLOOKUP(E3618,'Reference Data'!C:C,1,FALSE)),\"PLEASE SELECT A BANK FROM DEFINED LIST PROVIDED\",\"\")),\"\")","v":""},"No Entry",0]
[null,null,null,null,null,null,null,null,null,null,null,null,"",{"$f":"IF(D3619=\"Cash and Deposits\",IF(E3619=\"\",\"BANK NAME REQUIRED\",IF(ISERROR(VLOOKUP(E3619,'Reference Data'!C:C,1,FALSE)),\"PLEASE SELECT A BANK FROM DEFINED LIST PROVIDED\",\"\")),\"\")","v":""},"No Entry",0]
[null,null,null,null,null,null,null,null,null,null,null,null,"",{"$f":"IF(D3620=\"Cash and Deposits\",IF(E3620=\"\",\"BANK NAME REQUIRED\",IF(ISERROR(VLOOKUP(E3620,'Reference Data'!C:C,1,FALSE)),\"PLEASE SELECT A BANK FROM DEFINED LIST PROVIDED\",\"\")),\"\")","v":""},"No Entry",0]
[null,null,null,null,null,null,null,null,null,null,null,null,"",{"$f":"IF(D3621=\"Cash and Deposits\",IF(E3621=\"\",\"BANK NAME REQUIRED\",IF(ISERROR(VLOOKUP(E3621,'Reference Data'!C:C,1,FALSE)),\"PLEASE SELECT A BANK FROM DEFINED LIST PROVIDED\",\"\")),\"\")","v":""},"No Entry",0]
[null,null,null,null,null,null,null,null,null,null,null,null,"",{"$f":"IF(D3622=\"Cash and Deposits\",IF(E3622=\"\",\"BANK NAME REQUIRED\",IF(ISERROR(VLOOKUP(E3622,'Reference Data'!C:C,1,FALSE)),\"PLEASE SELECT A BANK FROM DEFINED LIST PROVIDED\",\"\")),\"\")","v":""},"No Entry",0]
[null,null,null,null,null,null,null,null,null,null,null,null,"",{"$f":"IF(D3623=\"Cash and Deposits\",IF(E3623=\"\",\"BANK NAME REQUIRED\",IF(ISERROR(VLOOKUP(E3623,'Reference Data'!C:C,1,FALSE)),\"PLEASE SELECT A BANK FROM DEFINED LIST PROVIDED\",\"\")),\"\")","v":""},"No Entry",0]
[null,null,null,null,null,null,null,null,null,null,null,null,"",{"$f":"IF(D3624=\"Cash and Deposits\",IF(E3624=\"\",\"BANK NAME REQUIRED\",IF(ISERROR(VLOOKUP(E3624,'Reference Data'!C:C,1,FALSE)),\"PLEASE SELECT A BANK FROM DEFINED LIST PROVIDED\",\"\")),\"\")","v":""},"No Entry",0]
[null,null,null,null,null,null,null,null,null,null,null,null,"",{"$f":"IF(D3625=\"Cash and Deposits\",IF(E3625=\"\",\"BANK NAME REQUIRED\",IF(ISERROR(VLOOKUP(E3625,'Reference Data'!C:C,1,FALSE)),\"PLEASE SELECT A BANK FROM DEFINED LIST PROVIDED\",\"\")),\"\")","v":""},"No Entry",0]
[null,null,null,null,null,null,null,null,null,null,null,null,"",{"$f":"IF(D3626=\"Cash and Deposits\",IF(E3626=\"\",\"BANK NAME REQUIRED\",IF(ISERROR(VLOOKUP(E3626,'Reference Data'!C:C,1,FALSE)),\"PLEASE SELECT A BANK FROM DEFINED LIST PROVIDED\",\"\")),\"\")","v":""},"No Entry",0]
[null,null,null,null,null,null,null,null,null,null,null,null,"",{"$f":"IF(D3627=\"Cash and Deposits\",IF(E3627=\"\",\"BANK NAME REQUIRED\",IF(ISERROR(VLOOKUP(E3627,'Reference Data'!C:C,1,FALSE)),\"PLEASE SELECT A BANK FROM DEFINED LIST PROVIDED\",\"\")),\"\")","v":""},"No Entry",0]
[null,null,null,null,null,null,null,null,null,null,null,null,"",{"$f":"IF(D3628=\"Cash and Deposits\",IF(E3628=\"\",\"BANK NAME REQUIRED\",IF(ISERROR(VLOOKUP(E3628,'Reference Data'!C:C,1,FALSE)),\"PLEASE SELECT A BANK FROM DEFINED LIST PROVIDED\",\"\")),\"\")","v":""},"No Entry",0]
[null,null,null,null,null,null,null,null,null,null,null,null,"",{"$f":"IF(D3629=\"Cash and Deposits\",IF(E3629=\"\",\"BANK NAME REQUIRED\",IF(ISERROR(VLOOKUP(E3629,'Reference Data'!C:C,1,FALSE)),\"PLEASE SELECT A BANK FROM DEFINED LIST PROVIDED\",\"\")),\"\")","v":""},"No Entry",0]
[null,null,null,null,null,null,null,null,null,null,null,null,"",{"$f":"IF(D3630=\"Cash and Deposits\",IF(E3630=\"\",\"BANK NAME REQUIRED\",IF(ISERROR(VLOOKUP(E3630,'Reference Data'!C:C,1,FALSE)),\"PLEASE SELECT A BANK FROM DEFINED LIST PROVIDED\",\"\")),\"\")","v":""},"No Entry",0]
[null,null,null,null,null,null,null,null,null,null,null,null,"",{"$f":"IF(D3631=\"Cash and Deposits\",IF(E3631=\"\",\"BANK NAME REQUIRED\",IF(ISERROR(VLOOKUP(E3631,'Reference Data'!C:C,1,FALSE)),\"PLEASE SELECT A BANK FROM DEFINED LIST PROVIDED\",\"\")),\"\")","v":""},"No Entry",0]
[null,null,null,null,null,null,null,null,null,null,null,null,"",{"$f":"IF(D3632=\"Cash and Deposits\",IF(E3632=\"\",\"BANK NAME REQUIRED\",IF(ISERROR(VLOOKUP(E3632,'Reference Data'!C:C,1,FALSE)),\"PLEASE SELECT A BANK FROM DEFINED LIST PROVIDED\",\"\")),\"\")","v":""},"No Entry",0]
[null,null,null,null,null,null,null,null,null,null,null,null,"",{"$f":"IF(D3633=\"Cash and Deposits\",IF(E3633=\"\",\"BANK NAME REQUIRED\",IF(ISERROR(VLOOKUP(E3633,'Reference Data'!C:C,1,FALSE)),\"PLEASE SELECT A BANK FROM DEFINED LIST PROVIDED\",\"\")),\"\")","v":""},"No Entry",0]
[null,null,null,null,null,null,null,null,null,null,null,null,"",{"$f":"IF(D3634=\"Cash and Deposits\",IF(E3634=\"\",\"BANK NAME REQUIRED\",IF(ISERROR(VLOOKUP(E3634,'Reference Data'!C:C,1,FALSE)),\"PLEASE SELECT A BANK FROM DEFINED LIST PROVIDED\",\"\")),\"\")","v":""},"No Entry",0]
[null,null,null,null,null,null,null,null,null,null,null,null,"",{"$f":"IF(D3635=\"Cash and Deposits\",IF(E3635=\"\",\"BANK NAME REQUIRED\",IF(ISERROR(VLOOKUP(E3635,'Reference Data'!C:C,1,FALSE)),\"PLEASE SELECT A BANK FROM DEFINED LIST PROVIDED\",\"\")),\"\")","v":""},"No Entry",0]
[null,null,null,null,null,null,null,null,null,null,null,null,"",{"$f":"IF(D3636=\"Cash and Deposits\",IF(E3636=\"\",\"BANK NAME REQUIRED\",IF(ISERROR(VLOOKUP(E3636,'Reference Data'!C:C,1,FALSE)),\"PLEASE SELECT A BANK FROM DEFINED LIST PROVIDED\",\"\")),\"\")","v":""},"No Entry",0]
[null,null,null,null,null,null,null,null,null,null,null,null,"",{"$f":"IF(D3637=\"Cash and Deposits\",IF(E3637=\"\",\"BANK NAME REQUIRED\",IF(ISERROR(VLOOKUP(E3637,'Reference Data'!C:C,1,FALSE)),\"PLEASE SELECT A BANK FROM DEFINED LIST PROVIDED\",\"\")),\"\")","v":""},"No Entry",0]
[null,null,null,null,null,null,null,null,null,null,null,null,"",{"$f":"IF(D3638=\"Cash and Deposits\",IF(E3638=\"\",\"BANK NAME REQUIRED\",IF(ISERROR(VLOOKUP(E3638,'Reference Data'!C:C,1,FALSE)),\"PLEASE SELECT A BANK FROM DEFINED LIST PROVIDED\",\"\")),\"\")","v":""},"No Entry",0]
[null,null,null,null,null,null,null,null,null,null,null,null,"",{"$f":"IF(D3639=\"Cash and Deposits\",IF(E3639=\"\",\"BANK NAME REQUIRED\",IF(ISERROR(VLOOKUP(E3639,'Reference Data'!C:C,1,FALSE)),\"PLEASE SELECT A BANK FROM DEFINED LIST PROVIDED\",\"\")),\"\")","v":""},"No Entry",0]
[null,null,null,null,null,null,null,null,null,null,null,null,"",{"$f":"IF(D3640=\"Cash and Deposits\",IF(E3640=\"\",\"BANK NAME REQUIRED\",IF(ISERROR(VLOOKUP(E3640,'Reference Data'!C:C,1,FALSE)),\"PLEASE SELECT A BANK FROM DEFINED LIST PROVIDED\",\"\")),\"\")","v":""},"No Entry",0]
[null,null,null,null,null,null,null,null,null,null,null,null,"",{"$f":"IF(D3641=\"Cash and Deposits\",IF(E3641=\"\",\"BANK NAME REQUIRED\",IF(ISERROR(VLOOKUP(E3641,'Reference Data'!C:C,1,FALSE)),\"PLEASE SELECT A BANK FROM DEFINED LIST PROVIDED\",\"\")),\"\")","v":""},"No Entry",0]
[null,null,null,null,null,null,null,null,null,null,null,null,"",{"$f":"IF(D3642=\"Cash and Deposits\",IF(E3642=\"\",\"BANK NAME REQUIRED\",IF(ISERROR(VLOOKUP(E3642,'Reference Data'!C:C,1,FALSE)),\"PLEASE SELECT A BANK FROM DEFINED LIST PROVIDED\",\"\")),\"\")","v":""},"No Entry",0]
[null,null,null,null,null,null,null,null,null,null,null,null,"",{"$f":"IF(D3643=\"Cash and Deposits\",IF(E3643=\"\",\"BANK NAME REQUIRED\",IF(ISERROR(VLOOKUP(E3643,'Reference Data'!C:C,1,FALSE)),\"PLEASE SELECT A BANK FROM DEFINED LIST PROVIDED\",\"\")),\"\")","v":""},"No Entry",0]
[null,null,null,null,null,null,null,null,null,null,null,null,"",{"$f":"IF(D3644=\"Cash and Deposits\",IF(E3644=\"\",\"BANK NAME REQUIRED\",IF(ISERROR(VLOOKUP(E3644,'Reference Data'!C:C,1,FALSE)),\"PLEASE SELECT A BANK FROM DEFINED LIST PROVIDED\",\"\")),\"\")","v":""},"No Entry",0]
[null,null,null,null,null,null,null,null,null,null,null,null,"",{"$f":"IF(D3645=\"Cash and Deposits\",IF(E3645=\"\",\"BANK NAME REQUIRED\",IF(ISERROR(VLOOKUP(E3645,'Reference Data'!C:C,1,FALSE)),\"PLEASE SELECT A BANK FROM DEFINED LIST PROVIDED\",\"\")),\"\")","v":""},"No Entry",0]
[null,null,null,null,null,null,null,null,null,null,null,null,"",{"$f":"IF(D3646=\"Cash and Deposits\",IF(E3646=\"\",\"BANK NAME REQUIRED\",IF(ISERROR(VLOOKUP(E3646,'Reference Data'!C:C,1,FALSE)),\"PLEASE SELECT A BANK FROM DEFINED LIST PROVIDED\",\"\")),\"\")","v":""},"No Entry",0]
[null,null,null,null,null,null,null,null,null,null,null,null,"",{"$f":"IF(D3647=\"Cash and Deposits\",IF(E3647=\"\",\"BANK NAME REQUIRED\",IF(ISERROR(VLOOKUP(E3647,'Reference Data'!C:C,1,FALSE)),\"PLEASE SELECT A BANK FROM DEFINED LIST PROVIDED\",\"\")),\"\")","v":""},"No Entry",0]
[null,null,null,null,null,null,null,null,null,null,null,null,"",{"$f":"IF(D3648=\"Cash and Deposits\",IF(E3648=\"\",\"BANK NAME REQUIRED\",IF(ISERROR(VLOOKUP(E3648,'Reference Data'!C:C,1,FALSE)),\"PLEASE SELECT A BANK FROM DEFINED LIST PROVIDED\",\"\")),\"\")","v":""},"No Entry",0]
[null,null,null,null,null,null,null,null,null,null,null,null,"",{"$f":"IF(D3649=\"Cash and Deposits\",IF(E3649=\"\",\"BANK NAME REQUIRED\",IF(ISERROR(VLOOKUP(E3649,'Reference Data'!C:C,1,FALSE)),\"PLEASE SELECT A BANK FROM DEFINED LIST PROVIDED\",\"\")),\"\")","v":""},"No Entry",0]
[null,null,null,null,null,null,null,null,null,null,null,null,"",{"$f":"IF(D3650=\"Cash and Deposits\",IF(E3650=\"\",\"BANK NAME REQUIRED\",IF(ISERROR(VLOOKUP(E3650,'Reference Data'!C:C,1,FALSE)),\"PLEASE SELECT A BANK FROM DEFINED LIST PROVIDED\",\"\")),\"\")","v":""},"No Entry",0]
[null,null,null,null,null,null,null,null,null,null,null,null,"",{"$f":"IF(D3651=\"Cash and Deposits\",IF(E3651=\"\",\"BANK NAME REQUIRED\",IF(ISERROR(VLOOKUP(E3651,'Reference Data'!C:C,1,FALSE)),\"PLEASE SELECT A BANK FROM DEFINED LIST PROVIDED\",\"\")),\"\")","v":""},"No Entry",0]
[null,null,null,null,null,null,null,null,null,null,null,null,"",{"$f":"IF(D3652=\"Cash and Deposits\",IF(E3652=\"\",\"BANK NAME REQUIRED\",IF(ISERROR(VLOOKUP(E3652,'Reference Data'!C:C,1,FALSE)),\"PLEASE SELECT A BANK FROM DEFINED LIST PROVIDED\",\"\")),\"\")","v":""},"No Entry",0]
[null,null,null,null,null,null,null,null,null,null,null,null,{"$f":"IF(K3653<>0,IF(B3653=\"\",\"ID CODE REQUIRED\",\"\"),\"\")","v":""},{"$f":"IF(D3653=\"Cash and Deposits\",IF(E3653=\"\",\"BANK NAME REQUIRED\",IF(ISERROR(VLOOKUP(E3653,'Reference Data'!C:C,1,FALSE)),\"PLEASE SELECT A BANK FROM DEFINED LIST PROVIDED\",\"\")),\"\")","v":""},{"$f":"IF(K3653=0,\"No Entry\",\"\")","v":"No Entry"},{"$f":"IF(K3653<>0,IF(A3653=\"\",1,0),0)","v":0}]
[null,null,null,null,null,null,null,null,null,null,null,null,"",{"$f":"IF(D3654=\"Cash and Deposits\",IF(E3654=\"\",\"BANK NAME REQUIRED\",IF(ISERROR(VLOOKUP(E3654,'Reference Data'!C:C,1,FALSE)),\"PLEASE SELECT A BANK FROM DEFINED LIST PROVIDED\",\"\")),\"\")","v":""},"No Entry",0]
[null,null,null,null,null,null,null,null,null,null,null,null,"",{"$f":"IF(D3655=\"Cash and Deposits\",IF(E3655=\"\",\"BANK NAME REQUIRED\",IF(ISERROR(VLOOKUP(E3655,'Reference Data'!C:C,1,FALSE)),\"PLEASE SELECT A BANK FROM DEFINED LIST PROVIDED\",\"\")),\"\")","v":""},"No Entry",0]
[null,null,null,null,null,null,null,null,null,null,null,null,"",{"$f":"IF(D3656=\"Cash and Deposits\",IF(E3656=\"\",\"BANK NAME REQUIRED\",IF(ISERROR(VLOOKUP(E3656,'Reference Data'!C:C,1,FALSE)),\"PLEASE SELECT A BANK FROM DEFINED LIST PROVIDED\",\"\")),\"\")","v":""},"No Entry",0]
[null,null,null,null,null,null,null,null,null,null,null,null,"",{"$f":"IF(D3657=\"Cash and Deposits\",IF(E3657=\"\",\"BANK NAME REQUIRED\",IF(ISERROR(VLOOKUP(E3657,'Reference Data'!C:C,1,FALSE)),\"PLEASE SELECT A BANK FROM DEFINED LIST PROVIDED\",\"\")),\"\")","v":""},"No Entry",0]
[null,null,null,null,null,null,null,null,null,null,null,null,"",{"$f":"IF(D3658=\"Cash and Deposits\",IF(E3658=\"\",\"BANK NAME REQUIRED\",IF(ISERROR(VLOOKUP(E3658,'Reference Data'!C:C,1,FALSE)),\"PLEASE SELECT A BANK FROM DEFINED LIST PROVIDED\",\"\")),\"\")","v":""},"No Entry",0]
[null,null,null,null,null,null,null,null,null,null,null,null,"",{"$f":"IF(D3659=\"Cash and Deposits\",IF(E3659=\"\",\"BANK NAME REQUIRED\",IF(ISERROR(VLOOKUP(E3659,'Reference Data'!C:C,1,FALSE)),\"PLEASE SELECT A BANK FROM DEFINED LIST PROVIDED\",\"\")),\"\")","v":""},"No Entry",0]
[null,null,null,null,null,null,null,null,null,null,null,null,"",{"$f":"IF(D3660=\"Cash and Deposits\",IF(E3660=\"\",\"BANK NAME REQUIRED\",IF(ISERROR(VLOOKUP(E3660,'Reference Data'!C:C,1,FALSE)),\"PLEASE SELECT A BANK FROM DEFINED LIST PROVIDED\",\"\")),\"\")","v":""},"No Entry",0]
[null,null,null,null,null,null,null,null,null,null,null,null,"",{"$f":"IF(D3661=\"Cash and Deposits\",IF(E3661=\"\",\"BANK NAME REQUIRED\",IF(ISERROR(VLOOKUP(E3661,'Reference Data'!C:C,1,FALSE)),\"PLEASE SELECT A BANK FROM DEFINED LIST PROVIDED\",\"\")),\"\")","v":""},"No Entry",0]
[null,null,null,null,null,null,null,null,null,null,null,null,"",{"$f":"IF(D3662=\"Cash and Deposits\",IF(E3662=\"\",\"BANK NAME REQUIRED\",IF(ISERROR(VLOOKUP(E3662,'Reference Data'!C:C,1,FALSE)),\"PLEASE SELECT A BANK FROM DEFINED LIST PROVIDED\",\"\")),\"\")","v":""},"No Entry",0]
[null,null,null,null,null,null,null,null,null,null,null,null,"",{"$f":"IF(D3663=\"Cash and Deposits\",IF(E3663=\"\",\"BANK NAME REQUIRED\",IF(ISERROR(VLOOKUP(E3663,'Reference Data'!C:C,1,FALSE)),\"PLEASE SELECT A BANK FROM DEFINED LIST PROVIDED\",\"\")),\"\")","v":""},"No Entry",0]
[null,null,null,null,null,null,null,null,null,null,null,null,"",{"$f":"IF(D3664=\"Cash and Deposits\",IF(E3664=\"\",\"BANK NAME REQUIRED\",IF(ISERROR(VLOOKUP(E3664,'Reference Data'!C:C,1,FALSE)),\"PLEASE SELECT A BANK FROM DEFINED LIST PROVIDED\",\"\")),\"\")","v":""},"No Entry",0]
[null,null,null,null,null,null,null,null,null,null,null,null,"",{"$f":"IF(D3665=\"Cash and Deposits\",IF(E3665=\"\",\"BANK NAME REQUIRED\",IF(ISERROR(VLOOKUP(E3665,'Reference Data'!C:C,1,FALSE)),\"PLEASE SELECT A BANK FROM DEFINED LIST PROVIDED\",\"\")),\"\")","v":""},"No Entry",0]
[null,null,null,null,null,null,null,null,null,null,null,null,"",{"$f":"IF(D3666=\"Cash and Deposits\",IF(E3666=\"\",\"BANK NAME REQUIRED\",IF(ISERROR(VLOOKUP(E3666,'Reference Data'!C:C,1,FALSE)),\"PLEASE SELECT A BANK FROM DEFINED LIST PROVIDED\",\"\")),\"\")","v":""},"No Entry",0]
[null,null,null,null,null,null,null,null,null,null,null,null,"",{"$f":"IF(D3667=\"Cash and Deposits\",IF(E3667=\"\",\"BANK NAME REQUIRED\",IF(ISERROR(VLOOKUP(E3667,'Reference Data'!C:C,1,FALSE)),\"PLEASE SELECT A BANK FROM DEFINED LIST PROVIDED\",\"\")),\"\")","v":""},"No Entry",0]
[null,null,null,null,null,null,null,null,null,null,null,null,"",{"$f":"IF(D3668=\"Cash and Deposits\",IF(E3668=\"\",\"BANK NAME REQUIRED\",IF(ISERROR(VLOOKUP(E3668,'Reference Data'!C:C,1,FALSE)),\"PLEASE SELECT A BANK FROM DEFINED LIST PROVIDED\",\"\")),\"\")","v":""},"No Entry",0]
[null,null,null,null,null,null,null,null,null,null,null,null,"",{"$f":"IF(D3669=\"Cash and Deposits\",IF(E3669=\"\",\"BANK NAME REQUIRED\",IF(ISERROR(VLOOKUP(E3669,'Reference Data'!C:C,1,FALSE)),\"PLEASE SELECT A BANK FROM DEFINED LIST PROVIDED\",\"\")),\"\")","v":""},"No Entry",0]
[null,null,null,null,null,null,null,null,null,null,null,null,"",{"$f":"IF(D3670=\"Cash and Deposits\",IF(E3670=\"\",\"BANK NAME REQUIRED\",IF(ISERROR(VLOOKUP(E3670,'Reference Data'!C:C,1,FALSE)),\"PLEASE SELECT A BANK FROM DEFINED LIST PROVIDED\",\"\")),\"\")","v":""},"No Entry",0]
[null,null,null,null,null,null,null,null,null,null,null,null,"",{"$f":"IF(D3671=\"Cash and Deposits\",IF(E3671=\"\",\"BANK NAME REQUIRED\",IF(ISERROR(VLOOKUP(E3671,'Reference Data'!C:C,1,FALSE)),\"PLEASE SELECT A BANK FROM DEFINED LIST PROVIDED\",\"\")),\"\")","v":""},"No Entry",0]
[null,null,null,null,null,null,null,null,null,null,null,null,"",{"$f":"IF(D3672=\"Cash and Deposits\",IF(E3672=\"\",\"BANK NAME REQUIRED\",IF(ISERROR(VLOOKUP(E3672,'Reference Data'!C:C,1,FALSE)),\"PLEASE SELECT A BANK FROM DEFINED LIST PROVIDED\",\"\")),\"\")","v":""},"No Entry",0]
[null,null,null,null,null,null,null,null,null,null,null,null,"",{"$f":"IF(D3673=\"Cash and Deposits\",IF(E3673=\"\",\"BANK NAME REQUIRED\",IF(ISERROR(VLOOKUP(E3673,'Reference Data'!C:C,1,FALSE)),\"PLEASE SELECT A BANK FROM DEFINED LIST PROVIDED\",\"\")),\"\")","v":""},"No Entry",0]
[null,null,null,null,null,null,null,null,null,null,null,null,"",{"$f":"IF(D3674=\"Cash and Deposits\",IF(E3674=\"\",\"BANK NAME REQUIRED\",IF(ISERROR(VLOOKUP(E3674,'Reference Data'!C:C,1,FALSE)),\"PLEASE SELECT A BANK FROM DEFINED LIST PROVIDED\",\"\")),\"\")","v":""},"No Entry",0]
[null,null,null,null,null,null,null,null,null,null,null,null,"",{"$f":"IF(D3675=\"Cash and Deposits\",IF(E3675=\"\",\"BANK NAME REQUIRED\",IF(ISERROR(VLOOKUP(E3675,'Reference Data'!C:C,1,FALSE)),\"PLEASE SELECT A BANK FROM DEFINED LIST PROVIDED\",\"\")),\"\")","v":""},"No Entry",0]
[null,null,null,null,null,null,null,null,null,null,null,null,"",{"$f":"IF(D3676=\"Cash and Deposits\",IF(E3676=\"\",\"BANK NAME REQUIRED\",IF(ISERROR(VLOOKUP(E3676,'Reference Data'!C:C,1,FALSE)),\"PLEASE SELECT A BANK FROM DEFINED LIST PROVIDED\",\"\")),\"\")","v":""},"No Entry",0]
[null,null,null,null,null,null,null,null,null,null,null,null,"",{"$f":"IF(D3677=\"Cash and Deposits\",IF(E3677=\"\",\"BANK NAME REQUIRED\",IF(ISERROR(VLOOKUP(E3677,'Reference Data'!C:C,1,FALSE)),\"PLEASE SELECT A BANK FROM DEFINED LIST PROVIDED\",\"\")),\"\")","v":""},"No Entry",0]
[null,null,null,null,null,null,null,null,null,null,null,null,"",{"$f":"IF(D3678=\"Cash and Deposits\",IF(E3678=\"\",\"BANK NAME REQUIRED\",IF(ISERROR(VLOOKUP(E3678,'Reference Data'!C:C,1,FALSE)),\"PLEASE SELECT A BANK FROM DEFINED LIST PROVIDED\",\"\")),\"\")","v":""},"No Entry",0]
[null,null,null,null,null,null,null,null,null,null,null,null,"",{"$f":"IF(D3679=\"Cash and Deposits\",IF(E3679=\"\",\"BANK NAME REQUIRED\",IF(ISERROR(VLOOKUP(E3679,'Reference Data'!C:C,1,FALSE)),\"PLEASE SELECT A BANK FROM DEFINED LIST PROVIDED\",\"\")),\"\")","v":""},"No Entry",0]
[null,null,null,null,null,null,null,null,null,null,null,null,"",{"$f":"IF(D3680=\"Cash and Deposits\",IF(E3680=\"\",\"BANK NAME REQUIRED\",IF(ISERROR(VLOOKUP(E3680,'Reference Data'!C:C,1,FALSE)),\"PLEASE SELECT A BANK FROM DEFINED LIST PROVIDED\",\"\")),\"\")","v":""},"No Entry",0]
[null,null,null,null,null,null,null,null,null,null,null,null,"",{"$f":"IF(D3681=\"Cash and Deposits\",IF(E3681=\"\",\"BANK NAME REQUIRED\",IF(ISERROR(VLOOKUP(E3681,'Reference Data'!C:C,1,FALSE)),\"PLEASE SELECT A BANK FROM DEFINED LIST PROVIDED\",\"\")),\"\")","v":""},"No Entry",0]
[null,null,null,null,null,null,null,null,null,null,null,null,"",{"$f":"IF(D3682=\"Cash and Deposits\",IF(E3682=\"\",\"BANK NAME REQUIRED\",IF(ISERROR(VLOOKUP(E3682,'Reference Data'!C:C,1,FALSE)),\"PLEASE SELECT A BANK FROM DEFINED LIST PROVIDED\",\"\")),\"\")","v":""},"No Entry",0]
[null,null,null,null,null,null,null,null,null,null,null,null,"",{"$f":"IF(D3683=\"Cash and Deposits\",IF(E3683=\"\",\"BANK NAME REQUIRED\",IF(ISERROR(VLOOKUP(E3683,'Reference Data'!C:C,1,FALSE)),\"PLEASE SELECT A BANK FROM DEFINED LIST PROVIDED\",\"\")),\"\")","v":""},"No Entry",0]
[null,null,null,null,null,null,null,null,null,null,null,null,"",{"$f":"IF(D3684=\"Cash and Deposits\",IF(E3684=\"\",\"BANK NAME REQUIRED\",IF(ISERROR(VLOOKUP(E3684,'Reference Data'!C:C,1,FALSE)),\"PLEASE SELECT A BANK FROM DEFINED LIST PROVIDED\",\"\")),\"\")","v":""},"No Entry",0]
[null,null,null,null,null,null,null,null,null,null,null,null,"",{"$f":"IF(D3685=\"Cash and Deposits\",IF(E3685=\"\",\"BANK NAME REQUIRED\",IF(ISERROR(VLOOKUP(E3685,'Reference Data'!C:C,1,FALSE)),\"PLEASE SELECT A BANK FROM DEFINED LIST PROVIDED\",\"\")),\"\")","v":""},"No Entry",0]
[null,null,null,null,null,null,null,null,null,null,null,null,"",{"$f":"IF(D3686=\"Cash and Deposits\",IF(E3686=\"\",\"BANK NAME REQUIRED\",IF(ISERROR(VLOOKUP(E3686,'Reference Data'!C:C,1,FALSE)),\"PLEASE SELECT A BANK FROM DEFINED LIST PROVIDED\",\"\")),\"\")","v":""},"No Entry",0]
[null,null,null,null,null,null,null,null,null,null,null,null,"",{"$f":"IF(D3687=\"Cash and Deposits\",IF(E3687=\"\",\"BANK NAME REQUIRED\",IF(ISERROR(VLOOKUP(E3687,'Reference Data'!C:C,1,FALSE)),\"PLEASE SELECT A BANK FROM DEFINED LIST PROVIDED\",\"\")),\"\")","v":""},"No Entry",0]
[null,null,null,null,null,null,null,null,null,null,null,null,"",{"$f":"IF(D3688=\"Cash and Deposits\",IF(E3688=\"\",\"BANK NAME REQUIRED\",IF(ISERROR(VLOOKUP(E3688,'Reference Data'!C:C,1,FALSE)),\"PLEASE SELECT A BANK FROM DEFINED LIST PROVIDED\",\"\")),\"\")","v":""},"No Entry",0]
[null,null,null,null,null,null,null,null,null,null,null,null,"",{"$f":"IF(D3689=\"Cash and Deposits\",IF(E3689=\"\",\"BANK NAME REQUIRED\",IF(ISERROR(VLOOKUP(E3689,'Reference Data'!C:C,1,FALSE)),\"PLEASE SELECT A BANK FROM DEFINED LIST PROVIDED\",\"\")),\"\")","v":""},"No Entry",0]
[null,null,null,null,null,null,null,null,null,null,null,null,"",{"$f":"IF(D3690=\"Cash and Deposits\",IF(E3690=\"\",\"BANK NAME REQUIRED\",IF(ISERROR(VLOOKUP(E3690,'Reference Data'!C:C,1,FALSE)),\"PLEASE SELECT A BANK FROM DEFINED LIST PROVIDED\",\"\")),\"\")","v":""},"No Entry",0]
[null,null,null,null,null,null,null,null,null,null,null,null,"",{"$f":"IF(D3691=\"Cash and Deposits\",IF(E3691=\"\",\"BANK NAME REQUIRED\",IF(ISERROR(VLOOKUP(E3691,'Reference Data'!C:C,1,FALSE)),\"PLEASE SELECT A BANK FROM DEFINED LIST PROVIDED\",\"\")),\"\")","v":""},"No Entry",0]
[null,null,null,null,null,null,null,null,null,null,null,null,"",{"$f":"IF(D3692=\"Cash and Deposits\",IF(E3692=\"\",\"BANK NAME REQUIRED\",IF(ISERROR(VLOOKUP(E3692,'Reference Data'!C:C,1,FALSE)),\"PLEASE SELECT A BANK FROM DEFINED LIST PROVIDED\",\"\")),\"\")","v":""},"No Entry",0]
[null,null,null,null,null,null,null,null,null,null,null,null,"",{"$f":"IF(D3693=\"Cash and Deposits\",IF(E3693=\"\",\"BANK NAME REQUIRED\",IF(ISERROR(VLOOKUP(E3693,'Reference Data'!C:C,1,FALSE)),\"PLEASE SELECT A BANK FROM DEFINED LIST PROVIDED\",\"\")),\"\")","v":""},"No Entry",0]
[null,null,null,null,null,null,null,null,null,null,null,null,"",{"$f":"IF(D3694=\"Cash and Deposits\",IF(E3694=\"\",\"BANK NAME REQUIRED\",IF(ISERROR(VLOOKUP(E3694,'Reference Data'!C:C,1,FALSE)),\"PLEASE SELECT A BANK FROM DEFINED LIST PROVIDED\",\"\")),\"\")","v":""},"No Entry",0]
[null,null,null,null,null,null,null,null,null,null,null,null,"",{"$f":"IF(D3695=\"Cash and Deposits\",IF(E3695=\"\",\"BANK NAME REQUIRED\",IF(ISERROR(VLOOKUP(E3695,'Reference Data'!C:C,1,FALSE)),\"PLEASE SELECT A BANK FROM DEFINED LIST PROVIDED\",\"\")),\"\")","v":""},"No Entry",0]
[null,null,null,null,null,null,null,null,null,null,null,null,"",{"$f":"IF(D3696=\"Cash and Deposits\",IF(E3696=\"\",\"BANK NAME REQUIRED\",IF(ISERROR(VLOOKUP(E3696,'Reference Data'!C:C,1,FALSE)),\"PLEASE SELECT A BANK FROM DEFINED LIST PROVIDED\",\"\")),\"\")","v":""},"No Entry",0]
[null,null,null,null,null,null,null,null,null,null,null,null,"",{"$f":"IF(D3697=\"Cash and Deposits\",IF(E3697=\"\",\"BANK NAME REQUIRED\",IF(ISERROR(VLOOKUP(E3697,'Reference Data'!C:C,1,FALSE)),\"PLEASE SELECT A BANK FROM DEFINED LIST PROVIDED\",\"\")),\"\")","v":""},"No Entry",0]
[null,null,null,null,null,null,null,null,null,null,null,null,"",{"$f":"IF(D3698=\"Cash and Deposits\",IF(E3698=\"\",\"BANK NAME REQUIRED\",IF(ISERROR(VLOOKUP(E3698,'Reference Data'!C:C,1,FALSE)),\"PLEASE SELECT A BANK FROM DEFINED LIST PROVIDED\",\"\")),\"\")","v":""},"No Entry",0]
[null,null,null,null,null,null,null,null,null,null,null,null,"",{"$f":"IF(D3699=\"Cash and Deposits\",IF(E3699=\"\",\"BANK NAME REQUIRED\",IF(ISERROR(VLOOKUP(E3699,'Reference Data'!C:C,1,FALSE)),\"PLEASE SELECT A BANK FROM DEFINED LIST PROVIDED\",\"\")),\"\")","v":""},"No Entry",0]
[null,null,null,null,null,null,null,null,null,null,null,null,"",{"$f":"IF(D3700=\"Cash and Deposits\",IF(E3700=\"\",\"BANK NAME REQUIRED\",IF(ISERROR(VLOOKUP(E3700,'Reference Data'!C:C,1,FALSE)),\"PLEASE SELECT A BANK FROM DEFINED LIST PROVIDED\",\"\")),\"\")","v":""},"No Entry",0]
[null,null,null,null,null,null,null,null,null,null,null,null,"",{"$f":"IF(D3701=\"Cash and Deposits\",IF(E3701=\"\",\"BANK NAME REQUIRED\",IF(ISERROR(VLOOKUP(E3701,'Reference Data'!C:C,1,FALSE)),\"PLEASE SELECT A BANK FROM DEFINED LIST PROVIDED\",\"\")),\"\")","v":""},"No Entry",0]
[null,null,null,null,null,null,null,null,null,null,null,null,"",{"$f":"IF(D3702=\"Cash and Deposits\",IF(E3702=\"\",\"BANK NAME REQUIRED\",IF(ISERROR(VLOOKUP(E3702,'Reference Data'!C:C,1,FALSE)),\"PLEASE SELECT A BANK FROM DEFINED LIST PROVIDED\",\"\")),\"\")","v":""},"No Entry",0]
[null,null,null,null,null,null,null,null,null,null,null,null,"",{"$f":"IF(D3703=\"Cash and Deposits\",IF(E3703=\"\",\"BANK NAME REQUIRED\",IF(ISERROR(VLOOKUP(E3703,'Reference Data'!C:C,1,FALSE)),\"PLEASE SELECT A BANK FROM DEFINED LIST PROVIDED\",\"\")),\"\")","v":""},"No Entry",0]
[null,null,null,null,null,null,null,null,null,null,null,null,"",{"$f":"IF(D3704=\"Cash and Deposits\",IF(E3704=\"\",\"BANK NAME REQUIRED\",IF(ISERROR(VLOOKUP(E3704,'Reference Data'!C:C,1,FALSE)),\"PLEASE SELECT A BANK FROM DEFINED LIST PROVIDED\",\"\")),\"\")","v":""},"No Entry",0]
[null,null,null,null,null,null,null,null,null,null,null,null,"",{"$f":"IF(D3705=\"Cash and Deposits\",IF(E3705=\"\",\"BANK NAME REQUIRED\",IF(ISERROR(VLOOKUP(E3705,'Reference Data'!C:C,1,FALSE)),\"PLEASE SELECT A BANK FROM DEFINED LIST PROVIDED\",\"\")),\"\")","v":""},"No Entry",0]
[null,null,null,null,null,null,null,null,null,null,null,null,"",{"$f":"IF(D3706=\"Cash and Deposits\",IF(E3706=\"\",\"BANK NAME REQUIRED\",IF(ISERROR(VLOOKUP(E3706,'Reference Data'!C:C,1,FALSE)),\"PLEASE SELECT A BANK FROM DEFINED LIST PROVIDED\",\"\")),\"\")","v":""},"No Entry",0]
[null,null,null,null,null,null,null,null,null,null,null,null,"",{"$f":"IF(D3707=\"Cash and Deposits\",IF(E3707=\"\",\"BANK NAME REQUIRED\",IF(ISERROR(VLOOKUP(E3707,'Reference Data'!C:C,1,FALSE)),\"PLEASE SELECT A BANK FROM DEFINED LIST PROVIDED\",\"\")),\"\")","v":""},"No Entry",0]
[null,null,null,null,null,null,null,null,null,null,null,null,"",{"$f":"IF(D3708=\"Cash and Deposits\",IF(E3708=\"\",\"BANK NAME REQUIRED\",IF(ISERROR(VLOOKUP(E3708,'Reference Data'!C:C,1,FALSE)),\"PLEASE SELECT A BANK FROM DEFINED LIST PROVIDED\",\"\")),\"\")","v":""},"No Entry",0]
[null,null,null,null,null,null,null,null,null,null,null,null,"",{"$f":"IF(D3709=\"Cash and Deposits\",IF(E3709=\"\",\"BANK NAME REQUIRED\",IF(ISERROR(VLOOKUP(E3709,'Reference Data'!C:C,1,FALSE)),\"PLEASE SELECT A BANK FROM DEFINED LIST PROVIDED\",\"\")),\"\")","v":""},"No Entry",0]
[null,null,null,null,null,null,null,null,null,null,null,null,"",{"$f":"IF(D3710=\"Cash and Deposits\",IF(E3710=\"\",\"BANK NAME REQUIRED\",IF(ISERROR(VLOOKUP(E3710,'Reference Data'!C:C,1,FALSE)),\"PLEASE SELECT A BANK FROM DEFINED LIST PROVIDED\",\"\")),\"\")","v":""},"No Entry",0]
[null,null,null,null,null,null,null,null,null,null,null,null,"",{"$f":"IF(D3711=\"Cash and Deposits\",IF(E3711=\"\",\"BANK NAME REQUIRED\",IF(ISERROR(VLOOKUP(E3711,'Reference Data'!C:C,1,FALSE)),\"PLEASE SELECT A BANK FROM DEFINED LIST PROVIDED\",\"\")),\"\")","v":""},"No Entry",0]
[null,null,null,null,null,null,null,null,null,null,null,null,"",{"$f":"IF(D3712=\"Cash and Deposits\",IF(E3712=\"\",\"BANK NAME REQUIRED\",IF(ISERROR(VLOOKUP(E3712,'Reference Data'!C:C,1,FALSE)),\"PLEASE SELECT A BANK FROM DEFINED LIST PROVIDED\",\"\")),\"\")","v":""},"No Entry",0]
[null,null,null,null,null,null,null,null,null,null,null,null,"",{"$f":"IF(D3713=\"Cash and Deposits\",IF(E3713=\"\",\"BANK NAME REQUIRED\",IF(ISERROR(VLOOKUP(E3713,'Reference Data'!C:C,1,FALSE)),\"PLEASE SELECT A BANK FROM DEFINED LIST PROVIDED\",\"\")),\"\")","v":""},"No Entry",0]
[null,null,null,null,null,null,null,null,null,null,null,null,"",{"$f":"IF(D3714=\"Cash and Deposits\",IF(E3714=\"\",\"BANK NAME REQUIRED\",IF(ISERROR(VLOOKUP(E3714,'Reference Data'!C:C,1,FALSE)),\"PLEASE SELECT A BANK FROM DEFINED LIST PROVIDED\",\"\")),\"\")","v":""},"No Entry",0]
[null,null,null,null,null,null,null,null,null,null,null,null,"",{"$f":"IF(D3715=\"Cash and Deposits\",IF(E3715=\"\",\"BANK NAME REQUIRED\",IF(ISERROR(VLOOKUP(E3715,'Reference Data'!C:C,1,FALSE)),\"PLEASE SELECT A BANK FROM DEFINED LIST PROVIDED\",\"\")),\"\")","v":""},"No Entry",0]
[null,null,null,null,null,null,null,null,null,null,null,null,"",{"$f":"IF(D3716=\"Cash and Deposits\",IF(E3716=\"\",\"BANK NAME REQUIRED\",IF(ISERROR(VLOOKUP(E3716,'Reference Data'!C:C,1,FALSE)),\"PLEASE SELECT A BANK FROM DEFINED LIST PROVIDED\",\"\")),\"\")","v":""},"No Entry",0]
[null,null,null,null,null,null,null,null,null,null,null,null,{"$f":"IF(K3717<>0,IF(B3717=\"\",\"ID CODE REQUIRED\",\"\"),\"\")","v":""},{"$f":"IF(D3717=\"Cash and Deposits\",IF(E3717=\"\",\"BANK NAME REQUIRED\",IF(ISERROR(VLOOKUP(E3717,'Reference Data'!C:C,1,FALSE)),\"PLEASE SELECT A BANK FROM DEFINED LIST PROVIDED\",\"\")),\"\")","v":""},{"$f":"IF(K3717=0,\"No Entry\",\"\")","v":"No Entry"},{"$f":"IF(K3717<>0,IF(A3717=\"\",1,0),0)","v":0}]
[null,null,null,null,null,null,null,null,null,null,null,null,"",{"$f":"IF(D3718=\"Cash and Deposits\",IF(E3718=\"\",\"BANK NAME REQUIRED\",IF(ISERROR(VLOOKUP(E3718,'Reference Data'!C:C,1,FALSE)),\"PLEASE SELECT A BANK FROM DEFINED LIST PROVIDED\",\"\")),\"\")","v":""},"No Entry",0]
[null,null,null,null,null,null,null,null,null,null,null,null,"",{"$f":"IF(D3719=\"Cash and Deposits\",IF(E3719=\"\",\"BANK NAME REQUIRED\",IF(ISERROR(VLOOKUP(E3719,'Reference Data'!C:C,1,FALSE)),\"PLEASE SELECT A BANK FROM DEFINED LIST PROVIDED\",\"\")),\"\")","v":""},"No Entry",0]
[null,null,null,null,null,null,null,null,null,null,null,null,"",{"$f":"IF(D3720=\"Cash and Deposits\",IF(E3720=\"\",\"BANK NAME REQUIRED\",IF(ISERROR(VLOOKUP(E3720,'Reference Data'!C:C,1,FALSE)),\"PLEASE SELECT A BANK FROM DEFINED LIST PROVIDED\",\"\")),\"\")","v":""},"No Entry",0]
[null,null,null,null,null,null,null,null,null,null,null,null,"",{"$f":"IF(D3721=\"Cash and Deposits\",IF(E3721=\"\",\"BANK NAME REQUIRED\",IF(ISERROR(VLOOKUP(E3721,'Reference Data'!C:C,1,FALSE)),\"PLEASE SELECT A BANK FROM DEFINED LIST PROVIDED\",\"\")),\"\")","v":""},"No Entry",0]
[null,null,null,null,null,null,null,null,null,null,null,null,"",{"$f":"IF(D3722=\"Cash and Deposits\",IF(E3722=\"\",\"BANK NAME REQUIRED\",IF(ISERROR(VLOOKUP(E3722,'Reference Data'!C:C,1,FALSE)),\"PLEASE SELECT A BANK FROM DEFINED LIST PROVIDED\",\"\")),\"\")","v":""},"No Entry",0]
[null,null,null,null,null,null,null,null,null,null,null,null,"",{"$f":"IF(D3723=\"Cash and Deposits\",IF(E3723=\"\",\"BANK NAME REQUIRED\",IF(ISERROR(VLOOKUP(E3723,'Reference Data'!C:C,1,FALSE)),\"PLEASE SELECT A BANK FROM DEFINED LIST PROVIDED\",\"\")),\"\")","v":""},"No Entry",0]
[null,null,null,null,null,null,null,null,null,null,null,null,"",{"$f":"IF(D3724=\"Cash and Deposits\",IF(E3724=\"\",\"BANK NAME REQUIRED\",IF(ISERROR(VLOOKUP(E3724,'Reference Data'!C:C,1,FALSE)),\"PLEASE SELECT A BANK FROM DEFINED LIST PROVIDED\",\"\")),\"\")","v":""},"No Entry",0]
[null,null,null,null,null,null,null,null,null,null,null,null,"",{"$f":"IF(D3725=\"Cash and Deposits\",IF(E3725=\"\",\"BANK NAME REQUIRED\",IF(ISERROR(VLOOKUP(E3725,'Reference Data'!C:C,1,FALSE)),\"PLEASE SELECT A BANK FROM DEFINED LIST PROVIDED\",\"\")),\"\")","v":""},"No Entry",0]
[null,null,null,null,null,null,null,null,null,null,null,null,"",{"$f":"IF(D3726=\"Cash and Deposits\",IF(E3726=\"\",\"BANK NAME REQUIRED\",IF(ISERROR(VLOOKUP(E3726,'Reference Data'!C:C,1,FALSE)),\"PLEASE SELECT A BANK FROM DEFINED LIST PROVIDED\",\"\")),\"\")","v":""},"No Entry",0]
[null,null,null,null,null,null,null,null,null,null,null,null,"",{"$f":"IF(D3727=\"Cash and Deposits\",IF(E3727=\"\",\"BANK NAME REQUIRED\",IF(ISERROR(VLOOKUP(E3727,'Reference Data'!C:C,1,FALSE)),\"PLEASE SELECT A BANK FROM DEFINED LIST PROVIDED\",\"\")),\"\")","v":""},"No Entry",0]
[null,null,null,null,null,null,null,null,null,null,null,null,"",{"$f":"IF(D3728=\"Cash and Deposits\",IF(E3728=\"\",\"BANK NAME REQUIRED\",IF(ISERROR(VLOOKUP(E3728,'Reference Data'!C:C,1,FALSE)),\"PLEASE SELECT A BANK FROM DEFINED LIST PROVIDED\",\"\")),\"\")","v":""},"No Entry",0]
[null,null,null,null,null,null,null,null,null,null,null,null,"",{"$f":"IF(D3729=\"Cash and Deposits\",IF(E3729=\"\",\"BANK NAME REQUIRED\",IF(ISERROR(VLOOKUP(E3729,'Reference Data'!C:C,1,FALSE)),\"PLEASE SELECT A BANK FROM DEFINED LIST PROVIDED\",\"\")),\"\")","v":""},"No Entry",0]
[null,null,null,null,null,null,null,null,null,null,null,null,"",{"$f":"IF(D3730=\"Cash and Deposits\",IF(E3730=\"\",\"BANK NAME REQUIRED\",IF(ISERROR(VLOOKUP(E3730,'Reference Data'!C:C,1,FALSE)),\"PLEASE SELECT A BANK FROM DEFINED LIST PROVIDED\",\"\")),\"\")","v":""},"No Entry",0]
[null,null,null,null,null,null,null,null,null,null,null,null,"",{"$f":"IF(D3731=\"Cash and Deposits\",IF(E3731=\"\",\"BANK NAME REQUIRED\",IF(ISERROR(VLOOKUP(E3731,'Reference Data'!C:C,1,FALSE)),\"PLEASE SELECT A BANK FROM DEFINED LIST PROVIDED\",\"\")),\"\")","v":""},"No Entry",0]
[null,null,null,null,null,null,null,null,null,null,null,null,"",{"$f":"IF(D3732=\"Cash and Deposits\",IF(E3732=\"\",\"BANK NAME REQUIRED\",IF(ISERROR(VLOOKUP(E3732,'Reference Data'!C:C,1,FALSE)),\"PLEASE SELECT A BANK FROM DEFINED LIST PROVIDED\",\"\")),\"\")","v":""},"No Entry",0]
[null,null,null,null,null,null,null,null,null,null,null,null,"",{"$f":"IF(D3733=\"Cash and Deposits\",IF(E3733=\"\",\"BANK NAME REQUIRED\",IF(ISERROR(VLOOKUP(E3733,'Reference Data'!C:C,1,FALSE)),\"PLEASE SELECT A BANK FROM DEFINED LIST PROVIDED\",\"\")),\"\")","v":""},"No Entry",0]
[null,null,null,null,null,null,null,null,null,null,null,null,"",{"$f":"IF(D3734=\"Cash and Deposits\",IF(E3734=\"\",\"BANK NAME REQUIRED\",IF(ISERROR(VLOOKUP(E3734,'Reference Data'!C:C,1,FALSE)),\"PLEASE SELECT A BANK FROM DEFINED LIST PROVIDED\",\"\")),\"\")","v":""},"No Entry",0]
[null,null,null,null,null,null,null,null,null,null,null,null,"",{"$f":"IF(D3735=\"Cash and Deposits\",IF(E3735=\"\",\"BANK NAME REQUIRED\",IF(ISERROR(VLOOKUP(E3735,'Reference Data'!C:C,1,FALSE)),\"PLEASE SELECT A BANK FROM DEFINED LIST PROVIDED\",\"\")),\"\")","v":""},"No Entry",0]
[null,null,null,null,null,null,null,null,null,null,null,null,"",{"$f":"IF(D3736=\"Cash and Deposits\",IF(E3736=\"\",\"BANK NAME REQUIRED\",IF(ISERROR(VLOOKUP(E3736,'Reference Data'!C:C,1,FALSE)),\"PLEASE SELECT A BANK FROM DEFINED LIST PROVIDED\",\"\")),\"\")","v":""},"No Entry",0]
[null,null,null,null,null,null,null,null,null,null,null,null,"",{"$f":"IF(D3737=\"Cash and Deposits\",IF(E3737=\"\",\"BANK NAME REQUIRED\",IF(ISERROR(VLOOKUP(E3737,'Reference Data'!C:C,1,FALSE)),\"PLEASE SELECT A BANK FROM DEFINED LIST PROVIDED\",\"\")),\"\")","v":""},"No Entry",0]
[null,null,null,null,null,null,null,null,null,null,null,null,"",{"$f":"IF(D3738=\"Cash and Deposits\",IF(E3738=\"\",\"BANK NAME REQUIRED\",IF(ISERROR(VLOOKUP(E3738,'Reference Data'!C:C,1,FALSE)),\"PLEASE SELECT A BANK FROM DEFINED LIST PROVIDED\",\"\")),\"\")","v":""},"No Entry",0]
[null,null,null,null,null,null,null,null,null,null,null,null,"",{"$f":"IF(D3739=\"Cash and Deposits\",IF(E3739=\"\",\"BANK NAME REQUIRED\",IF(ISERROR(VLOOKUP(E3739,'Reference Data'!C:C,1,FALSE)),\"PLEASE SELECT A BANK FROM DEFINED LIST PROVIDED\",\"\")),\"\")","v":""},"No Entry",0]
[null,null,null,null,null,null,null,null,null,null,null,null,"",{"$f":"IF(D3740=\"Cash and Deposits\",IF(E3740=\"\",\"BANK NAME REQUIRED\",IF(ISERROR(VLOOKUP(E3740,'Reference Data'!C:C,1,FALSE)),\"PLEASE SELECT A BANK FROM DEFINED LIST PROVIDED\",\"\")),\"\")","v":""},"No Entry",0]
[null,null,null,null,null,null,null,null,null,null,null,null,"",{"$f":"IF(D3741=\"Cash and Deposits\",IF(E3741=\"\",\"BANK NAME REQUIRED\",IF(ISERROR(VLOOKUP(E3741,'Reference Data'!C:C,1,FALSE)),\"PLEASE SELECT A BANK FROM DEFINED LIST PROVIDED\",\"\")),\"\")","v":""},"No Entry",0]
[null,null,null,null,null,null,null,null,null,null,null,null,"",{"$f":"IF(D3742=\"Cash and Deposits\",IF(E3742=\"\",\"BANK NAME REQUIRED\",IF(ISERROR(VLOOKUP(E3742,'Reference Data'!C:C,1,FALSE)),\"PLEASE SELECT A BANK FROM DEFINED LIST PROVIDED\",\"\")),\"\")","v":""},"No Entry",0]
[null,null,null,null,null,null,null,null,null,null,null,null,"",{"$f":"IF(D3743=\"Cash and Deposits\",IF(E3743=\"\",\"BANK NAME REQUIRED\",IF(ISERROR(VLOOKUP(E3743,'Reference Data'!C:C,1,FALSE)),\"PLEASE SELECT A BANK FROM DEFINED LIST PROVIDED\",\"\")),\"\")","v":""},"No Entry",0]
[null,null,null,null,null,null,null,null,null,null,null,null,"",{"$f":"IF(D3744=\"Cash and Deposits\",IF(E3744=\"\",\"BANK NAME REQUIRED\",IF(ISERROR(VLOOKUP(E3744,'Reference Data'!C:C,1,FALSE)),\"PLEASE SELECT A BANK FROM DEFINED LIST PROVIDED\",\"\")),\"\")","v":""},"No Entry",0]
[null,null,null,null,null,null,null,null,null,null,null,null,"",{"$f":"IF(D3745=\"Cash and Deposits\",IF(E3745=\"\",\"BANK NAME REQUIRED\",IF(ISERROR(VLOOKUP(E3745,'Reference Data'!C:C,1,FALSE)),\"PLEASE SELECT A BANK FROM DEFINED LIST PROVIDED\",\"\")),\"\")","v":""},"No Entry",0]
[null,null,null,null,null,null,null,null,null,null,null,null,"",{"$f":"IF(D3746=\"Cash and Deposits\",IF(E3746=\"\",\"BANK NAME REQUIRED\",IF(ISERROR(VLOOKUP(E3746,'Reference Data'!C:C,1,FALSE)),\"PLEASE SELECT A BANK FROM DEFINED LIST PROVIDED\",\"\")),\"\")","v":""},"No Entry",0]
[null,null,null,null,null,null,null,null,null,null,null,null,"",{"$f":"IF(D3747=\"Cash and Deposits\",IF(E3747=\"\",\"BANK NAME REQUIRED\",IF(ISERROR(VLOOKUP(E3747,'Reference Data'!C:C,1,FALSE)),\"PLEASE SELECT A BANK FROM DEFINED LIST PROVIDED\",\"\")),\"\")","v":""},"No Entry",0]
[null,null,null,null,null,null,null,null,null,null,null,null,"",{"$f":"IF(D3748=\"Cash and Deposits\",IF(E3748=\"\",\"BANK NAME REQUIRED\",IF(ISERROR(VLOOKUP(E3748,'Reference Data'!C:C,1,FALSE)),\"PLEASE SELECT A BANK FROM DEFINED LIST PROVIDED\",\"\")),\"\")","v":""},"No Entry",0]
[null,null,null,null,null,null,null,null,null,null,null,null,"",{"$f":"IF(D3749=\"Cash and Deposits\",IF(E3749=\"\",\"BANK NAME REQUIRED\",IF(ISERROR(VLOOKUP(E3749,'Reference Data'!C:C,1,FALSE)),\"PLEASE SELECT A BANK FROM DEFINED LIST PROVIDED\",\"\")),\"\")","v":""},"No Entry",0]
[null,null,null,null,null,null,null,null,null,null,null,null,"",{"$f":"IF(D3750=\"Cash and Deposits\",IF(E3750=\"\",\"BANK NAME REQUIRED\",IF(ISERROR(VLOOKUP(E3750,'Reference Data'!C:C,1,FALSE)),\"PLEASE SELECT A BANK FROM DEFINED LIST PROVIDED\",\"\")),\"\")","v":""},"No Entry",0]
[null,null,null,null,null,null,null,null,null,null,null,null,"",{"$f":"IF(D3751=\"Cash and Deposits\",IF(E3751=\"\",\"BANK NAME REQUIRED\",IF(ISERROR(VLOOKUP(E3751,'Reference Data'!C:C,1,FALSE)),\"PLEASE SELECT A BANK FROM DEFINED LIST PROVIDED\",\"\")),\"\")","v":""},"No Entry",0]
[null,null,null,null,null,null,null,null,null,null,null,null,"",{"$f":"IF(D3752=\"Cash and Deposits\",IF(E3752=\"\",\"BANK NAME REQUIRED\",IF(ISERROR(VLOOKUP(E3752,'Reference Data'!C:C,1,FALSE)),\"PLEASE SELECT A BANK FROM DEFINED LIST PROVIDED\",\"\")),\"\")","v":""},"No Entry",0]
[null,null,null,null,null,null,null,null,null,null,null,null,"",{"$f":"IF(D3753=\"Cash and Deposits\",IF(E3753=\"\",\"BANK NAME REQUIRED\",IF(ISERROR(VLOOKUP(E3753,'Reference Data'!C:C,1,FALSE)),\"PLEASE SELECT A BANK FROM DEFINED LIST PROVIDED\",\"\")),\"\")","v":""},"No Entry",0]
[null,null,null,null,null,null,null,null,null,null,null,null,"",{"$f":"IF(D3754=\"Cash and Deposits\",IF(E3754=\"\",\"BANK NAME REQUIRED\",IF(ISERROR(VLOOKUP(E3754,'Reference Data'!C:C,1,FALSE)),\"PLEASE SELECT A BANK FROM DEFINED LIST PROVIDED\",\"\")),\"\")","v":""},"No Entry",0]
[null,null,null,null,null,null,null,null,null,null,null,null,"",{"$f":"IF(D3755=\"Cash and Deposits\",IF(E3755=\"\",\"BANK NAME REQUIRED\",IF(ISERROR(VLOOKUP(E3755,'Reference Data'!C:C,1,FALSE)),\"PLEASE SELECT A BANK FROM DEFINED LIST PROVIDED\",\"\")),\"\")","v":""},"No Entry",0]
[null,null,null,null,null,null,null,null,null,null,null,null,"",{"$f":"IF(D3756=\"Cash and Deposits\",IF(E3756=\"\",\"BANK NAME REQUIRED\",IF(ISERROR(VLOOKUP(E3756,'Reference Data'!C:C,1,FALSE)),\"PLEASE SELECT A BANK FROM DEFINED LIST PROVIDED\",\"\")),\"\")","v":""},"No Entry",0]
[null,null,null,null,null,null,null,null,null,null,null,null,"",{"$f":"IF(D3757=\"Cash and Deposits\",IF(E3757=\"\",\"BANK NAME REQUIRED\",IF(ISERROR(VLOOKUP(E3757,'Reference Data'!C:C,1,FALSE)),\"PLEASE SELECT A BANK FROM DEFINED LIST PROVIDED\",\"\")),\"\")","v":""},"No Entry",0]
[null,null,null,null,null,null,null,null,null,null,null,null,"",{"$f":"IF(D3758=\"Cash and Deposits\",IF(E3758=\"\",\"BANK NAME REQUIRED\",IF(ISERROR(VLOOKUP(E3758,'Reference Data'!C:C,1,FALSE)),\"PLEASE SELECT A BANK FROM DEFINED LIST PROVIDED\",\"\")),\"\")","v":""},"No Entry",0]
[null,null,null,null,null,null,null,null,null,null,null,null,"",{"$f":"IF(D3759=\"Cash and Deposits\",IF(E3759=\"\",\"BANK NAME REQUIRED\",IF(ISERROR(VLOOKUP(E3759,'Reference Data'!C:C,1,FALSE)),\"PLEASE SELECT A BANK FROM DEFINED LIST PROVIDED\",\"\")),\"\")","v":""},"No Entry",0]
[null,null,null,null,null,null,null,null,null,null,null,null,"",{"$f":"IF(D3760=\"Cash and Deposits\",IF(E3760=\"\",\"BANK NAME REQUIRED\",IF(ISERROR(VLOOKUP(E3760,'Reference Data'!C:C,1,FALSE)),\"PLEASE SELECT A BANK FROM DEFINED LIST PROVIDED\",\"\")),\"\")","v":""},"No Entry",0]
[null,null,null,null,null,null,null,null,null,null,null,null,"",{"$f":"IF(D3761=\"Cash and Deposits\",IF(E3761=\"\",\"BANK NAME REQUIRED\",IF(ISERROR(VLOOKUP(E3761,'Reference Data'!C:C,1,FALSE)),\"PLEASE SELECT A BANK FROM DEFINED LIST PROVIDED\",\"\")),\"\")","v":""},"No Entry",0]
[null,null,null,null,null,null,null,null,null,null,null,null,"",{"$f":"IF(D3762=\"Cash and Deposits\",IF(E3762=\"\",\"BANK NAME REQUIRED\",IF(ISERROR(VLOOKUP(E3762,'Reference Data'!C:C,1,FALSE)),\"PLEASE SELECT A BANK FROM DEFINED LIST PROVIDED\",\"\")),\"\")","v":""},"No Entry",0]
[null,null,null,null,null,null,null,null,null,null,null,null,"",{"$f":"IF(D3763=\"Cash and Deposits\",IF(E3763=\"\",\"BANK NAME REQUIRED\",IF(ISERROR(VLOOKUP(E3763,'Reference Data'!C:C,1,FALSE)),\"PLEASE SELECT A BANK FROM DEFINED LIST PROVIDED\",\"\")),\"\")","v":""},"No Entry",0]
[null,null,null,null,null,null,null,null,null,null,null,null,"",{"$f":"IF(D3764=\"Cash and Deposits\",IF(E3764=\"\",\"BANK NAME REQUIRED\",IF(ISERROR(VLOOKUP(E3764,'Reference Data'!C:C,1,FALSE)),\"PLEASE SELECT A BANK FROM DEFINED LIST PROVIDED\",\"\")),\"\")","v":""},"No Entry",0]
[null,null,null,null,null,null,null,null,null,null,null,null,"",{"$f":"IF(D3765=\"Cash and Deposits\",IF(E3765=\"\",\"BANK NAME REQUIRED\",IF(ISERROR(VLOOKUP(E3765,'Reference Data'!C:C,1,FALSE)),\"PLEASE SELECT A BANK FROM DEFINED LIST PROVIDED\",\"\")),\"\")","v":""},"No Entry",0]
[null,null,null,null,null,null,null,null,null,null,null,null,"",{"$f":"IF(D3766=\"Cash and Deposits\",IF(E3766=\"\",\"BANK NAME REQUIRED\",IF(ISERROR(VLOOKUP(E3766,'Reference Data'!C:C,1,FALSE)),\"PLEASE SELECT A BANK FROM DEFINED LIST PROVIDED\",\"\")),\"\")","v":""},"No Entry",0]
[null,null,null,null,null,null,null,null,null,null,null,null,"",{"$f":"IF(D3767=\"Cash and Deposits\",IF(E3767=\"\",\"BANK NAME REQUIRED\",IF(ISERROR(VLOOKUP(E3767,'Reference Data'!C:C,1,FALSE)),\"PLEASE SELECT A BANK FROM DEFINED LIST PROVIDED\",\"\")),\"\")","v":""},"No Entry",0]
[null,null,null,null,null,null,null,null,null,null,null,null,"",{"$f":"IF(D3768=\"Cash and Deposits\",IF(E3768=\"\",\"BANK NAME REQUIRED\",IF(ISERROR(VLOOKUP(E3768,'Reference Data'!C:C,1,FALSE)),\"PLEASE SELECT A BANK FROM DEFINED LIST PROVIDED\",\"\")),\"\")","v":""},"No Entry",0]
[null,null,null,null,null,null,null,null,null,null,null,null,"",{"$f":"IF(D3769=\"Cash and Deposits\",IF(E3769=\"\",\"BANK NAME REQUIRED\",IF(ISERROR(VLOOKUP(E3769,'Reference Data'!C:C,1,FALSE)),\"PLEASE SELECT A BANK FROM DEFINED LIST PROVIDED\",\"\")),\"\")","v":""},"No Entry",0]
[null,null,null,null,null,null,null,null,null,null,null,null,"",{"$f":"IF(D3770=\"Cash and Deposits\",IF(E3770=\"\",\"BANK NAME REQUIRED\",IF(ISERROR(VLOOKUP(E3770,'Reference Data'!C:C,1,FALSE)),\"PLEASE SELECT A BANK FROM DEFINED LIST PROVIDED\",\"\")),\"\")","v":""},"No Entry",0]
[null,null,null,null,null,null,null,null,null,null,null,null,"",{"$f":"IF(D3771=\"Cash and Deposits\",IF(E3771=\"\",\"BANK NAME REQUIRED\",IF(ISERROR(VLOOKUP(E3771,'Reference Data'!C:C,1,FALSE)),\"PLEASE SELECT A BANK FROM DEFINED LIST PROVIDED\",\"\")),\"\")","v":""},"No Entry",0]
[null,null,null,null,null,null,null,null,null,null,null,null,"",{"$f":"IF(D3772=\"Cash and Deposits\",IF(E3772=\"\",\"BANK NAME REQUIRED\",IF(ISERROR(VLOOKUP(E3772,'Reference Data'!C:C,1,FALSE)),\"PLEASE SELECT A BANK FROM DEFINED LIST PROVIDED\",\"\")),\"\")","v":""},"No Entry",0]
[null,null,null,null,null,null,null,null,null,null,null,null,"",{"$f":"IF(D3773=\"Cash and Deposits\",IF(E3773=\"\",\"BANK NAME REQUIRED\",IF(ISERROR(VLOOKUP(E3773,'Reference Data'!C:C,1,FALSE)),\"PLEASE SELECT A BANK FROM DEFINED LIST PROVIDED\",\"\")),\"\")","v":""},"No Entry",0]
[null,null,null,null,null,null,null,null,null,null,null,null,"",{"$f":"IF(D3774=\"Cash and Deposits\",IF(E3774=\"\",\"BANK NAME REQUIRED\",IF(ISERROR(VLOOKUP(E3774,'Reference Data'!C:C,1,FALSE)),\"PLEASE SELECT A BANK FROM DEFINED LIST PROVIDED\",\"\")),\"\")","v":""},"No Entry",0]
[null,null,null,null,null,null,null,null,null,null,null,null,"",{"$f":"IF(D3775=\"Cash and Deposits\",IF(E3775=\"\",\"BANK NAME REQUIRED\",IF(ISERROR(VLOOKUP(E3775,'Reference Data'!C:C,1,FALSE)),\"PLEASE SELECT A BANK FROM DEFINED LIST PROVIDED\",\"\")),\"\")","v":""},"No Entry",0]
[null,null,null,null,null,null,null,null,null,null,null,null,"",{"$f":"IF(D3776=\"Cash and Deposits\",IF(E3776=\"\",\"BANK NAME REQUIRED\",IF(ISERROR(VLOOKUP(E3776,'Reference Data'!C:C,1,FALSE)),\"PLEASE SELECT A BANK FROM DEFINED LIST PROVIDED\",\"\")),\"\")","v":""},"No Entry",0]
[null,null,null,null,null,null,null,null,null,null,null,null,"",{"$f":"IF(D3777=\"Cash and Deposits\",IF(E3777=\"\",\"BANK NAME REQUIRED\",IF(ISERROR(VLOOKUP(E3777,'Reference Data'!C:C,1,FALSE)),\"PLEASE SELECT A BANK FROM DEFINED LIST PROVIDED\",\"\")),\"\")","v":""},"No Entry",0]
[null,null,null,null,null,null,null,null,null,null,null,null,"",{"$f":"IF(D3778=\"Cash and Deposits\",IF(E3778=\"\",\"BANK NAME REQUIRED\",IF(ISERROR(VLOOKUP(E3778,'Reference Data'!C:C,1,FALSE)),\"PLEASE SELECT A BANK FROM DEFINED LIST PROVIDED\",\"\")),\"\")","v":""},"No Entry",0]
[null,null,null,null,null,null,null,null,null,null,null,null,"",{"$f":"IF(D3779=\"Cash and Deposits\",IF(E3779=\"\",\"BANK NAME REQUIRED\",IF(ISERROR(VLOOKUP(E3779,'Reference Data'!C:C,1,FALSE)),\"PLEASE SELECT A BANK FROM DEFINED LIST PROVIDED\",\"\")),\"\")","v":""},"No Entry",0]
[null,null,null,null,null,null,null,null,null,null,null,null,"",{"$f":"IF(D3780=\"Cash and Deposits\",IF(E3780=\"\",\"BANK NAME REQUIRED\",IF(ISERROR(VLOOKUP(E3780,'Reference Data'!C:C,1,FALSE)),\"PLEASE SELECT A BANK FROM DEFINED LIST PROVIDED\",\"\")),\"\")","v":""},"No Entry",0]
[null,null,null,null,null,null,null,null,null,null,null,null,{"$f":"IF(K3781<>0,IF(B3781=\"\",\"ID CODE REQUIRED\",\"\"),\"\")","v":""},{"$f":"IF(D3781=\"Cash and Deposits\",IF(E3781=\"\",\"BANK NAME REQUIRED\",IF(ISERROR(VLOOKUP(E3781,'Reference Data'!C:C,1,FALSE)),\"PLEASE SELECT A BANK FROM DEFINED LIST PROVIDED\",\"\")),\"\")","v":""},{"$f":"IF(K3781=0,\"No Entry\",\"\")","v":"No Entry"},{"$f":"IF(K3781<>0,IF(A3781=\"\",1,0),0)","v":0}]
[null,null,null,null,null,null,null,null,null,null,null,null,"",{"$f":"IF(D3782=\"Cash and Deposits\",IF(E3782=\"\",\"BANK NAME REQUIRED\",IF(ISERROR(VLOOKUP(E3782,'Reference Data'!C:C,1,FALSE)),\"PLEASE SELECT A BANK FROM DEFINED LIST PROVIDED\",\"\")),\"\")","v":""},"No Entry",0]
[null,null,null,null,null,null,null,null,null,null,null,null,"",{"$f":"IF(D3783=\"Cash and Deposits\",IF(E3783=\"\",\"BANK NAME REQUIRED\",IF(ISERROR(VLOOKUP(E3783,'Reference Data'!C:C,1,FALSE)),\"PLEASE SELECT A BANK FROM DEFINED LIST PROVIDED\",\"\")),\"\")","v":""},"No Entry",0]
[null,null,null,null,null,null,null,null,null,null,null,null,"",{"$f":"IF(D3784=\"Cash and Deposits\",IF(E3784=\"\",\"BANK NAME REQUIRED\",IF(ISERROR(VLOOKUP(E3784,'Reference Data'!C:C,1,FALSE)),\"PLEASE SELECT A BANK FROM DEFINED LIST PROVIDED\",\"\")),\"\")","v":""},"No Entry",0]
[null,null,null,null,null,null,null,null,null,null,null,null,"",{"$f":"IF(D3785=\"Cash and Deposits\",IF(E3785=\"\",\"BANK NAME REQUIRED\",IF(ISERROR(VLOOKUP(E3785,'Reference Data'!C:C,1,FALSE)),\"PLEASE SELECT A BANK FROM DEFINED LIST PROVIDED\",\"\")),\"\")","v":""},"No Entry",0]
[null,null,null,null,null,null,null,null,null,null,null,null,"",{"$f":"IF(D3786=\"Cash and Deposits\",IF(E3786=\"\",\"BANK NAME REQUIRED\",IF(ISERROR(VLOOKUP(E3786,'Reference Data'!C:C,1,FALSE)),\"PLEASE SELECT A BANK FROM DEFINED LIST PROVIDED\",\"\")),\"\")","v":""},"No Entry",0]
[null,null,null,null,null,null,null,null,null,null,null,null,"",{"$f":"IF(D3787=\"Cash and Deposits\",IF(E3787=\"\",\"BANK NAME REQUIRED\",IF(ISERROR(VLOOKUP(E3787,'Reference Data'!C:C,1,FALSE)),\"PLEASE SELECT A BANK FROM DEFINED LIST PROVIDED\",\"\")),\"\")","v":""},"No Entry",0]
[null,null,null,null,null,null,null,null,null,null,null,null,"",{"$f":"IF(D3788=\"Cash and Deposits\",IF(E3788=\"\",\"BANK NAME REQUIRED\",IF(ISERROR(VLOOKUP(E3788,'Reference Data'!C:C,1,FALSE)),\"PLEASE SELECT A BANK FROM DEFINED LIST PROVIDED\",\"\")),\"\")","v":""},"No Entry",0]
[null,null,null,null,null,null,null,null,null,null,null,null,"",{"$f":"IF(D3789=\"Cash and Deposits\",IF(E3789=\"\",\"BANK NAME REQUIRED\",IF(ISERROR(VLOOKUP(E3789,'Reference Data'!C:C,1,FALSE)),\"PLEASE SELECT A BANK FROM DEFINED LIST PROVIDED\",\"\")),\"\")","v":""},"No Entry",0]
[null,null,null,null,null,null,null,null,null,null,null,null,"",{"$f":"IF(D3790=\"Cash and Deposits\",IF(E3790=\"\",\"BANK NAME REQUIRED\",IF(ISERROR(VLOOKUP(E3790,'Reference Data'!C:C,1,FALSE)),\"PLEASE SELECT A BANK FROM DEFINED LIST PROVIDED\",\"\")),\"\")","v":""},"No Entry",0]
[null,null,null,null,null,null,null,null,null,null,null,null,"",{"$f":"IF(D3791=\"Cash and Deposits\",IF(E3791=\"\",\"BANK NAME REQUIRED\",IF(ISERROR(VLOOKUP(E3791,'Reference Data'!C:C,1,FALSE)),\"PLEASE SELECT A BANK FROM DEFINED LIST PROVIDED\",\"\")),\"\")","v":""},"No Entry",0]
[null,null,null,null,null,null,null,null,null,null,null,null,"",{"$f":"IF(D3792=\"Cash and Deposits\",IF(E3792=\"\",\"BANK NAME REQUIRED\",IF(ISERROR(VLOOKUP(E3792,'Reference Data'!C:C,1,FALSE)),\"PLEASE SELECT A BANK FROM DEFINED LIST PROVIDED\",\"\")),\"\")","v":""},"No Entry",0]
[null,null,null,null,null,null,null,null,null,null,null,null,"",{"$f":"IF(D3793=\"Cash and Deposits\",IF(E3793=\"\",\"BANK NAME REQUIRED\",IF(ISERROR(VLOOKUP(E3793,'Reference Data'!C:C,1,FALSE)),\"PLEASE SELECT A BANK FROM DEFINED LIST PROVIDED\",\"\")),\"\")","v":""},"No Entry",0]
[null,null,null,null,null,null,null,null,null,null,null,null,"",{"$f":"IF(D3794=\"Cash and Deposits\",IF(E3794=\"\",\"BANK NAME REQUIRED\",IF(ISERROR(VLOOKUP(E3794,'Reference Data'!C:C,1,FALSE)),\"PLEASE SELECT A BANK FROM DEFINED LIST PROVIDED\",\"\")),\"\")","v":""},"No Entry",0]
[null,null,null,null,null,null,null,null,null,null,null,null,"",{"$f":"IF(D3795=\"Cash and Deposits\",IF(E3795=\"\",\"BANK NAME REQUIRED\",IF(ISERROR(VLOOKUP(E3795,'Reference Data'!C:C,1,FALSE)),\"PLEASE SELECT A BANK FROM DEFINED LIST PROVIDED\",\"\")),\"\")","v":""},"No Entry",0]
[null,null,null,null,null,null,null,null,null,null,null,null,"",{"$f":"IF(D3796=\"Cash and Deposits\",IF(E3796=\"\",\"BANK NAME REQUIRED\",IF(ISERROR(VLOOKUP(E3796,'Reference Data'!C:C,1,FALSE)),\"PLEASE SELECT A BANK FROM DEFINED LIST PROVIDED\",\"\")),\"\")","v":""},"No Entry",0]
[null,null,null,null,null,null,null,null,null,null,null,null,"",{"$f":"IF(D3797=\"Cash and Deposits\",IF(E3797=\"\",\"BANK NAME REQUIRED\",IF(ISERROR(VLOOKUP(E3797,'Reference Data'!C:C,1,FALSE)),\"PLEASE SELECT A BANK FROM DEFINED LIST PROVIDED\",\"\")),\"\")","v":""},"No Entry",0]
[null,null,null,null,null,null,null,null,null,null,null,null,"",{"$f":"IF(D3798=\"Cash and Deposits\",IF(E3798=\"\",\"BANK NAME REQUIRED\",IF(ISERROR(VLOOKUP(E3798,'Reference Data'!C:C,1,FALSE)),\"PLEASE SELECT A BANK FROM DEFINED LIST PROVIDED\",\"\")),\"\")","v":""},"No Entry",0]
[null,null,null,null,null,null,null,null,null,null,null,null,"",{"$f":"IF(D3799=\"Cash and Deposits\",IF(E3799=\"\",\"BANK NAME REQUIRED\",IF(ISERROR(VLOOKUP(E3799,'Reference Data'!C:C,1,FALSE)),\"PLEASE SELECT A BANK FROM DEFINED LIST PROVIDED\",\"\")),\"\")","v":""},"No Entry",0]
[null,null,null,null,null,null,null,null,null,null,null,null,"",{"$f":"IF(D3800=\"Cash and Deposits\",IF(E3800=\"\",\"BANK NAME REQUIRED\",IF(ISERROR(VLOOKUP(E3800,'Reference Data'!C:C,1,FALSE)),\"PLEASE SELECT A BANK FROM DEFINED LIST PROVIDED\",\"\")),\"\")","v":""},"No Entry",0]
[null,null,null,null,null,null,null,null,null,null,null,null,"",{"$f":"IF(D3801=\"Cash and Deposits\",IF(E3801=\"\",\"BANK NAME REQUIRED\",IF(ISERROR(VLOOKUP(E3801,'Reference Data'!C:C,1,FALSE)),\"PLEASE SELECT A BANK FROM DEFINED LIST PROVIDED\",\"\")),\"\")","v":""},"No Entry",0]
[null,null,null,null,null,null,null,null,null,null,null,null,"",{"$f":"IF(D3802=\"Cash and Deposits\",IF(E3802=\"\",\"BANK NAME REQUIRED\",IF(ISERROR(VLOOKUP(E3802,'Reference Data'!C:C,1,FALSE)),\"PLEASE SELECT A BANK FROM DEFINED LIST PROVIDED\",\"\")),\"\")","v":""},"No Entry",0]
[null,null,null,null,null,null,null,null,null,null,null,null,"",{"$f":"IF(D3803=\"Cash and Deposits\",IF(E3803=\"\",\"BANK NAME REQUIRED\",IF(ISERROR(VLOOKUP(E3803,'Reference Data'!C:C,1,FALSE)),\"PLEASE SELECT A BANK FROM DEFINED LIST PROVIDED\",\"\")),\"\")","v":""},"No Entry",0]
[null,null,null,null,null,null,null,null,null,null,null,null,"",{"$f":"IF(D3804=\"Cash and Deposits\",IF(E3804=\"\",\"BANK NAME REQUIRED\",IF(ISERROR(VLOOKUP(E3804,'Reference Data'!C:C,1,FALSE)),\"PLEASE SELECT A BANK FROM DEFINED LIST PROVIDED\",\"\")),\"\")","v":""},"No Entry",0]
[null,null,null,null,null,null,null,null,null,null,null,null,"",{"$f":"IF(D3805=\"Cash and Deposits\",IF(E3805=\"\",\"BANK NAME REQUIRED\",IF(ISERROR(VLOOKUP(E3805,'Reference Data'!C:C,1,FALSE)),\"PLEASE SELECT A BANK FROM DEFINED LIST PROVIDED\",\"\")),\"\")","v":""},"No Entry",0]
[null,null,null,null,null,null,null,null,null,null,null,null,"",{"$f":"IF(D3806=\"Cash and Deposits\",IF(E3806=\"\",\"BANK NAME REQUIRED\",IF(ISERROR(VLOOKUP(E3806,'Reference Data'!C:C,1,FALSE)),\"PLEASE SELECT A BANK FROM DEFINED LIST PROVIDED\",\"\")),\"\")","v":""},"No Entry",0]
[null,null,null,null,null,null,null,null,null,null,null,null,"",{"$f":"IF(D3807=\"Cash and Deposits\",IF(E3807=\"\",\"BANK NAME REQUIRED\",IF(ISERROR(VLOOKUP(E3807,'Reference Data'!C:C,1,FALSE)),\"PLEASE SELECT A BANK FROM DEFINED LIST PROVIDED\",\"\")),\"\")","v":""},"No Entry",0]
[null,null,null,null,null,null,null,null,null,null,null,null,"",{"$f":"IF(D3808=\"Cash and Deposits\",IF(E3808=\"\",\"BANK NAME REQUIRED\",IF(ISERROR(VLOOKUP(E3808,'Reference Data'!C:C,1,FALSE)),\"PLEASE SELECT A BANK FROM DEFINED LIST PROVIDED\",\"\")),\"\")","v":""},"No Entry",0]
[null,null,null,null,null,null,null,null,null,null,null,null,"",{"$f":"IF(D3809=\"Cash and Deposits\",IF(E3809=\"\",\"BANK NAME REQUIRED\",IF(ISERROR(VLOOKUP(E3809,'Reference Data'!C:C,1,FALSE)),\"PLEASE SELECT A BANK FROM DEFINED LIST PROVIDED\",\"\")),\"\")","v":""},"No Entry",0]
[null,null,null,null,null,null,null,null,null,null,null,null,"",{"$f":"IF(D3810=\"Cash and Deposits\",IF(E3810=\"\",\"BANK NAME REQUIRED\",IF(ISERROR(VLOOKUP(E3810,'Reference Data'!C:C,1,FALSE)),\"PLEASE SELECT A BANK FROM DEFINED LIST PROVIDED\",\"\")),\"\")","v":""},"No Entry",0]
[null,null,null,null,null,null,null,null,null,null,null,null,"",{"$f":"IF(D3811=\"Cash and Deposits\",IF(E3811=\"\",\"BANK NAME REQUIRED\",IF(ISERROR(VLOOKUP(E3811,'Reference Data'!C:C,1,FALSE)),\"PLEASE SELECT A BANK FROM DEFINED LIST PROVIDED\",\"\")),\"\")","v":""},"No Entry",0]
[null,null,null,null,null,null,null,null,null,null,null,null,"",{"$f":"IF(D3812=\"Cash and Deposits\",IF(E3812=\"\",\"BANK NAME REQUIRED\",IF(ISERROR(VLOOKUP(E3812,'Reference Data'!C:C,1,FALSE)),\"PLEASE SELECT A BANK FROM DEFINED LIST PROVIDED\",\"\")),\"\")","v":""},"No Entry",0]
[null,null,null,null,null,null,null,null,null,null,null,null,"",{"$f":"IF(D3813=\"Cash and Deposits\",IF(E3813=\"\",\"BANK NAME REQUIRED\",IF(ISERROR(VLOOKUP(E3813,'Reference Data'!C:C,1,FALSE)),\"PLEASE SELECT A BANK FROM DEFINED LIST PROVIDED\",\"\")),\"\")","v":""},"No Entry",0]
[null,null,null,null,null,null,null,null,null,null,null,null,"",{"$f":"IF(D3814=\"Cash and Deposits\",IF(E3814=\"\",\"BANK NAME REQUIRED\",IF(ISERROR(VLOOKUP(E3814,'Reference Data'!C:C,1,FALSE)),\"PLEASE SELECT A BANK FROM DEFINED LIST PROVIDED\",\"\")),\"\")","v":""},"No Entry",0]
[null,null,null,null,null,null,null,null,null,null,null,null,"",{"$f":"IF(D3815=\"Cash and Deposits\",IF(E3815=\"\",\"BANK NAME REQUIRED\",IF(ISERROR(VLOOKUP(E3815,'Reference Data'!C:C,1,FALSE)),\"PLEASE SELECT A BANK FROM DEFINED LIST PROVIDED\",\"\")),\"\")","v":""},"No Entry",0]
[null,null,null,null,null,null,null,null,null,null,null,null,"",{"$f":"IF(D3816=\"Cash and Deposits\",IF(E3816=\"\",\"BANK NAME REQUIRED\",IF(ISERROR(VLOOKUP(E3816,'Reference Data'!C:C,1,FALSE)),\"PLEASE SELECT A BANK FROM DEFINED LIST PROVIDED\",\"\")),\"\")","v":""},"No Entry",0]
[null,null,null,null,null,null,null,null,null,null,null,null,"",{"$f":"IF(D3817=\"Cash and Deposits\",IF(E3817=\"\",\"BANK NAME REQUIRED\",IF(ISERROR(VLOOKUP(E3817,'Reference Data'!C:C,1,FALSE)),\"PLEASE SELECT A BANK FROM DEFINED LIST PROVIDED\",\"\")),\"\")","v":""},"No Entry",0]
[null,null,null,null,null,null,null,null,null,null,null,null,"",{"$f":"IF(D3818=\"Cash and Deposits\",IF(E3818=\"\",\"BANK NAME REQUIRED\",IF(ISERROR(VLOOKUP(E3818,'Reference Data'!C:C,1,FALSE)),\"PLEASE SELECT A BANK FROM DEFINED LIST PROVIDED\",\"\")),\"\")","v":""},"No Entry",0]
[null,null,null,null,null,null,null,null,null,null,null,null,"",{"$f":"IF(D3819=\"Cash and Deposits\",IF(E3819=\"\",\"BANK NAME REQUIRED\",IF(ISERROR(VLOOKUP(E3819,'Reference Data'!C:C,1,FALSE)),\"PLEASE SELECT A BANK FROM DEFINED LIST PROVIDED\",\"\")),\"\")","v":""},"No Entry",0]
[null,null,null,null,null,null,null,null,null,null,null,null,"",{"$f":"IF(D3820=\"Cash and Deposits\",IF(E3820=\"\",\"BANK NAME REQUIRED\",IF(ISERROR(VLOOKUP(E3820,'Reference Data'!C:C,1,FALSE)),\"PLEASE SELECT A BANK FROM DEFINED LIST PROVIDED\",\"\")),\"\")","v":""},"No Entry",0]
[null,null,null,null,null,null,null,null,null,null,null,null,"",{"$f":"IF(D3821=\"Cash and Deposits\",IF(E3821=\"\",\"BANK NAME REQUIRED\",IF(ISERROR(VLOOKUP(E3821,'Reference Data'!C:C,1,FALSE)),\"PLEASE SELECT A BANK FROM DEFINED LIST PROVIDED\",\"\")),\"\")","v":""},"No Entry",0]
[null,null,null,null,null,null,null,null,null,null,null,null,"",{"$f":"IF(D3822=\"Cash and Deposits\",IF(E3822=\"\",\"BANK NAME REQUIRED\",IF(ISERROR(VLOOKUP(E3822,'Reference Data'!C:C,1,FALSE)),\"PLEASE SELECT A BANK FROM DEFINED LIST PROVIDED\",\"\")),\"\")","v":""},"No Entry",0]
[null,null,null,null,null,null,null,null,null,null,null,null,"",{"$f":"IF(D3823=\"Cash and Deposits\",IF(E3823=\"\",\"BANK NAME REQUIRED\",IF(ISERROR(VLOOKUP(E3823,'Reference Data'!C:C,1,FALSE)),\"PLEASE SELECT A BANK FROM DEFINED LIST PROVIDED\",\"\")),\"\")","v":""},"No Entry",0]
[null,null,null,null,null,null,null,null,null,null,null,null,"",{"$f":"IF(D3824=\"Cash and Deposits\",IF(E3824=\"\",\"BANK NAME REQUIRED\",IF(ISERROR(VLOOKUP(E3824,'Reference Data'!C:C,1,FALSE)),\"PLEASE SELECT A BANK FROM DEFINED LIST PROVIDED\",\"\")),\"\")","v":""},"No Entry",0]
[null,null,null,null,null,null,null,null,null,null,null,null,"",{"$f":"IF(D3825=\"Cash and Deposits\",IF(E3825=\"\",\"BANK NAME REQUIRED\",IF(ISERROR(VLOOKUP(E3825,'Reference Data'!C:C,1,FALSE)),\"PLEASE SELECT A BANK FROM DEFINED LIST PROVIDED\",\"\")),\"\")","v":""},"No Entry",0]
[null,null,null,null,null,null,null,null,null,null,null,null,"",{"$f":"IF(D3826=\"Cash and Deposits\",IF(E3826=\"\",\"BANK NAME REQUIRED\",IF(ISERROR(VLOOKUP(E3826,'Reference Data'!C:C,1,FALSE)),\"PLEASE SELECT A BANK FROM DEFINED LIST PROVIDED\",\"\")),\"\")","v":""},"No Entry",0]
[null,null,null,null,null,null,null,null,null,null,null,null,"",{"$f":"IF(D3827=\"Cash and Deposits\",IF(E3827=\"\",\"BANK NAME REQUIRED\",IF(ISERROR(VLOOKUP(E3827,'Reference Data'!C:C,1,FALSE)),\"PLEASE SELECT A BANK FROM DEFINED LIST PROVIDED\",\"\")),\"\")","v":""},"No Entry",0]
[null,null,null,null,null,null,null,null,null,null,null,null,"",{"$f":"IF(D3828=\"Cash and Deposits\",IF(E3828=\"\",\"BANK NAME REQUIRED\",IF(ISERROR(VLOOKUP(E3828,'Reference Data'!C:C,1,FALSE)),\"PLEASE SELECT A BANK FROM DEFINED LIST PROVIDED\",\"\")),\"\")","v":""},"No Entry",0]
[null,null,null,null,null,null,null,null,null,null,null,null,"",{"$f":"IF(D3829=\"Cash and Deposits\",IF(E3829=\"\",\"BANK NAME REQUIRED\",IF(ISERROR(VLOOKUP(E3829,'Reference Data'!C:C,1,FALSE)),\"PLEASE SELECT A BANK FROM DEFINED LIST PROVIDED\",\"\")),\"\")","v":""},"No Entry",0]
[null,null,null,null,null,null,null,null,null,null,null,null,"",{"$f":"IF(D3830=\"Cash and Deposits\",IF(E3830=\"\",\"BANK NAME REQUIRED\",IF(ISERROR(VLOOKUP(E3830,'Reference Data'!C:C,1,FALSE)),\"PLEASE SELECT A BANK FROM DEFINED LIST PROVIDED\",\"\")),\"\")","v":""},"No Entry",0]
[null,null,null,null,null,null,null,null,null,null,null,null,"",{"$f":"IF(D3831=\"Cash and Deposits\",IF(E3831=\"\",\"BANK NAME REQUIRED\",IF(ISERROR(VLOOKUP(E3831,'Reference Data'!C:C,1,FALSE)),\"PLEASE SELECT A BANK FROM DEFINED LIST PROVIDED\",\"\")),\"\")","v":""},"No Entry",0]
[null,null,null,null,null,null,null,null,null,null,null,null,"",{"$f":"IF(D3832=\"Cash and Deposits\",IF(E3832=\"\",\"BANK NAME REQUIRED\",IF(ISERROR(VLOOKUP(E3832,'Reference Data'!C:C,1,FALSE)),\"PLEASE SELECT A BANK FROM DEFINED LIST PROVIDED\",\"\")),\"\")","v":""},"No Entry",0]
[null,null,null,null,null,null,null,null,null,null,null,null,"",{"$f":"IF(D3833=\"Cash and Deposits\",IF(E3833=\"\",\"BANK NAME REQUIRED\",IF(ISERROR(VLOOKUP(E3833,'Reference Data'!C:C,1,FALSE)),\"PLEASE SELECT A BANK FROM DEFINED LIST PROVIDED\",\"\")),\"\")","v":""},"No Entry",0]
[null,null,null,null,null,null,null,null,null,null,null,null,"",{"$f":"IF(D3834=\"Cash and Deposits\",IF(E3834=\"\",\"BANK NAME REQUIRED\",IF(ISERROR(VLOOKUP(E3834,'Reference Data'!C:C,1,FALSE)),\"PLEASE SELECT A BANK FROM DEFINED LIST PROVIDED\",\"\")),\"\")","v":""},"No Entry",0]
[null,null,null,null,null,null,null,null,null,null,null,null,"",{"$f":"IF(D3835=\"Cash and Deposits\",IF(E3835=\"\",\"BANK NAME REQUIRED\",IF(ISERROR(VLOOKUP(E3835,'Reference Data'!C:C,1,FALSE)),\"PLEASE SELECT A BANK FROM DEFINED LIST PROVIDED\",\"\")),\"\")","v":""},"No Entry",0]
[null,null,null,null,null,null,null,null,null,null,null,null,"",{"$f":"IF(D3836=\"Cash and Deposits\",IF(E3836=\"\",\"BANK NAME REQUIRED\",IF(ISERROR(VLOOKUP(E3836,'Reference Data'!C:C,1,FALSE)),\"PLEASE SELECT A BANK FROM DEFINED LIST PROVIDED\",\"\")),\"\")","v":""},"No Entry",0]
[null,null,null,null,null,null,null,null,null,null,null,null,"",{"$f":"IF(D3837=\"Cash and Deposits\",IF(E3837=\"\",\"BANK NAME REQUIRED\",IF(ISERROR(VLOOKUP(E3837,'Reference Data'!C:C,1,FALSE)),\"PLEASE SELECT A BANK FROM DEFINED LIST PROVIDED\",\"\")),\"\")","v":""},"No Entry",0]
[null,null,null,null,null,null,null,null,null,null,null,null,"",{"$f":"IF(D3838=\"Cash and Deposits\",IF(E3838=\"\",\"BANK NAME REQUIRED\",IF(ISERROR(VLOOKUP(E3838,'Reference Data'!C:C,1,FALSE)),\"PLEASE SELECT A BANK FROM DEFINED LIST PROVIDED\",\"\")),\"\")","v":""},"No Entry",0]
[null,null,null,null,null,null,null,null,null,null,null,null,"",{"$f":"IF(D3839=\"Cash and Deposits\",IF(E3839=\"\",\"BANK NAME REQUIRED\",IF(ISERROR(VLOOKUP(E3839,'Reference Data'!C:C,1,FALSE)),\"PLEASE SELECT A BANK FROM DEFINED LIST PROVIDED\",\"\")),\"\")","v":""},"No Entry",0]
[null,null,null,null,null,null,null,null,null,null,null,null,"",{"$f":"IF(D3840=\"Cash and Deposits\",IF(E3840=\"\",\"BANK NAME REQUIRED\",IF(ISERROR(VLOOKUP(E3840,'Reference Data'!C:C,1,FALSE)),\"PLEASE SELECT A BANK FROM DEFINED LIST PROVIDED\",\"\")),\"\")","v":""},"No Entry",0]
[null,null,null,null,null,null,null,null,null,null,null,null,"",{"$f":"IF(D3841=\"Cash and Deposits\",IF(E3841=\"\",\"BANK NAME REQUIRED\",IF(ISERROR(VLOOKUP(E3841,'Reference Data'!C:C,1,FALSE)),\"PLEASE SELECT A BANK FROM DEFINED LIST PROVIDED\",\"\")),\"\")","v":""},"No Entry",0]
[null,null,null,null,null,null,null,null,null,null,null,null,"",{"$f":"IF(D3842=\"Cash and Deposits\",IF(E3842=\"\",\"BANK NAME REQUIRED\",IF(ISERROR(VLOOKUP(E3842,'Reference Data'!C:C,1,FALSE)),\"PLEASE SELECT A BANK FROM DEFINED LIST PROVIDED\",\"\")),\"\")","v":""},"No Entry",0]
[null,null,null,null,null,null,null,null,null,null,null,null,"",{"$f":"IF(D3843=\"Cash and Deposits\",IF(E3843=\"\",\"BANK NAME REQUIRED\",IF(ISERROR(VLOOKUP(E3843,'Reference Data'!C:C,1,FALSE)),\"PLEASE SELECT A BANK FROM DEFINED LIST PROVIDED\",\"\")),\"\")","v":""},"No Entry",0]
[null,null,null,null,null,null,null,null,null,null,null,null,"",{"$f":"IF(D3844=\"Cash and Deposits\",IF(E3844=\"\",\"BANK NAME REQUIRED\",IF(ISERROR(VLOOKUP(E3844,'Reference Data'!C:C,1,FALSE)),\"PLEASE SELECT A BANK FROM DEFINED LIST PROVIDED\",\"\")),\"\")","v":""},"No Entry",0]
[null,null,null,null,null,null,null,null,null,null,null,null,{"$f":"IF(K3845<>0,IF(B3845=\"\",\"ID CODE REQUIRED\",\"\"),\"\")","v":""},{"$f":"IF(D3845=\"Cash and Deposits\",IF(E3845=\"\",\"BANK NAME REQUIRED\",IF(ISERROR(VLOOKUP(E3845,'Reference Data'!C:C,1,FALSE)),\"PLEASE SELECT A BANK FROM DEFINED LIST PROVIDED\",\"\")),\"\")","v":""},{"$f":"IF(K3845=0,\"No Entry\",\"\")","v":"No Entry"},{"$f":"IF(K3845<>0,IF(A3845=\"\",1,0),0)","v":0}]
[null,null,null,null,null,null,null,null,null,null,null,null,"",{"$f":"IF(D3846=\"Cash and Deposits\",IF(E3846=\"\",\"BANK NAME REQUIRED\",IF(ISERROR(VLOOKUP(E3846,'Reference Data'!C:C,1,FALSE)),\"PLEASE SELECT A BANK FROM DEFINED LIST PROVIDED\",\"\")),\"\")","v":""},"No Entry",0]
[null,null,null,null,null,null,null,null,null,null,null,null,"",{"$f":"IF(D3847=\"Cash and Deposits\",IF(E3847=\"\",\"BANK NAME REQUIRED\",IF(ISERROR(VLOOKUP(E3847,'Reference Data'!C:C,1,FALSE)),\"PLEASE SELECT A BANK FROM DEFINED LIST PROVIDED\",\"\")),\"\")","v":""},"No Entry",0]
[null,null,null,null,null,null,null,null,null,null,null,null,"",{"$f":"IF(D3848=\"Cash and Deposits\",IF(E3848=\"\",\"BANK NAME REQUIRED\",IF(ISERROR(VLOOKUP(E3848,'Reference Data'!C:C,1,FALSE)),\"PLEASE SELECT A BANK FROM DEFINED LIST PROVIDED\",\"\")),\"\")","v":""},"No Entry",0]
[null,null,null,null,null,null,null,null,null,null,null,null,"",{"$f":"IF(D3849=\"Cash and Deposits\",IF(E3849=\"\",\"BANK NAME REQUIRED\",IF(ISERROR(VLOOKUP(E3849,'Reference Data'!C:C,1,FALSE)),\"PLEASE SELECT A BANK FROM DEFINED LIST PROVIDED\",\"\")),\"\")","v":""},"No Entry",0]
[null,null,null,null,null,null,null,null,null,null,null,null,"",{"$f":"IF(D3850=\"Cash and Deposits\",IF(E3850=\"\",\"BANK NAME REQUIRED\",IF(ISERROR(VLOOKUP(E3850,'Reference Data'!C:C,1,FALSE)),\"PLEASE SELECT A BANK FROM DEFINED LIST PROVIDED\",\"\")),\"\")","v":""},"No Entry",0]
[null,null,null,null,null,null,null,null,null,null,null,null,"",{"$f":"IF(D3851=\"Cash and Deposits\",IF(E3851=\"\",\"BANK NAME REQUIRED\",IF(ISERROR(VLOOKUP(E3851,'Reference Data'!C:C,1,FALSE)),\"PLEASE SELECT A BANK FROM DEFINED LIST PROVIDED\",\"\")),\"\")","v":""},"No Entry",0]
[null,null,null,null,null,null,null,null,null,null,null,null,"",{"$f":"IF(D3852=\"Cash and Deposits\",IF(E3852=\"\",\"BANK NAME REQUIRED\",IF(ISERROR(VLOOKUP(E3852,'Reference Data'!C:C,1,FALSE)),\"PLEASE SELECT A BANK FROM DEFINED LIST PROVIDED\",\"\")),\"\")","v":""},"No Entry",0]
[null,null,null,null,null,null,null,null,null,null,null,null,"",{"$f":"IF(D3853=\"Cash and Deposits\",IF(E3853=\"\",\"BANK NAME REQUIRED\",IF(ISERROR(VLOOKUP(E3853,'Reference Data'!C:C,1,FALSE)),\"PLEASE SELECT A BANK FROM DEFINED LIST PROVIDED\",\"\")),\"\")","v":""},"No Entry",0]
[null,null,null,null,null,null,null,null,null,null,null,null,"",{"$f":"IF(D3854=\"Cash and Deposits\",IF(E3854=\"\",\"BANK NAME REQUIRED\",IF(ISERROR(VLOOKUP(E3854,'Reference Data'!C:C,1,FALSE)),\"PLEASE SELECT A BANK FROM DEFINED LIST PROVIDED\",\"\")),\"\")","v":""},"No Entry",0]
[null,null,null,null,null,null,null,null,null,null,null,null,"",{"$f":"IF(D3855=\"Cash and Deposits\",IF(E3855=\"\",\"BANK NAME REQUIRED\",IF(ISERROR(VLOOKUP(E3855,'Reference Data'!C:C,1,FALSE)),\"PLEASE SELECT A BANK FROM DEFINED LIST PROVIDED\",\"\")),\"\")","v":""},"No Entry",0]
[null,null,null,null,null,null,null,null,null,null,null,null,"",{"$f":"IF(D3856=\"Cash and Deposits\",IF(E3856=\"\",\"BANK NAME REQUIRED\",IF(ISERROR(VLOOKUP(E3856,'Reference Data'!C:C,1,FALSE)),\"PLEASE SELECT A BANK FROM DEFINED LIST PROVIDED\",\"\")),\"\")","v":""},"No Entry",0]
[null,null,null,null,null,null,null,null,null,null,null,null,"",{"$f":"IF(D3857=\"Cash and Deposits\",IF(E3857=\"\",\"BANK NAME REQUIRED\",IF(ISERROR(VLOOKUP(E3857,'Reference Data'!C:C,1,FALSE)),\"PLEASE SELECT A BANK FROM DEFINED LIST PROVIDED\",\"\")),\"\")","v":""},"No Entry",0]
[null,null,null,null,null,null,null,null,null,null,null,null,"",{"$f":"IF(D3858=\"Cash and Deposits\",IF(E3858=\"\",\"BANK NAME REQUIRED\",IF(ISERROR(VLOOKUP(E3858,'Reference Data'!C:C,1,FALSE)),\"PLEASE SELECT A BANK FROM DEFINED LIST PROVIDED\",\"\")),\"\")","v":""},"No Entry",0]
[null,null,null,null,null,null,null,null,null,null,null,null,"",{"$f":"IF(D3859=\"Cash and Deposits\",IF(E3859=\"\",\"BANK NAME REQUIRED\",IF(ISERROR(VLOOKUP(E3859,'Reference Data'!C:C,1,FALSE)),\"PLEASE SELECT A BANK FROM DEFINED LIST PROVIDED\",\"\")),\"\")","v":""},"No Entry",0]
[null,null,null,null,null,null,null,null,null,null,null,null,"",{"$f":"IF(D3860=\"Cash and Deposits\",IF(E3860=\"\",\"BANK NAME REQUIRED\",IF(ISERROR(VLOOKUP(E3860,'Reference Data'!C:C,1,FALSE)),\"PLEASE SELECT A BANK FROM DEFINED LIST PROVIDED\",\"\")),\"\")","v":""},"No Entry",0]
[null,null,null,null,null,null,null,null,null,null,null,null,"",{"$f":"IF(D3861=\"Cash and Deposits\",IF(E3861=\"\",\"BANK NAME REQUIRED\",IF(ISERROR(VLOOKUP(E3861,'Reference Data'!C:C,1,FALSE)),\"PLEASE SELECT A BANK FROM DEFINED LIST PROVIDED\",\"\")),\"\")","v":""},"No Entry",0]
[null,null,null,null,null,null,null,null,null,null,null,null,"",{"$f":"IF(D3862=\"Cash and Deposits\",IF(E3862=\"\",\"BANK NAME REQUIRED\",IF(ISERROR(VLOOKUP(E3862,'Reference Data'!C:C,1,FALSE)),\"PLEASE SELECT A BANK FROM DEFINED LIST PROVIDED\",\"\")),\"\")","v":""},"No Entry",0]
[null,null,null,null,null,null,null,null,null,null,null,null,"",{"$f":"IF(D3863=\"Cash and Deposits\",IF(E3863=\"\",\"BANK NAME REQUIRED\",IF(ISERROR(VLOOKUP(E3863,'Reference Data'!C:C,1,FALSE)),\"PLEASE SELECT A BANK FROM DEFINED LIST PROVIDED\",\"\")),\"\")","v":""},"No Entry",0]
[null,null,null,null,null,null,null,null,null,null,null,null,"",{"$f":"IF(D3864=\"Cash and Deposits\",IF(E3864=\"\",\"BANK NAME REQUIRED\",IF(ISERROR(VLOOKUP(E3864,'Reference Data'!C:C,1,FALSE)),\"PLEASE SELECT A BANK FROM DEFINED LIST PROVIDED\",\"\")),\"\")","v":""},"No Entry",0]
[null,null,null,null,null,null,null,null,null,null,null,null,"",{"$f":"IF(D3865=\"Cash and Deposits\",IF(E3865=\"\",\"BANK NAME REQUIRED\",IF(ISERROR(VLOOKUP(E3865,'Reference Data'!C:C,1,FALSE)),\"PLEASE SELECT A BANK FROM DEFINED LIST PROVIDED\",\"\")),\"\")","v":""},"No Entry",0]
[null,null,null,null,null,null,null,null,null,null,null,null,"",{"$f":"IF(D3866=\"Cash and Deposits\",IF(E3866=\"\",\"BANK NAME REQUIRED\",IF(ISERROR(VLOOKUP(E3866,'Reference Data'!C:C,1,FALSE)),\"PLEASE SELECT A BANK FROM DEFINED LIST PROVIDED\",\"\")),\"\")","v":""},"No Entry",0]
[null,null,null,null,null,null,null,null,null,null,null,null,"",{"$f":"IF(D3867=\"Cash and Deposits\",IF(E3867=\"\",\"BANK NAME REQUIRED\",IF(ISERROR(VLOOKUP(E3867,'Reference Data'!C:C,1,FALSE)),\"PLEASE SELECT A BANK FROM DEFINED LIST PROVIDED\",\"\")),\"\")","v":""},"No Entry",0]
[null,null,null,null,null,null,null,null,null,null,null,null,"",{"$f":"IF(D3868=\"Cash and Deposits\",IF(E3868=\"\",\"BANK NAME REQUIRED\",IF(ISERROR(VLOOKUP(E3868,'Reference Data'!C:C,1,FALSE)),\"PLEASE SELECT A BANK FROM DEFINED LIST PROVIDED\",\"\")),\"\")","v":""},"No Entry",0]
[null,null,null,null,null,null,null,null,null,null,null,null,"",{"$f":"IF(D3869=\"Cash and Deposits\",IF(E3869=\"\",\"BANK NAME REQUIRED\",IF(ISERROR(VLOOKUP(E3869,'Reference Data'!C:C,1,FALSE)),\"PLEASE SELECT A BANK FROM DEFINED LIST PROVIDED\",\"\")),\"\")","v":""},"No Entry",0]
[null,null,null,null,null,null,null,null,null,null,null,null,"",{"$f":"IF(D3870=\"Cash and Deposits\",IF(E3870=\"\",\"BANK NAME REQUIRED\",IF(ISERROR(VLOOKUP(E3870,'Reference Data'!C:C,1,FALSE)),\"PLEASE SELECT A BANK FROM DEFINED LIST PROVIDED\",\"\")),\"\")","v":""},"No Entry",0]
[null,null,null,null,null,null,null,null,null,null,null,null,"",{"$f":"IF(D3871=\"Cash and Deposits\",IF(E3871=\"\",\"BANK NAME REQUIRED\",IF(ISERROR(VLOOKUP(E3871,'Reference Data'!C:C,1,FALSE)),\"PLEASE SELECT A BANK FROM DEFINED LIST PROVIDED\",\"\")),\"\")","v":""},"No Entry",0]
[null,null,null,null,null,null,null,null,null,null,null,null,"",{"$f":"IF(D3872=\"Cash and Deposits\",IF(E3872=\"\",\"BANK NAME REQUIRED\",IF(ISERROR(VLOOKUP(E3872,'Reference Data'!C:C,1,FALSE)),\"PLEASE SELECT A BANK FROM DEFINED LIST PROVIDED\",\"\")),\"\")","v":""},"No Entry",0]
[null,null,null,null,null,null,null,null,null,null,null,null,"",{"$f":"IF(D3873=\"Cash and Deposits\",IF(E3873=\"\",\"BANK NAME REQUIRED\",IF(ISERROR(VLOOKUP(E3873,'Reference Data'!C:C,1,FALSE)),\"PLEASE SELECT A BANK FROM DEFINED LIST PROVIDED\",\"\")),\"\")","v":""},"No Entry",0]
[null,null,null,null,null,null,null,null,null,null,null,null,"",{"$f":"IF(D3874=\"Cash and Deposits\",IF(E3874=\"\",\"BANK NAME REQUIRED\",IF(ISERROR(VLOOKUP(E3874,'Reference Data'!C:C,1,FALSE)),\"PLEASE SELECT A BANK FROM DEFINED LIST PROVIDED\",\"\")),\"\")","v":""},"No Entry",0]
[null,null,null,null,null,null,null,null,null,null,null,null,"",{"$f":"IF(D3875=\"Cash and Deposits\",IF(E3875=\"\",\"BANK NAME REQUIRED\",IF(ISERROR(VLOOKUP(E3875,'Reference Data'!C:C,1,FALSE)),\"PLEASE SELECT A BANK FROM DEFINED LIST PROVIDED\",\"\")),\"\")","v":""},"No Entry",0]
[null,null,null,null,null,null,null,null,null,null,null,null,"",{"$f":"IF(D3876=\"Cash and Deposits\",IF(E3876=\"\",\"BANK NAME REQUIRED\",IF(ISERROR(VLOOKUP(E3876,'Reference Data'!C:C,1,FALSE)),\"PLEASE SELECT A BANK FROM DEFINED LIST PROVIDED\",\"\")),\"\")","v":""},"No Entry",0]
[null,null,null,null,null,null,null,null,null,null,null,null,"",{"$f":"IF(D3877=\"Cash and Deposits\",IF(E3877=\"\",\"BANK NAME REQUIRED\",IF(ISERROR(VLOOKUP(E3877,'Reference Data'!C:C,1,FALSE)),\"PLEASE SELECT A BANK FROM DEFINED LIST PROVIDED\",\"\")),\"\")","v":""},"No Entry",0]
[null,null,null,null,null,null,null,null,null,null,null,null,"",{"$f":"IF(D3878=\"Cash and Deposits\",IF(E3878=\"\",\"BANK NAME REQUIRED\",IF(ISERROR(VLOOKUP(E3878,'Reference Data'!C:C,1,FALSE)),\"PLEASE SELECT A BANK FROM DEFINED LIST PROVIDED\",\"\")),\"\")","v":""},"No Entry",0]
[null,null,null,null,null,null,null,null,null,null,null,null,"",{"$f":"IF(D3879=\"Cash and Deposits\",IF(E3879=\"\",\"BANK NAME REQUIRED\",IF(ISERROR(VLOOKUP(E3879,'Reference Data'!C:C,1,FALSE)),\"PLEASE SELECT A BANK FROM DEFINED LIST PROVIDED\",\"\")),\"\")","v":""},"No Entry",0]
[null,null,null,null,null,null,null,null,null,null,null,null,"",{"$f":"IF(D3880=\"Cash and Deposits\",IF(E3880=\"\",\"BANK NAME REQUIRED\",IF(ISERROR(VLOOKUP(E3880,'Reference Data'!C:C,1,FALSE)),\"PLEASE SELECT A BANK FROM DEFINED LIST PROVIDED\",\"\")),\"\")","v":""},"No Entry",0]
[null,null,null,null,null,null,null,null,null,null,null,null,"",{"$f":"IF(D3881=\"Cash and Deposits\",IF(E3881=\"\",\"BANK NAME REQUIRED\",IF(ISERROR(VLOOKUP(E3881,'Reference Data'!C:C,1,FALSE)),\"PLEASE SELECT A BANK FROM DEFINED LIST PROVIDED\",\"\")),\"\")","v":""},"No Entry",0]
[null,null,null,null,null,null,null,null,null,null,null,null,"",{"$f":"IF(D3882=\"Cash and Deposits\",IF(E3882=\"\",\"BANK NAME REQUIRED\",IF(ISERROR(VLOOKUP(E3882,'Reference Data'!C:C,1,FALSE)),\"PLEASE SELECT A BANK FROM DEFINED LIST PROVIDED\",\"\")),\"\")","v":""},"No Entry",0]
[null,null,null,null,null,null,null,null,null,null,null,null,"",{"$f":"IF(D3883=\"Cash and Deposits\",IF(E3883=\"\",\"BANK NAME REQUIRED\",IF(ISERROR(VLOOKUP(E3883,'Reference Data'!C:C,1,FALSE)),\"PLEASE SELECT A BANK FROM DEFINED LIST PROVIDED\",\"\")),\"\")","v":""},"No Entry",0]
[null,null,null,null,null,null,null,null,null,null,null,null,"",{"$f":"IF(D3884=\"Cash and Deposits\",IF(E3884=\"\",\"BANK NAME REQUIRED\",IF(ISERROR(VLOOKUP(E3884,'Reference Data'!C:C,1,FALSE)),\"PLEASE SELECT A BANK FROM DEFINED LIST PROVIDED\",\"\")),\"\")","v":""},"No Entry",0]
[null,null,null,null,null,null,null,null,null,null,null,null,"",{"$f":"IF(D3885=\"Cash and Deposits\",IF(E3885=\"\",\"BANK NAME REQUIRED\",IF(ISERROR(VLOOKUP(E3885,'Reference Data'!C:C,1,FALSE)),\"PLEASE SELECT A BANK FROM DEFINED LIST PROVIDED\",\"\")),\"\")","v":""},"No Entry",0]
[null,null,null,null,null,null,null,null,null,null,null,null,"",{"$f":"IF(D3886=\"Cash and Deposits\",IF(E3886=\"\",\"BANK NAME REQUIRED\",IF(ISERROR(VLOOKUP(E3886,'Reference Data'!C:C,1,FALSE)),\"PLEASE SELECT A BANK FROM DEFINED LIST PROVIDED\",\"\")),\"\")","v":""},"No Entry",0]
[null,null,null,null,null,null,null,null,null,null,null,null,"",{"$f":"IF(D3887=\"Cash and Deposits\",IF(E3887=\"\",\"BANK NAME REQUIRED\",IF(ISERROR(VLOOKUP(E3887,'Reference Data'!C:C,1,FALSE)),\"PLEASE SELECT A BANK FROM DEFINED LIST PROVIDED\",\"\")),\"\")","v":""},"No Entry",0]
[null,null,null,null,null,null,null,null,null,null,null,null,"",{"$f":"IF(D3888=\"Cash and Deposits\",IF(E3888=\"\",\"BANK NAME REQUIRED\",IF(ISERROR(VLOOKUP(E3888,'Reference Data'!C:C,1,FALSE)),\"PLEASE SELECT A BANK FROM DEFINED LIST PROVIDED\",\"\")),\"\")","v":""},"No Entry",0]
[null,null,null,null,null,null,null,null,null,null,null,null,"",{"$f":"IF(D3889=\"Cash and Deposits\",IF(E3889=\"\",\"BANK NAME REQUIRED\",IF(ISERROR(VLOOKUP(E3889,'Reference Data'!C:C,1,FALSE)),\"PLEASE SELECT A BANK FROM DEFINED LIST PROVIDED\",\"\")),\"\")","v":""},"No Entry",0]
[null,null,null,null,null,null,null,null,null,null,null,null,"",{"$f":"IF(D3890=\"Cash and Deposits\",IF(E3890=\"\",\"BANK NAME REQUIRED\",IF(ISERROR(VLOOKUP(E3890,'Reference Data'!C:C,1,FALSE)),\"PLEASE SELECT A BANK FROM DEFINED LIST PROVIDED\",\"\")),\"\")","v":""},"No Entry",0]
[null,null,null,null,null,null,null,null,null,null,null,null,"",{"$f":"IF(D3891=\"Cash and Deposits\",IF(E3891=\"\",\"BANK NAME REQUIRED\",IF(ISERROR(VLOOKUP(E3891,'Reference Data'!C:C,1,FALSE)),\"PLEASE SELECT A BANK FROM DEFINED LIST PROVIDED\",\"\")),\"\")","v":""},"No Entry",0]
[null,null,null,null,null,null,null,null,null,null,null,null,"",{"$f":"IF(D3892=\"Cash and Deposits\",IF(E3892=\"\",\"BANK NAME REQUIRED\",IF(ISERROR(VLOOKUP(E3892,'Reference Data'!C:C,1,FALSE)),\"PLEASE SELECT A BANK FROM DEFINED LIST PROVIDED\",\"\")),\"\")","v":""},"No Entry",0]
[null,null,null,null,null,null,null,null,null,null,null,null,"",{"$f":"IF(D3893=\"Cash and Deposits\",IF(E3893=\"\",\"BANK NAME REQUIRED\",IF(ISERROR(VLOOKUP(E3893,'Reference Data'!C:C,1,FALSE)),\"PLEASE SELECT A BANK FROM DEFINED LIST PROVIDED\",\"\")),\"\")","v":""},"No Entry",0]
[null,null,null,null,null,null,null,null,null,null,null,null,"",{"$f":"IF(D3894=\"Cash and Deposits\",IF(E3894=\"\",\"BANK NAME REQUIRED\",IF(ISERROR(VLOOKUP(E3894,'Reference Data'!C:C,1,FALSE)),\"PLEASE SELECT A BANK FROM DEFINED LIST PROVIDED\",\"\")),\"\")","v":""},"No Entry",0]
[null,null,null,null,null,null,null,null,null,null,null,null,"",{"$f":"IF(D3895=\"Cash and Deposits\",IF(E3895=\"\",\"BANK NAME REQUIRED\",IF(ISERROR(VLOOKUP(E3895,'Reference Data'!C:C,1,FALSE)),\"PLEASE SELECT A BANK FROM DEFINED LIST PROVIDED\",\"\")),\"\")","v":""},"No Entry",0]
[null,null,null,null,null,null,null,null,null,null,null,null,"",{"$f":"IF(D3896=\"Cash and Deposits\",IF(E3896=\"\",\"BANK NAME REQUIRED\",IF(ISERROR(VLOOKUP(E3896,'Reference Data'!C:C,1,FALSE)),\"PLEASE SELECT A BANK FROM DEFINED LIST PROVIDED\",\"\")),\"\")","v":""},"No Entry",0]
[null,null,null,null,null,null,null,null,null,null,null,null,"",{"$f":"IF(D3897=\"Cash and Deposits\",IF(E3897=\"\",\"BANK NAME REQUIRED\",IF(ISERROR(VLOOKUP(E3897,'Reference Data'!C:C,1,FALSE)),\"PLEASE SELECT A BANK FROM DEFINED LIST PROVIDED\",\"\")),\"\")","v":""},"No Entry",0]
[null,null,null,null,null,null,null,null,null,null,null,null,"",{"$f":"IF(D3898=\"Cash and Deposits\",IF(E3898=\"\",\"BANK NAME REQUIRED\",IF(ISERROR(VLOOKUP(E3898,'Reference Data'!C:C,1,FALSE)),\"PLEASE SELECT A BANK FROM DEFINED LIST PROVIDED\",\"\")),\"\")","v":""},"No Entry",0]
[null,null,null,null,null,null,null,null,null,null,null,null,"",{"$f":"IF(D3899=\"Cash and Deposits\",IF(E3899=\"\",\"BANK NAME REQUIRED\",IF(ISERROR(VLOOKUP(E3899,'Reference Data'!C:C,1,FALSE)),\"PLEASE SELECT A BANK FROM DEFINED LIST PROVIDED\",\"\")),\"\")","v":""},"No Entry",0]
[null,null,null,null,null,null,null,null,null,null,null,null,"",{"$f":"IF(D3900=\"Cash and Deposits\",IF(E3900=\"\",\"BANK NAME REQUIRED\",IF(ISERROR(VLOOKUP(E3900,'Reference Data'!C:C,1,FALSE)),\"PLEASE SELECT A BANK FROM DEFINED LIST PROVIDED\",\"\")),\"\")","v":""},"No Entry",0]
[null,null,null,null,null,null,null,null,null,null,null,null,"",{"$f":"IF(D3901=\"Cash and Deposits\",IF(E3901=\"\",\"BANK NAME REQUIRED\",IF(ISERROR(VLOOKUP(E3901,'Reference Data'!C:C,1,FALSE)),\"PLEASE SELECT A BANK FROM DEFINED LIST PROVIDED\",\"\")),\"\")","v":""},"No Entry",0]
[null,null,null,null,null,null,null,null,null,null,null,null,"",{"$f":"IF(D3902=\"Cash and Deposits\",IF(E3902=\"\",\"BANK NAME REQUIRED\",IF(ISERROR(VLOOKUP(E3902,'Reference Data'!C:C,1,FALSE)),\"PLEASE SELECT A BANK FROM DEFINED LIST PROVIDED\",\"\")),\"\")","v":""},"No Entry",0]
[null,null,null,null,null,null,null,null,null,null,null,null,"",{"$f":"IF(D3903=\"Cash and Deposits\",IF(E3903=\"\",\"BANK NAME REQUIRED\",IF(ISERROR(VLOOKUP(E3903,'Reference Data'!C:C,1,FALSE)),\"PLEASE SELECT A BANK FROM DEFINED LIST PROVIDED\",\"\")),\"\")","v":""},"No Entry",0]
[null,null,null,null,null,null,null,null,null,null,null,null,"",{"$f":"IF(D3904=\"Cash and Deposits\",IF(E3904=\"\",\"BANK NAME REQUIRED\",IF(ISERROR(VLOOKUP(E3904,'Reference Data'!C:C,1,FALSE)),\"PLEASE SELECT A BANK FROM DEFINED LIST PROVIDED\",\"\")),\"\")","v":""},"No Entry",0]
[null,null,null,null,null,null,null,null,null,null,null,null,"",{"$f":"IF(D3905=\"Cash and Deposits\",IF(E3905=\"\",\"BANK NAME REQUIRED\",IF(ISERROR(VLOOKUP(E3905,'Reference Data'!C:C,1,FALSE)),\"PLEASE SELECT A BANK FROM DEFINED LIST PROVIDED\",\"\")),\"\")","v":""},"No Entry",0]
[null,null,null,null,null,null,null,null,null,null,null,null,"",{"$f":"IF(D3906=\"Cash and Deposits\",IF(E3906=\"\",\"BANK NAME REQUIRED\",IF(ISERROR(VLOOKUP(E3906,'Reference Data'!C:C,1,FALSE)),\"PLEASE SELECT A BANK FROM DEFINED LIST PROVIDED\",\"\")),\"\")","v":""},"No Entry",0]
[null,null,null,null,null,null,null,null,null,null,null,null,"",{"$f":"IF(D3907=\"Cash and Deposits\",IF(E3907=\"\",\"BANK NAME REQUIRED\",IF(ISERROR(VLOOKUP(E3907,'Reference Data'!C:C,1,FALSE)),\"PLEASE SELECT A BANK FROM DEFINED LIST PROVIDED\",\"\")),\"\")","v":""},"No Entry",0]
[null,null,null,null,null,null,null,null,null,null,null,null,"",{"$f":"IF(D3908=\"Cash and Deposits\",IF(E3908=\"\",\"BANK NAME REQUIRED\",IF(ISERROR(VLOOKUP(E3908,'Reference Data'!C:C,1,FALSE)),\"PLEASE SELECT A BANK FROM DEFINED LIST PROVIDED\",\"\")),\"\")","v":""},"No Entry",0]
[null,null,null,null,null,null,null,null,null,null,null,null,{"$f":"IF(K3909<>0,IF(B3909=\"\",\"ID CODE REQUIRED\",\"\"),\"\")","v":""},{"$f":"IF(D3909=\"Cash and Deposits\",IF(E3909=\"\",\"BANK NAME REQUIRED\",IF(ISERROR(VLOOKUP(E3909,'Reference Data'!C:C,1,FALSE)),\"PLEASE SELECT A BANK FROM DEFINED LIST PROVIDED\",\"\")),\"\")","v":""},{"$f":"IF(K3909=0,\"No Entry\",\"\")","v":"No Entry"},{"$f":"IF(K3909<>0,IF(A3909=\"\",1,0),0)","v":0}]
[null,null,null,null,null,null,null,null,null,null,null,null,"",{"$f":"IF(D3910=\"Cash and Deposits\",IF(E3910=\"\",\"BANK NAME REQUIRED\",IF(ISERROR(VLOOKUP(E3910,'Reference Data'!C:C,1,FALSE)),\"PLEASE SELECT A BANK FROM DEFINED LIST PROVIDED\",\"\")),\"\")","v":""},"No Entry",0]
[null,null,null,null,null,null,null,null,null,null,null,null,"",{"$f":"IF(D3911=\"Cash and Deposits\",IF(E3911=\"\",\"BANK NAME REQUIRED\",IF(ISERROR(VLOOKUP(E3911,'Reference Data'!C:C,1,FALSE)),\"PLEASE SELECT A BANK FROM DEFINED LIST PROVIDED\",\"\")),\"\")","v":""},"No Entry",0]
[null,null,null,null,null,null,null,null,null,null,null,null,"",{"$f":"IF(D3912=\"Cash and Deposits\",IF(E3912=\"\",\"BANK NAME REQUIRED\",IF(ISERROR(VLOOKUP(E3912,'Reference Data'!C:C,1,FALSE)),\"PLEASE SELECT A BANK FROM DEFINED LIST PROVIDED\",\"\")),\"\")","v":""},"No Entry",0]
[null,null,null,null,null,null,null,null,null,null,null,null,"",{"$f":"IF(D3913=\"Cash and Deposits\",IF(E3913=\"\",\"BANK NAME REQUIRED\",IF(ISERROR(VLOOKUP(E3913,'Reference Data'!C:C,1,FALSE)),\"PLEASE SELECT A BANK FROM DEFINED LIST PROVIDED\",\"\")),\"\")","v":""},"No Entry",0]
[null,null,null,null,null,null,null,null,null,null,null,null,"",{"$f":"IF(D3914=\"Cash and Deposits\",IF(E3914=\"\",\"BANK NAME REQUIRED\",IF(ISERROR(VLOOKUP(E3914,'Reference Data'!C:C,1,FALSE)),\"PLEASE SELECT A BANK FROM DEFINED LIST PROVIDED\",\"\")),\"\")","v":""},"No Entry",0]
[null,null,null,null,null,null,null,null,null,null,null,null,"",{"$f":"IF(D3915=\"Cash and Deposits\",IF(E3915=\"\",\"BANK NAME REQUIRED\",IF(ISERROR(VLOOKUP(E3915,'Reference Data'!C:C,1,FALSE)),\"PLEASE SELECT A BANK FROM DEFINED LIST PROVIDED\",\"\")),\"\")","v":""},"No Entry",0]
[null,null,null,null,null,null,null,null,null,null,null,null,"",{"$f":"IF(D3916=\"Cash and Deposits\",IF(E3916=\"\",\"BANK NAME REQUIRED\",IF(ISERROR(VLOOKUP(E3916,'Reference Data'!C:C,1,FALSE)),\"PLEASE SELECT A BANK FROM DEFINED LIST PROVIDED\",\"\")),\"\")","v":""},"No Entry",0]
[null,null,null,null,null,null,null,null,null,null,null,null,"",{"$f":"IF(D3917=\"Cash and Deposits\",IF(E3917=\"\",\"BANK NAME REQUIRED\",IF(ISERROR(VLOOKUP(E3917,'Reference Data'!C:C,1,FALSE)),\"PLEASE SELECT A BANK FROM DEFINED LIST PROVIDED\",\"\")),\"\")","v":""},"No Entry",0]
[null,null,null,null,null,null,null,null,null,null,null,null,"",{"$f":"IF(D3918=\"Cash and Deposits\",IF(E3918=\"\",\"BANK NAME REQUIRED\",IF(ISERROR(VLOOKUP(E3918,'Reference Data'!C:C,1,FALSE)),\"PLEASE SELECT A BANK FROM DEFINED LIST PROVIDED\",\"\")),\"\")","v":""},"No Entry",0]
[null,null,null,null,null,null,null,null,null,null,null,null,"",{"$f":"IF(D3919=\"Cash and Deposits\",IF(E3919=\"\",\"BANK NAME REQUIRED\",IF(ISERROR(VLOOKUP(E3919,'Reference Data'!C:C,1,FALSE)),\"PLEASE SELECT A BANK FROM DEFINED LIST PROVIDED\",\"\")),\"\")","v":""},"No Entry",0]
[null,null,null,null,null,null,null,null,null,null,null,null,"",{"$f":"IF(D3920=\"Cash and Deposits\",IF(E3920=\"\",\"BANK NAME REQUIRED\",IF(ISERROR(VLOOKUP(E3920,'Reference Data'!C:C,1,FALSE)),\"PLEASE SELECT A BANK FROM DEFINED LIST PROVIDED\",\"\")),\"\")","v":""},"No Entry",0]
[null,null,null,null,null,null,null,null,null,null,null,null,"",{"$f":"IF(D3921=\"Cash and Deposits\",IF(E3921=\"\",\"BANK NAME REQUIRED\",IF(ISERROR(VLOOKUP(E3921,'Reference Data'!C:C,1,FALSE)),\"PLEASE SELECT A BANK FROM DEFINED LIST PROVIDED\",\"\")),\"\")","v":""},"No Entry",0]
[null,null,null,null,null,null,null,null,null,null,null,null,"",{"$f":"IF(D3922=\"Cash and Deposits\",IF(E3922=\"\",\"BANK NAME REQUIRED\",IF(ISERROR(VLOOKUP(E3922,'Reference Data'!C:C,1,FALSE)),\"PLEASE SELECT A BANK FROM DEFINED LIST PROVIDED\",\"\")),\"\")","v":""},"No Entry",0]
[null,null,null,null,null,null,null,null,null,null,null,null,"",{"$f":"IF(D3923=\"Cash and Deposits\",IF(E3923=\"\",\"BANK NAME REQUIRED\",IF(ISERROR(VLOOKUP(E3923,'Reference Data'!C:C,1,FALSE)),\"PLEASE SELECT A BANK FROM DEFINED LIST PROVIDED\",\"\")),\"\")","v":""},"No Entry",0]
[null,null,null,null,null,null,null,null,null,null,null,null,"",{"$f":"IF(D3924=\"Cash and Deposits\",IF(E3924=\"\",\"BANK NAME REQUIRED\",IF(ISERROR(VLOOKUP(E3924,'Reference Data'!C:C,1,FALSE)),\"PLEASE SELECT A BANK FROM DEFINED LIST PROVIDED\",\"\")),\"\")","v":""},"No Entry",0]
[null,null,null,null,null,null,null,null,null,null,null,null,"",{"$f":"IF(D3925=\"Cash and Deposits\",IF(E3925=\"\",\"BANK NAME REQUIRED\",IF(ISERROR(VLOOKUP(E3925,'Reference Data'!C:C,1,FALSE)),\"PLEASE SELECT A BANK FROM DEFINED LIST PROVIDED\",\"\")),\"\")","v":""},"No Entry",0]
[null,null,null,null,null,null,null,null,null,null,null,null,"",{"$f":"IF(D3926=\"Cash and Deposits\",IF(E3926=\"\",\"BANK NAME REQUIRED\",IF(ISERROR(VLOOKUP(E3926,'Reference Data'!C:C,1,FALSE)),\"PLEASE SELECT A BANK FROM DEFINED LIST PROVIDED\",\"\")),\"\")","v":""},"No Entry",0]
[null,null,null,null,null,null,null,null,null,null,null,null,"",{"$f":"IF(D3927=\"Cash and Deposits\",IF(E3927=\"\",\"BANK NAME REQUIRED\",IF(ISERROR(VLOOKUP(E3927,'Reference Data'!C:C,1,FALSE)),\"PLEASE SELECT A BANK FROM DEFINED LIST PROVIDED\",\"\")),\"\")","v":""},"No Entry",0]
[null,null,null,null,null,null,null,null,null,null,null,null,"",{"$f":"IF(D3928=\"Cash and Deposits\",IF(E3928=\"\",\"BANK NAME REQUIRED\",IF(ISERROR(VLOOKUP(E3928,'Reference Data'!C:C,1,FALSE)),\"PLEASE SELECT A BANK FROM DEFINED LIST PROVIDED\",\"\")),\"\")","v":""},"No Entry",0]
[null,null,null,null,null,null,null,null,null,null,null,null,"",{"$f":"IF(D3929=\"Cash and Deposits\",IF(E3929=\"\",\"BANK NAME REQUIRED\",IF(ISERROR(VLOOKUP(E3929,'Reference Data'!C:C,1,FALSE)),\"PLEASE SELECT A BANK FROM DEFINED LIST PROVIDED\",\"\")),\"\")","v":""},"No Entry",0]
[null,null,null,null,null,null,null,null,null,null,null,null,"",{"$f":"IF(D3930=\"Cash and Deposits\",IF(E3930=\"\",\"BANK NAME REQUIRED\",IF(ISERROR(VLOOKUP(E3930,'Reference Data'!C:C,1,FALSE)),\"PLEASE SELECT A BANK FROM DEFINED LIST PROVIDED\",\"\")),\"\")","v":""},"No Entry",0]
[null,null,null,null,null,null,null,null,null,null,null,null,"",{"$f":"IF(D3931=\"Cash and Deposits\",IF(E3931=\"\",\"BANK NAME REQUIRED\",IF(ISERROR(VLOOKUP(E3931,'Reference Data'!C:C,1,FALSE)),\"PLEASE SELECT A BANK FROM DEFINED LIST PROVIDED\",\"\")),\"\")","v":""},"No Entry",0]
[null,null,null,null,null,null,null,null,null,null,null,null,"",{"$f":"IF(D3932=\"Cash and Deposits\",IF(E3932=\"\",\"BANK NAME REQUIRED\",IF(ISERROR(VLOOKUP(E3932,'Reference Data'!C:C,1,FALSE)),\"PLEASE SELECT A BANK FROM DEFINED LIST PROVIDED\",\"\")),\"\")","v":""},"No Entry",0]
[null,null,null,null,null,null,null,null,null,null,null,null,"",{"$f":"IF(D3933=\"Cash and Deposits\",IF(E3933=\"\",\"BANK NAME REQUIRED\",IF(ISERROR(VLOOKUP(E3933,'Reference Data'!C:C,1,FALSE)),\"PLEASE SELECT A BANK FROM DEFINED LIST PROVIDED\",\"\")),\"\")","v":""},"No Entry",0]
[null,null,null,null,null,null,null,null,null,null,null,null,"",{"$f":"IF(D3934=\"Cash and Deposits\",IF(E3934=\"\",\"BANK NAME REQUIRED\",IF(ISERROR(VLOOKUP(E3934,'Reference Data'!C:C,1,FALSE)),\"PLEASE SELECT A BANK FROM DEFINED LIST PROVIDED\",\"\")),\"\")","v":""},"No Entry",0]
[null,null,null,null,null,null,null,null,null,null,null,null,"",{"$f":"IF(D3935=\"Cash and Deposits\",IF(E3935=\"\",\"BANK NAME REQUIRED\",IF(ISERROR(VLOOKUP(E3935,'Reference Data'!C:C,1,FALSE)),\"PLEASE SELECT A BANK FROM DEFINED LIST PROVIDED\",\"\")),\"\")","v":""},"No Entry",0]
[null,null,null,null,null,null,null,null,null,null,null,null,"",{"$f":"IF(D3936=\"Cash and Deposits\",IF(E3936=\"\",\"BANK NAME REQUIRED\",IF(ISERROR(VLOOKUP(E3936,'Reference Data'!C:C,1,FALSE)),\"PLEASE SELECT A BANK FROM DEFINED LIST PROVIDED\",\"\")),\"\")","v":""},"No Entry",0]
[null,null,null,null,null,null,null,null,null,null,null,null,"",{"$f":"IF(D3937=\"Cash and Deposits\",IF(E3937=\"\",\"BANK NAME REQUIRED\",IF(ISERROR(VLOOKUP(E3937,'Reference Data'!C:C,1,FALSE)),\"PLEASE SELECT A BANK FROM DEFINED LIST PROVIDED\",\"\")),\"\")","v":""},"No Entry",0]
[null,null,null,null,null,null,null,null,null,null,null,null,"",{"$f":"IF(D3938=\"Cash and Deposits\",IF(E3938=\"\",\"BANK NAME REQUIRED\",IF(ISERROR(VLOOKUP(E3938,'Reference Data'!C:C,1,FALSE)),\"PLEASE SELECT A BANK FROM DEFINED LIST PROVIDED\",\"\")),\"\")","v":""},"No Entry",0]
[null,null,null,null,null,null,null,null,null,null,null,null,"",{"$f":"IF(D3939=\"Cash and Deposits\",IF(E3939=\"\",\"BANK NAME REQUIRED\",IF(ISERROR(VLOOKUP(E3939,'Reference Data'!C:C,1,FALSE)),\"PLEASE SELECT A BANK FROM DEFINED LIST PROVIDED\",\"\")),\"\")","v":""},"No Entry",0]
[null,null,null,null,null,null,null,null,null,null,null,null,"",{"$f":"IF(D3940=\"Cash and Deposits\",IF(E3940=\"\",\"BANK NAME REQUIRED\",IF(ISERROR(VLOOKUP(E3940,'Reference Data'!C:C,1,FALSE)),\"PLEASE SELECT A BANK FROM DEFINED LIST PROVIDED\",\"\")),\"\")","v":""},"No Entry",0]
[null,null,null,null,null,null,null,null,null,null,null,null,"",{"$f":"IF(D3941=\"Cash and Deposits\",IF(E3941=\"\",\"BANK NAME REQUIRED\",IF(ISERROR(VLOOKUP(E3941,'Reference Data'!C:C,1,FALSE)),\"PLEASE SELECT A BANK FROM DEFINED LIST PROVIDED\",\"\")),\"\")","v":""},"No Entry",0]
[null,null,null,null,null,null,null,null,null,null,null,null,"",{"$f":"IF(D3942=\"Cash and Deposits\",IF(E3942=\"\",\"BANK NAME REQUIRED\",IF(ISERROR(VLOOKUP(E3942,'Reference Data'!C:C,1,FALSE)),\"PLEASE SELECT A BANK FROM DEFINED LIST PROVIDED\",\"\")),\"\")","v":""},"No Entry",0]
[null,null,null,null,null,null,null,null,null,null,null,null,"",{"$f":"IF(D3943=\"Cash and Deposits\",IF(E3943=\"\",\"BANK NAME REQUIRED\",IF(ISERROR(VLOOKUP(E3943,'Reference Data'!C:C,1,FALSE)),\"PLEASE SELECT A BANK FROM DEFINED LIST PROVIDED\",\"\")),\"\")","v":""},"No Entry",0]
[null,null,null,null,null,null,null,null,null,null,null,null,"",{"$f":"IF(D3944=\"Cash and Deposits\",IF(E3944=\"\",\"BANK NAME REQUIRED\",IF(ISERROR(VLOOKUP(E3944,'Reference Data'!C:C,1,FALSE)),\"PLEASE SELECT A BANK FROM DEFINED LIST PROVIDED\",\"\")),\"\")","v":""},"No Entry",0]
[null,null,null,null,null,null,null,null,null,null,null,null,"",{"$f":"IF(D3945=\"Cash and Deposits\",IF(E3945=\"\",\"BANK NAME REQUIRED\",IF(ISERROR(VLOOKUP(E3945,'Reference Data'!C:C,1,FALSE)),\"PLEASE SELECT A BANK FROM DEFINED LIST PROVIDED\",\"\")),\"\")","v":""},"No Entry",0]
[null,null,null,null,null,null,null,null,null,null,null,null,"",{"$f":"IF(D3946=\"Cash and Deposits\",IF(E3946=\"\",\"BANK NAME REQUIRED\",IF(ISERROR(VLOOKUP(E3946,'Reference Data'!C:C,1,FALSE)),\"PLEASE SELECT A BANK FROM DEFINED LIST PROVIDED\",\"\")),\"\")","v":""},"No Entry",0]
[null,null,null,null,null,null,null,null,null,null,null,null,"",{"$f":"IF(D3947=\"Cash and Deposits\",IF(E3947=\"\",\"BANK NAME REQUIRED\",IF(ISERROR(VLOOKUP(E3947,'Reference Data'!C:C,1,FALSE)),\"PLEASE SELECT A BANK FROM DEFINED LIST PROVIDED\",\"\")),\"\")","v":""},"No Entry",0]
[null,null,null,null,null,null,null,null,null,null,null,null,"",{"$f":"IF(D3948=\"Cash and Deposits\",IF(E3948=\"\",\"BANK NAME REQUIRED\",IF(ISERROR(VLOOKUP(E3948,'Reference Data'!C:C,1,FALSE)),\"PLEASE SELECT A BANK FROM DEFINED LIST PROVIDED\",\"\")),\"\")","v":""},"No Entry",0]
[null,null,null,null,null,null,null,null,null,null,null,null,"",{"$f":"IF(D3949=\"Cash and Deposits\",IF(E3949=\"\",\"BANK NAME REQUIRED\",IF(ISERROR(VLOOKUP(E3949,'Reference Data'!C:C,1,FALSE)),\"PLEASE SELECT A BANK FROM DEFINED LIST PROVIDED\",\"\")),\"\")","v":""},"No Entry",0]
[null,null,null,null,null,null,null,null,null,null,null,null,"",{"$f":"IF(D3950=\"Cash and Deposits\",IF(E3950=\"\",\"BANK NAME REQUIRED\",IF(ISERROR(VLOOKUP(E3950,'Reference Data'!C:C,1,FALSE)),\"PLEASE SELECT A BANK FROM DEFINED LIST PROVIDED\",\"\")),\"\")","v":""},"No Entry",0]
[null,null,null,null,null,null,null,null,null,null,null,null,"",{"$f":"IF(D3951=\"Cash and Deposits\",IF(E3951=\"\",\"BANK NAME REQUIRED\",IF(ISERROR(VLOOKUP(E3951,'Reference Data'!C:C,1,FALSE)),\"PLEASE SELECT A BANK FROM DEFINED LIST PROVIDED\",\"\")),\"\")","v":""},"No Entry",0]
[null,null,null,null,null,null,null,null,null,null,null,null,"",{"$f":"IF(D3952=\"Cash and Deposits\",IF(E3952=\"\",\"BANK NAME REQUIRED\",IF(ISERROR(VLOOKUP(E3952,'Reference Data'!C:C,1,FALSE)),\"PLEASE SELECT A BANK FROM DEFINED LIST PROVIDED\",\"\")),\"\")","v":""},"No Entry",0]
[null,null,null,null,null,null,null,null,null,null,null,null,"",{"$f":"IF(D3953=\"Cash and Deposits\",IF(E3953=\"\",\"BANK NAME REQUIRED\",IF(ISERROR(VLOOKUP(E3953,'Reference Data'!C:C,1,FALSE)),\"PLEASE SELECT A BANK FROM DEFINED LIST PROVIDED\",\"\")),\"\")","v":""},"No Entry",0]
[null,null,null,null,null,null,null,null,null,null,null,null,"",{"$f":"IF(D3954=\"Cash and Deposits\",IF(E3954=\"\",\"BANK NAME REQUIRED\",IF(ISERROR(VLOOKUP(E3954,'Reference Data'!C:C,1,FALSE)),\"PLEASE SELECT A BANK FROM DEFINED LIST PROVIDED\",\"\")),\"\")","v":""},"No Entry",0]
[null,null,null,null,null,null,null,null,null,null,null,null,"",{"$f":"IF(D3955=\"Cash and Deposits\",IF(E3955=\"\",\"BANK NAME REQUIRED\",IF(ISERROR(VLOOKUP(E3955,'Reference Data'!C:C,1,FALSE)),\"PLEASE SELECT A BANK FROM DEFINED LIST PROVIDED\",\"\")),\"\")","v":""},"No Entry",0]
[null,null,null,null,null,null,null,null,null,null,null,null,"",{"$f":"IF(D3956=\"Cash and Deposits\",IF(E3956=\"\",\"BANK NAME REQUIRED\",IF(ISERROR(VLOOKUP(E3956,'Reference Data'!C:C,1,FALSE)),\"PLEASE SELECT A BANK FROM DEFINED LIST PROVIDED\",\"\")),\"\")","v":""},"No Entry",0]
[null,null,null,null,null,null,null,null,null,null,null,null,"",{"$f":"IF(D3957=\"Cash and Deposits\",IF(E3957=\"\",\"BANK NAME REQUIRED\",IF(ISERROR(VLOOKUP(E3957,'Reference Data'!C:C,1,FALSE)),\"PLEASE SELECT A BANK FROM DEFINED LIST PROVIDED\",\"\")),\"\")","v":""},"No Entry",0]
[null,null,null,null,null,null,null,null,null,null,null,null,"",{"$f":"IF(D3958=\"Cash and Deposits\",IF(E3958=\"\",\"BANK NAME REQUIRED\",IF(ISERROR(VLOOKUP(E3958,'Reference Data'!C:C,1,FALSE)),\"PLEASE SELECT A BANK FROM DEFINED LIST PROVIDED\",\"\")),\"\")","v":""},"No Entry",0]
[null,null,null,null,null,null,null,null,null,null,null,null,"",{"$f":"IF(D3959=\"Cash and Deposits\",IF(E3959=\"\",\"BANK NAME REQUIRED\",IF(ISERROR(VLOOKUP(E3959,'Reference Data'!C:C,1,FALSE)),\"PLEASE SELECT A BANK FROM DEFINED LIST PROVIDED\",\"\")),\"\")","v":""},"No Entry",0]
[null,null,null,null,null,null,null,null,null,null,null,null,"",{"$f":"IF(D3960=\"Cash and Deposits\",IF(E3960=\"\",\"BANK NAME REQUIRED\",IF(ISERROR(VLOOKUP(E3960,'Reference Data'!C:C,1,FALSE)),\"PLEASE SELECT A BANK FROM DEFINED LIST PROVIDED\",\"\")),\"\")","v":""},"No Entry",0]
[null,null,null,null,null,null,null,null,null,null,null,null,"",{"$f":"IF(D3961=\"Cash and Deposits\",IF(E3961=\"\",\"BANK NAME REQUIRED\",IF(ISERROR(VLOOKUP(E3961,'Reference Data'!C:C,1,FALSE)),\"PLEASE SELECT A BANK FROM DEFINED LIST PROVIDED\",\"\")),\"\")","v":""},"No Entry",0]
[null,null,null,null,null,null,null,null,null,null,null,null,"",{"$f":"IF(D3962=\"Cash and Deposits\",IF(E3962=\"\",\"BANK NAME REQUIRED\",IF(ISERROR(VLOOKUP(E3962,'Reference Data'!C:C,1,FALSE)),\"PLEASE SELECT A BANK FROM DEFINED LIST PROVIDED\",\"\")),\"\")","v":""},"No Entry",0]
[null,null,null,null,null,null,null,null,null,null,null,null,"",{"$f":"IF(D3963=\"Cash and Deposits\",IF(E3963=\"\",\"BANK NAME REQUIRED\",IF(ISERROR(VLOOKUP(E3963,'Reference Data'!C:C,1,FALSE)),\"PLEASE SELECT A BANK FROM DEFINED LIST PROVIDED\",\"\")),\"\")","v":""},"No Entry",0]
[null,null,null,null,null,null,null,null,null,null,null,null,"",{"$f":"IF(D3964=\"Cash and Deposits\",IF(E3964=\"\",\"BANK NAME REQUIRED\",IF(ISERROR(VLOOKUP(E3964,'Reference Data'!C:C,1,FALSE)),\"PLEASE SELECT A BANK FROM DEFINED LIST PROVIDED\",\"\")),\"\")","v":""},"No Entry",0]
[null,null,null,null,null,null,null,null,null,null,null,null,"",{"$f":"IF(D3965=\"Cash and Deposits\",IF(E3965=\"\",\"BANK NAME REQUIRED\",IF(ISERROR(VLOOKUP(E3965,'Reference Data'!C:C,1,FALSE)),\"PLEASE SELECT A BANK FROM DEFINED LIST PROVIDED\",\"\")),\"\")","v":""},"No Entry",0]
[null,null,null,null,null,null,null,null,null,null,null,null,"",{"$f":"IF(D3966=\"Cash and Deposits\",IF(E3966=\"\",\"BANK NAME REQUIRED\",IF(ISERROR(VLOOKUP(E3966,'Reference Data'!C:C,1,FALSE)),\"PLEASE SELECT A BANK FROM DEFINED LIST PROVIDED\",\"\")),\"\")","v":""},"No Entry",0]
[null,null,null,null,null,null,null,null,null,null,null,null,"",{"$f":"IF(D3967=\"Cash and Deposits\",IF(E3967=\"\",\"BANK NAME REQUIRED\",IF(ISERROR(VLOOKUP(E3967,'Reference Data'!C:C,1,FALSE)),\"PLEASE SELECT A BANK FROM DEFINED LIST PROVIDED\",\"\")),\"\")","v":""},"No Entry",0]
[null,null,null,null,null,null,null,null,null,null,null,null,"",{"$f":"IF(D3968=\"Cash and Deposits\",IF(E3968=\"\",\"BANK NAME REQUIRED\",IF(ISERROR(VLOOKUP(E3968,'Reference Data'!C:C,1,FALSE)),\"PLEASE SELECT A BANK FROM DEFINED LIST PROVIDED\",\"\")),\"\")","v":""},"No Entry",0]
[null,null,null,null,null,null,null,null,null,null,null,null,"",{"$f":"IF(D3969=\"Cash and Deposits\",IF(E3969=\"\",\"BANK NAME REQUIRED\",IF(ISERROR(VLOOKUP(E3969,'Reference Data'!C:C,1,FALSE)),\"PLEASE SELECT A BANK FROM DEFINED LIST PROVIDED\",\"\")),\"\")","v":""},"No Entry",0]
[null,null,null,null,null,null,null,null,null,null,null,null,"",{"$f":"IF(D3970=\"Cash and Deposits\",IF(E3970=\"\",\"BANK NAME REQUIRED\",IF(ISERROR(VLOOKUP(E3970,'Reference Data'!C:C,1,FALSE)),\"PLEASE SELECT A BANK FROM DEFINED LIST PROVIDED\",\"\")),\"\")","v":""},"No Entry",0]
[null,null,null,null,null,null,null,null,null,null,null,null,"",{"$f":"IF(D3971=\"Cash and Deposits\",IF(E3971=\"\",\"BANK NAME REQUIRED\",IF(ISERROR(VLOOKUP(E3971,'Reference Data'!C:C,1,FALSE)),\"PLEASE SELECT A BANK FROM DEFINED LIST PROVIDED\",\"\")),\"\")","v":""},"No Entry",0]
[null,null,null,null,null,null,null,null,null,null,null,null,"",{"$f":"IF(D3972=\"Cash and Deposits\",IF(E3972=\"\",\"BANK NAME REQUIRED\",IF(ISERROR(VLOOKUP(E3972,'Reference Data'!C:C,1,FALSE)),\"PLEASE SELECT A BANK FROM DEFINED LIST PROVIDED\",\"\")),\"\")","v":""},"No Entry",0]
[null,null,null,null,null,null,null,null,null,null,null,null,{"$f":"IF(K3973<>0,IF(B3973=\"\",\"ID CODE REQUIRED\",\"\"),\"\")","v":""},{"$f":"IF(D3973=\"Cash and Deposits\",IF(E3973=\"\",\"BANK NAME REQUIRED\",IF(ISERROR(VLOOKUP(E3973,'Reference Data'!C:C,1,FALSE)),\"PLEASE SELECT A BANK FROM DEFINED LIST PROVIDED\",\"\")),\"\")","v":""},{"$f":"IF(K3973=0,\"No Entry\",\"\")","v":"No Entry"},{"$f":"IF(K3973<>0,IF(A3973=\"\",1,0),0)","v":0}]
[null,null,null,null,null,null,null,null,null,null,null,null,"",{"$f":"IF(D3974=\"Cash and Deposits\",IF(E3974=\"\",\"BANK NAME REQUIRED\",IF(ISERROR(VLOOKUP(E3974,'Reference Data'!C:C,1,FALSE)),\"PLEASE SELECT A BANK FROM DEFINED LIST PROVIDED\",\"\")),\"\")","v":""},"No Entry",0]
[null,null,null,null,null,null,null,null,null,null,null,null,"",{"$f":"IF(D3975=\"Cash and Deposits\",IF(E3975=\"\",\"BANK NAME REQUIRED\",IF(ISERROR(VLOOKUP(E3975,'Reference Data'!C:C,1,FALSE)),\"PLEASE SELECT A BANK FROM DEFINED LIST PROVIDED\",\"\")),\"\")","v":""},"No Entry",0]
[null,null,null,null,null,null,null,null,null,null,null,null,"",{"$f":"IF(D3976=\"Cash and Deposits\",IF(E3976=\"\",\"BANK NAME REQUIRED\",IF(ISERROR(VLOOKUP(E3976,'Reference Data'!C:C,1,FALSE)),\"PLEASE SELECT A BANK FROM DEFINED LIST PROVIDED\",\"\")),\"\")","v":""},"No Entry",0]
[null,null,null,null,null,null,null,null,null,null,null,null,"",{"$f":"IF(D3977=\"Cash and Deposits\",IF(E3977=\"\",\"BANK NAME REQUIRED\",IF(ISERROR(VLOOKUP(E3977,'Reference Data'!C:C,1,FALSE)),\"PLEASE SELECT A BANK FROM DEFINED LIST PROVIDED\",\"\")),\"\")","v":""},"No Entry",0]
[null,null,null,null,null,null,null,null,null,null,null,null,"",{"$f":"IF(D3978=\"Cash and Deposits\",IF(E3978=\"\",\"BANK NAME REQUIRED\",IF(ISERROR(VLOOKUP(E3978,'Reference Data'!C:C,1,FALSE)),\"PLEASE SELECT A BANK FROM DEFINED LIST PROVIDED\",\"\")),\"\")","v":""},"No Entry",0]
[null,null,null,null,null,null,null,null,null,null,null,null,"",{"$f":"IF(D3979=\"Cash and Deposits\",IF(E3979=\"\",\"BANK NAME REQUIRED\",IF(ISERROR(VLOOKUP(E3979,'Reference Data'!C:C,1,FALSE)),\"PLEASE SELECT A BANK FROM DEFINED LIST PROVIDED\",\"\")),\"\")","v":""},"No Entry",0]
[null,null,null,null,null,null,null,null,null,null,null,null,"",{"$f":"IF(D3980=\"Cash and Deposits\",IF(E3980=\"\",\"BANK NAME REQUIRED\",IF(ISERROR(VLOOKUP(E3980,'Reference Data'!C:C,1,FALSE)),\"PLEASE SELECT A BANK FROM DEFINED LIST PROVIDED\",\"\")),\"\")","v":""},"No Entry",0]
[null,null,null,null,null,null,null,null,null,null,null,null,"",{"$f":"IF(D3981=\"Cash and Deposits\",IF(E3981=\"\",\"BANK NAME REQUIRED\",IF(ISERROR(VLOOKUP(E3981,'Reference Data'!C:C,1,FALSE)),\"PLEASE SELECT A BANK FROM DEFINED LIST PROVIDED\",\"\")),\"\")","v":""},"No Entry",0]
[null,null,null,null,null,null,null,null,null,null,null,null,"",{"$f":"IF(D3982=\"Cash and Deposits\",IF(E3982=\"\",\"BANK NAME REQUIRED\",IF(ISERROR(VLOOKUP(E3982,'Reference Data'!C:C,1,FALSE)),\"PLEASE SELECT A BANK FROM DEFINED LIST PROVIDED\",\"\")),\"\")","v":""},"No Entry",0]
[null,null,null,null,null,null,null,null,null,null,null,null,"",{"$f":"IF(D3983=\"Cash and Deposits\",IF(E3983=\"\",\"BANK NAME REQUIRED\",IF(ISERROR(VLOOKUP(E3983,'Reference Data'!C:C,1,FALSE)),\"PLEASE SELECT A BANK FROM DEFINED LIST PROVIDED\",\"\")),\"\")","v":""},"No Entry",0]
[null,null,null,null,null,null,null,null,null,null,null,null,"",{"$f":"IF(D3984=\"Cash and Deposits\",IF(E3984=\"\",\"BANK NAME REQUIRED\",IF(ISERROR(VLOOKUP(E3984,'Reference Data'!C:C,1,FALSE)),\"PLEASE SELECT A BANK FROM DEFINED LIST PROVIDED\",\"\")),\"\")","v":""},"No Entry",0]
[null,null,null,null,null,null,null,null,null,null,null,null,"",{"$f":"IF(D3985=\"Cash and Deposits\",IF(E3985=\"\",\"BANK NAME REQUIRED\",IF(ISERROR(VLOOKUP(E3985,'Reference Data'!C:C,1,FALSE)),\"PLEASE SELECT A BANK FROM DEFINED LIST PROVIDED\",\"\")),\"\")","v":""},"No Entry",0]
[null,null,null,null,null,null,null,null,null,null,null,null,"",{"$f":"IF(D3986=\"Cash and Deposits\",IF(E3986=\"\",\"BANK NAME REQUIRED\",IF(ISERROR(VLOOKUP(E3986,'Reference Data'!C:C,1,FALSE)),\"PLEASE SELECT A BANK FROM DEFINED LIST PROVIDED\",\"\")),\"\")","v":""},"No Entry",0]
[null,null,null,null,null,null,null,null,null,null,null,null,"",{"$f":"IF(D3987=\"Cash and Deposits\",IF(E3987=\"\",\"BANK NAME REQUIRED\",IF(ISERROR(VLOOKUP(E3987,'Reference Data'!C:C,1,FALSE)),\"PLEASE SELECT A BANK FROM DEFINED LIST PROVIDED\",\"\")),\"\")","v":""},"No Entry",0]
[null,null,null,null,null,null,null,null,null,null,null,null,"",{"$f":"IF(D3988=\"Cash and Deposits\",IF(E3988=\"\",\"BANK NAME REQUIRED\",IF(ISERROR(VLOOKUP(E3988,'Reference Data'!C:C,1,FALSE)),\"PLEASE SELECT A BANK FROM DEFINED LIST PROVIDED\",\"\")),\"\")","v":""},"No Entry",0]
[null,null,null,null,null,null,null,null,null,null,null,null,"",{"$f":"IF(D3989=\"Cash and Deposits\",IF(E3989=\"\",\"BANK NAME REQUIRED\",IF(ISERROR(VLOOKUP(E3989,'Reference Data'!C:C,1,FALSE)),\"PLEASE SELECT A BANK FROM DEFINED LIST PROVIDED\",\"\")),\"\")","v":""},"No Entry",0]
[null,null,null,null,null,null,null,null,null,null,null,null,"",{"$f":"IF(D3990=\"Cash and Deposits\",IF(E3990=\"\",\"BANK NAME REQUIRED\",IF(ISERROR(VLOOKUP(E3990,'Reference Data'!C:C,1,FALSE)),\"PLEASE SELECT A BANK FROM DEFINED LIST PROVIDED\",\"\")),\"\")","v":""},"No Entry",0]
[null,null,null,null,null,null,null,null,null,null,null,null,"",{"$f":"IF(D3991=\"Cash and Deposits\",IF(E3991=\"\",\"BANK NAME REQUIRED\",IF(ISERROR(VLOOKUP(E3991,'Reference Data'!C:C,1,FALSE)),\"PLEASE SELECT A BANK FROM DEFINED LIST PROVIDED\",\"\")),\"\")","v":""},"No Entry",0]
[null,null,null,null,null,null,null,null,null,null,null,null,"",{"$f":"IF(D3992=\"Cash and Deposits\",IF(E3992=\"\",\"BANK NAME REQUIRED\",IF(ISERROR(VLOOKUP(E3992,'Reference Data'!C:C,1,FALSE)),\"PLEASE SELECT A BANK FROM DEFINED LIST PROVIDED\",\"\")),\"\")","v":""},"No Entry",0]
[null,null,null,null,null,null,null,null,null,null,null,null,"",{"$f":"IF(D3993=\"Cash and Deposits\",IF(E3993=\"\",\"BANK NAME REQUIRED\",IF(ISERROR(VLOOKUP(E3993,'Reference Data'!C:C,1,FALSE)),\"PLEASE SELECT A BANK FROM DEFINED LIST PROVIDED\",\"\")),\"\")","v":""},"No Entry",0]
[null,null,null,null,null,null,null,null,null,null,null,null,"",{"$f":"IF(D3994=\"Cash and Deposits\",IF(E3994=\"\",\"BANK NAME REQUIRED\",IF(ISERROR(VLOOKUP(E3994,'Reference Data'!C:C,1,FALSE)),\"PLEASE SELECT A BANK FROM DEFINED LIST PROVIDED\",\"\")),\"\")","v":""},"No Entry",0]
[null,null,null,null,null,null,null,null,null,null,null,null,"",{"$f":"IF(D3995=\"Cash and Deposits\",IF(E3995=\"\",\"BANK NAME REQUIRED\",IF(ISERROR(VLOOKUP(E3995,'Reference Data'!C:C,1,FALSE)),\"PLEASE SELECT A BANK FROM DEFINED LIST PROVIDED\",\"\")),\"\")","v":""},"No Entry",0]
[null,null,null,null,null,null,null,null,null,null,null,null,"",{"$f":"IF(D3996=\"Cash and Deposits\",IF(E3996=\"\",\"BANK NAME REQUIRED\",IF(ISERROR(VLOOKUP(E3996,'Reference Data'!C:C,1,FALSE)),\"PLEASE SELECT A BANK FROM DEFINED LIST PROVIDED\",\"\")),\"\")","v":""},"No Entry",0]
[null,null,null,null,null,null,null,null,null,null,null,null,"",{"$f":"IF(D3997=\"Cash and Deposits\",IF(E3997=\"\",\"BANK NAME REQUIRED\",IF(ISERROR(VLOOKUP(E3997,'Reference Data'!C:C,1,FALSE)),\"PLEASE SELECT A BANK FROM DEFINED LIST PROVIDED\",\"\")),\"\")","v":""},"No Entry",0]
[null,null,null,null,null,null,null,null,null,null,null,null,"",{"$f":"IF(D3998=\"Cash and Deposits\",IF(E3998=\"\",\"BANK NAME REQUIRED\",IF(ISERROR(VLOOKUP(E3998,'Reference Data'!C:C,1,FALSE)),\"PLEASE SELECT A BANK FROM DEFINED LIST PROVIDED\",\"\")),\"\")","v":""},"No Entry",0]
[null,null,null,null,null,null,null,null,null,null,null,null,"",{"$f":"IF(D3999=\"Cash and Deposits\",IF(E3999=\"\",\"BANK NAME REQUIRED\",IF(ISERROR(VLOOKUP(E3999,'Reference Data'!C:C,1,FALSE)),\"PLEASE SELECT A BANK FROM DEFINED LIST PROVIDED\",\"\")),\"\")","v":""},"No Entry",0]
[null,null,null,null,null,null,null,null,null,null,null,null,"",{"$f":"IF(D4000=\"Cash and Deposits\",IF(E4000=\"\",\"BANK NAME REQUIRED\",IF(ISERROR(VLOOKUP(E4000,'Reference Data'!C:C,1,FALSE)),\"PLEASE SELECT A BANK FROM DEFINED LIST PROVIDED\",\"\")),\"\")","v":""},"No Entry",0]
[null,null,null,null,null,null,null,null,null,null,null,null,"",{"$f":"IF(D4001=\"Cash and Deposits\",IF(E4001=\"\",\"BANK NAME REQUIRED\",IF(ISERROR(VLOOKUP(E4001,'Reference Data'!C:C,1,FALSE)),\"PLEASE SELECT A BANK FROM DEFINED LIST PROVIDED\",\"\")),\"\")","v":""},"No Entry",0]
[null,null,null,null,null,null,null,null,null,null,null,null,"",{"$f":"IF(D4002=\"Cash and Deposits\",IF(E4002=\"\",\"BANK NAME REQUIRED\",IF(ISERROR(VLOOKUP(E4002,'Reference Data'!C:C,1,FALSE)),\"PLEASE SELECT A BANK FROM DEFINED LIST PROVIDED\",\"\")),\"\")","v":""},"No Entry",0]
[null,null,null,null,null,null,null,null,null,null,null,null,"",{"$f":"IF(D4003=\"Cash and Deposits\",IF(E4003=\"\",\"BANK NAME REQUIRED\",IF(ISERROR(VLOOKUP(E4003,'Reference Data'!C:C,1,FALSE)),\"PLEASE SELECT A BANK FROM DEFINED LIST PROVIDED\",\"\")),\"\")","v":""},"No Entry",0]
[null,null,null,null,null,null,null,null,null,null,null,null,"",{"$f":"IF(D4004=\"Cash and Deposits\",IF(E4004=\"\",\"BANK NAME REQUIRED\",IF(ISERROR(VLOOKUP(E4004,'Reference Data'!C:C,1,FALSE)),\"PLEASE SELECT A BANK FROM DEFINED LIST PROVIDED\",\"\")),\"\")","v":""},"No Entry",0]
[null,null,null,null,null,null,null,null,null,null,null,null,"",{"$f":"IF(D4005=\"Cash and Deposits\",IF(E4005=\"\",\"BANK NAME REQUIRED\",IF(ISERROR(VLOOKUP(E4005,'Reference Data'!C:C,1,FALSE)),\"PLEASE SELECT A BANK FROM DEFINED LIST PROVIDED\",\"\")),\"\")","v":""},"No Entry",0]
[null,null,null,null,null,null,null,null,null,null,null,null,"",{"$f":"IF(D4006=\"Cash and Deposits\",IF(E4006=\"\",\"BANK NAME REQUIRED\",IF(ISERROR(VLOOKUP(E4006,'Reference Data'!C:C,1,FALSE)),\"PLEASE SELECT A BANK FROM DEFINED LIST PROVIDED\",\"\")),\"\")","v":""},"No Entry",0]
[null,null,null,null,null,null,null,null,null,null,null,null,"",{"$f":"IF(D4007=\"Cash and Deposits\",IF(E4007=\"\",\"BANK NAME REQUIRED\",IF(ISERROR(VLOOKUP(E4007,'Reference Data'!C:C,1,FALSE)),\"PLEASE SELECT A BANK FROM DEFINED LIST PROVIDED\",\"\")),\"\")","v":""},"No Entry",0]
[null,null,null,null,null,null,null,null,null,null,null,null,"",{"$f":"IF(D4008=\"Cash and Deposits\",IF(E4008=\"\",\"BANK NAME REQUIRED\",IF(ISERROR(VLOOKUP(E4008,'Reference Data'!C:C,1,FALSE)),\"PLEASE SELECT A BANK FROM DEFINED LIST PROVIDED\",\"\")),\"\")","v":""},"No Entry",0]
[null,null,null,null,null,null,null,null,null,null,null,null,"",{"$f":"IF(D4009=\"Cash and Deposits\",IF(E4009=\"\",\"BANK NAME REQUIRED\",IF(ISERROR(VLOOKUP(E4009,'Reference Data'!C:C,1,FALSE)),\"PLEASE SELECT A BANK FROM DEFINED LIST PROVIDED\",\"\")),\"\")","v":""},"No Entry",0]
[null,null,null,null,null,null,null,null,null,null,null,null,"",{"$f":"IF(D4010=\"Cash and Deposits\",IF(E4010=\"\",\"BANK NAME REQUIRED\",IF(ISERROR(VLOOKUP(E4010,'Reference Data'!C:C,1,FALSE)),\"PLEASE SELECT A BANK FROM DEFINED LIST PROVIDED\",\"\")),\"\")","v":""},"No Entry",0]
[null,null,null,null,null,null,null,null,null,null,null,null,"",{"$f":"IF(D4011=\"Cash and Deposits\",IF(E4011=\"\",\"BANK NAME REQUIRED\",IF(ISERROR(VLOOKUP(E4011,'Reference Data'!C:C,1,FALSE)),\"PLEASE SELECT A BANK FROM DEFINED LIST PROVIDED\",\"\")),\"\")","v":""},"No Entry",0]
[null,null,null,null,null,null,null,null,null,null,null,null,"",{"$f":"IF(D4012=\"Cash and Deposits\",IF(E4012=\"\",\"BANK NAME REQUIRED\",IF(ISERROR(VLOOKUP(E4012,'Reference Data'!C:C,1,FALSE)),\"PLEASE SELECT A BANK FROM DEFINED LIST PROVIDED\",\"\")),\"\")","v":""},"No Entry",0]
[null,null,null,null,null,null,null,null,null,null,null,null,"",{"$f":"IF(D4013=\"Cash and Deposits\",IF(E4013=\"\",\"BANK NAME REQUIRED\",IF(ISERROR(VLOOKUP(E4013,'Reference Data'!C:C,1,FALSE)),\"PLEASE SELECT A BANK FROM DEFINED LIST PROVIDED\",\"\")),\"\")","v":""},"No Entry",0]
[null,null,null,null,null,null,null,null,null,null,null,null,"",{"$f":"IF(D4014=\"Cash and Deposits\",IF(E4014=\"\",\"BANK NAME REQUIRED\",IF(ISERROR(VLOOKUP(E4014,'Reference Data'!C:C,1,FALSE)),\"PLEASE SELECT A BANK FROM DEFINED LIST PROVIDED\",\"\")),\"\")","v":""},"No Entry",0]
[null,null,null,null,null,null,null,null,null,null,null,null,"",{"$f":"IF(D4015=\"Cash and Deposits\",IF(E4015=\"\",\"BANK NAME REQUIRED\",IF(ISERROR(VLOOKUP(E4015,'Reference Data'!C:C,1,FALSE)),\"PLEASE SELECT A BANK FROM DEFINED LIST PROVIDED\",\"\")),\"\")","v":""},"No Entry",0]
[null,null,null,null,null,null,null,null,null,null,null,null,"",{"$f":"IF(D4016=\"Cash and Deposits\",IF(E4016=\"\",\"BANK NAME REQUIRED\",IF(ISERROR(VLOOKUP(E4016,'Reference Data'!C:C,1,FALSE)),\"PLEASE SELECT A BANK FROM DEFINED LIST PROVIDED\",\"\")),\"\")","v":""},"No Entry",0]
[null,null,null,null,null,null,null,null,null,null,null,null,"",{"$f":"IF(D4017=\"Cash and Deposits\",IF(E4017=\"\",\"BANK NAME REQUIRED\",IF(ISERROR(VLOOKUP(E4017,'Reference Data'!C:C,1,FALSE)),\"PLEASE SELECT A BANK FROM DEFINED LIST PROVIDED\",\"\")),\"\")","v":""},"No Entry",0]
[null,null,null,null,null,null,null,null,null,null,null,null,"",{"$f":"IF(D4018=\"Cash and Deposits\",IF(E4018=\"\",\"BANK NAME REQUIRED\",IF(ISERROR(VLOOKUP(E4018,'Reference Data'!C:C,1,FALSE)),\"PLEASE SELECT A BANK FROM DEFINED LIST PROVIDED\",\"\")),\"\")","v":""},"No Entry",0]
[null,null,null,null,null,null,null,null,null,null,null,null,"",{"$f":"IF(D4019=\"Cash and Deposits\",IF(E4019=\"\",\"BANK NAME REQUIRED\",IF(ISERROR(VLOOKUP(E4019,'Reference Data'!C:C,1,FALSE)),\"PLEASE SELECT A BANK FROM DEFINED LIST PROVIDED\",\"\")),\"\")","v":""},"No Entry",0]
[null,null,null,null,null,null,null,null,null,null,null,null,"",{"$f":"IF(D4020=\"Cash and Deposits\",IF(E4020=\"\",\"BANK NAME REQUIRED\",IF(ISERROR(VLOOKUP(E4020,'Reference Data'!C:C,1,FALSE)),\"PLEASE SELECT A BANK FROM DEFINED LIST PROVIDED\",\"\")),\"\")","v":""},"No Entry",0]
[null,null,null,null,null,null,null,null,null,null,null,null,"",{"$f":"IF(D4021=\"Cash and Deposits\",IF(E4021=\"\",\"BANK NAME REQUIRED\",IF(ISERROR(VLOOKUP(E4021,'Reference Data'!C:C,1,FALSE)),\"PLEASE SELECT A BANK FROM DEFINED LIST PROVIDED\",\"\")),\"\")","v":""},"No Entry",0]
[null,null,null,null,null,null,null,null,null,null,null,null,"",{"$f":"IF(D4022=\"Cash and Deposits\",IF(E4022=\"\",\"BANK NAME REQUIRED\",IF(ISERROR(VLOOKUP(E4022,'Reference Data'!C:C,1,FALSE)),\"PLEASE SELECT A BANK FROM DEFINED LIST PROVIDED\",\"\")),\"\")","v":""},"No Entry",0]
[null,null,null,null,null,null,null,null,null,null,null,null,"",{"$f":"IF(D4023=\"Cash and Deposits\",IF(E4023=\"\",\"BANK NAME REQUIRED\",IF(ISERROR(VLOOKUP(E4023,'Reference Data'!C:C,1,FALSE)),\"PLEASE SELECT A BANK FROM DEFINED LIST PROVIDED\",\"\")),\"\")","v":""},"No Entry",0]
[null,null,null,null,null,null,null,null,null,null,null,null,"",{"$f":"IF(D4024=\"Cash and Deposits\",IF(E4024=\"\",\"BANK NAME REQUIRED\",IF(ISERROR(VLOOKUP(E4024,'Reference Data'!C:C,1,FALSE)),\"PLEASE SELECT A BANK FROM DEFINED LIST PROVIDED\",\"\")),\"\")","v":""},"No Entry",0]
[null,null,null,null,null,null,null,null,null,null,null,null,"",{"$f":"IF(D4025=\"Cash and Deposits\",IF(E4025=\"\",\"BANK NAME REQUIRED\",IF(ISERROR(VLOOKUP(E4025,'Reference Data'!C:C,1,FALSE)),\"PLEASE SELECT A BANK FROM DEFINED LIST PROVIDED\",\"\")),\"\")","v":""},"No Entry",0]
[null,null,null,null,null,null,null,null,null,null,null,null,"",{"$f":"IF(D4026=\"Cash and Deposits\",IF(E4026=\"\",\"BANK NAME REQUIRED\",IF(ISERROR(VLOOKUP(E4026,'Reference Data'!C:C,1,FALSE)),\"PLEASE SELECT A BANK FROM DEFINED LIST PROVIDED\",\"\")),\"\")","v":""},"No Entry",0]
[null,null,null,null,null,null,null,null,null,null,null,null,"",{"$f":"IF(D4027=\"Cash and Deposits\",IF(E4027=\"\",\"BANK NAME REQUIRED\",IF(ISERROR(VLOOKUP(E4027,'Reference Data'!C:C,1,FALSE)),\"PLEASE SELECT A BANK FROM DEFINED LIST PROVIDED\",\"\")),\"\")","v":""},"No Entry",0]
[null,null,null,null,null,null,null,null,null,null,null,null,"",{"$f":"IF(D4028=\"Cash and Deposits\",IF(E4028=\"\",\"BANK NAME REQUIRED\",IF(ISERROR(VLOOKUP(E4028,'Reference Data'!C:C,1,FALSE)),\"PLEASE SELECT A BANK FROM DEFINED LIST PROVIDED\",\"\")),\"\")","v":""},"No Entry",0]
[null,null,null,null,null,null,null,null,null,null,null,null,"",{"$f":"IF(D4029=\"Cash and Deposits\",IF(E4029=\"\",\"BANK NAME REQUIRED\",IF(ISERROR(VLOOKUP(E4029,'Reference Data'!C:C,1,FALSE)),\"PLEASE SELECT A BANK FROM DEFINED LIST PROVIDED\",\"\")),\"\")","v":""},"No Entry",0]
[null,null,null,null,null,null,null,null,null,null,null,null,"",{"$f":"IF(D4030=\"Cash and Deposits\",IF(E4030=\"\",\"BANK NAME REQUIRED\",IF(ISERROR(VLOOKUP(E4030,'Reference Data'!C:C,1,FALSE)),\"PLEASE SELECT A BANK FROM DEFINED LIST PROVIDED\",\"\")),\"\")","v":""},"No Entry",0]
[null,null,null,null,null,null,null,null,null,null,null,null,"",{"$f":"IF(D4031=\"Cash and Deposits\",IF(E4031=\"\",\"BANK NAME REQUIRED\",IF(ISERROR(VLOOKUP(E4031,'Reference Data'!C:C,1,FALSE)),\"PLEASE SELECT A BANK FROM DEFINED LIST PROVIDED\",\"\")),\"\")","v":""},"No Entry",0]
[null,null,null,null,null,null,null,null,null,null,null,null,"",{"$f":"IF(D4032=\"Cash and Deposits\",IF(E4032=\"\",\"BANK NAME REQUIRED\",IF(ISERROR(VLOOKUP(E4032,'Reference Data'!C:C,1,FALSE)),\"PLEASE SELECT A BANK FROM DEFINED LIST PROVIDED\",\"\")),\"\")","v":""},"No Entry",0]
[null,null,null,null,null,null,null,null,null,null,null,null,"",{"$f":"IF(D4033=\"Cash and Deposits\",IF(E4033=\"\",\"BANK NAME REQUIRED\",IF(ISERROR(VLOOKUP(E4033,'Reference Data'!C:C,1,FALSE)),\"PLEASE SELECT A BANK FROM DEFINED LIST PROVIDED\",\"\")),\"\")","v":""},"No Entry",0]
[null,null,null,null,null,null,null,null,null,null,null,null,"",{"$f":"IF(D4034=\"Cash and Deposits\",IF(E4034=\"\",\"BANK NAME REQUIRED\",IF(ISERROR(VLOOKUP(E4034,'Reference Data'!C:C,1,FALSE)),\"PLEASE SELECT A BANK FROM DEFINED LIST PROVIDED\",\"\")),\"\")","v":""},"No Entry",0]
[null,null,null,null,null,null,null,null,null,null,null,null,"",{"$f":"IF(D4035=\"Cash and Deposits\",IF(E4035=\"\",\"BANK NAME REQUIRED\",IF(ISERROR(VLOOKUP(E4035,'Reference Data'!C:C,1,FALSE)),\"PLEASE SELECT A BANK FROM DEFINED LIST PROVIDED\",\"\")),\"\")","v":""},"No Entry",0]
[null,null,null,null,null,null,null,null,null,null,null,null,"",{"$f":"IF(D4036=\"Cash and Deposits\",IF(E4036=\"\",\"BANK NAME REQUIRED\",IF(ISERROR(VLOOKUP(E4036,'Reference Data'!C:C,1,FALSE)),\"PLEASE SELECT A BANK FROM DEFINED LIST PROVIDED\",\"\")),\"\")","v":""},"No Entry",0]
[null,null,null,null,null,null,null,null,null,null,null,null,{"$f":"IF(K4037<>0,IF(B4037=\"\",\"ID CODE REQUIRED\",\"\"),\"\")","v":""},{"$f":"IF(D4037=\"Cash and Deposits\",IF(E4037=\"\",\"BANK NAME REQUIRED\",IF(ISERROR(VLOOKUP(E4037,'Reference Data'!C:C,1,FALSE)),\"PLEASE SELECT A BANK FROM DEFINED LIST PROVIDED\",\"\")),\"\")","v":""},{"$f":"IF(K4037=0,\"No Entry\",\"\")","v":"No Entry"},{"$f":"IF(K4037<>0,IF(A4037=\"\",1,0),0)","v":0}]
[null,null,null,null,null,null,null,null,null,null,null,null,"",{"$f":"IF(D4038=\"Cash and Deposits\",IF(E4038=\"\",\"BANK NAME REQUIRED\",IF(ISERROR(VLOOKUP(E4038,'Reference Data'!C:C,1,FALSE)),\"PLEASE SELECT A BANK FROM DEFINED LIST PROVIDED\",\"\")),\"\")","v":""},"No Entry",0]
[null,null,null,null,null,null,null,null,null,null,null,null,"",{"$f":"IF(D4039=\"Cash and Deposits\",IF(E4039=\"\",\"BANK NAME REQUIRED\",IF(ISERROR(VLOOKUP(E4039,'Reference Data'!C:C,1,FALSE)),\"PLEASE SELECT A BANK FROM DEFINED LIST PROVIDED\",\"\")),\"\")","v":""},"No Entry",0]
[null,null,null,null,null,null,null,null,null,null,null,null,"",{"$f":"IF(D4040=\"Cash and Deposits\",IF(E4040=\"\",\"BANK NAME REQUIRED\",IF(ISERROR(VLOOKUP(E4040,'Reference Data'!C:C,1,FALSE)),\"PLEASE SELECT A BANK FROM DEFINED LIST PROVIDED\",\"\")),\"\")","v":""},"No Entry",0]
[null,null,null,null,null,null,null,null,null,null,null,null,"",{"$f":"IF(D4041=\"Cash and Deposits\",IF(E4041=\"\",\"BANK NAME REQUIRED\",IF(ISERROR(VLOOKUP(E4041,'Reference Data'!C:C,1,FALSE)),\"PLEASE SELECT A BANK FROM DEFINED LIST PROVIDED\",\"\")),\"\")","v":""},"No Entry",0]
[null,null,null,null,null,null,null,null,null,null,null,null,"",{"$f":"IF(D4042=\"Cash and Deposits\",IF(E4042=\"\",\"BANK NAME REQUIRED\",IF(ISERROR(VLOOKUP(E4042,'Reference Data'!C:C,1,FALSE)),\"PLEASE SELECT A BANK FROM DEFINED LIST PROVIDED\",\"\")),\"\")","v":""},"No Entry",0]
[null,null,null,null,null,null,null,null,null,null,null,null,"",{"$f":"IF(D4043=\"Cash and Deposits\",IF(E4043=\"\",\"BANK NAME REQUIRED\",IF(ISERROR(VLOOKUP(E4043,'Reference Data'!C:C,1,FALSE)),\"PLEASE SELECT A BANK FROM DEFINED LIST PROVIDED\",\"\")),\"\")","v":""},"No Entry",0]
[null,null,null,null,null,null,null,null,null,null,null,null,"",{"$f":"IF(D4044=\"Cash and Deposits\",IF(E4044=\"\",\"BANK NAME REQUIRED\",IF(ISERROR(VLOOKUP(E4044,'Reference Data'!C:C,1,FALSE)),\"PLEASE SELECT A BANK FROM DEFINED LIST PROVIDED\",\"\")),\"\")","v":""},"No Entry",0]
[null,null,null,null,null,null,null,null,null,null,null,null,"",{"$f":"IF(D4045=\"Cash and Deposits\",IF(E4045=\"\",\"BANK NAME REQUIRED\",IF(ISERROR(VLOOKUP(E4045,'Reference Data'!C:C,1,FALSE)),\"PLEASE SELECT A BANK FROM DEFINED LIST PROVIDED\",\"\")),\"\")","v":""},"No Entry",0]
[null,null,null,null,null,null,null,null,null,null,null,null,"",{"$f":"IF(D4046=\"Cash and Deposits\",IF(E4046=\"\",\"BANK NAME REQUIRED\",IF(ISERROR(VLOOKUP(E4046,'Reference Data'!C:C,1,FALSE)),\"PLEASE SELECT A BANK FROM DEFINED LIST PROVIDED\",\"\")),\"\")","v":""},"No Entry",0]
[null,null,null,null,null,null,null,null,null,null,null,null,"",{"$f":"IF(D4047=\"Cash and Deposits\",IF(E4047=\"\",\"BANK NAME REQUIRED\",IF(ISERROR(VLOOKUP(E4047,'Reference Data'!C:C,1,FALSE)),\"PLEASE SELECT A BANK FROM DEFINED LIST PROVIDED\",\"\")),\"\")","v":""},"No Entry",0]
[null,null,null,null,null,null,null,null,null,null,null,null,"",{"$f":"IF(D4048=\"Cash and Deposits\",IF(E4048=\"\",\"BANK NAME REQUIRED\",IF(ISERROR(VLOOKUP(E4048,'Reference Data'!C:C,1,FALSE)),\"PLEASE SELECT A BANK FROM DEFINED LIST PROVIDED\",\"\")),\"\")","v":""},"No Entry",0]
[null,null,null,null,null,null,null,null,null,null,null,null,"",{"$f":"IF(D4049=\"Cash and Deposits\",IF(E4049=\"\",\"BANK NAME REQUIRED\",IF(ISERROR(VLOOKUP(E4049,'Reference Data'!C:C,1,FALSE)),\"PLEASE SELECT A BANK FROM DEFINED LIST PROVIDED\",\"\")),\"\")","v":""},"No Entry",0]
[null,null,null,null,null,null,null,null,null,null,null,null,"",{"$f":"IF(D4050=\"Cash and Deposits\",IF(E4050=\"\",\"BANK NAME REQUIRED\",IF(ISERROR(VLOOKUP(E4050,'Reference Data'!C:C,1,FALSE)),\"PLEASE SELECT A BANK FROM DEFINED LIST PROVIDED\",\"\")),\"\")","v":""},"No Entry",0]
[null,null,null,null,null,null,null,null,null,null,null,null,"",{"$f":"IF(D4051=\"Cash and Deposits\",IF(E4051=\"\",\"BANK NAME REQUIRED\",IF(ISERROR(VLOOKUP(E4051,'Reference Data'!C:C,1,FALSE)),\"PLEASE SELECT A BANK FROM DEFINED LIST PROVIDED\",\"\")),\"\")","v":""},"No Entry",0]
[null,null,null,null,null,null,null,null,null,null,null,null,"",{"$f":"IF(D4052=\"Cash and Deposits\",IF(E4052=\"\",\"BANK NAME REQUIRED\",IF(ISERROR(VLOOKUP(E4052,'Reference Data'!C:C,1,FALSE)),\"PLEASE SELECT A BANK FROM DEFINED LIST PROVIDED\",\"\")),\"\")","v":""},"No Entry",0]
[null,null,null,null,null,null,null,null,null,null,null,null,"",{"$f":"IF(D4053=\"Cash and Deposits\",IF(E4053=\"\",\"BANK NAME REQUIRED\",IF(ISERROR(VLOOKUP(E4053,'Reference Data'!C:C,1,FALSE)),\"PLEASE SELECT A BANK FROM DEFINED LIST PROVIDED\",\"\")),\"\")","v":""},"No Entry",0]
[null,null,null,null,null,null,null,null,null,null,null,null,"",{"$f":"IF(D4054=\"Cash and Deposits\",IF(E4054=\"\",\"BANK NAME REQUIRED\",IF(ISERROR(VLOOKUP(E4054,'Reference Data'!C:C,1,FALSE)),\"PLEASE SELECT A BANK FROM DEFINED LIST PROVIDED\",\"\")),\"\")","v":""},"No Entry",0]
[null,null,null,null,null,null,null,null,null,null,null,null,"",{"$f":"IF(D4055=\"Cash and Deposits\",IF(E4055=\"\",\"BANK NAME REQUIRED\",IF(ISERROR(VLOOKUP(E4055,'Reference Data'!C:C,1,FALSE)),\"PLEASE SELECT A BANK FROM DEFINED LIST PROVIDED\",\"\")),\"\")","v":""},"No Entry",0]
[null,null,null,null,null,null,null,null,null,null,null,null,"",{"$f":"IF(D4056=\"Cash and Deposits\",IF(E4056=\"\",\"BANK NAME REQUIRED\",IF(ISERROR(VLOOKUP(E4056,'Reference Data'!C:C,1,FALSE)),\"PLEASE SELECT A BANK FROM DEFINED LIST PROVIDED\",\"\")),\"\")","v":""},"No Entry",0]
[null,null,null,null,null,null,null,null,null,null,null,null,"",{"$f":"IF(D4057=\"Cash and Deposits\",IF(E4057=\"\",\"BANK NAME REQUIRED\",IF(ISERROR(VLOOKUP(E4057,'Reference Data'!C:C,1,FALSE)),\"PLEASE SELECT A BANK FROM DEFINED LIST PROVIDED\",\"\")),\"\")","v":""},"No Entry",0]
[null,null,null,null,null,null,null,null,null,null,null,null,"",{"$f":"IF(D4058=\"Cash and Deposits\",IF(E4058=\"\",\"BANK NAME REQUIRED\",IF(ISERROR(VLOOKUP(E4058,'Reference Data'!C:C,1,FALSE)),\"PLEASE SELECT A BANK FROM DEFINED LIST PROVIDED\",\"\")),\"\")","v":""},"No Entry",0]
[null,null,null,null,null,null,null,null,null,null,null,null,"",{"$f":"IF(D4059=\"Cash and Deposits\",IF(E4059=\"\",\"BANK NAME REQUIRED\",IF(ISERROR(VLOOKUP(E4059,'Reference Data'!C:C,1,FALSE)),\"PLEASE SELECT A BANK FROM DEFINED LIST PROVIDED\",\"\")),\"\")","v":""},"No Entry",0]
[null,null,null,null,null,null,null,null,null,null,null,null,"",{"$f":"IF(D4060=\"Cash and Deposits\",IF(E4060=\"\",\"BANK NAME REQUIRED\",IF(ISERROR(VLOOKUP(E4060,'Reference Data'!C:C,1,FALSE)),\"PLEASE SELECT A BANK FROM DEFINED LIST PROVIDED\",\"\")),\"\")","v":""},"No Entry",0]
[null,null,null,null,null,null,null,null,null,null,null,null,"",{"$f":"IF(D4061=\"Cash and Deposits\",IF(E4061=\"\",\"BANK NAME REQUIRED\",IF(ISERROR(VLOOKUP(E4061,'Reference Data'!C:C,1,FALSE)),\"PLEASE SELECT A BANK FROM DEFINED LIST PROVIDED\",\"\")),\"\")","v":""},"No Entry",0]
[null,null,null,null,null,null,null,null,null,null,null,null,"",{"$f":"IF(D4062=\"Cash and Deposits\",IF(E4062=\"\",\"BANK NAME REQUIRED\",IF(ISERROR(VLOOKUP(E4062,'Reference Data'!C:C,1,FALSE)),\"PLEASE SELECT A BANK FROM DEFINED LIST PROVIDED\",\"\")),\"\")","v":""},"No Entry",0]
[null,null,null,null,null,null,null,null,null,null,null,null,"",{"$f":"IF(D4063=\"Cash and Deposits\",IF(E4063=\"\",\"BANK NAME REQUIRED\",IF(ISERROR(VLOOKUP(E4063,'Reference Data'!C:C,1,FALSE)),\"PLEASE SELECT A BANK FROM DEFINED LIST PROVIDED\",\"\")),\"\")","v":""},"No Entry",0]
[null,null,null,null,null,null,null,null,null,null,null,null,"",{"$f":"IF(D4064=\"Cash and Deposits\",IF(E4064=\"\",\"BANK NAME REQUIRED\",IF(ISERROR(VLOOKUP(E4064,'Reference Data'!C:C,1,FALSE)),\"PLEASE SELECT A BANK FROM DEFINED LIST PROVIDED\",\"\")),\"\")","v":""},"No Entry",0]
[null,null,null,null,null,null,null,null,null,null,null,null,"",{"$f":"IF(D4065=\"Cash and Deposits\",IF(E4065=\"\",\"BANK NAME REQUIRED\",IF(ISERROR(VLOOKUP(E4065,'Reference Data'!C:C,1,FALSE)),\"PLEASE SELECT A BANK FROM DEFINED LIST PROVIDED\",\"\")),\"\")","v":""},"No Entry",0]
[null,null,null,null,null,null,null,null,null,null,null,null,"",{"$f":"IF(D4066=\"Cash and Deposits\",IF(E4066=\"\",\"BANK NAME REQUIRED\",IF(ISERROR(VLOOKUP(E4066,'Reference Data'!C:C,1,FALSE)),\"PLEASE SELECT A BANK FROM DEFINED LIST PROVIDED\",\"\")),\"\")","v":""},"No Entry",0]
[null,null,null,null,null,null,null,null,null,null,null,null,"",{"$f":"IF(D4067=\"Cash and Deposits\",IF(E4067=\"\",\"BANK NAME REQUIRED\",IF(ISERROR(VLOOKUP(E4067,'Reference Data'!C:C,1,FALSE)),\"PLEASE SELECT A BANK FROM DEFINED LIST PROVIDED\",\"\")),\"\")","v":""},"No Entry",0]
[null,null,null,null,null,null,null,null,null,null,null,null,"",{"$f":"IF(D4068=\"Cash and Deposits\",IF(E4068=\"\",\"BANK NAME REQUIRED\",IF(ISERROR(VLOOKUP(E4068,'Reference Data'!C:C,1,FALSE)),\"PLEASE SELECT A BANK FROM DEFINED LIST PROVIDED\",\"\")),\"\")","v":""},"No Entry",0]
[null,null,null,null,null,null,null,null,null,null,null,null,"",{"$f":"IF(D4069=\"Cash and Deposits\",IF(E4069=\"\",\"BANK NAME REQUIRED\",IF(ISERROR(VLOOKUP(E4069,'Reference Data'!C:C,1,FALSE)),\"PLEASE SELECT A BANK FROM DEFINED LIST PROVIDED\",\"\")),\"\")","v":""},"No Entry",0]
[null,null,null,null,null,null,null,null,null,null,null,null,"",{"$f":"IF(D4070=\"Cash and Deposits\",IF(E4070=\"\",\"BANK NAME REQUIRED\",IF(ISERROR(VLOOKUP(E4070,'Reference Data'!C:C,1,FALSE)),\"PLEASE SELECT A BANK FROM DEFINED LIST PROVIDED\",\"\")),\"\")","v":""},"No Entry",0]
[null,null,null,null,null,null,null,null,null,null,null,null,"",{"$f":"IF(D4071=\"Cash and Deposits\",IF(E4071=\"\",\"BANK NAME REQUIRED\",IF(ISERROR(VLOOKUP(E4071,'Reference Data'!C:C,1,FALSE)),\"PLEASE SELECT A BANK FROM DEFINED LIST PROVIDED\",\"\")),\"\")","v":""},"No Entry",0]
[null,null,null,null,null,null,null,null,null,null,null,null,"",{"$f":"IF(D4072=\"Cash and Deposits\",IF(E4072=\"\",\"BANK NAME REQUIRED\",IF(ISERROR(VLOOKUP(E4072,'Reference Data'!C:C,1,FALSE)),\"PLEASE SELECT A BANK FROM DEFINED LIST PROVIDED\",\"\")),\"\")","v":""},"No Entry",0]
[null,null,null,null,null,null,null,null,null,null,null,null,"",{"$f":"IF(D4073=\"Cash and Deposits\",IF(E4073=\"\",\"BANK NAME REQUIRED\",IF(ISERROR(VLOOKUP(E4073,'Reference Data'!C:C,1,FALSE)),\"PLEASE SELECT A BANK FROM DEFINED LIST PROVIDED\",\"\")),\"\")","v":""},"No Entry",0]
[null,null,null,null,null,null,null,null,null,null,null,null,"",{"$f":"IF(D4074=\"Cash and Deposits\",IF(E4074=\"\",\"BANK NAME REQUIRED\",IF(ISERROR(VLOOKUP(E4074,'Reference Data'!C:C,1,FALSE)),\"PLEASE SELECT A BANK FROM DEFINED LIST PROVIDED\",\"\")),\"\")","v":""},"No Entry",0]
[null,null,null,null,null,null,null,null,null,null,null,null,"",{"$f":"IF(D4075=\"Cash and Deposits\",IF(E4075=\"\",\"BANK NAME REQUIRED\",IF(ISERROR(VLOOKUP(E4075,'Reference Data'!C:C,1,FALSE)),\"PLEASE SELECT A BANK FROM DEFINED LIST PROVIDED\",\"\")),\"\")","v":""},"No Entry",0]
[null,null,null,null,null,null,null,null,null,null,null,null,"",{"$f":"IF(D4076=\"Cash and Deposits\",IF(E4076=\"\",\"BANK NAME REQUIRED\",IF(ISERROR(VLOOKUP(E4076,'Reference Data'!C:C,1,FALSE)),\"PLEASE SELECT A BANK FROM DEFINED LIST PROVIDED\",\"\")),\"\")","v":""},"No Entry",0]
[null,null,null,null,null,null,null,null,null,null,null,null,"",{"$f":"IF(D4077=\"Cash and Deposits\",IF(E4077=\"\",\"BANK NAME REQUIRED\",IF(ISERROR(VLOOKUP(E4077,'Reference Data'!C:C,1,FALSE)),\"PLEASE SELECT A BANK FROM DEFINED LIST PROVIDED\",\"\")),\"\")","v":""},"No Entry",0]
[null,null,null,null,null,null,null,null,null,null,null,null,"",{"$f":"IF(D4078=\"Cash and Deposits\",IF(E4078=\"\",\"BANK NAME REQUIRED\",IF(ISERROR(VLOOKUP(E4078,'Reference Data'!C:C,1,FALSE)),\"PLEASE SELECT A BANK FROM DEFINED LIST PROVIDED\",\"\")),\"\")","v":""},"No Entry",0]
[null,null,null,null,null,null,null,null,null,null,null,null,"",{"$f":"IF(D4079=\"Cash and Deposits\",IF(E4079=\"\",\"BANK NAME REQUIRED\",IF(ISERROR(VLOOKUP(E4079,'Reference Data'!C:C,1,FALSE)),\"PLEASE SELECT A BANK FROM DEFINED LIST PROVIDED\",\"\")),\"\")","v":""},"No Entry",0]
[null,null,null,null,null,null,null,null,null,null,null,null,"",{"$f":"IF(D4080=\"Cash and Deposits\",IF(E4080=\"\",\"BANK NAME REQUIRED\",IF(ISERROR(VLOOKUP(E4080,'Reference Data'!C:C,1,FALSE)),\"PLEASE SELECT A BANK FROM DEFINED LIST PROVIDED\",\"\")),\"\")","v":""},"No Entry",0]
[null,null,null,null,null,null,null,null,null,null,null,null,"",{"$f":"IF(D4081=\"Cash and Deposits\",IF(E4081=\"\",\"BANK NAME REQUIRED\",IF(ISERROR(VLOOKUP(E4081,'Reference Data'!C:C,1,FALSE)),\"PLEASE SELECT A BANK FROM DEFINED LIST PROVIDED\",\"\")),\"\")","v":""},"No Entry",0]
[null,null,null,null,null,null,null,null,null,null,null,null,"",{"$f":"IF(D4082=\"Cash and Deposits\",IF(E4082=\"\",\"BANK NAME REQUIRED\",IF(ISERROR(VLOOKUP(E4082,'Reference Data'!C:C,1,FALSE)),\"PLEASE SELECT A BANK FROM DEFINED LIST PROVIDED\",\"\")),\"\")","v":""},"No Entry",0]
[null,null,null,null,null,null,null,null,null,null,null,null,"",{"$f":"IF(D4083=\"Cash and Deposits\",IF(E4083=\"\",\"BANK NAME REQUIRED\",IF(ISERROR(VLOOKUP(E4083,'Reference Data'!C:C,1,FALSE)),\"PLEASE SELECT A BANK FROM DEFINED LIST PROVIDED\",\"\")),\"\")","v":""},"No Entry",0]
[null,null,null,null,null,null,null,null,null,null,null,null,"",{"$f":"IF(D4084=\"Cash and Deposits\",IF(E4084=\"\",\"BANK NAME REQUIRED\",IF(ISERROR(VLOOKUP(E4084,'Reference Data'!C:C,1,FALSE)),\"PLEASE SELECT A BANK FROM DEFINED LIST PROVIDED\",\"\")),\"\")","v":""},"No Entry",0]
[null,null,null,null,null,null,null,null,null,null,null,null,"",{"$f":"IF(D4085=\"Cash and Deposits\",IF(E4085=\"\",\"BANK NAME REQUIRED\",IF(ISERROR(VLOOKUP(E4085,'Reference Data'!C:C,1,FALSE)),\"PLEASE SELECT A BANK FROM DEFINED LIST PROVIDED\",\"\")),\"\")","v":""},"No Entry",0]
[null,null,null,null,null,null,null,null,null,null,null,null,"",{"$f":"IF(D4086=\"Cash and Deposits\",IF(E4086=\"\",\"BANK NAME REQUIRED\",IF(ISERROR(VLOOKUP(E4086,'Reference Data'!C:C,1,FALSE)),\"PLEASE SELECT A BANK FROM DEFINED LIST PROVIDED\",\"\")),\"\")","v":""},"No Entry",0]
[null,null,null,null,null,null,null,null,null,null,null,null,"",{"$f":"IF(D4087=\"Cash and Deposits\",IF(E4087=\"\",\"BANK NAME REQUIRED\",IF(ISERROR(VLOOKUP(E4087,'Reference Data'!C:C,1,FALSE)),\"PLEASE SELECT A BANK FROM DEFINED LIST PROVIDED\",\"\")),\"\")","v":""},"No Entry",0]
[null,null,null,null,null,null,null,null,null,null,null,null,"",{"$f":"IF(D4088=\"Cash and Deposits\",IF(E4088=\"\",\"BANK NAME REQUIRED\",IF(ISERROR(VLOOKUP(E4088,'Reference Data'!C:C,1,FALSE)),\"PLEASE SELECT A BANK FROM DEFINED LIST PROVIDED\",\"\")),\"\")","v":""},"No Entry",0]
[null,null,null,null,null,null,null,null,null,null,null,null,"",{"$f":"IF(D4089=\"Cash and Deposits\",IF(E4089=\"\",\"BANK NAME REQUIRED\",IF(ISERROR(VLOOKUP(E4089,'Reference Data'!C:C,1,FALSE)),\"PLEASE SELECT A BANK FROM DEFINED LIST PROVIDED\",\"\")),\"\")","v":""},"No Entry",0]
[null,null,null,null,null,null,null,null,null,null,null,null,"",{"$f":"IF(D4090=\"Cash and Deposits\",IF(E4090=\"\",\"BANK NAME REQUIRED\",IF(ISERROR(VLOOKUP(E4090,'Reference Data'!C:C,1,FALSE)),\"PLEASE SELECT A BANK FROM DEFINED LIST PROVIDED\",\"\")),\"\")","v":""},"No Entry",0]
[null,null,null,null,null,null,null,null,null,null,null,null,"",{"$f":"IF(D4091=\"Cash and Deposits\",IF(E4091=\"\",\"BANK NAME REQUIRED\",IF(ISERROR(VLOOKUP(E4091,'Reference Data'!C:C,1,FALSE)),\"PLEASE SELECT A BANK FROM DEFINED LIST PROVIDED\",\"\")),\"\")","v":""},"No Entry",0]
[null,null,null,null,null,null,null,null,null,null,null,null,"",{"$f":"IF(D4092=\"Cash and Deposits\",IF(E4092=\"\",\"BANK NAME REQUIRED\",IF(ISERROR(VLOOKUP(E4092,'Reference Data'!C:C,1,FALSE)),\"PLEASE SELECT A BANK FROM DEFINED LIST PROVIDED\",\"\")),\"\")","v":""},"No Entry",0]
[null,null,null,null,null,null,null,null,null,null,null,null,"",{"$f":"IF(D4093=\"Cash and Deposits\",IF(E4093=\"\",\"BANK NAME REQUIRED\",IF(ISERROR(VLOOKUP(E4093,'Reference Data'!C:C,1,FALSE)),\"PLEASE SELECT A BANK FROM DEFINED LIST PROVIDED\",\"\")),\"\")","v":""},"No Entry",0]
[null,null,null,null,null,null,null,null,null,null,null,null,"",{"$f":"IF(D4094=\"Cash and Deposits\",IF(E4094=\"\",\"BANK NAME REQUIRED\",IF(ISERROR(VLOOKUP(E4094,'Reference Data'!C:C,1,FALSE)),\"PLEASE SELECT A BANK FROM DEFINED LIST PROVIDED\",\"\")),\"\")","v":""},"No Entry",0]
[null,null,null,null,null,null,null,null,null,null,null,null,"",{"$f":"IF(D4095=\"Cash and Deposits\",IF(E4095=\"\",\"BANK NAME REQUIRED\",IF(ISERROR(VLOOKUP(E4095,'Reference Data'!C:C,1,FALSE)),\"PLEASE SELECT A BANK FROM DEFINED LIST PROVIDED\",\"\")),\"\")","v":""},"No Entry",0]
[null,null,null,null,null,null,null,null,null,null,null,null,"",{"$f":"IF(D4096=\"Cash and Deposits\",IF(E4096=\"\",\"BANK NAME REQUIRED\",IF(ISERROR(VLOOKUP(E4096,'Reference Data'!C:C,1,FALSE)),\"PLEASE SELECT A BANK FROM DEFINED LIST PROVIDED\",\"\")),\"\")","v":""},"No Entry",0]
[null,null,null,null,null,null,null,null,null,null,null,null,"",{"$f":"IF(D4097=\"Cash and Deposits\",IF(E4097=\"\",\"BANK NAME REQUIRED\",IF(ISERROR(VLOOKUP(E4097,'Reference Data'!C:C,1,FALSE)),\"PLEASE SELECT A BANK FROM DEFINED LIST PROVIDED\",\"\")),\"\")","v":""},"No Entry",0]
[null,null,null,null,null,null,null,null,null,null,null,null,"",{"$f":"IF(D4098=\"Cash and Deposits\",IF(E4098=\"\",\"BANK NAME REQUIRED\",IF(ISERROR(VLOOKUP(E4098,'Reference Data'!C:C,1,FALSE)),\"PLEASE SELECT A BANK FROM DEFINED LIST PROVIDED\",\"\")),\"\")","v":""},"No Entry",0]
[null,null,null,null,null,null,null,null,null,null,null,null,"",{"$f":"IF(D4099=\"Cash and Deposits\",IF(E4099=\"\",\"BANK NAME REQUIRED\",IF(ISERROR(VLOOKUP(E4099,'Reference Data'!C:C,1,FALSE)),\"PLEASE SELECT A BANK FROM DEFINED LIST PROVIDED\",\"\")),\"\")","v":""},"No Entry",0]
[null,null,null,null,null,null,null,null,null,null,null,null,"",{"$f":"IF(D4100=\"Cash and Deposits\",IF(E4100=\"\",\"BANK NAME REQUIRED\",IF(ISERROR(VLOOKUP(E4100,'Reference Data'!C:C,1,FALSE)),\"PLEASE SELECT A BANK FROM DEFINED LIST PROVIDED\",\"\")),\"\")","v":""},"No Entry",0]
[null,null,null,null,null,null,null,null,null,null,null,null,{"$f":"IF(K4101<>0,IF(B4101=\"\",\"ID CODE REQUIRED\",\"\"),\"\")","v":""},{"$f":"IF(D4101=\"Cash and Deposits\",IF(E4101=\"\",\"BANK NAME REQUIRED\",IF(ISERROR(VLOOKUP(E4101,'Reference Data'!C:C,1,FALSE)),\"PLEASE SELECT A BANK FROM DEFINED LIST PROVIDED\",\"\")),\"\")","v":""},{"$f":"IF(K4101=0,\"No Entry\",\"\")","v":"No Entry"},{"$f":"IF(K4101<>0,IF(A4101=\"\",1,0),0)","v":0}]
[null,null,null,null,null,null,null,null,null,null,null,null,"",{"$f":"IF(D4102=\"Cash and Deposits\",IF(E4102=\"\",\"BANK NAME REQUIRED\",IF(ISERROR(VLOOKUP(E4102,'Reference Data'!C:C,1,FALSE)),\"PLEASE SELECT A BANK FROM DEFINED LIST PROVIDED\",\"\")),\"\")","v":""},"No Entry",0]
[null,null,null,null,null,null,null,null,null,null,null,null,"",{"$f":"IF(D4103=\"Cash and Deposits\",IF(E4103=\"\",\"BANK NAME REQUIRED\",IF(ISERROR(VLOOKUP(E4103,'Reference Data'!C:C,1,FALSE)),\"PLEASE SELECT A BANK FROM DEFINED LIST PROVIDED\",\"\")),\"\")","v":""},"No Entry",0]
[null,null,null,null,null,null,null,null,null,null,null,null,"",{"$f":"IF(D4104=\"Cash and Deposits\",IF(E4104=\"\",\"BANK NAME REQUIRED\",IF(ISERROR(VLOOKUP(E4104,'Reference Data'!C:C,1,FALSE)),\"PLEASE SELECT A BANK FROM DEFINED LIST PROVIDED\",\"\")),\"\")","v":""},"No Entry",0]
[null,null,null,null,null,null,null,null,null,null,null,null,"",{"$f":"IF(D4105=\"Cash and Deposits\",IF(E4105=\"\",\"BANK NAME REQUIRED\",IF(ISERROR(VLOOKUP(E4105,'Reference Data'!C:C,1,FALSE)),\"PLEASE SELECT A BANK FROM DEFINED LIST PROVIDED\",\"\")),\"\")","v":""},"No Entry",0]
[null,null,null,null,null,null,null,null,null,null,null,null,"",{"$f":"IF(D4106=\"Cash and Deposits\",IF(E4106=\"\",\"BANK NAME REQUIRED\",IF(ISERROR(VLOOKUP(E4106,'Reference Data'!C:C,1,FALSE)),\"PLEASE SELECT A BANK FROM DEFINED LIST PROVIDED\",\"\")),\"\")","v":""},"No Entry",0]
[null,null,null,null,null,null,null,null,null,null,null,null,"",{"$f":"IF(D4107=\"Cash and Deposits\",IF(E4107=\"\",\"BANK NAME REQUIRED\",IF(ISERROR(VLOOKUP(E4107,'Reference Data'!C:C,1,FALSE)),\"PLEASE SELECT A BANK FROM DEFINED LIST PROVIDED\",\"\")),\"\")","v":""},"No Entry",0]
[null,null,null,null,null,null,null,null,null,null,null,null,"",{"$f":"IF(D4108=\"Cash and Deposits\",IF(E4108=\"\",\"BANK NAME REQUIRED\",IF(ISERROR(VLOOKUP(E4108,'Reference Data'!C:C,1,FALSE)),\"PLEASE SELECT A BANK FROM DEFINED LIST PROVIDED\",\"\")),\"\")","v":""},"No Entry",0]
[null,null,null,null,null,null,null,null,null,null,null,null,"",{"$f":"IF(D4109=\"Cash and Deposits\",IF(E4109=\"\",\"BANK NAME REQUIRED\",IF(ISERROR(VLOOKUP(E4109,'Reference Data'!C:C,1,FALSE)),\"PLEASE SELECT A BANK FROM DEFINED LIST PROVIDED\",\"\")),\"\")","v":""},"No Entry",0]
[null,null,null,null,null,null,null,null,null,null,null,null,"",{"$f":"IF(D4110=\"Cash and Deposits\",IF(E4110=\"\",\"BANK NAME REQUIRED\",IF(ISERROR(VLOOKUP(E4110,'Reference Data'!C:C,1,FALSE)),\"PLEASE SELECT A BANK FROM DEFINED LIST PROVIDED\",\"\")),\"\")","v":""},"No Entry",0]
[null,null,null,null,null,null,null,null,null,null,null,null,"",{"$f":"IF(D4111=\"Cash and Deposits\",IF(E4111=\"\",\"BANK NAME REQUIRED\",IF(ISERROR(VLOOKUP(E4111,'Reference Data'!C:C,1,FALSE)),\"PLEASE SELECT A BANK FROM DEFINED LIST PROVIDED\",\"\")),\"\")","v":""},"No Entry",0]
[null,null,null,null,null,null,null,null,null,null,null,null,"",{"$f":"IF(D4112=\"Cash and Deposits\",IF(E4112=\"\",\"BANK NAME REQUIRED\",IF(ISERROR(VLOOKUP(E4112,'Reference Data'!C:C,1,FALSE)),\"PLEASE SELECT A BANK FROM DEFINED LIST PROVIDED\",\"\")),\"\")","v":""},"No Entry",0]
[null,null,null,null,null,null,null,null,null,null,null,null,"",{"$f":"IF(D4113=\"Cash and Deposits\",IF(E4113=\"\",\"BANK NAME REQUIRED\",IF(ISERROR(VLOOKUP(E4113,'Reference Data'!C:C,1,FALSE)),\"PLEASE SELECT A BANK FROM DEFINED LIST PROVIDED\",\"\")),\"\")","v":""},"No Entry",0]
[null,null,null,null,null,null,null,null,null,null,null,null,"",{"$f":"IF(D4114=\"Cash and Deposits\",IF(E4114=\"\",\"BANK NAME REQUIRED\",IF(ISERROR(VLOOKUP(E4114,'Reference Data'!C:C,1,FALSE)),\"PLEASE SELECT A BANK FROM DEFINED LIST PROVIDED\",\"\")),\"\")","v":""},"No Entry",0]
[null,null,null,null,null,null,null,null,null,null,null,null,"",{"$f":"IF(D4115=\"Cash and Deposits\",IF(E4115=\"\",\"BANK NAME REQUIRED\",IF(ISERROR(VLOOKUP(E4115,'Reference Data'!C:C,1,FALSE)),\"PLEASE SELECT A BANK FROM DEFINED LIST PROVIDED\",\"\")),\"\")","v":""},"No Entry",0]
[null,null,null,null,null,null,null,null,null,null,null,null,"",{"$f":"IF(D4116=\"Cash and Deposits\",IF(E4116=\"\",\"BANK NAME REQUIRED\",IF(ISERROR(VLOOKUP(E4116,'Reference Data'!C:C,1,FALSE)),\"PLEASE SELECT A BANK FROM DEFINED LIST PROVIDED\",\"\")),\"\")","v":""},"No Entry",0]
[null,null,null,null,null,null,null,null,null,null,null,null,"",{"$f":"IF(D4117=\"Cash and Deposits\",IF(E4117=\"\",\"BANK NAME REQUIRED\",IF(ISERROR(VLOOKUP(E4117,'Reference Data'!C:C,1,FALSE)),\"PLEASE SELECT A BANK FROM DEFINED LIST PROVIDED\",\"\")),\"\")","v":""},"No Entry",0]
[null,null,null,null,null,null,null,null,null,null,null,null,"",{"$f":"IF(D4118=\"Cash and Deposits\",IF(E4118=\"\",\"BANK NAME REQUIRED\",IF(ISERROR(VLOOKUP(E4118,'Reference Data'!C:C,1,FALSE)),\"PLEASE SELECT A BANK FROM DEFINED LIST PROVIDED\",\"\")),\"\")","v":""},"No Entry",0]
[null,null,null,null,null,null,null,null,null,null,null,null,"",{"$f":"IF(D4119=\"Cash and Deposits\",IF(E4119=\"\",\"BANK NAME REQUIRED\",IF(ISERROR(VLOOKUP(E4119,'Reference Data'!C:C,1,FALSE)),\"PLEASE SELECT A BANK FROM DEFINED LIST PROVIDED\",\"\")),\"\")","v":""},"No Entry",0]
[null,null,null,null,null,null,null,null,null,null,null,null,"",{"$f":"IF(D4120=\"Cash and Deposits\",IF(E4120=\"\",\"BANK NAME REQUIRED\",IF(ISERROR(VLOOKUP(E4120,'Reference Data'!C:C,1,FALSE)),\"PLEASE SELECT A BANK FROM DEFINED LIST PROVIDED\",\"\")),\"\")","v":""},"No Entry",0]
[null,null,null,null,null,null,null,null,null,null,null,null,"",{"$f":"IF(D4121=\"Cash and Deposits\",IF(E4121=\"\",\"BANK NAME REQUIRED\",IF(ISERROR(VLOOKUP(E4121,'Reference Data'!C:C,1,FALSE)),\"PLEASE SELECT A BANK FROM DEFINED LIST PROVIDED\",\"\")),\"\")","v":""},"No Entry",0]
[null,null,null,null,null,null,null,null,null,null,null,null,"",{"$f":"IF(D4122=\"Cash and Deposits\",IF(E4122=\"\",\"BANK NAME REQUIRED\",IF(ISERROR(VLOOKUP(E4122,'Reference Data'!C:C,1,FALSE)),\"PLEASE SELECT A BANK FROM DEFINED LIST PROVIDED\",\"\")),\"\")","v":""},"No Entry",0]
[null,null,null,null,null,null,null,null,null,null,null,null,"",{"$f":"IF(D4123=\"Cash and Deposits\",IF(E4123=\"\",\"BANK NAME REQUIRED\",IF(ISERROR(VLOOKUP(E4123,'Reference Data'!C:C,1,FALSE)),\"PLEASE SELECT A BANK FROM DEFINED LIST PROVIDED\",\"\")),\"\")","v":""},"No Entry",0]
[null,null,null,null,null,null,null,null,null,null,null,null,"",{"$f":"IF(D4124=\"Cash and Deposits\",IF(E4124=\"\",\"BANK NAME REQUIRED\",IF(ISERROR(VLOOKUP(E4124,'Reference Data'!C:C,1,FALSE)),\"PLEASE SELECT A BANK FROM DEFINED LIST PROVIDED\",\"\")),\"\")","v":""},"No Entry",0]
[null,null,null,null,null,null,null,null,null,null,null,null,"",{"$f":"IF(D4125=\"Cash and Deposits\",IF(E4125=\"\",\"BANK NAME REQUIRED\",IF(ISERROR(VLOOKUP(E4125,'Reference Data'!C:C,1,FALSE)),\"PLEASE SELECT A BANK FROM DEFINED LIST PROVIDED\",\"\")),\"\")","v":""},"No Entry",0]
[null,null,null,null,null,null,null,null,null,null,null,null,"",{"$f":"IF(D4126=\"Cash and Deposits\",IF(E4126=\"\",\"BANK NAME REQUIRED\",IF(ISERROR(VLOOKUP(E4126,'Reference Data'!C:C,1,FALSE)),\"PLEASE SELECT A BANK FROM DEFINED LIST PROVIDED\",\"\")),\"\")","v":""},"No Entry",0]
[null,null,null,null,null,null,null,null,null,null,null,null,"",{"$f":"IF(D4127=\"Cash and Deposits\",IF(E4127=\"\",\"BANK NAME REQUIRED\",IF(ISERROR(VLOOKUP(E4127,'Reference Data'!C:C,1,FALSE)),\"PLEASE SELECT A BANK FROM DEFINED LIST PROVIDED\",\"\")),\"\")","v":""},"No Entry",0]
[null,null,null,null,null,null,null,null,null,null,null,null,"",{"$f":"IF(D4128=\"Cash and Deposits\",IF(E4128=\"\",\"BANK NAME REQUIRED\",IF(ISERROR(VLOOKUP(E4128,'Reference Data'!C:C,1,FALSE)),\"PLEASE SELECT A BANK FROM DEFINED LIST PROVIDED\",\"\")),\"\")","v":""},"No Entry",0]
[null,null,null,null,null,null,null,null,null,null,null,null,"",{"$f":"IF(D4129=\"Cash and Deposits\",IF(E4129=\"\",\"BANK NAME REQUIRED\",IF(ISERROR(VLOOKUP(E4129,'Reference Data'!C:C,1,FALSE)),\"PLEASE SELECT A BANK FROM DEFINED LIST PROVIDED\",\"\")),\"\")","v":""},"No Entry",0]
[null,null,null,null,null,null,null,null,null,null,null,null,"",{"$f":"IF(D4130=\"Cash and Deposits\",IF(E4130=\"\",\"BANK NAME REQUIRED\",IF(ISERROR(VLOOKUP(E4130,'Reference Data'!C:C,1,FALSE)),\"PLEASE SELECT A BANK FROM DEFINED LIST PROVIDED\",\"\")),\"\")","v":""},"No Entry",0]
[null,null,null,null,null,null,null,null,null,null,null,null,"",{"$f":"IF(D4131=\"Cash and Deposits\",IF(E4131=\"\",\"BANK NAME REQUIRED\",IF(ISERROR(VLOOKUP(E4131,'Reference Data'!C:C,1,FALSE)),\"PLEASE SELECT A BANK FROM DEFINED LIST PROVIDED\",\"\")),\"\")","v":""},"No Entry",0]
[null,null,null,null,null,null,null,null,null,null,null,null,"",{"$f":"IF(D4132=\"Cash and Deposits\",IF(E4132=\"\",\"BANK NAME REQUIRED\",IF(ISERROR(VLOOKUP(E4132,'Reference Data'!C:C,1,FALSE)),\"PLEASE SELECT A BANK FROM DEFINED LIST PROVIDED\",\"\")),\"\")","v":""},"No Entry",0]
[null,null,null,null,null,null,null,null,null,null,null,null,"",{"$f":"IF(D4133=\"Cash and Deposits\",IF(E4133=\"\",\"BANK NAME REQUIRED\",IF(ISERROR(VLOOKUP(E4133,'Reference Data'!C:C,1,FALSE)),\"PLEASE SELECT A BANK FROM DEFINED LIST PROVIDED\",\"\")),\"\")","v":""},"No Entry",0]
[null,null,null,null,null,null,null,null,null,null,null,null,"",{"$f":"IF(D4134=\"Cash and Deposits\",IF(E4134=\"\",\"BANK NAME REQUIRED\",IF(ISERROR(VLOOKUP(E4134,'Reference Data'!C:C,1,FALSE)),\"PLEASE SELECT A BANK FROM DEFINED LIST PROVIDED\",\"\")),\"\")","v":""},"No Entry",0]
[null,null,null,null,null,null,null,null,null,null,null,null,"",{"$f":"IF(D4135=\"Cash and Deposits\",IF(E4135=\"\",\"BANK NAME REQUIRED\",IF(ISERROR(VLOOKUP(E4135,'Reference Data'!C:C,1,FALSE)),\"PLEASE SELECT A BANK FROM DEFINED LIST PROVIDED\",\"\")),\"\")","v":""},"No Entry",0]
[null,null,null,null,null,null,null,null,null,null,null,null,"",{"$f":"IF(D4136=\"Cash and Deposits\",IF(E4136=\"\",\"BANK NAME REQUIRED\",IF(ISERROR(VLOOKUP(E4136,'Reference Data'!C:C,1,FALSE)),\"PLEASE SELECT A BANK FROM DEFINED LIST PROVIDED\",\"\")),\"\")","v":""},"No Entry",0]
[null,null,null,null,null,null,null,null,null,null,null,null,"",{"$f":"IF(D4137=\"Cash and Deposits\",IF(E4137=\"\",\"BANK NAME REQUIRED\",IF(ISERROR(VLOOKUP(E4137,'Reference Data'!C:C,1,FALSE)),\"PLEASE SELECT A BANK FROM DEFINED LIST PROVIDED\",\"\")),\"\")","v":""},"No Entry",0]
[null,null,null,null,null,null,null,null,null,null,null,null,"",{"$f":"IF(D4138=\"Cash and Deposits\",IF(E4138=\"\",\"BANK NAME REQUIRED\",IF(ISERROR(VLOOKUP(E4138,'Reference Data'!C:C,1,FALSE)),\"PLEASE SELECT A BANK FROM DEFINED LIST PROVIDED\",\"\")),\"\")","v":""},"No Entry",0]
[null,null,null,null,null,null,null,null,null,null,null,null,"",{"$f":"IF(D4139=\"Cash and Deposits\",IF(E4139=\"\",\"BANK NAME REQUIRED\",IF(ISERROR(VLOOKUP(E4139,'Reference Data'!C:C,1,FALSE)),\"PLEASE SELECT A BANK FROM DEFINED LIST PROVIDED\",\"\")),\"\")","v":""},"No Entry",0]
[null,null,null,null,null,null,null,null,null,null,null,null,"",{"$f":"IF(D4140=\"Cash and Deposits\",IF(E4140=\"\",\"BANK NAME REQUIRED\",IF(ISERROR(VLOOKUP(E4140,'Reference Data'!C:C,1,FALSE)),\"PLEASE SELECT A BANK FROM DEFINED LIST PROVIDED\",\"\")),\"\")","v":""},"No Entry",0]
[null,null,null,null,null,null,null,null,null,null,null,null,"",{"$f":"IF(D4141=\"Cash and Deposits\",IF(E4141=\"\",\"BANK NAME REQUIRED\",IF(ISERROR(VLOOKUP(E4141,'Reference Data'!C:C,1,FALSE)),\"PLEASE SELECT A BANK FROM DEFINED LIST PROVIDED\",\"\")),\"\")","v":""},"No Entry",0]
[null,null,null,null,null,null,null,null,null,null,null,null,"",{"$f":"IF(D4142=\"Cash and Deposits\",IF(E4142=\"\",\"BANK NAME REQUIRED\",IF(ISERROR(VLOOKUP(E4142,'Reference Data'!C:C,1,FALSE)),\"PLEASE SELECT A BANK FROM DEFINED LIST PROVIDED\",\"\")),\"\")","v":""},"No Entry",0]
[null,null,null,null,null,null,null,null,null,null,null,null,"",{"$f":"IF(D4143=\"Cash and Deposits\",IF(E4143=\"\",\"BANK NAME REQUIRED\",IF(ISERROR(VLOOKUP(E4143,'Reference Data'!C:C,1,FALSE)),\"PLEASE SELECT A BANK FROM DEFINED LIST PROVIDED\",\"\")),\"\")","v":""},"No Entry",0]
[null,null,null,null,null,null,null,null,null,null,null,null,"",{"$f":"IF(D4144=\"Cash and Deposits\",IF(E4144=\"\",\"BANK NAME REQUIRED\",IF(ISERROR(VLOOKUP(E4144,'Reference Data'!C:C,1,FALSE)),\"PLEASE SELECT A BANK FROM DEFINED LIST PROVIDED\",\"\")),\"\")","v":""},"No Entry",0]
[null,null,null,null,null,null,null,null,null,null,null,null,"",{"$f":"IF(D4145=\"Cash and Deposits\",IF(E4145=\"\",\"BANK NAME REQUIRED\",IF(ISERROR(VLOOKUP(E4145,'Reference Data'!C:C,1,FALSE)),\"PLEASE SELECT A BANK FROM DEFINED LIST PROVIDED\",\"\")),\"\")","v":""},"No Entry",0]
[null,null,null,null,null,null,null,null,null,null,null,null,"",{"$f":"IF(D4146=\"Cash and Deposits\",IF(E4146=\"\",\"BANK NAME REQUIRED\",IF(ISERROR(VLOOKUP(E4146,'Reference Data'!C:C,1,FALSE)),\"PLEASE SELECT A BANK FROM DEFINED LIST PROVIDED\",\"\")),\"\")","v":""},"No Entry",0]
[null,null,null,null,null,null,null,null,null,null,null,null,"",{"$f":"IF(D4147=\"Cash and Deposits\",IF(E4147=\"\",\"BANK NAME REQUIRED\",IF(ISERROR(VLOOKUP(E4147,'Reference Data'!C:C,1,FALSE)),\"PLEASE SELECT A BANK FROM DEFINED LIST PROVIDED\",\"\")),\"\")","v":""},"No Entry",0]
[null,null,null,null,null,null,null,null,null,null,null,null,"",{"$f":"IF(D4148=\"Cash and Deposits\",IF(E4148=\"\",\"BANK NAME REQUIRED\",IF(ISERROR(VLOOKUP(E4148,'Reference Data'!C:C,1,FALSE)),\"PLEASE SELECT A BANK FROM DEFINED LIST PROVIDED\",\"\")),\"\")","v":""},"No Entry",0]
[null,null,null,null,null,null,null,null,null,null,null,null,"",{"$f":"IF(D4149=\"Cash and Deposits\",IF(E4149=\"\",\"BANK NAME REQUIRED\",IF(ISERROR(VLOOKUP(E4149,'Reference Data'!C:C,1,FALSE)),\"PLEASE SELECT A BANK FROM DEFINED LIST PROVIDED\",\"\")),\"\")","v":""},"No Entry",0]
[null,null,null,null,null,null,null,null,null,null,null,null,"",{"$f":"IF(D4150=\"Cash and Deposits\",IF(E4150=\"\",\"BANK NAME REQUIRED\",IF(ISERROR(VLOOKUP(E4150,'Reference Data'!C:C,1,FALSE)),\"PLEASE SELECT A BANK FROM DEFINED LIST PROVIDED\",\"\")),\"\")","v":""},"No Entry",0]
[null,null,null,null,null,null,null,null,null,null,null,null,"",{"$f":"IF(D4151=\"Cash and Deposits\",IF(E4151=\"\",\"BANK NAME REQUIRED\",IF(ISERROR(VLOOKUP(E4151,'Reference Data'!C:C,1,FALSE)),\"PLEASE SELECT A BANK FROM DEFINED LIST PROVIDED\",\"\")),\"\")","v":""},"No Entry",0]
[null,null,null,null,null,null,null,null,null,null,null,null,"",{"$f":"IF(D4152=\"Cash and Deposits\",IF(E4152=\"\",\"BANK NAME REQUIRED\",IF(ISERROR(VLOOKUP(E4152,'Reference Data'!C:C,1,FALSE)),\"PLEASE SELECT A BANK FROM DEFINED LIST PROVIDED\",\"\")),\"\")","v":""},"No Entry",0]
[null,null,null,null,null,null,null,null,null,null,null,null,"",{"$f":"IF(D4153=\"Cash and Deposits\",IF(E4153=\"\",\"BANK NAME REQUIRED\",IF(ISERROR(VLOOKUP(E4153,'Reference Data'!C:C,1,FALSE)),\"PLEASE SELECT A BANK FROM DEFINED LIST PROVIDED\",\"\")),\"\")","v":""},"No Entry",0]
[null,null,null,null,null,null,null,null,null,null,null,null,"",{"$f":"IF(D4154=\"Cash and Deposits\",IF(E4154=\"\",\"BANK NAME REQUIRED\",IF(ISERROR(VLOOKUP(E4154,'Reference Data'!C:C,1,FALSE)),\"PLEASE SELECT A BANK FROM DEFINED LIST PROVIDED\",\"\")),\"\")","v":""},"No Entry",0]
[null,null,null,null,null,null,null,null,null,null,null,null,"",{"$f":"IF(D4155=\"Cash and Deposits\",IF(E4155=\"\",\"BANK NAME REQUIRED\",IF(ISERROR(VLOOKUP(E4155,'Reference Data'!C:C,1,FALSE)),\"PLEASE SELECT A BANK FROM DEFINED LIST PROVIDED\",\"\")),\"\")","v":""},"No Entry",0]
[null,null,null,null,null,null,null,null,null,null,null,null,"",{"$f":"IF(D4156=\"Cash and Deposits\",IF(E4156=\"\",\"BANK NAME REQUIRED\",IF(ISERROR(VLOOKUP(E4156,'Reference Data'!C:C,1,FALSE)),\"PLEASE SELECT A BANK FROM DEFINED LIST PROVIDED\",\"\")),\"\")","v":""},"No Entry",0]
[null,null,null,null,null,null,null,null,null,null,null,null,"",{"$f":"IF(D4157=\"Cash and Deposits\",IF(E4157=\"\",\"BANK NAME REQUIRED\",IF(ISERROR(VLOOKUP(E4157,'Reference Data'!C:C,1,FALSE)),\"PLEASE SELECT A BANK FROM DEFINED LIST PROVIDED\",\"\")),\"\")","v":""},"No Entry",0]
[null,null,null,null,null,null,null,null,null,null,null,null,"",{"$f":"IF(D4158=\"Cash and Deposits\",IF(E4158=\"\",\"BANK NAME REQUIRED\",IF(ISERROR(VLOOKUP(E4158,'Reference Data'!C:C,1,FALSE)),\"PLEASE SELECT A BANK FROM DEFINED LIST PROVIDED\",\"\")),\"\")","v":""},"No Entry",0]
[null,null,null,null,null,null,null,null,null,null,null,null,"",{"$f":"IF(D4159=\"Cash and Deposits\",IF(E4159=\"\",\"BANK NAME REQUIRED\",IF(ISERROR(VLOOKUP(E4159,'Reference Data'!C:C,1,FALSE)),\"PLEASE SELECT A BANK FROM DEFINED LIST PROVIDED\",\"\")),\"\")","v":""},"No Entry",0]
[null,null,null,null,null,null,null,null,null,null,null,null,"",{"$f":"IF(D4160=\"Cash and Deposits\",IF(E4160=\"\",\"BANK NAME REQUIRED\",IF(ISERROR(VLOOKUP(E4160,'Reference Data'!C:C,1,FALSE)),\"PLEASE SELECT A BANK FROM DEFINED LIST PROVIDED\",\"\")),\"\")","v":""},"No Entry",0]
[null,null,null,null,null,null,null,null,null,null,null,null,"",{"$f":"IF(D4161=\"Cash and Deposits\",IF(E4161=\"\",\"BANK NAME REQUIRED\",IF(ISERROR(VLOOKUP(E4161,'Reference Data'!C:C,1,FALSE)),\"PLEASE SELECT A BANK FROM DEFINED LIST PROVIDED\",\"\")),\"\")","v":""},"No Entry",0]
[null,null,null,null,null,null,null,null,null,null,null,null,"",{"$f":"IF(D4162=\"Cash and Deposits\",IF(E4162=\"\",\"BANK NAME REQUIRED\",IF(ISERROR(VLOOKUP(E4162,'Reference Data'!C:C,1,FALSE)),\"PLEASE SELECT A BANK FROM DEFINED LIST PROVIDED\",\"\")),\"\")","v":""},"No Entry",0]
[null,null,null,null,null,null,null,null,null,null,null,null,"",{"$f":"IF(D4163=\"Cash and Deposits\",IF(E4163=\"\",\"BANK NAME REQUIRED\",IF(ISERROR(VLOOKUP(E4163,'Reference Data'!C:C,1,FALSE)),\"PLEASE SELECT A BANK FROM DEFINED LIST PROVIDED\",\"\")),\"\")","v":""},"No Entry",0]
[null,null,null,null,null,null,null,null,null,null,null,null,"",{"$f":"IF(D4164=\"Cash and Deposits\",IF(E4164=\"\",\"BANK NAME REQUIRED\",IF(ISERROR(VLOOKUP(E4164,'Reference Data'!C:C,1,FALSE)),\"PLEASE SELECT A BANK FROM DEFINED LIST PROVIDED\",\"\")),\"\")","v":""},"No Entry",0]
[null,null,null,null,null,null,null,null,null,null,null,null,{"$f":"IF(K4165<>0,IF(B4165=\"\",\"ID CODE REQUIRED\",\"\"),\"\")","v":""},{"$f":"IF(D4165=\"Cash and Deposits\",IF(E4165=\"\",\"BANK NAME REQUIRED\",IF(ISERROR(VLOOKUP(E4165,'Reference Data'!C:C,1,FALSE)),\"PLEASE SELECT A BANK FROM DEFINED LIST PROVIDED\",\"\")),\"\")","v":""},{"$f":"IF(K4165=0,\"No Entry\",\"\")","v":"No Entry"},{"$f":"IF(K4165<>0,IF(A4165=\"\",1,0),0)","v":0}]
[null,null,null,null,null,null,null,null,null,null,null,null,"",{"$f":"IF(D4166=\"Cash and Deposits\",IF(E4166=\"\",\"BANK NAME REQUIRED\",IF(ISERROR(VLOOKUP(E4166,'Reference Data'!C:C,1,FALSE)),\"PLEASE SELECT A BANK FROM DEFINED LIST PROVIDED\",\"\")),\"\")","v":""},"No Entry",0]
[null,null,null,null,null,null,null,null,null,null,null,null,"",{"$f":"IF(D4167=\"Cash and Deposits\",IF(E4167=\"\",\"BANK NAME REQUIRED\",IF(ISERROR(VLOOKUP(E4167,'Reference Data'!C:C,1,FALSE)),\"PLEASE SELECT A BANK FROM DEFINED LIST PROVIDED\",\"\")),\"\")","v":""},"No Entry",0]
[null,null,null,null,null,null,null,null,null,null,null,null,"",{"$f":"IF(D4168=\"Cash and Deposits\",IF(E4168=\"\",\"BANK NAME REQUIRED\",IF(ISERROR(VLOOKUP(E4168,'Reference Data'!C:C,1,FALSE)),\"PLEASE SELECT A BANK FROM DEFINED LIST PROVIDED\",\"\")),\"\")","v":""},"No Entry",0]
[null,null,null,null,null,null,null,null,null,null,null,null,"",{"$f":"IF(D4169=\"Cash and Deposits\",IF(E4169=\"\",\"BANK NAME REQUIRED\",IF(ISERROR(VLOOKUP(E4169,'Reference Data'!C:C,1,FALSE)),\"PLEASE SELECT A BANK FROM DEFINED LIST PROVIDED\",\"\")),\"\")","v":""},"No Entry",0]
[null,null,null,null,null,null,null,null,null,null,null,null,"",{"$f":"IF(D4170=\"Cash and Deposits\",IF(E4170=\"\",\"BANK NAME REQUIRED\",IF(ISERROR(VLOOKUP(E4170,'Reference Data'!C:C,1,FALSE)),\"PLEASE SELECT A BANK FROM DEFINED LIST PROVIDED\",\"\")),\"\")","v":""},"No Entry",0]
[null,null,null,null,null,null,null,null,null,null,null,null,"",{"$f":"IF(D4171=\"Cash and Deposits\",IF(E4171=\"\",\"BANK NAME REQUIRED\",IF(ISERROR(VLOOKUP(E4171,'Reference Data'!C:C,1,FALSE)),\"PLEASE SELECT A BANK FROM DEFINED LIST PROVIDED\",\"\")),\"\")","v":""},"No Entry",0]
[null,null,null,null,null,null,null,null,null,null,null,null,"",{"$f":"IF(D4172=\"Cash and Deposits\",IF(E4172=\"\",\"BANK NAME REQUIRED\",IF(ISERROR(VLOOKUP(E4172,'Reference Data'!C:C,1,FALSE)),\"PLEASE SELECT A BANK FROM DEFINED LIST PROVIDED\",\"\")),\"\")","v":""},"No Entry",0]
[null,null,null,null,null,null,null,null,null,null,null,null,"",{"$f":"IF(D4173=\"Cash and Deposits\",IF(E4173=\"\",\"BANK NAME REQUIRED\",IF(ISERROR(VLOOKUP(E4173,'Reference Data'!C:C,1,FALSE)),\"PLEASE SELECT A BANK FROM DEFINED LIST PROVIDED\",\"\")),\"\")","v":""},"No Entry",0]
[null,null,null,null,null,null,null,null,null,null,null,null,"",{"$f":"IF(D4174=\"Cash and Deposits\",IF(E4174=\"\",\"BANK NAME REQUIRED\",IF(ISERROR(VLOOKUP(E4174,'Reference Data'!C:C,1,FALSE)),\"PLEASE SELECT A BANK FROM DEFINED LIST PROVIDED\",\"\")),\"\")","v":""},"No Entry",0]
[null,null,null,null,null,null,null,null,null,null,null,null,"",{"$f":"IF(D4175=\"Cash and Deposits\",IF(E4175=\"\",\"BANK NAME REQUIRED\",IF(ISERROR(VLOOKUP(E4175,'Reference Data'!C:C,1,FALSE)),\"PLEASE SELECT A BANK FROM DEFINED LIST PROVIDED\",\"\")),\"\")","v":""},"No Entry",0]
[null,null,null,null,null,null,null,null,null,null,null,null,"",{"$f":"IF(D4176=\"Cash and Deposits\",IF(E4176=\"\",\"BANK NAME REQUIRED\",IF(ISERROR(VLOOKUP(E4176,'Reference Data'!C:C,1,FALSE)),\"PLEASE SELECT A BANK FROM DEFINED LIST PROVIDED\",\"\")),\"\")","v":""},"No Entry",0]
[null,null,null,null,null,null,null,null,null,null,null,null,"",{"$f":"IF(D4177=\"Cash and Deposits\",IF(E4177=\"\",\"BANK NAME REQUIRED\",IF(ISERROR(VLOOKUP(E4177,'Reference Data'!C:C,1,FALSE)),\"PLEASE SELECT A BANK FROM DEFINED LIST PROVIDED\",\"\")),\"\")","v":""},"No Entry",0]
[null,null,null,null,null,null,null,null,null,null,null,null,"",{"$f":"IF(D4178=\"Cash and Deposits\",IF(E4178=\"\",\"BANK NAME REQUIRED\",IF(ISERROR(VLOOKUP(E4178,'Reference Data'!C:C,1,FALSE)),\"PLEASE SELECT A BANK FROM DEFINED LIST PROVIDED\",\"\")),\"\")","v":""},"No Entry",0]
[null,null,null,null,null,null,null,null,null,null,null,null,"",{"$f":"IF(D4179=\"Cash and Deposits\",IF(E4179=\"\",\"BANK NAME REQUIRED\",IF(ISERROR(VLOOKUP(E4179,'Reference Data'!C:C,1,FALSE)),\"PLEASE SELECT A BANK FROM DEFINED LIST PROVIDED\",\"\")),\"\")","v":""},"No Entry",0]
[null,null,null,null,null,null,null,null,null,null,null,null,"",{"$f":"IF(D4180=\"Cash and Deposits\",IF(E4180=\"\",\"BANK NAME REQUIRED\",IF(ISERROR(VLOOKUP(E4180,'Reference Data'!C:C,1,FALSE)),\"PLEASE SELECT A BANK FROM DEFINED LIST PROVIDED\",\"\")),\"\")","v":""},"No Entry",0]
[null,null,null,null,null,null,null,null,null,null,null,null,"",{"$f":"IF(D4181=\"Cash and Deposits\",IF(E4181=\"\",\"BANK NAME REQUIRED\",IF(ISERROR(VLOOKUP(E4181,'Reference Data'!C:C,1,FALSE)),\"PLEASE SELECT A BANK FROM DEFINED LIST PROVIDED\",\"\")),\"\")","v":""},"No Entry",0]
[null,null,null,null,null,null,null,null,null,null,null,null,"",{"$f":"IF(D4182=\"Cash and Deposits\",IF(E4182=\"\",\"BANK NAME REQUIRED\",IF(ISERROR(VLOOKUP(E4182,'Reference Data'!C:C,1,FALSE)),\"PLEASE SELECT A BANK FROM DEFINED LIST PROVIDED\",\"\")),\"\")","v":""},"No Entry",0]
[null,null,null,null,null,null,null,null,null,null,null,null,"",{"$f":"IF(D4183=\"Cash and Deposits\",IF(E4183=\"\",\"BANK NAME REQUIRED\",IF(ISERROR(VLOOKUP(E4183,'Reference Data'!C:C,1,FALSE)),\"PLEASE SELECT A BANK FROM DEFINED LIST PROVIDED\",\"\")),\"\")","v":""},"No Entry",0]
[null,null,null,null,null,null,null,null,null,null,null,null,"",{"$f":"IF(D4184=\"Cash and Deposits\",IF(E4184=\"\",\"BANK NAME REQUIRED\",IF(ISERROR(VLOOKUP(E4184,'Reference Data'!C:C,1,FALSE)),\"PLEASE SELECT A BANK FROM DEFINED LIST PROVIDED\",\"\")),\"\")","v":""},"No Entry",0]
[null,null,null,null,null,null,null,null,null,null,null,null,"",{"$f":"IF(D4185=\"Cash and Deposits\",IF(E4185=\"\",\"BANK NAME REQUIRED\",IF(ISERROR(VLOOKUP(E4185,'Reference Data'!C:C,1,FALSE)),\"PLEASE SELECT A BANK FROM DEFINED LIST PROVIDED\",\"\")),\"\")","v":""},"No Entry",0]
[null,null,null,null,null,null,null,null,null,null,null,null,"",{"$f":"IF(D4186=\"Cash and Deposits\",IF(E4186=\"\",\"BANK NAME REQUIRED\",IF(ISERROR(VLOOKUP(E4186,'Reference Data'!C:C,1,FALSE)),\"PLEASE SELECT A BANK FROM DEFINED LIST PROVIDED\",\"\")),\"\")","v":""},"No Entry",0]
[null,null,null,null,null,null,null,null,null,null,null,null,"",{"$f":"IF(D4187=\"Cash and Deposits\",IF(E4187=\"\",\"BANK NAME REQUIRED\",IF(ISERROR(VLOOKUP(E4187,'Reference Data'!C:C,1,FALSE)),\"PLEASE SELECT A BANK FROM DEFINED LIST PROVIDED\",\"\")),\"\")","v":""},"No Entry",0]
[null,null,null,null,null,null,null,null,null,null,null,null,"",{"$f":"IF(D4188=\"Cash and Deposits\",IF(E4188=\"\",\"BANK NAME REQUIRED\",IF(ISERROR(VLOOKUP(E4188,'Reference Data'!C:C,1,FALSE)),\"PLEASE SELECT A BANK FROM DEFINED LIST PROVIDED\",\"\")),\"\")","v":""},"No Entry",0]
[null,null,null,null,null,null,null,null,null,null,null,null,"",{"$f":"IF(D4189=\"Cash and Deposits\",IF(E4189=\"\",\"BANK NAME REQUIRED\",IF(ISERROR(VLOOKUP(E4189,'Reference Data'!C:C,1,FALSE)),\"PLEASE SELECT A BANK FROM DEFINED LIST PROVIDED\",\"\")),\"\")","v":""},"No Entry",0]
[null,null,null,null,null,null,null,null,null,null,null,null,"",{"$f":"IF(D4190=\"Cash and Deposits\",IF(E4190=\"\",\"BANK NAME REQUIRED\",IF(ISERROR(VLOOKUP(E4190,'Reference Data'!C:C,1,FALSE)),\"PLEASE SELECT A BANK FROM DEFINED LIST PROVIDED\",\"\")),\"\")","v":""},"No Entry",0]
[null,null,null,null,null,null,null,null,null,null,null,null,"",{"$f":"IF(D4191=\"Cash and Deposits\",IF(E4191=\"\",\"BANK NAME REQUIRED\",IF(ISERROR(VLOOKUP(E4191,'Reference Data'!C:C,1,FALSE)),\"PLEASE SELECT A BANK FROM DEFINED LIST PROVIDED\",\"\")),\"\")","v":""},"No Entry",0]
[null,null,null,null,null,null,null,null,null,null,null,null,"",{"$f":"IF(D4192=\"Cash and Deposits\",IF(E4192=\"\",\"BANK NAME REQUIRED\",IF(ISERROR(VLOOKUP(E4192,'Reference Data'!C:C,1,FALSE)),\"PLEASE SELECT A BANK FROM DEFINED LIST PROVIDED\",\"\")),\"\")","v":""},"No Entry",0]
[null,null,null,null,null,null,null,null,null,null,null,null,"",{"$f":"IF(D4193=\"Cash and Deposits\",IF(E4193=\"\",\"BANK NAME REQUIRED\",IF(ISERROR(VLOOKUP(E4193,'Reference Data'!C:C,1,FALSE)),\"PLEASE SELECT A BANK FROM DEFINED LIST PROVIDED\",\"\")),\"\")","v":""},"No Entry",0]
[null,null,null,null,null,null,null,null,null,null,null,null,"",{"$f":"IF(D4194=\"Cash and Deposits\",IF(E4194=\"\",\"BANK NAME REQUIRED\",IF(ISERROR(VLOOKUP(E4194,'Reference Data'!C:C,1,FALSE)),\"PLEASE SELECT A BANK FROM DEFINED LIST PROVIDED\",\"\")),\"\")","v":""},"No Entry",0]
[null,null,null,null,null,null,null,null,null,null,null,null,"",{"$f":"IF(D4195=\"Cash and Deposits\",IF(E4195=\"\",\"BANK NAME REQUIRED\",IF(ISERROR(VLOOKUP(E4195,'Reference Data'!C:C,1,FALSE)),\"PLEASE SELECT A BANK FROM DEFINED LIST PROVIDED\",\"\")),\"\")","v":""},"No Entry",0]
[null,null,null,null,null,null,null,null,null,null,null,null,"",{"$f":"IF(D4196=\"Cash and Deposits\",IF(E4196=\"\",\"BANK NAME REQUIRED\",IF(ISERROR(VLOOKUP(E4196,'Reference Data'!C:C,1,FALSE)),\"PLEASE SELECT A BANK FROM DEFINED LIST PROVIDED\",\"\")),\"\")","v":""},"No Entry",0]
[null,null,null,null,null,null,null,null,null,null,null,null,"",{"$f":"IF(D4197=\"Cash and Deposits\",IF(E4197=\"\",\"BANK NAME REQUIRED\",IF(ISERROR(VLOOKUP(E4197,'Reference Data'!C:C,1,FALSE)),\"PLEASE SELECT A BANK FROM DEFINED LIST PROVIDED\",\"\")),\"\")","v":""},"No Entry",0]
[null,null,null,null,null,null,null,null,null,null,null,null,"",{"$f":"IF(D4198=\"Cash and Deposits\",IF(E4198=\"\",\"BANK NAME REQUIRED\",IF(ISERROR(VLOOKUP(E4198,'Reference Data'!C:C,1,FALSE)),\"PLEASE SELECT A BANK FROM DEFINED LIST PROVIDED\",\"\")),\"\")","v":""},"No Entry",0]
[null,null,null,null,null,null,null,null,null,null,null,null,"",{"$f":"IF(D4199=\"Cash and Deposits\",IF(E4199=\"\",\"BANK NAME REQUIRED\",IF(ISERROR(VLOOKUP(E4199,'Reference Data'!C:C,1,FALSE)),\"PLEASE SELECT A BANK FROM DEFINED LIST PROVIDED\",\"\")),\"\")","v":""},"No Entry",0]
[null,null,null,null,null,null,null,null,null,null,null,null,"",{"$f":"IF(D4200=\"Cash and Deposits\",IF(E4200=\"\",\"BANK NAME REQUIRED\",IF(ISERROR(VLOOKUP(E4200,'Reference Data'!C:C,1,FALSE)),\"PLEASE SELECT A BANK FROM DEFINED LIST PROVIDED\",\"\")),\"\")","v":""},"No Entry",0]
[null,null,null,null,null,null,null,null,null,null,null,null,"",{"$f":"IF(D4201=\"Cash and Deposits\",IF(E4201=\"\",\"BANK NAME REQUIRED\",IF(ISERROR(VLOOKUP(E4201,'Reference Data'!C:C,1,FALSE)),\"PLEASE SELECT A BANK FROM DEFINED LIST PROVIDED\",\"\")),\"\")","v":""},"No Entry",0]
[null,null,null,null,null,null,null,null,null,null,null,null,"",{"$f":"IF(D4202=\"Cash and Deposits\",IF(E4202=\"\",\"BANK NAME REQUIRED\",IF(ISERROR(VLOOKUP(E4202,'Reference Data'!C:C,1,FALSE)),\"PLEASE SELECT A BANK FROM DEFINED LIST PROVIDED\",\"\")),\"\")","v":""},"No Entry",0]
[null,null,null,null,null,null,null,null,null,null,null,null,"",{"$f":"IF(D4203=\"Cash and Deposits\",IF(E4203=\"\",\"BANK NAME REQUIRED\",IF(ISERROR(VLOOKUP(E4203,'Reference Data'!C:C,1,FALSE)),\"PLEASE SELECT A BANK FROM DEFINED LIST PROVIDED\",\"\")),\"\")","v":""},"No Entry",0]
[null,null,null,null,null,null,null,null,null,null,null,null,"",{"$f":"IF(D4204=\"Cash and Deposits\",IF(E4204=\"\",\"BANK NAME REQUIRED\",IF(ISERROR(VLOOKUP(E4204,'Reference Data'!C:C,1,FALSE)),\"PLEASE SELECT A BANK FROM DEFINED LIST PROVIDED\",\"\")),\"\")","v":""},"No Entry",0]
[null,null,null,null,null,null,null,null,null,null,null,null,"",{"$f":"IF(D4205=\"Cash and Deposits\",IF(E4205=\"\",\"BANK NAME REQUIRED\",IF(ISERROR(VLOOKUP(E4205,'Reference Data'!C:C,1,FALSE)),\"PLEASE SELECT A BANK FROM DEFINED LIST PROVIDED\",\"\")),\"\")","v":""},"No Entry",0]
[null,null,null,null,null,null,null,null,null,null,null,null,"",{"$f":"IF(D4206=\"Cash and Deposits\",IF(E4206=\"\",\"BANK NAME REQUIRED\",IF(ISERROR(VLOOKUP(E4206,'Reference Data'!C:C,1,FALSE)),\"PLEASE SELECT A BANK FROM DEFINED LIST PROVIDED\",\"\")),\"\")","v":""},"No Entry",0]
[null,null,null,null,null,null,null,null,null,null,null,null,"",{"$f":"IF(D4207=\"Cash and Deposits\",IF(E4207=\"\",\"BANK NAME REQUIRED\",IF(ISERROR(VLOOKUP(E4207,'Reference Data'!C:C,1,FALSE)),\"PLEASE SELECT A BANK FROM DEFINED LIST PROVIDED\",\"\")),\"\")","v":""},"No Entry",0]
[null,null,null,null,null,null,null,null,null,null,null,null,"",{"$f":"IF(D4208=\"Cash and Deposits\",IF(E4208=\"\",\"BANK NAME REQUIRED\",IF(ISERROR(VLOOKUP(E4208,'Reference Data'!C:C,1,FALSE)),\"PLEASE SELECT A BANK FROM DEFINED LIST PROVIDED\",\"\")),\"\")","v":""},"No Entry",0]
[null,null,null,null,null,null,null,null,null,null,null,null,"",{"$f":"IF(D4209=\"Cash and Deposits\",IF(E4209=\"\",\"BANK NAME REQUIRED\",IF(ISERROR(VLOOKUP(E4209,'Reference Data'!C:C,1,FALSE)),\"PLEASE SELECT A BANK FROM DEFINED LIST PROVIDED\",\"\")),\"\")","v":""},"No Entry",0]
[null,null,null,null,null,null,null,null,null,null,null,null,"",{"$f":"IF(D4210=\"Cash and Deposits\",IF(E4210=\"\",\"BANK NAME REQUIRED\",IF(ISERROR(VLOOKUP(E4210,'Reference Data'!C:C,1,FALSE)),\"PLEASE SELECT A BANK FROM DEFINED LIST PROVIDED\",\"\")),\"\")","v":""},"No Entry",0]
[null,null,null,null,null,null,null,null,null,null,null,null,"",{"$f":"IF(D4211=\"Cash and Deposits\",IF(E4211=\"\",\"BANK NAME REQUIRED\",IF(ISERROR(VLOOKUP(E4211,'Reference Data'!C:C,1,FALSE)),\"PLEASE SELECT A BANK FROM DEFINED LIST PROVIDED\",\"\")),\"\")","v":""},"No Entry",0]
[null,null,null,null,null,null,null,null,null,null,null,null,"",{"$f":"IF(D4212=\"Cash and Deposits\",IF(E4212=\"\",\"BANK NAME REQUIRED\",IF(ISERROR(VLOOKUP(E4212,'Reference Data'!C:C,1,FALSE)),\"PLEASE SELECT A BANK FROM DEFINED LIST PROVIDED\",\"\")),\"\")","v":""},"No Entry",0]
[null,null,null,null,null,null,null,null,null,null,null,null,"",{"$f":"IF(D4213=\"Cash and Deposits\",IF(E4213=\"\",\"BANK NAME REQUIRED\",IF(ISERROR(VLOOKUP(E4213,'Reference Data'!C:C,1,FALSE)),\"PLEASE SELECT A BANK FROM DEFINED LIST PROVIDED\",\"\")),\"\")","v":""},"No Entry",0]
[null,null,null,null,null,null,null,null,null,null,null,null,"",{"$f":"IF(D4214=\"Cash and Deposits\",IF(E4214=\"\",\"BANK NAME REQUIRED\",IF(ISERROR(VLOOKUP(E4214,'Reference Data'!C:C,1,FALSE)),\"PLEASE SELECT A BANK FROM DEFINED LIST PROVIDED\",\"\")),\"\")","v":""},"No Entry",0]
[null,null,null,null,null,null,null,null,null,null,null,null,"",{"$f":"IF(D4215=\"Cash and Deposits\",IF(E4215=\"\",\"BANK NAME REQUIRED\",IF(ISERROR(VLOOKUP(E4215,'Reference Data'!C:C,1,FALSE)),\"PLEASE SELECT A BANK FROM DEFINED LIST PROVIDED\",\"\")),\"\")","v":""},"No Entry",0]
[null,null,null,null,null,null,null,null,null,null,null,null,"",{"$f":"IF(D4216=\"Cash and Deposits\",IF(E4216=\"\",\"BANK NAME REQUIRED\",IF(ISERROR(VLOOKUP(E4216,'Reference Data'!C:C,1,FALSE)),\"PLEASE SELECT A BANK FROM DEFINED LIST PROVIDED\",\"\")),\"\")","v":""},"No Entry",0]
[null,null,null,null,null,null,null,null,null,null,null,null,"",{"$f":"IF(D4217=\"Cash and Deposits\",IF(E4217=\"\",\"BANK NAME REQUIRED\",IF(ISERROR(VLOOKUP(E4217,'Reference Data'!C:C,1,FALSE)),\"PLEASE SELECT A BANK FROM DEFINED LIST PROVIDED\",\"\")),\"\")","v":""},"No Entry",0]
[null,null,null,null,null,null,null,null,null,null,null,null,"",{"$f":"IF(D4218=\"Cash and Deposits\",IF(E4218=\"\",\"BANK NAME REQUIRED\",IF(ISERROR(VLOOKUP(E4218,'Reference Data'!C:C,1,FALSE)),\"PLEASE SELECT A BANK FROM DEFINED LIST PROVIDED\",\"\")),\"\")","v":""},"No Entry",0]
[null,null,null,null,null,null,null,null,null,null,null,null,"",{"$f":"IF(D4219=\"Cash and Deposits\",IF(E4219=\"\",\"BANK NAME REQUIRED\",IF(ISERROR(VLOOKUP(E4219,'Reference Data'!C:C,1,FALSE)),\"PLEASE SELECT A BANK FROM DEFINED LIST PROVIDED\",\"\")),\"\")","v":""},"No Entry",0]
[null,null,null,null,null,null,null,null,null,null,null,null,"",{"$f":"IF(D4220=\"Cash and Deposits\",IF(E4220=\"\",\"BANK NAME REQUIRED\",IF(ISERROR(VLOOKUP(E4220,'Reference Data'!C:C,1,FALSE)),\"PLEASE SELECT A BANK FROM DEFINED LIST PROVIDED\",\"\")),\"\")","v":""},"No Entry",0]
[null,null,null,null,null,null,null,null,null,null,null,null,"",{"$f":"IF(D4221=\"Cash and Deposits\",IF(E4221=\"\",\"BANK NAME REQUIRED\",IF(ISERROR(VLOOKUP(E4221,'Reference Data'!C:C,1,FALSE)),\"PLEASE SELECT A BANK FROM DEFINED LIST PROVIDED\",\"\")),\"\")","v":""},"No Entry",0]
[null,null,null,null,null,null,null,null,null,null,null,null,"",{"$f":"IF(D4222=\"Cash and Deposits\",IF(E4222=\"\",\"BANK NAME REQUIRED\",IF(ISERROR(VLOOKUP(E4222,'Reference Data'!C:C,1,FALSE)),\"PLEASE SELECT A BANK FROM DEFINED LIST PROVIDED\",\"\")),\"\")","v":""},"No Entry",0]
[null,null,null,null,null,null,null,null,null,null,null,null,"",{"$f":"IF(D4223=\"Cash and Deposits\",IF(E4223=\"\",\"BANK NAME REQUIRED\",IF(ISERROR(VLOOKUP(E4223,'Reference Data'!C:C,1,FALSE)),\"PLEASE SELECT A BANK FROM DEFINED LIST PROVIDED\",\"\")),\"\")","v":""},"No Entry",0]
[null,null,null,null,null,null,null,null,null,null,null,null,"",{"$f":"IF(D4224=\"Cash and Deposits\",IF(E4224=\"\",\"BANK NAME REQUIRED\",IF(ISERROR(VLOOKUP(E4224,'Reference Data'!C:C,1,FALSE)),\"PLEASE SELECT A BANK FROM DEFINED LIST PROVIDED\",\"\")),\"\")","v":""},"No Entry",0]
[null,null,null,null,null,null,null,null,null,null,null,null,"",{"$f":"IF(D4225=\"Cash and Deposits\",IF(E4225=\"\",\"BANK NAME REQUIRED\",IF(ISERROR(VLOOKUP(E4225,'Reference Data'!C:C,1,FALSE)),\"PLEASE SELECT A BANK FROM DEFINED LIST PROVIDED\",\"\")),\"\")","v":""},"No Entry",0]
[null,null,null,null,null,null,null,null,null,null,null,null,"",{"$f":"IF(D4226=\"Cash and Deposits\",IF(E4226=\"\",\"BANK NAME REQUIRED\",IF(ISERROR(VLOOKUP(E4226,'Reference Data'!C:C,1,FALSE)),\"PLEASE SELECT A BANK FROM DEFINED LIST PROVIDED\",\"\")),\"\")","v":""},"No Entry",0]
[null,null,null,null,null,null,null,null,null,null,null,null,"",{"$f":"IF(D4227=\"Cash and Deposits\",IF(E4227=\"\",\"BANK NAME REQUIRED\",IF(ISERROR(VLOOKUP(E4227,'Reference Data'!C:C,1,FALSE)),\"PLEASE SELECT A BANK FROM DEFINED LIST PROVIDED\",\"\")),\"\")","v":""},"No Entry",0]
[null,null,null,null,null,null,null,null,null,null,null,null,"",{"$f":"IF(D4228=\"Cash and Deposits\",IF(E4228=\"\",\"BANK NAME REQUIRED\",IF(ISERROR(VLOOKUP(E4228,'Reference Data'!C:C,1,FALSE)),\"PLEASE SELECT A BANK FROM DEFINED LIST PROVIDED\",\"\")),\"\")","v":""},"No Entry",0]
[null,null,null,null,null,null,null,null,null,null,null,null,{"$f":"IF(K4229<>0,IF(B4229=\"\",\"ID CODE REQUIRED\",\"\"),\"\")","v":""},{"$f":"IF(D4229=\"Cash and Deposits\",IF(E4229=\"\",\"BANK NAME REQUIRED\",IF(ISERROR(VLOOKUP(E4229,'Reference Data'!C:C,1,FALSE)),\"PLEASE SELECT A BANK FROM DEFINED LIST PROVIDED\",\"\")),\"\")","v":""},{"$f":"IF(K4229=0,\"No Entry\",\"\")","v":"No Entry"},{"$f":"IF(K4229<>0,IF(A4229=\"\",1,0),0)","v":0}]
[null,null,null,null,null,null,null,null,null,null,null,null,"",{"$f":"IF(D4230=\"Cash and Deposits\",IF(E4230=\"\",\"BANK NAME REQUIRED\",IF(ISERROR(VLOOKUP(E4230,'Reference Data'!C:C,1,FALSE)),\"PLEASE SELECT A BANK FROM DEFINED LIST PROVIDED\",\"\")),\"\")","v":""},"No Entry",0]
[null,null,null,null,null,null,null,null,null,null,null,null,"",{"$f":"IF(D4231=\"Cash and Deposits\",IF(E4231=\"\",\"BANK NAME REQUIRED\",IF(ISERROR(VLOOKUP(E4231,'Reference Data'!C:C,1,FALSE)),\"PLEASE SELECT A BANK FROM DEFINED LIST PROVIDED\",\"\")),\"\")","v":""},"No Entry",0]
[null,null,null,null,null,null,null,null,null,null,null,null,"",{"$f":"IF(D4232=\"Cash and Deposits\",IF(E4232=\"\",\"BANK NAME REQUIRED\",IF(ISERROR(VLOOKUP(E4232,'Reference Data'!C:C,1,FALSE)),\"PLEASE SELECT A BANK FROM DEFINED LIST PROVIDED\",\"\")),\"\")","v":""},"No Entry",0]
[null,null,null,null,null,null,null,null,null,null,null,null,"",{"$f":"IF(D4233=\"Cash and Deposits\",IF(E4233=\"\",\"BANK NAME REQUIRED\",IF(ISERROR(VLOOKUP(E4233,'Reference Data'!C:C,1,FALSE)),\"PLEASE SELECT A BANK FROM DEFINED LIST PROVIDED\",\"\")),\"\")","v":""},"No Entry",0]
[null,null,null,null,null,null,null,null,null,null,null,null,"",{"$f":"IF(D4234=\"Cash and Deposits\",IF(E4234=\"\",\"BANK NAME REQUIRED\",IF(ISERROR(VLOOKUP(E4234,'Reference Data'!C:C,1,FALSE)),\"PLEASE SELECT A BANK FROM DEFINED LIST PROVIDED\",\"\")),\"\")","v":""},"No Entry",0]
[null,null,null,null,null,null,null,null,null,null,null,null,"",{"$f":"IF(D4235=\"Cash and Deposits\",IF(E4235=\"\",\"BANK NAME REQUIRED\",IF(ISERROR(VLOOKUP(E4235,'Reference Data'!C:C,1,FALSE)),\"PLEASE SELECT A BANK FROM DEFINED LIST PROVIDED\",\"\")),\"\")","v":""},"No Entry",0]
[null,null,null,null,null,null,null,null,null,null,null,null,"",{"$f":"IF(D4236=\"Cash and Deposits\",IF(E4236=\"\",\"BANK NAME REQUIRED\",IF(ISERROR(VLOOKUP(E4236,'Reference Data'!C:C,1,FALSE)),\"PLEASE SELECT A BANK FROM DEFINED LIST PROVIDED\",\"\")),\"\")","v":""},"No Entry",0]
[null,null,null,null,null,null,null,null,null,null,null,null,"",{"$f":"IF(D4237=\"Cash and Deposits\",IF(E4237=\"\",\"BANK NAME REQUIRED\",IF(ISERROR(VLOOKUP(E4237,'Reference Data'!C:C,1,FALSE)),\"PLEASE SELECT A BANK FROM DEFINED LIST PROVIDED\",\"\")),\"\")","v":""},"No Entry",0]
[null,null,null,null,null,null,null,null,null,null,null,null,"",{"$f":"IF(D4238=\"Cash and Deposits\",IF(E4238=\"\",\"BANK NAME REQUIRED\",IF(ISERROR(VLOOKUP(E4238,'Reference Data'!C:C,1,FALSE)),\"PLEASE SELECT A BANK FROM DEFINED LIST PROVIDED\",\"\")),\"\")","v":""},"No Entry",0]
[null,null,null,null,null,null,null,null,null,null,null,null,"",{"$f":"IF(D4239=\"Cash and Deposits\",IF(E4239=\"\",\"BANK NAME REQUIRED\",IF(ISERROR(VLOOKUP(E4239,'Reference Data'!C:C,1,FALSE)),\"PLEASE SELECT A BANK FROM DEFINED LIST PROVIDED\",\"\")),\"\")","v":""},"No Entry",0]
[null,null,null,null,null,null,null,null,null,null,null,null,"",{"$f":"IF(D4240=\"Cash and Deposits\",IF(E4240=\"\",\"BANK NAME REQUIRED\",IF(ISERROR(VLOOKUP(E4240,'Reference Data'!C:C,1,FALSE)),\"PLEASE SELECT A BANK FROM DEFINED LIST PROVIDED\",\"\")),\"\")","v":""},"No Entry",0]
[null,null,null,null,null,null,null,null,null,null,null,null,"",{"$f":"IF(D4241=\"Cash and Deposits\",IF(E4241=\"\",\"BANK NAME REQUIRED\",IF(ISERROR(VLOOKUP(E4241,'Reference Data'!C:C,1,FALSE)),\"PLEASE SELECT A BANK FROM DEFINED LIST PROVIDED\",\"\")),\"\")","v":""},"No Entry",0]
[null,null,null,null,null,null,null,null,null,null,null,null,"",{"$f":"IF(D4242=\"Cash and Deposits\",IF(E4242=\"\",\"BANK NAME REQUIRED\",IF(ISERROR(VLOOKUP(E4242,'Reference Data'!C:C,1,FALSE)),\"PLEASE SELECT A BANK FROM DEFINED LIST PROVIDED\",\"\")),\"\")","v":""},"No Entry",0]
[null,null,null,null,null,null,null,null,null,null,null,null,"",{"$f":"IF(D4243=\"Cash and Deposits\",IF(E4243=\"\",\"BANK NAME REQUIRED\",IF(ISERROR(VLOOKUP(E4243,'Reference Data'!C:C,1,FALSE)),\"PLEASE SELECT A BANK FROM DEFINED LIST PROVIDED\",\"\")),\"\")","v":""},"No Entry",0]
[null,null,null,null,null,null,null,null,null,null,null,null,"",{"$f":"IF(D4244=\"Cash and Deposits\",IF(E4244=\"\",\"BANK NAME REQUIRED\",IF(ISERROR(VLOOKUP(E4244,'Reference Data'!C:C,1,FALSE)),\"PLEASE SELECT A BANK FROM DEFINED LIST PROVIDED\",\"\")),\"\")","v":""},"No Entry",0]
[null,null,null,null,null,null,null,null,null,null,null,null,"",{"$f":"IF(D4245=\"Cash and Deposits\",IF(E4245=\"\",\"BANK NAME REQUIRED\",IF(ISERROR(VLOOKUP(E4245,'Reference Data'!C:C,1,FALSE)),\"PLEASE SELECT A BANK FROM DEFINED LIST PROVIDED\",\"\")),\"\")","v":""},"No Entry",0]
[null,null,null,null,null,null,null,null,null,null,null,null,"",{"$f":"IF(D4246=\"Cash and Deposits\",IF(E4246=\"\",\"BANK NAME REQUIRED\",IF(ISERROR(VLOOKUP(E4246,'Reference Data'!C:C,1,FALSE)),\"PLEASE SELECT A BANK FROM DEFINED LIST PROVIDED\",\"\")),\"\")","v":""},"No Entry",0]
[null,null,null,null,null,null,null,null,null,null,null,null,"",{"$f":"IF(D4247=\"Cash and Deposits\",IF(E4247=\"\",\"BANK NAME REQUIRED\",IF(ISERROR(VLOOKUP(E4247,'Reference Data'!C:C,1,FALSE)),\"PLEASE SELECT A BANK FROM DEFINED LIST PROVIDED\",\"\")),\"\")","v":""},"No Entry",0]
[null,null,null,null,null,null,null,null,null,null,null,null,"",{"$f":"IF(D4248=\"Cash and Deposits\",IF(E4248=\"\",\"BANK NAME REQUIRED\",IF(ISERROR(VLOOKUP(E4248,'Reference Data'!C:C,1,FALSE)),\"PLEASE SELECT A BANK FROM DEFINED LIST PROVIDED\",\"\")),\"\")","v":""},"No Entry",0]
[null,null,null,null,null,null,null,null,null,null,null,null,"",{"$f":"IF(D4249=\"Cash and Deposits\",IF(E4249=\"\",\"BANK NAME REQUIRED\",IF(ISERROR(VLOOKUP(E4249,'Reference Data'!C:C,1,FALSE)),\"PLEASE SELECT A BANK FROM DEFINED LIST PROVIDED\",\"\")),\"\")","v":""},"No Entry",0]
[null,null,null,null,null,null,null,null,null,null,null,null,"",{"$f":"IF(D4250=\"Cash and Deposits\",IF(E4250=\"\",\"BANK NAME REQUIRED\",IF(ISERROR(VLOOKUP(E4250,'Reference Data'!C:C,1,FALSE)),\"PLEASE SELECT A BANK FROM DEFINED LIST PROVIDED\",\"\")),\"\")","v":""},"No Entry",0]
[null,null,null,null,null,null,null,null,null,null,null,null,"",{"$f":"IF(D4251=\"Cash and Deposits\",IF(E4251=\"\",\"BANK NAME REQUIRED\",IF(ISERROR(VLOOKUP(E4251,'Reference Data'!C:C,1,FALSE)),\"PLEASE SELECT A BANK FROM DEFINED LIST PROVIDED\",\"\")),\"\")","v":""},"No Entry",0]
[null,null,null,null,null,null,null,null,null,null,null,null,"",{"$f":"IF(D4252=\"Cash and Deposits\",IF(E4252=\"\",\"BANK NAME REQUIRED\",IF(ISERROR(VLOOKUP(E4252,'Reference Data'!C:C,1,FALSE)),\"PLEASE SELECT A BANK FROM DEFINED LIST PROVIDED\",\"\")),\"\")","v":""},"No Entry",0]
[null,null,null,null,null,null,null,null,null,null,null,null,"",{"$f":"IF(D4253=\"Cash and Deposits\",IF(E4253=\"\",\"BANK NAME REQUIRED\",IF(ISERROR(VLOOKUP(E4253,'Reference Data'!C:C,1,FALSE)),\"PLEASE SELECT A BANK FROM DEFINED LIST PROVIDED\",\"\")),\"\")","v":""},"No Entry",0]
[null,null,null,null,null,null,null,null,null,null,null,null,"",{"$f":"IF(D4254=\"Cash and Deposits\",IF(E4254=\"\",\"BANK NAME REQUIRED\",IF(ISERROR(VLOOKUP(E4254,'Reference Data'!C:C,1,FALSE)),\"PLEASE SELECT A BANK FROM DEFINED LIST PROVIDED\",\"\")),\"\")","v":""},"No Entry",0]
[null,null,null,null,null,null,null,null,null,null,null,null,"",{"$f":"IF(D4255=\"Cash and Deposits\",IF(E4255=\"\",\"BANK NAME REQUIRED\",IF(ISERROR(VLOOKUP(E4255,'Reference Data'!C:C,1,FALSE)),\"PLEASE SELECT A BANK FROM DEFINED LIST PROVIDED\",\"\")),\"\")","v":""},"No Entry",0]
[null,null,null,null,null,null,null,null,null,null,null,null,"",{"$f":"IF(D4256=\"Cash and Deposits\",IF(E4256=\"\",\"BANK NAME REQUIRED\",IF(ISERROR(VLOOKUP(E4256,'Reference Data'!C:C,1,FALSE)),\"PLEASE SELECT A BANK FROM DEFINED LIST PROVIDED\",\"\")),\"\")","v":""},"No Entry",0]
[null,null,null,null,null,null,null,null,null,null,null,null,"",{"$f":"IF(D4257=\"Cash and Deposits\",IF(E4257=\"\",\"BANK NAME REQUIRED\",IF(ISERROR(VLOOKUP(E4257,'Reference Data'!C:C,1,FALSE)),\"PLEASE SELECT A BANK FROM DEFINED LIST PROVIDED\",\"\")),\"\")","v":""},"No Entry",0]
[null,null,null,null,null,null,null,null,null,null,null,null,"",{"$f":"IF(D4258=\"Cash and Deposits\",IF(E4258=\"\",\"BANK NAME REQUIRED\",IF(ISERROR(VLOOKUP(E4258,'Reference Data'!C:C,1,FALSE)),\"PLEASE SELECT A BANK FROM DEFINED LIST PROVIDED\",\"\")),\"\")","v":""},"No Entry",0]
[null,null,null,null,null,null,null,null,null,null,null,null,"",{"$f":"IF(D4259=\"Cash and Deposits\",IF(E4259=\"\",\"BANK NAME REQUIRED\",IF(ISERROR(VLOOKUP(E4259,'Reference Data'!C:C,1,FALSE)),\"PLEASE SELECT A BANK FROM DEFINED LIST PROVIDED\",\"\")),\"\")","v":""},"No Entry",0]
[null,null,null,null,null,null,null,null,null,null,null,null,"",{"$f":"IF(D4260=\"Cash and Deposits\",IF(E4260=\"\",\"BANK NAME REQUIRED\",IF(ISERROR(VLOOKUP(E4260,'Reference Data'!C:C,1,FALSE)),\"PLEASE SELECT A BANK FROM DEFINED LIST PROVIDED\",\"\")),\"\")","v":""},"No Entry",0]
[null,null,null,null,null,null,null,null,null,null,null,null,"",{"$f":"IF(D4261=\"Cash and Deposits\",IF(E4261=\"\",\"BANK NAME REQUIRED\",IF(ISERROR(VLOOKUP(E4261,'Reference Data'!C:C,1,FALSE)),\"PLEASE SELECT A BANK FROM DEFINED LIST PROVIDED\",\"\")),\"\")","v":""},"No Entry",0]
[null,null,null,null,null,null,null,null,null,null,null,null,"",{"$f":"IF(D4262=\"Cash and Deposits\",IF(E4262=\"\",\"BANK NAME REQUIRED\",IF(ISERROR(VLOOKUP(E4262,'Reference Data'!C:C,1,FALSE)),\"PLEASE SELECT A BANK FROM DEFINED LIST PROVIDED\",\"\")),\"\")","v":""},"No Entry",0]
[null,null,null,null,null,null,null,null,null,null,null,null,"",{"$f":"IF(D4263=\"Cash and Deposits\",IF(E4263=\"\",\"BANK NAME REQUIRED\",IF(ISERROR(VLOOKUP(E4263,'Reference Data'!C:C,1,FALSE)),\"PLEASE SELECT A BANK FROM DEFINED LIST PROVIDED\",\"\")),\"\")","v":""},"No Entry",0]
[null,null,null,null,null,null,null,null,null,null,null,null,"",{"$f":"IF(D4264=\"Cash and Deposits\",IF(E4264=\"\",\"BANK NAME REQUIRED\",IF(ISERROR(VLOOKUP(E4264,'Reference Data'!C:C,1,FALSE)),\"PLEASE SELECT A BANK FROM DEFINED LIST PROVIDED\",\"\")),\"\")","v":""},"No Entry",0]
[null,null,null,null,null,null,null,null,null,null,null,null,"",{"$f":"IF(D4265=\"Cash and Deposits\",IF(E4265=\"\",\"BANK NAME REQUIRED\",IF(ISERROR(VLOOKUP(E4265,'Reference Data'!C:C,1,FALSE)),\"PLEASE SELECT A BANK FROM DEFINED LIST PROVIDED\",\"\")),\"\")","v":""},"No Entry",0]
[null,null,null,null,null,null,null,null,null,null,null,null,"",{"$f":"IF(D4266=\"Cash and Deposits\",IF(E4266=\"\",\"BANK NAME REQUIRED\",IF(ISERROR(VLOOKUP(E4266,'Reference Data'!C:C,1,FALSE)),\"PLEASE SELECT A BANK FROM DEFINED LIST PROVIDED\",\"\")),\"\")","v":""},"No Entry",0]
[null,null,null,null,null,null,null,null,null,null,null,null,"",{"$f":"IF(D4267=\"Cash and Deposits\",IF(E4267=\"\",\"BANK NAME REQUIRED\",IF(ISERROR(VLOOKUP(E4267,'Reference Data'!C:C,1,FALSE)),\"PLEASE SELECT A BANK FROM DEFINED LIST PROVIDED\",\"\")),\"\")","v":""},"No Entry",0]
[null,null,null,null,null,null,null,null,null,null,null,null,"",{"$f":"IF(D4268=\"Cash and Deposits\",IF(E4268=\"\",\"BANK NAME REQUIRED\",IF(ISERROR(VLOOKUP(E4268,'Reference Data'!C:C,1,FALSE)),\"PLEASE SELECT A BANK FROM DEFINED LIST PROVIDED\",\"\")),\"\")","v":""},"No Entry",0]
[null,null,null,null,null,null,null,null,null,null,null,null,"",{"$f":"IF(D4269=\"Cash and Deposits\",IF(E4269=\"\",\"BANK NAME REQUIRED\",IF(ISERROR(VLOOKUP(E4269,'Reference Data'!C:C,1,FALSE)),\"PLEASE SELECT A BANK FROM DEFINED LIST PROVIDED\",\"\")),\"\")","v":""},"No Entry",0]
[null,null,null,null,null,null,null,null,null,null,null,null,"",{"$f":"IF(D4270=\"Cash and Deposits\",IF(E4270=\"\",\"BANK NAME REQUIRED\",IF(ISERROR(VLOOKUP(E4270,'Reference Data'!C:C,1,FALSE)),\"PLEASE SELECT A BANK FROM DEFINED LIST PROVIDED\",\"\")),\"\")","v":""},"No Entry",0]
[null,null,null,null,null,null,null,null,null,null,null,null,"",{"$f":"IF(D4271=\"Cash and Deposits\",IF(E4271=\"\",\"BANK NAME REQUIRED\",IF(ISERROR(VLOOKUP(E4271,'Reference Data'!C:C,1,FALSE)),\"PLEASE SELECT A BANK FROM DEFINED LIST PROVIDED\",\"\")),\"\")","v":""},"No Entry",0]
[null,null,null,null,null,null,null,null,null,null,null,null,"",{"$f":"IF(D4272=\"Cash and Deposits\",IF(E4272=\"\",\"BANK NAME REQUIRED\",IF(ISERROR(VLOOKUP(E4272,'Reference Data'!C:C,1,FALSE)),\"PLEASE SELECT A BANK FROM DEFINED LIST PROVIDED\",\"\")),\"\")","v":""},"No Entry",0]
[null,null,null,null,null,null,null,null,null,null,null,null,"",{"$f":"IF(D4273=\"Cash and Deposits\",IF(E4273=\"\",\"BANK NAME REQUIRED\",IF(ISERROR(VLOOKUP(E4273,'Reference Data'!C:C,1,FALSE)),\"PLEASE SELECT A BANK FROM DEFINED LIST PROVIDED\",\"\")),\"\")","v":""},"No Entry",0]
[null,null,null,null,null,null,null,null,null,null,null,null,"",{"$f":"IF(D4274=\"Cash and Deposits\",IF(E4274=\"\",\"BANK NAME REQUIRED\",IF(ISERROR(VLOOKUP(E4274,'Reference Data'!C:C,1,FALSE)),\"PLEASE SELECT A BANK FROM DEFINED LIST PROVIDED\",\"\")),\"\")","v":""},"No Entry",0]
[null,null,null,null,null,null,null,null,null,null,null,null,"",{"$f":"IF(D4275=\"Cash and Deposits\",IF(E4275=\"\",\"BANK NAME REQUIRED\",IF(ISERROR(VLOOKUP(E4275,'Reference Data'!C:C,1,FALSE)),\"PLEASE SELECT A BANK FROM DEFINED LIST PROVIDED\",\"\")),\"\")","v":""},"No Entry",0]
[null,null,null,null,null,null,null,null,null,null,null,null,"",{"$f":"IF(D4276=\"Cash and Deposits\",IF(E4276=\"\",\"BANK NAME REQUIRED\",IF(ISERROR(VLOOKUP(E4276,'Reference Data'!C:C,1,FALSE)),\"PLEASE SELECT A BANK FROM DEFINED LIST PROVIDED\",\"\")),\"\")","v":""},"No Entry",0]
[null,null,null,null,null,null,null,null,null,null,null,null,"",{"$f":"IF(D4277=\"Cash and Deposits\",IF(E4277=\"\",\"BANK NAME REQUIRED\",IF(ISERROR(VLOOKUP(E4277,'Reference Data'!C:C,1,FALSE)),\"PLEASE SELECT A BANK FROM DEFINED LIST PROVIDED\",\"\")),\"\")","v":""},"No Entry",0]
[null,null,null,null,null,null,null,null,null,null,null,null,"",{"$f":"IF(D4278=\"Cash and Deposits\",IF(E4278=\"\",\"BANK NAME REQUIRED\",IF(ISERROR(VLOOKUP(E4278,'Reference Data'!C:C,1,FALSE)),\"PLEASE SELECT A BANK FROM DEFINED LIST PROVIDED\",\"\")),\"\")","v":""},"No Entry",0]
[null,null,null,null,null,null,null,null,null,null,null,null,"",{"$f":"IF(D4279=\"Cash and Deposits\",IF(E4279=\"\",\"BANK NAME REQUIRED\",IF(ISERROR(VLOOKUP(E4279,'Reference Data'!C:C,1,FALSE)),\"PLEASE SELECT A BANK FROM DEFINED LIST PROVIDED\",\"\")),\"\")","v":""},"No Entry",0]
[null,null,null,null,null,null,null,null,null,null,null,null,"",{"$f":"IF(D4280=\"Cash and Deposits\",IF(E4280=\"\",\"BANK NAME REQUIRED\",IF(ISERROR(VLOOKUP(E4280,'Reference Data'!C:C,1,FALSE)),\"PLEASE SELECT A BANK FROM DEFINED LIST PROVIDED\",\"\")),\"\")","v":""},"No Entry",0]
[null,null,null,null,null,null,null,null,null,null,null,null,"",{"$f":"IF(D4281=\"Cash and Deposits\",IF(E4281=\"\",\"BANK NAME REQUIRED\",IF(ISERROR(VLOOKUP(E4281,'Reference Data'!C:C,1,FALSE)),\"PLEASE SELECT A BANK FROM DEFINED LIST PROVIDED\",\"\")),\"\")","v":""},"No Entry",0]
[null,null,null,null,null,null,null,null,null,null,null,null,"",{"$f":"IF(D4282=\"Cash and Deposits\",IF(E4282=\"\",\"BANK NAME REQUIRED\",IF(ISERROR(VLOOKUP(E4282,'Reference Data'!C:C,1,FALSE)),\"PLEASE SELECT A BANK FROM DEFINED LIST PROVIDED\",\"\")),\"\")","v":""},"No Entry",0]
[null,null,null,null,null,null,null,null,null,null,null,null,"",{"$f":"IF(D4283=\"Cash and Deposits\",IF(E4283=\"\",\"BANK NAME REQUIRED\",IF(ISERROR(VLOOKUP(E4283,'Reference Data'!C:C,1,FALSE)),\"PLEASE SELECT A BANK FROM DEFINED LIST PROVIDED\",\"\")),\"\")","v":""},"No Entry",0]
[null,null,null,null,null,null,null,null,null,null,null,null,"",{"$f":"IF(D4284=\"Cash and Deposits\",IF(E4284=\"\",\"BANK NAME REQUIRED\",IF(ISERROR(VLOOKUP(E4284,'Reference Data'!C:C,1,FALSE)),\"PLEASE SELECT A BANK FROM DEFINED LIST PROVIDED\",\"\")),\"\")","v":""},"No Entry",0]
[null,null,null,null,null,null,null,null,null,null,null,null,"",{"$f":"IF(D4285=\"Cash and Deposits\",IF(E4285=\"\",\"BANK NAME REQUIRED\",IF(ISERROR(VLOOKUP(E4285,'Reference Data'!C:C,1,FALSE)),\"PLEASE SELECT A BANK FROM DEFINED LIST PROVIDED\",\"\")),\"\")","v":""},"No Entry",0]
[null,null,null,null,null,null,null,null,null,null,null,null,"",{"$f":"IF(D4286=\"Cash and Deposits\",IF(E4286=\"\",\"BANK NAME REQUIRED\",IF(ISERROR(VLOOKUP(E4286,'Reference Data'!C:C,1,FALSE)),\"PLEASE SELECT A BANK FROM DEFINED LIST PROVIDED\",\"\")),\"\")","v":""},"No Entry",0]
[null,null,null,null,null,null,null,null,null,null,null,null,"",{"$f":"IF(D4287=\"Cash and Deposits\",IF(E4287=\"\",\"BANK NAME REQUIRED\",IF(ISERROR(VLOOKUP(E4287,'Reference Data'!C:C,1,FALSE)),\"PLEASE SELECT A BANK FROM DEFINED LIST PROVIDED\",\"\")),\"\")","v":""},"No Entry",0]
[null,null,null,null,null,null,null,null,null,null,null,null,"",{"$f":"IF(D4288=\"Cash and Deposits\",IF(E4288=\"\",\"BANK NAME REQUIRED\",IF(ISERROR(VLOOKUP(E4288,'Reference Data'!C:C,1,FALSE)),\"PLEASE SELECT A BANK FROM DEFINED LIST PROVIDED\",\"\")),\"\")","v":""},"No Entry",0]
[null,null,null,null,null,null,null,null,null,null,null,null,"",{"$f":"IF(D4289=\"Cash and Deposits\",IF(E4289=\"\",\"BANK NAME REQUIRED\",IF(ISERROR(VLOOKUP(E4289,'Reference Data'!C:C,1,FALSE)),\"PLEASE SELECT A BANK FROM DEFINED LIST PROVIDED\",\"\")),\"\")","v":""},"No Entry",0]
[null,null,null,null,null,null,null,null,null,null,null,null,"",{"$f":"IF(D4290=\"Cash and Deposits\",IF(E4290=\"\",\"BANK NAME REQUIRED\",IF(ISERROR(VLOOKUP(E4290,'Reference Data'!C:C,1,FALSE)),\"PLEASE SELECT A BANK FROM DEFINED LIST PROVIDED\",\"\")),\"\")","v":""},"No Entry",0]
[null,null,null,null,null,null,null,null,null,null,null,null,"",{"$f":"IF(D4291=\"Cash and Deposits\",IF(E4291=\"\",\"BANK NAME REQUIRED\",IF(ISERROR(VLOOKUP(E4291,'Reference Data'!C:C,1,FALSE)),\"PLEASE SELECT A BANK FROM DEFINED LIST PROVIDED\",\"\")),\"\")","v":""},"No Entry",0]
[null,null,null,null,null,null,null,null,null,null,null,null,"",{"$f":"IF(D4292=\"Cash and Deposits\",IF(E4292=\"\",\"BANK NAME REQUIRED\",IF(ISERROR(VLOOKUP(E4292,'Reference Data'!C:C,1,FALSE)),\"PLEASE SELECT A BANK FROM DEFINED LIST PROVIDED\",\"\")),\"\")","v":""},"No Entry",0]
[null,null,null,null,null,null,null,null,null,null,null,null,{"$f":"IF(K4293<>0,IF(B4293=\"\",\"ID CODE REQUIRED\",\"\"),\"\")","v":""},{"$f":"IF(D4293=\"Cash and Deposits\",IF(E4293=\"\",\"BANK NAME REQUIRED\",IF(ISERROR(VLOOKUP(E4293,'Reference Data'!C:C,1,FALSE)),\"PLEASE SELECT A BANK FROM DEFINED LIST PROVIDED\",\"\")),\"\")","v":""},{"$f":"IF(K4293=0,\"No Entry\",\"\")","v":"No Entry"},{"$f":"IF(K4293<>0,IF(A4293=\"\",1,0),0)","v":0}]
[null,null,null,null,null,null,null,null,null,null,null,null,"",{"$f":"IF(D4294=\"Cash and Deposits\",IF(E4294=\"\",\"BANK NAME REQUIRED\",IF(ISERROR(VLOOKUP(E4294,'Reference Data'!C:C,1,FALSE)),\"PLEASE SELECT A BANK FROM DEFINED LIST PROVIDED\",\"\")),\"\")","v":""},"No Entry",0]
[null,null,null,null,null,null,null,null,null,null,null,null,"",{"$f":"IF(D4295=\"Cash and Deposits\",IF(E4295=\"\",\"BANK NAME REQUIRED\",IF(ISERROR(VLOOKUP(E4295,'Reference Data'!C:C,1,FALSE)),\"PLEASE SELECT A BANK FROM DEFINED LIST PROVIDED\",\"\")),\"\")","v":""},"No Entry",0]
[null,null,null,null,null,null,null,null,null,null,null,null,"",{"$f":"IF(D4296=\"Cash and Deposits\",IF(E4296=\"\",\"BANK NAME REQUIRED\",IF(ISERROR(VLOOKUP(E4296,'Reference Data'!C:C,1,FALSE)),\"PLEASE SELECT A BANK FROM DEFINED LIST PROVIDED\",\"\")),\"\")","v":""},"No Entry",0]
[null,null,null,null,null,null,null,null,null,null,null,null,"",{"$f":"IF(D4297=\"Cash and Deposits\",IF(E4297=\"\",\"BANK NAME REQUIRED\",IF(ISERROR(VLOOKUP(E4297,'Reference Data'!C:C,1,FALSE)),\"PLEASE SELECT A BANK FROM DEFINED LIST PROVIDED\",\"\")),\"\")","v":""},"No Entry",0]
[null,null,null,null,null,null,null,null,null,null,null,null,"",{"$f":"IF(D4298=\"Cash and Deposits\",IF(E4298=\"\",\"BANK NAME REQUIRED\",IF(ISERROR(VLOOKUP(E4298,'Reference Data'!C:C,1,FALSE)),\"PLEASE SELECT A BANK FROM DEFINED LIST PROVIDED\",\"\")),\"\")","v":""},"No Entry",0]
[null,null,null,null,null,null,null,null,null,null,null,null,"",{"$f":"IF(D4299=\"Cash and Deposits\",IF(E4299=\"\",\"BANK NAME REQUIRED\",IF(ISERROR(VLOOKUP(E4299,'Reference Data'!C:C,1,FALSE)),\"PLEASE SELECT A BANK FROM DEFINED LIST PROVIDED\",\"\")),\"\")","v":""},"No Entry",0]
[null,null,null,null,null,null,null,null,null,null,null,null,"",{"$f":"IF(D4300=\"Cash and Deposits\",IF(E4300=\"\",\"BANK NAME REQUIRED\",IF(ISERROR(VLOOKUP(E4300,'Reference Data'!C:C,1,FALSE)),\"PLEASE SELECT A BANK FROM DEFINED LIST PROVIDED\",\"\")),\"\")","v":""},"No Entry",0]
[null,null,null,null,null,null,null,null,null,null,null,null,"",{"$f":"IF(D4301=\"Cash and Deposits\",IF(E4301=\"\",\"BANK NAME REQUIRED\",IF(ISERROR(VLOOKUP(E4301,'Reference Data'!C:C,1,FALSE)),\"PLEASE SELECT A BANK FROM DEFINED LIST PROVIDED\",\"\")),\"\")","v":""},"No Entry",0]
[null,null,null,null,null,null,null,null,null,null,null,null,"",{"$f":"IF(D4302=\"Cash and Deposits\",IF(E4302=\"\",\"BANK NAME REQUIRED\",IF(ISERROR(VLOOKUP(E4302,'Reference Data'!C:C,1,FALSE)),\"PLEASE SELECT A BANK FROM DEFINED LIST PROVIDED\",\"\")),\"\")","v":""},"No Entry",0]
[null,null,null,null,null,null,null,null,null,null,null,null,"",{"$f":"IF(D4303=\"Cash and Deposits\",IF(E4303=\"\",\"BANK NAME REQUIRED\",IF(ISERROR(VLOOKUP(E4303,'Reference Data'!C:C,1,FALSE)),\"PLEASE SELECT A BANK FROM DEFINED LIST PROVIDED\",\"\")),\"\")","v":""},"No Entry",0]
[null,null,null,null,null,null,null,null,null,null,null,null,"",{"$f":"IF(D4304=\"Cash and Deposits\",IF(E4304=\"\",\"BANK NAME REQUIRED\",IF(ISERROR(VLOOKUP(E4304,'Reference Data'!C:C,1,FALSE)),\"PLEASE SELECT A BANK FROM DEFINED LIST PROVIDED\",\"\")),\"\")","v":""},"No Entry",0]
[null,null,null,null,null,null,null,null,null,null,null,null,"",{"$f":"IF(D4305=\"Cash and Deposits\",IF(E4305=\"\",\"BANK NAME REQUIRED\",IF(ISERROR(VLOOKUP(E4305,'Reference Data'!C:C,1,FALSE)),\"PLEASE SELECT A BANK FROM DEFINED LIST PROVIDED\",\"\")),\"\")","v":""},"No Entry",0]
[null,null,null,null,null,null,null,null,null,null,null,null,"",{"$f":"IF(D4306=\"Cash and Deposits\",IF(E4306=\"\",\"BANK NAME REQUIRED\",IF(ISERROR(VLOOKUP(E4306,'Reference Data'!C:C,1,FALSE)),\"PLEASE SELECT A BANK FROM DEFINED LIST PROVIDED\",\"\")),\"\")","v":""},"No Entry",0]
[null,null,null,null,null,null,null,null,null,null,null,null,"",{"$f":"IF(D4307=\"Cash and Deposits\",IF(E4307=\"\",\"BANK NAME REQUIRED\",IF(ISERROR(VLOOKUP(E4307,'Reference Data'!C:C,1,FALSE)),\"PLEASE SELECT A BANK FROM DEFINED LIST PROVIDED\",\"\")),\"\")","v":""},"No Entry",0]
[null,null,null,null,null,null,null,null,null,null,null,null,"",{"$f":"IF(D4308=\"Cash and Deposits\",IF(E4308=\"\",\"BANK NAME REQUIRED\",IF(ISERROR(VLOOKUP(E4308,'Reference Data'!C:C,1,FALSE)),\"PLEASE SELECT A BANK FROM DEFINED LIST PROVIDED\",\"\")),\"\")","v":""},"No Entry",0]
[null,null,null,null,null,null,null,null,null,null,null,null,"",{"$f":"IF(D4309=\"Cash and Deposits\",IF(E4309=\"\",\"BANK NAME REQUIRED\",IF(ISERROR(VLOOKUP(E4309,'Reference Data'!C:C,1,FALSE)),\"PLEASE SELECT A BANK FROM DEFINED LIST PROVIDED\",\"\")),\"\")","v":""},"No Entry",0]
[null,null,null,null,null,null,null,null,null,null,null,null,"",{"$f":"IF(D4310=\"Cash and Deposits\",IF(E4310=\"\",\"BANK NAME REQUIRED\",IF(ISERROR(VLOOKUP(E4310,'Reference Data'!C:C,1,FALSE)),\"PLEASE SELECT A BANK FROM DEFINED LIST PROVIDED\",\"\")),\"\")","v":""},"No Entry",0]
[null,null,null,null,null,null,null,null,null,null,null,null,"",{"$f":"IF(D4311=\"Cash and Deposits\",IF(E4311=\"\",\"BANK NAME REQUIRED\",IF(ISERROR(VLOOKUP(E4311,'Reference Data'!C:C,1,FALSE)),\"PLEASE SELECT A BANK FROM DEFINED LIST PROVIDED\",\"\")),\"\")","v":""},"No Entry",0]
[null,null,null,null,null,null,null,null,null,null,null,null,"",{"$f":"IF(D4312=\"Cash and Deposits\",IF(E4312=\"\",\"BANK NAME REQUIRED\",IF(ISERROR(VLOOKUP(E4312,'Reference Data'!C:C,1,FALSE)),\"PLEASE SELECT A BANK FROM DEFINED LIST PROVIDED\",\"\")),\"\")","v":""},"No Entry",0]
[null,null,null,null,null,null,null,null,null,null,null,null,"",{"$f":"IF(D4313=\"Cash and Deposits\",IF(E4313=\"\",\"BANK NAME REQUIRED\",IF(ISERROR(VLOOKUP(E4313,'Reference Data'!C:C,1,FALSE)),\"PLEASE SELECT A BANK FROM DEFINED LIST PROVIDED\",\"\")),\"\")","v":""},"No Entry",0]
[null,null,null,null,null,null,null,null,null,null,null,null,"",{"$f":"IF(D4314=\"Cash and Deposits\",IF(E4314=\"\",\"BANK NAME REQUIRED\",IF(ISERROR(VLOOKUP(E4314,'Reference Data'!C:C,1,FALSE)),\"PLEASE SELECT A BANK FROM DEFINED LIST PROVIDED\",\"\")),\"\")","v":""},"No Entry",0]
[null,null,null,null,null,null,null,null,null,null,null,null,"",{"$f":"IF(D4315=\"Cash and Deposits\",IF(E4315=\"\",\"BANK NAME REQUIRED\",IF(ISERROR(VLOOKUP(E4315,'Reference Data'!C:C,1,FALSE)),\"PLEASE SELECT A BANK FROM DEFINED LIST PROVIDED\",\"\")),\"\")","v":""},"No Entry",0]
[null,null,null,null,null,null,null,null,null,null,null,null,"",{"$f":"IF(D4316=\"Cash and Deposits\",IF(E4316=\"\",\"BANK NAME REQUIRED\",IF(ISERROR(VLOOKUP(E4316,'Reference Data'!C:C,1,FALSE)),\"PLEASE SELECT A BANK FROM DEFINED LIST PROVIDED\",\"\")),\"\")","v":""},"No Entry",0]
[null,null,null,null,null,null,null,null,null,null,null,null,"",{"$f":"IF(D4317=\"Cash and Deposits\",IF(E4317=\"\",\"BANK NAME REQUIRED\",IF(ISERROR(VLOOKUP(E4317,'Reference Data'!C:C,1,FALSE)),\"PLEASE SELECT A BANK FROM DEFINED LIST PROVIDED\",\"\")),\"\")","v":""},"No Entry",0]
[null,null,null,null,null,null,null,null,null,null,null,null,"",{"$f":"IF(D4318=\"Cash and Deposits\",IF(E4318=\"\",\"BANK NAME REQUIRED\",IF(ISERROR(VLOOKUP(E4318,'Reference Data'!C:C,1,FALSE)),\"PLEASE SELECT A BANK FROM DEFINED LIST PROVIDED\",\"\")),\"\")","v":""},"No Entry",0]
[null,null,null,null,null,null,null,null,null,null,null,null,"",{"$f":"IF(D4319=\"Cash and Deposits\",IF(E4319=\"\",\"BANK NAME REQUIRED\",IF(ISERROR(VLOOKUP(E4319,'Reference Data'!C:C,1,FALSE)),\"PLEASE SELECT A BANK FROM DEFINED LIST PROVIDED\",\"\")),\"\")","v":""},"No Entry",0]
[null,null,null,null,null,null,null,null,null,null,null,null,"",{"$f":"IF(D4320=\"Cash and Deposits\",IF(E4320=\"\",\"BANK NAME REQUIRED\",IF(ISERROR(VLOOKUP(E4320,'Reference Data'!C:C,1,FALSE)),\"PLEASE SELECT A BANK FROM DEFINED LIST PROVIDED\",\"\")),\"\")","v":""},"No Entry",0]
[null,null,null,null,null,null,null,null,null,null,null,null,"",{"$f":"IF(D4321=\"Cash and Deposits\",IF(E4321=\"\",\"BANK NAME REQUIRED\",IF(ISERROR(VLOOKUP(E4321,'Reference Data'!C:C,1,FALSE)),\"PLEASE SELECT A BANK FROM DEFINED LIST PROVIDED\",\"\")),\"\")","v":""},"No Entry",0]
[null,null,null,null,null,null,null,null,null,null,null,null,"",{"$f":"IF(D4322=\"Cash and Deposits\",IF(E4322=\"\",\"BANK NAME REQUIRED\",IF(ISERROR(VLOOKUP(E4322,'Reference Data'!C:C,1,FALSE)),\"PLEASE SELECT A BANK FROM DEFINED LIST PROVIDED\",\"\")),\"\")","v":""},"No Entry",0]
[null,null,null,null,null,null,null,null,null,null,null,null,"",{"$f":"IF(D4323=\"Cash and Deposits\",IF(E4323=\"\",\"BANK NAME REQUIRED\",IF(ISERROR(VLOOKUP(E4323,'Reference Data'!C:C,1,FALSE)),\"PLEASE SELECT A BANK FROM DEFINED LIST PROVIDED\",\"\")),\"\")","v":""},"No Entry",0]
[null,null,null,null,null,null,null,null,null,null,null,null,"",{"$f":"IF(D4324=\"Cash and Deposits\",IF(E4324=\"\",\"BANK NAME REQUIRED\",IF(ISERROR(VLOOKUP(E4324,'Reference Data'!C:C,1,FALSE)),\"PLEASE SELECT A BANK FROM DEFINED LIST PROVIDED\",\"\")),\"\")","v":""},"No Entry",0]
[null,null,null,null,null,null,null,null,null,null,null,null,"",{"$f":"IF(D4325=\"Cash and Deposits\",IF(E4325=\"\",\"BANK NAME REQUIRED\",IF(ISERROR(VLOOKUP(E4325,'Reference Data'!C:C,1,FALSE)),\"PLEASE SELECT A BANK FROM DEFINED LIST PROVIDED\",\"\")),\"\")","v":""},"No Entry",0]
[null,null,null,null,null,null,null,null,null,null,null,null,"",{"$f":"IF(D4326=\"Cash and Deposits\",IF(E4326=\"\",\"BANK NAME REQUIRED\",IF(ISERROR(VLOOKUP(E4326,'Reference Data'!C:C,1,FALSE)),\"PLEASE SELECT A BANK FROM DEFINED LIST PROVIDED\",\"\")),\"\")","v":""},"No Entry",0]
[null,null,null,null,null,null,null,null,null,null,null,null,"",{"$f":"IF(D4327=\"Cash and Deposits\",IF(E4327=\"\",\"BANK NAME REQUIRED\",IF(ISERROR(VLOOKUP(E4327,'Reference Data'!C:C,1,FALSE)),\"PLEASE SELECT A BANK FROM DEFINED LIST PROVIDED\",\"\")),\"\")","v":""},"No Entry",0]
[null,null,null,null,null,null,null,null,null,null,null,null,"",{"$f":"IF(D4328=\"Cash and Deposits\",IF(E4328=\"\",\"BANK NAME REQUIRED\",IF(ISERROR(VLOOKUP(E4328,'Reference Data'!C:C,1,FALSE)),\"PLEASE SELECT A BANK FROM DEFINED LIST PROVIDED\",\"\")),\"\")","v":""},"No Entry",0]
[null,null,null,null,null,null,null,null,null,null,null,null,"",{"$f":"IF(D4329=\"Cash and Deposits\",IF(E4329=\"\",\"BANK NAME REQUIRED\",IF(ISERROR(VLOOKUP(E4329,'Reference Data'!C:C,1,FALSE)),\"PLEASE SELECT A BANK FROM DEFINED LIST PROVIDED\",\"\")),\"\")","v":""},"No Entry",0]
[null,null,null,null,null,null,null,null,null,null,null,null,"",{"$f":"IF(D4330=\"Cash and Deposits\",IF(E4330=\"\",\"BANK NAME REQUIRED\",IF(ISERROR(VLOOKUP(E4330,'Reference Data'!C:C,1,FALSE)),\"PLEASE SELECT A BANK FROM DEFINED LIST PROVIDED\",\"\")),\"\")","v":""},"No Entry",0]
[null,null,null,null,null,null,null,null,null,null,null,null,"",{"$f":"IF(D4331=\"Cash and Deposits\",IF(E4331=\"\",\"BANK NAME REQUIRED\",IF(ISERROR(VLOOKUP(E4331,'Reference Data'!C:C,1,FALSE)),\"PLEASE SELECT A BANK FROM DEFINED LIST PROVIDED\",\"\")),\"\")","v":""},"No Entry",0]
[null,null,null,null,null,null,null,null,null,null,null,null,"",{"$f":"IF(D4332=\"Cash and Deposits\",IF(E4332=\"\",\"BANK NAME REQUIRED\",IF(ISERROR(VLOOKUP(E4332,'Reference Data'!C:C,1,FALSE)),\"PLEASE SELECT A BANK FROM DEFINED LIST PROVIDED\",\"\")),\"\")","v":""},"No Entry",0]
[null,null,null,null,null,null,null,null,null,null,null,null,"",{"$f":"IF(D4333=\"Cash and Deposits\",IF(E4333=\"\",\"BANK NAME REQUIRED\",IF(ISERROR(VLOOKUP(E4333,'Reference Data'!C:C,1,FALSE)),\"PLEASE SELECT A BANK FROM DEFINED LIST PROVIDED\",\"\")),\"\")","v":""},"No Entry",0]
[null,null,null,null,null,null,null,null,null,null,null,null,"",{"$f":"IF(D4334=\"Cash and Deposits\",IF(E4334=\"\",\"BANK NAME REQUIRED\",IF(ISERROR(VLOOKUP(E4334,'Reference Data'!C:C,1,FALSE)),\"PLEASE SELECT A BANK FROM DEFINED LIST PROVIDED\",\"\")),\"\")","v":""},"No Entry",0]
[null,null,null,null,null,null,null,null,null,null,null,null,"",{"$f":"IF(D4335=\"Cash and Deposits\",IF(E4335=\"\",\"BANK NAME REQUIRED\",IF(ISERROR(VLOOKUP(E4335,'Reference Data'!C:C,1,FALSE)),\"PLEASE SELECT A BANK FROM DEFINED LIST PROVIDED\",\"\")),\"\")","v":""},"No Entry",0]
[null,null,null,null,null,null,null,null,null,null,null,null,"",{"$f":"IF(D4336=\"Cash and Deposits\",IF(E4336=\"\",\"BANK NAME REQUIRED\",IF(ISERROR(VLOOKUP(E4336,'Reference Data'!C:C,1,FALSE)),\"PLEASE SELECT A BANK FROM DEFINED LIST PROVIDED\",\"\")),\"\")","v":""},"No Entry",0]
[null,null,null,null,null,null,null,null,null,null,null,null,"",{"$f":"IF(D4337=\"Cash and Deposits\",IF(E4337=\"\",\"BANK NAME REQUIRED\",IF(ISERROR(VLOOKUP(E4337,'Reference Data'!C:C,1,FALSE)),\"PLEASE SELECT A BANK FROM DEFINED LIST PROVIDED\",\"\")),\"\")","v":""},"No Entry",0]
[null,null,null,null,null,null,null,null,null,null,null,null,"",{"$f":"IF(D4338=\"Cash and Deposits\",IF(E4338=\"\",\"BANK NAME REQUIRED\",IF(ISERROR(VLOOKUP(E4338,'Reference Data'!C:C,1,FALSE)),\"PLEASE SELECT A BANK FROM DEFINED LIST PROVIDED\",\"\")),\"\")","v":""},"No Entry",0]
[null,null,null,null,null,null,null,null,null,null,null,null,"",{"$f":"IF(D4339=\"Cash and Deposits\",IF(E4339=\"\",\"BANK NAME REQUIRED\",IF(ISERROR(VLOOKUP(E4339,'Reference Data'!C:C,1,FALSE)),\"PLEASE SELECT A BANK FROM DEFINED LIST PROVIDED\",\"\")),\"\")","v":""},"No Entry",0]
[null,null,null,null,null,null,null,null,null,null,null,null,"",{"$f":"IF(D4340=\"Cash and Deposits\",IF(E4340=\"\",\"BANK NAME REQUIRED\",IF(ISERROR(VLOOKUP(E4340,'Reference Data'!C:C,1,FALSE)),\"PLEASE SELECT A BANK FROM DEFINED LIST PROVIDED\",\"\")),\"\")","v":""},"No Entry",0]
[null,null,null,null,null,null,null,null,null,null,null,null,"",{"$f":"IF(D4341=\"Cash and Deposits\",IF(E4341=\"\",\"BANK NAME REQUIRED\",IF(ISERROR(VLOOKUP(E4341,'Reference Data'!C:C,1,FALSE)),\"PLEASE SELECT A BANK FROM DEFINED LIST PROVIDED\",\"\")),\"\")","v":""},"No Entry",0]
[null,null,null,null,null,null,null,null,null,null,null,null,"",{"$f":"IF(D4342=\"Cash and Deposits\",IF(E4342=\"\",\"BANK NAME REQUIRED\",IF(ISERROR(VLOOKUP(E4342,'Reference Data'!C:C,1,FALSE)),\"PLEASE SELECT A BANK FROM DEFINED LIST PROVIDED\",\"\")),\"\")","v":""},"No Entry",0]
[null,null,null,null,null,null,null,null,null,null,null,null,"",{"$f":"IF(D4343=\"Cash and Deposits\",IF(E4343=\"\",\"BANK NAME REQUIRED\",IF(ISERROR(VLOOKUP(E4343,'Reference Data'!C:C,1,FALSE)),\"PLEASE SELECT A BANK FROM DEFINED LIST PROVIDED\",\"\")),\"\")","v":""},"No Entry",0]
[null,null,null,null,null,null,null,null,null,null,null,null,"",{"$f":"IF(D4344=\"Cash and Deposits\",IF(E4344=\"\",\"BANK NAME REQUIRED\",IF(ISERROR(VLOOKUP(E4344,'Reference Data'!C:C,1,FALSE)),\"PLEASE SELECT A BANK FROM DEFINED LIST PROVIDED\",\"\")),\"\")","v":""},"No Entry",0]
[null,null,null,null,null,null,null,null,null,null,null,null,"",{"$f":"IF(D4345=\"Cash and Deposits\",IF(E4345=\"\",\"BANK NAME REQUIRED\",IF(ISERROR(VLOOKUP(E4345,'Reference Data'!C:C,1,FALSE)),\"PLEASE SELECT A BANK FROM DEFINED LIST PROVIDED\",\"\")),\"\")","v":""},"No Entry",0]
[null,null,null,null,null,null,null,null,null,null,null,null,"",{"$f":"IF(D4346=\"Cash and Deposits\",IF(E4346=\"\",\"BANK NAME REQUIRED\",IF(ISERROR(VLOOKUP(E4346,'Reference Data'!C:C,1,FALSE)),\"PLEASE SELECT A BANK FROM DEFINED LIST PROVIDED\",\"\")),\"\")","v":""},"No Entry",0]
[null,null,null,null,null,null,null,null,null,null,null,null,"",{"$f":"IF(D4347=\"Cash and Deposits\",IF(E4347=\"\",\"BANK NAME REQUIRED\",IF(ISERROR(VLOOKUP(E4347,'Reference Data'!C:C,1,FALSE)),\"PLEASE SELECT A BANK FROM DEFINED LIST PROVIDED\",\"\")),\"\")","v":""},"No Entry",0]
[null,null,null,null,null,null,null,null,null,null,null,null,"",{"$f":"IF(D4348=\"Cash and Deposits\",IF(E4348=\"\",\"BANK NAME REQUIRED\",IF(ISERROR(VLOOKUP(E4348,'Reference Data'!C:C,1,FALSE)),\"PLEASE SELECT A BANK FROM DEFINED LIST PROVIDED\",\"\")),\"\")","v":""},"No Entry",0]
[null,null,null,null,null,null,null,null,null,null,null,null,"",{"$f":"IF(D4349=\"Cash and Deposits\",IF(E4349=\"\",\"BANK NAME REQUIRED\",IF(ISERROR(VLOOKUP(E4349,'Reference Data'!C:C,1,FALSE)),\"PLEASE SELECT A BANK FROM DEFINED LIST PROVIDED\",\"\")),\"\")","v":""},"No Entry",0]
[null,null,null,null,null,null,null,null,null,null,null,null,"",{"$f":"IF(D4350=\"Cash and Deposits\",IF(E4350=\"\",\"BANK NAME REQUIRED\",IF(ISERROR(VLOOKUP(E4350,'Reference Data'!C:C,1,FALSE)),\"PLEASE SELECT A BANK FROM DEFINED LIST PROVIDED\",\"\")),\"\")","v":""},"No Entry",0]
[null,null,null,null,null,null,null,null,null,null,null,null,"",{"$f":"IF(D4351=\"Cash and Deposits\",IF(E4351=\"\",\"BANK NAME REQUIRED\",IF(ISERROR(VLOOKUP(E4351,'Reference Data'!C:C,1,FALSE)),\"PLEASE SELECT A BANK FROM DEFINED LIST PROVIDED\",\"\")),\"\")","v":""},"No Entry",0]
[null,null,null,null,null,null,null,null,null,null,null,null,"",{"$f":"IF(D4352=\"Cash and Deposits\",IF(E4352=\"\",\"BANK NAME REQUIRED\",IF(ISERROR(VLOOKUP(E4352,'Reference Data'!C:C,1,FALSE)),\"PLEASE SELECT A BANK FROM DEFINED LIST PROVIDED\",\"\")),\"\")","v":""},"No Entry",0]
[null,null,null,null,null,null,null,null,null,null,null,null,"",{"$f":"IF(D4353=\"Cash and Deposits\",IF(E4353=\"\",\"BANK NAME REQUIRED\",IF(ISERROR(VLOOKUP(E4353,'Reference Data'!C:C,1,FALSE)),\"PLEASE SELECT A BANK FROM DEFINED LIST PROVIDED\",\"\")),\"\")","v":""},"No Entry",0]
[null,null,null,null,null,null,null,null,null,null,null,null,"",{"$f":"IF(D4354=\"Cash and Deposits\",IF(E4354=\"\",\"BANK NAME REQUIRED\",IF(ISERROR(VLOOKUP(E4354,'Reference Data'!C:C,1,FALSE)),\"PLEASE SELECT A BANK FROM DEFINED LIST PROVIDED\",\"\")),\"\")","v":""},"No Entry",0]
[null,null,null,null,null,null,null,null,null,null,null,null,"",{"$f":"IF(D4355=\"Cash and Deposits\",IF(E4355=\"\",\"BANK NAME REQUIRED\",IF(ISERROR(VLOOKUP(E4355,'Reference Data'!C:C,1,FALSE)),\"PLEASE SELECT A BANK FROM DEFINED LIST PROVIDED\",\"\")),\"\")","v":""},"No Entry",0]
[null,null,null,null,null,null,null,null,null,null,null,null,"",{"$f":"IF(D4356=\"Cash and Deposits\",IF(E4356=\"\",\"BANK NAME REQUIRED\",IF(ISERROR(VLOOKUP(E4356,'Reference Data'!C:C,1,FALSE)),\"PLEASE SELECT A BANK FROM DEFINED LIST PROVIDED\",\"\")),\"\")","v":""},"No Entry",0]
[null,null,null,null,null,null,null,null,null,null,null,null,{"$f":"IF(K4357<>0,IF(B4357=\"\",\"ID CODE REQUIRED\",\"\"),\"\")","v":""},{"$f":"IF(D4357=\"Cash and Deposits\",IF(E4357=\"\",\"BANK NAME REQUIRED\",IF(ISERROR(VLOOKUP(E4357,'Reference Data'!C:C,1,FALSE)),\"PLEASE SELECT A BANK FROM DEFINED LIST PROVIDED\",\"\")),\"\")","v":""},{"$f":"IF(K4357=0,\"No Entry\",\"\")","v":"No Entry"},{"$f":"IF(K4357<>0,IF(A4357=\"\",1,0),0)","v":0}]
[null,null,null,null,null,null,null,null,null,null,null,null,"",{"$f":"IF(D4358=\"Cash and Deposits\",IF(E4358=\"\",\"BANK NAME REQUIRED\",IF(ISERROR(VLOOKUP(E4358,'Reference Data'!C:C,1,FALSE)),\"PLEASE SELECT A BANK FROM DEFINED LIST PROVIDED\",\"\")),\"\")","v":""},"No Entry",0]
[null,null,null,null,null,null,null,null,null,null,null,null,"",{"$f":"IF(D4359=\"Cash and Deposits\",IF(E4359=\"\",\"BANK NAME REQUIRED\",IF(ISERROR(VLOOKUP(E4359,'Reference Data'!C:C,1,FALSE)),\"PLEASE SELECT A BANK FROM DEFINED LIST PROVIDED\",\"\")),\"\")","v":""},"No Entry",0]
[null,null,null,null,null,null,null,null,null,null,null,null,"",{"$f":"IF(D4360=\"Cash and Deposits\",IF(E4360=\"\",\"BANK NAME REQUIRED\",IF(ISERROR(VLOOKUP(E4360,'Reference Data'!C:C,1,FALSE)),\"PLEASE SELECT A BANK FROM DEFINED LIST PROVIDED\",\"\")),\"\")","v":""},"No Entry",0]
[null,null,null,null,null,null,null,null,null,null,null,null,"",{"$f":"IF(D4361=\"Cash and Deposits\",IF(E4361=\"\",\"BANK NAME REQUIRED\",IF(ISERROR(VLOOKUP(E4361,'Reference Data'!C:C,1,FALSE)),\"PLEASE SELECT A BANK FROM DEFINED LIST PROVIDED\",\"\")),\"\")","v":""},"No Entry",0]
[null,null,null,null,null,null,null,null,null,null,null,null,"",{"$f":"IF(D4362=\"Cash and Deposits\",IF(E4362=\"\",\"BANK NAME REQUIRED\",IF(ISERROR(VLOOKUP(E4362,'Reference Data'!C:C,1,FALSE)),\"PLEASE SELECT A BANK FROM DEFINED LIST PROVIDED\",\"\")),\"\")","v":""},"No Entry",0]
[null,null,null,null,null,null,null,null,null,null,null,null,"",{"$f":"IF(D4363=\"Cash and Deposits\",IF(E4363=\"\",\"BANK NAME REQUIRED\",IF(ISERROR(VLOOKUP(E4363,'Reference Data'!C:C,1,FALSE)),\"PLEASE SELECT A BANK FROM DEFINED LIST PROVIDED\",\"\")),\"\")","v":""},"No Entry",0]
[null,null,null,null,null,null,null,null,null,null,null,null,"",{"$f":"IF(D4364=\"Cash and Deposits\",IF(E4364=\"\",\"BANK NAME REQUIRED\",IF(ISERROR(VLOOKUP(E4364,'Reference Data'!C:C,1,FALSE)),\"PLEASE SELECT A BANK FROM DEFINED LIST PROVIDED\",\"\")),\"\")","v":""},"No Entry",0]
[null,null,null,null,null,null,null,null,null,null,null,null,"",{"$f":"IF(D4365=\"Cash and Deposits\",IF(E4365=\"\",\"BANK NAME REQUIRED\",IF(ISERROR(VLOOKUP(E4365,'Reference Data'!C:C,1,FALSE)),\"PLEASE SELECT A BANK FROM DEFINED LIST PROVIDED\",\"\")),\"\")","v":""},"No Entry",0]
[null,null,null,null,null,null,null,null,null,null,null,null,"",{"$f":"IF(D4366=\"Cash and Deposits\",IF(E4366=\"\",\"BANK NAME REQUIRED\",IF(ISERROR(VLOOKUP(E4366,'Reference Data'!C:C,1,FALSE)),\"PLEASE SELECT A BANK FROM DEFINED LIST PROVIDED\",\"\")),\"\")","v":""},"No Entry",0]
[null,null,null,null,null,null,null,null,null,null,null,null,"",{"$f":"IF(D4367=\"Cash and Deposits\",IF(E4367=\"\",\"BANK NAME REQUIRED\",IF(ISERROR(VLOOKUP(E4367,'Reference Data'!C:C,1,FALSE)),\"PLEASE SELECT A BANK FROM DEFINED LIST PROVIDED\",\"\")),\"\")","v":""},"No Entry",0]
[null,null,null,null,null,null,null,null,null,null,null,null,"",{"$f":"IF(D4368=\"Cash and Deposits\",IF(E4368=\"\",\"BANK NAME REQUIRED\",IF(ISERROR(VLOOKUP(E4368,'Reference Data'!C:C,1,FALSE)),\"PLEASE SELECT A BANK FROM DEFINED LIST PROVIDED\",\"\")),\"\")","v":""},"No Entry",0]
[null,null,null,null,null,null,null,null,null,null,null,null,"",{"$f":"IF(D4369=\"Cash and Deposits\",IF(E4369=\"\",\"BANK NAME REQUIRED\",IF(ISERROR(VLOOKUP(E4369,'Reference Data'!C:C,1,FALSE)),\"PLEASE SELECT A BANK FROM DEFINED LIST PROVIDED\",\"\")),\"\")","v":""},"No Entry",0]
[null,null,null,null,null,null,null,null,null,null,null,null,"",{"$f":"IF(D4370=\"Cash and Deposits\",IF(E4370=\"\",\"BANK NAME REQUIRED\",IF(ISERROR(VLOOKUP(E4370,'Reference Data'!C:C,1,FALSE)),\"PLEASE SELECT A BANK FROM DEFINED LIST PROVIDED\",\"\")),\"\")","v":""},"No Entry",0]
[null,null,null,null,null,null,null,null,null,null,null,null,"",{"$f":"IF(D4371=\"Cash and Deposits\",IF(E4371=\"\",\"BANK NAME REQUIRED\",IF(ISERROR(VLOOKUP(E4371,'Reference Data'!C:C,1,FALSE)),\"PLEASE SELECT A BANK FROM DEFINED LIST PROVIDED\",\"\")),\"\")","v":""},"No Entry",0]
[null,null,null,null,null,null,null,null,null,null,null,null,"",{"$f":"IF(D4372=\"Cash and Deposits\",IF(E4372=\"\",\"BANK NAME REQUIRED\",IF(ISERROR(VLOOKUP(E4372,'Reference Data'!C:C,1,FALSE)),\"PLEASE SELECT A BANK FROM DEFINED LIST PROVIDED\",\"\")),\"\")","v":""},"No Entry",0]
[null,null,null,null,null,null,null,null,null,null,null,null,"",{"$f":"IF(D4373=\"Cash and Deposits\",IF(E4373=\"\",\"BANK NAME REQUIRED\",IF(ISERROR(VLOOKUP(E4373,'Reference Data'!C:C,1,FALSE)),\"PLEASE SELECT A BANK FROM DEFINED LIST PROVIDED\",\"\")),\"\")","v":""},"No Entry",0]
[null,null,null,null,null,null,null,null,null,null,null,null,"",{"$f":"IF(D4374=\"Cash and Deposits\",IF(E4374=\"\",\"BANK NAME REQUIRED\",IF(ISERROR(VLOOKUP(E4374,'Reference Data'!C:C,1,FALSE)),\"PLEASE SELECT A BANK FROM DEFINED LIST PROVIDED\",\"\")),\"\")","v":""},"No Entry",0]
[null,null,null,null,null,null,null,null,null,null,null,null,"",{"$f":"IF(D4375=\"Cash and Deposits\",IF(E4375=\"\",\"BANK NAME REQUIRED\",IF(ISERROR(VLOOKUP(E4375,'Reference Data'!C:C,1,FALSE)),\"PLEASE SELECT A BANK FROM DEFINED LIST PROVIDED\",\"\")),\"\")","v":""},"No Entry",0]
[null,null,null,null,null,null,null,null,null,null,null,null,"",{"$f":"IF(D4376=\"Cash and Deposits\",IF(E4376=\"\",\"BANK NAME REQUIRED\",IF(ISERROR(VLOOKUP(E4376,'Reference Data'!C:C,1,FALSE)),\"PLEASE SELECT A BANK FROM DEFINED LIST PROVIDED\",\"\")),\"\")","v":""},"No Entry",0]
[null,null,null,null,null,null,null,null,null,null,null,null,"",{"$f":"IF(D4377=\"Cash and Deposits\",IF(E4377=\"\",\"BANK NAME REQUIRED\",IF(ISERROR(VLOOKUP(E4377,'Reference Data'!C:C,1,FALSE)),\"PLEASE SELECT A BANK FROM DEFINED LIST PROVIDED\",\"\")),\"\")","v":""},"No Entry",0]
[null,null,null,null,null,null,null,null,null,null,null,null,"",{"$f":"IF(D4378=\"Cash and Deposits\",IF(E4378=\"\",\"BANK NAME REQUIRED\",IF(ISERROR(VLOOKUP(E4378,'Reference Data'!C:C,1,FALSE)),\"PLEASE SELECT A BANK FROM DEFINED LIST PROVIDED\",\"\")),\"\")","v":""},"No Entry",0]
[null,null,null,null,null,null,null,null,null,null,null,null,"",{"$f":"IF(D4379=\"Cash and Deposits\",IF(E4379=\"\",\"BANK NAME REQUIRED\",IF(ISERROR(VLOOKUP(E4379,'Reference Data'!C:C,1,FALSE)),\"PLEASE SELECT A BANK FROM DEFINED LIST PROVIDED\",\"\")),\"\")","v":""},"No Entry",0]
[null,null,null,null,null,null,null,null,null,null,null,null,"",{"$f":"IF(D4380=\"Cash and Deposits\",IF(E4380=\"\",\"BANK NAME REQUIRED\",IF(ISERROR(VLOOKUP(E4380,'Reference Data'!C:C,1,FALSE)),\"PLEASE SELECT A BANK FROM DEFINED LIST PROVIDED\",\"\")),\"\")","v":""},"No Entry",0]
[null,null,null,null,null,null,null,null,null,null,null,null,"",{"$f":"IF(D4381=\"Cash and Deposits\",IF(E4381=\"\",\"BANK NAME REQUIRED\",IF(ISERROR(VLOOKUP(E4381,'Reference Data'!C:C,1,FALSE)),\"PLEASE SELECT A BANK FROM DEFINED LIST PROVIDED\",\"\")),\"\")","v":""},"No Entry",0]
[null,null,null,null,null,null,null,null,null,null,null,null,"",{"$f":"IF(D4382=\"Cash and Deposits\",IF(E4382=\"\",\"BANK NAME REQUIRED\",IF(ISERROR(VLOOKUP(E4382,'Reference Data'!C:C,1,FALSE)),\"PLEASE SELECT A BANK FROM DEFINED LIST PROVIDED\",\"\")),\"\")","v":""},"No Entry",0]
[null,null,null,null,null,null,null,null,null,null,null,null,"",{"$f":"IF(D4383=\"Cash and Deposits\",IF(E4383=\"\",\"BANK NAME REQUIRED\",IF(ISERROR(VLOOKUP(E4383,'Reference Data'!C:C,1,FALSE)),\"PLEASE SELECT A BANK FROM DEFINED LIST PROVIDED\",\"\")),\"\")","v":""},"No Entry",0]
[null,null,null,null,null,null,null,null,null,null,null,null,"",{"$f":"IF(D4384=\"Cash and Deposits\",IF(E4384=\"\",\"BANK NAME REQUIRED\",IF(ISERROR(VLOOKUP(E4384,'Reference Data'!C:C,1,FALSE)),\"PLEASE SELECT A BANK FROM DEFINED LIST PROVIDED\",\"\")),\"\")","v":""},"No Entry",0]
[null,null,null,null,null,null,null,null,null,null,null,null,"",{"$f":"IF(D4385=\"Cash and Deposits\",IF(E4385=\"\",\"BANK NAME REQUIRED\",IF(ISERROR(VLOOKUP(E4385,'Reference Data'!C:C,1,FALSE)),\"PLEASE SELECT A BANK FROM DEFINED LIST PROVIDED\",\"\")),\"\")","v":""},"No Entry",0]
[null,null,null,null,null,null,null,null,null,null,null,null,"",{"$f":"IF(D4386=\"Cash and Deposits\",IF(E4386=\"\",\"BANK NAME REQUIRED\",IF(ISERROR(VLOOKUP(E4386,'Reference Data'!C:C,1,FALSE)),\"PLEASE SELECT A BANK FROM DEFINED LIST PROVIDED\",\"\")),\"\")","v":""},"No Entry",0]
[null,null,null,null,null,null,null,null,null,null,null,null,"",{"$f":"IF(D4387=\"Cash and Deposits\",IF(E4387=\"\",\"BANK NAME REQUIRED\",IF(ISERROR(VLOOKUP(E4387,'Reference Data'!C:C,1,FALSE)),\"PLEASE SELECT A BANK FROM DEFINED LIST PROVIDED\",\"\")),\"\")","v":""},"No Entry",0]
[null,null,null,null,null,null,null,null,null,null,null,null,"",{"$f":"IF(D4388=\"Cash and Deposits\",IF(E4388=\"\",\"BANK NAME REQUIRED\",IF(ISERROR(VLOOKUP(E4388,'Reference Data'!C:C,1,FALSE)),\"PLEASE SELECT A BANK FROM DEFINED LIST PROVIDED\",\"\")),\"\")","v":""},"No Entry",0]
[null,null,null,null,null,null,null,null,null,null,null,null,"",{"$f":"IF(D4389=\"Cash and Deposits\",IF(E4389=\"\",\"BANK NAME REQUIRED\",IF(ISERROR(VLOOKUP(E4389,'Reference Data'!C:C,1,FALSE)),\"PLEASE SELECT A BANK FROM DEFINED LIST PROVIDED\",\"\")),\"\")","v":""},"No Entry",0]
[null,null,null,null,null,null,null,null,null,null,null,null,"",{"$f":"IF(D4390=\"Cash and Deposits\",IF(E4390=\"\",\"BANK NAME REQUIRED\",IF(ISERROR(VLOOKUP(E4390,'Reference Data'!C:C,1,FALSE)),\"PLEASE SELECT A BANK FROM DEFINED LIST PROVIDED\",\"\")),\"\")","v":""},"No Entry",0]
[null,null,null,null,null,null,null,null,null,null,null,null,"",{"$f":"IF(D4391=\"Cash and Deposits\",IF(E4391=\"\",\"BANK NAME REQUIRED\",IF(ISERROR(VLOOKUP(E4391,'Reference Data'!C:C,1,FALSE)),\"PLEASE SELECT A BANK FROM DEFINED LIST PROVIDED\",\"\")),\"\")","v":""},"No Entry",0]
[null,null,null,null,null,null,null,null,null,null,null,null,"",{"$f":"IF(D4392=\"Cash and Deposits\",IF(E4392=\"\",\"BANK NAME REQUIRED\",IF(ISERROR(VLOOKUP(E4392,'Reference Data'!C:C,1,FALSE)),\"PLEASE SELECT A BANK FROM DEFINED LIST PROVIDED\",\"\")),\"\")","v":""},"No Entry",0]
[null,null,null,null,null,null,null,null,null,null,null,null,"",{"$f":"IF(D4393=\"Cash and Deposits\",IF(E4393=\"\",\"BANK NAME REQUIRED\",IF(ISERROR(VLOOKUP(E4393,'Reference Data'!C:C,1,FALSE)),\"PLEASE SELECT A BANK FROM DEFINED LIST PROVIDED\",\"\")),\"\")","v":""},"No Entry",0]
[null,null,null,null,null,null,null,null,null,null,null,null,"",{"$f":"IF(D4394=\"Cash and Deposits\",IF(E4394=\"\",\"BANK NAME REQUIRED\",IF(ISERROR(VLOOKUP(E4394,'Reference Data'!C:C,1,FALSE)),\"PLEASE SELECT A BANK FROM DEFINED LIST PROVIDED\",\"\")),\"\")","v":""},"No Entry",0]
[null,null,null,null,null,null,null,null,null,null,null,null,"",{"$f":"IF(D4395=\"Cash and Deposits\",IF(E4395=\"\",\"BANK NAME REQUIRED\",IF(ISERROR(VLOOKUP(E4395,'Reference Data'!C:C,1,FALSE)),\"PLEASE SELECT A BANK FROM DEFINED LIST PROVIDED\",\"\")),\"\")","v":""},"No Entry",0]
[null,null,null,null,null,null,null,null,null,null,null,null,"",{"$f":"IF(D4396=\"Cash and Deposits\",IF(E4396=\"\",\"BANK NAME REQUIRED\",IF(ISERROR(VLOOKUP(E4396,'Reference Data'!C:C,1,FALSE)),\"PLEASE SELECT A BANK FROM DEFINED LIST PROVIDED\",\"\")),\"\")","v":""},"No Entry",0]
[null,null,null,null,null,null,null,null,null,null,null,null,"",{"$f":"IF(D4397=\"Cash and Deposits\",IF(E4397=\"\",\"BANK NAME REQUIRED\",IF(ISERROR(VLOOKUP(E4397,'Reference Data'!C:C,1,FALSE)),\"PLEASE SELECT A BANK FROM DEFINED LIST PROVIDED\",\"\")),\"\")","v":""},"No Entry",0]
[null,null,null,null,null,null,null,null,null,null,null,null,"",{"$f":"IF(D4398=\"Cash and Deposits\",IF(E4398=\"\",\"BANK NAME REQUIRED\",IF(ISERROR(VLOOKUP(E4398,'Reference Data'!C:C,1,FALSE)),\"PLEASE SELECT A BANK FROM DEFINED LIST PROVIDED\",\"\")),\"\")","v":""},"No Entry",0]
[null,null,null,null,null,null,null,null,null,null,null,null,"",{"$f":"IF(D4399=\"Cash and Deposits\",IF(E4399=\"\",\"BANK NAME REQUIRED\",IF(ISERROR(VLOOKUP(E4399,'Reference Data'!C:C,1,FALSE)),\"PLEASE SELECT A BANK FROM DEFINED LIST PROVIDED\",\"\")),\"\")","v":""},"No Entry",0]
[null,null,null,null,null,null,null,null,null,null,null,null,"",{"$f":"IF(D4400=\"Cash and Deposits\",IF(E4400=\"\",\"BANK NAME REQUIRED\",IF(ISERROR(VLOOKUP(E4400,'Reference Data'!C:C,1,FALSE)),\"PLEASE SELECT A BANK FROM DEFINED LIST PROVIDED\",\"\")),\"\")","v":""},"No Entry",0]
[null,null,null,null,null,null,null,null,null,null,null,null,"",{"$f":"IF(D4401=\"Cash and Deposits\",IF(E4401=\"\",\"BANK NAME REQUIRED\",IF(ISERROR(VLOOKUP(E4401,'Reference Data'!C:C,1,FALSE)),\"PLEASE SELECT A BANK FROM DEFINED LIST PROVIDED\",\"\")),\"\")","v":""},"No Entry",0]
[null,null,null,null,null,null,null,null,null,null,null,null,"",{"$f":"IF(D4402=\"Cash and Deposits\",IF(E4402=\"\",\"BANK NAME REQUIRED\",IF(ISERROR(VLOOKUP(E4402,'Reference Data'!C:C,1,FALSE)),\"PLEASE SELECT A BANK FROM DEFINED LIST PROVIDED\",\"\")),\"\")","v":""},"No Entry",0]
[null,null,null,null,null,null,null,null,null,null,null,null,"",{"$f":"IF(D4403=\"Cash and Deposits\",IF(E4403=\"\",\"BANK NAME REQUIRED\",IF(ISERROR(VLOOKUP(E4403,'Reference Data'!C:C,1,FALSE)),\"PLEASE SELECT A BANK FROM DEFINED LIST PROVIDED\",\"\")),\"\")","v":""},"No Entry",0]
[null,null,null,null,null,null,null,null,null,null,null,null,"",{"$f":"IF(D4404=\"Cash and Deposits\",IF(E4404=\"\",\"BANK NAME REQUIRED\",IF(ISERROR(VLOOKUP(E4404,'Reference Data'!C:C,1,FALSE)),\"PLEASE SELECT A BANK FROM DEFINED LIST PROVIDED\",\"\")),\"\")","v":""},"No Entry",0]
[null,null,null,null,null,null,null,null,null,null,null,null,"",{"$f":"IF(D4405=\"Cash and Deposits\",IF(E4405=\"\",\"BANK NAME REQUIRED\",IF(ISERROR(VLOOKUP(E4405,'Reference Data'!C:C,1,FALSE)),\"PLEASE SELECT A BANK FROM DEFINED LIST PROVIDED\",\"\")),\"\")","v":""},"No Entry",0]
[null,null,null,null,null,null,null,null,null,null,null,null,"",{"$f":"IF(D4406=\"Cash and Deposits\",IF(E4406=\"\",\"BANK NAME REQUIRED\",IF(ISERROR(VLOOKUP(E4406,'Reference Data'!C:C,1,FALSE)),\"PLEASE SELECT A BANK FROM DEFINED LIST PROVIDED\",\"\")),\"\")","v":""},"No Entry",0]
[null,null,null,null,null,null,null,null,null,null,null,null,"",{"$f":"IF(D4407=\"Cash and Deposits\",IF(E4407=\"\",\"BANK NAME REQUIRED\",IF(ISERROR(VLOOKUP(E4407,'Reference Data'!C:C,1,FALSE)),\"PLEASE SELECT A BANK FROM DEFINED LIST PROVIDED\",\"\")),\"\")","v":""},"No Entry",0]
[null,null,null,null,null,null,null,null,null,null,null,null,"",{"$f":"IF(D4408=\"Cash and Deposits\",IF(E4408=\"\",\"BANK NAME REQUIRED\",IF(ISERROR(VLOOKUP(E4408,'Reference Data'!C:C,1,FALSE)),\"PLEASE SELECT A BANK FROM DEFINED LIST PROVIDED\",\"\")),\"\")","v":""},"No Entry",0]
[null,null,null,null,null,null,null,null,null,null,null,null,"",{"$f":"IF(D4409=\"Cash and Deposits\",IF(E4409=\"\",\"BANK NAME REQUIRED\",IF(ISERROR(VLOOKUP(E4409,'Reference Data'!C:C,1,FALSE)),\"PLEASE SELECT A BANK FROM DEFINED LIST PROVIDED\",\"\")),\"\")","v":""},"No Entry",0]
[null,null,null,null,null,null,null,null,null,null,null,null,"",{"$f":"IF(D4410=\"Cash and Deposits\",IF(E4410=\"\",\"BANK NAME REQUIRED\",IF(ISERROR(VLOOKUP(E4410,'Reference Data'!C:C,1,FALSE)),\"PLEASE SELECT A BANK FROM DEFINED LIST PROVIDED\",\"\")),\"\")","v":""},"No Entry",0]
[null,null,null,null,null,null,null,null,null,null,null,null,"",{"$f":"IF(D4411=\"Cash and Deposits\",IF(E4411=\"\",\"BANK NAME REQUIRED\",IF(ISERROR(VLOOKUP(E4411,'Reference Data'!C:C,1,FALSE)),\"PLEASE SELECT A BANK FROM DEFINED LIST PROVIDED\",\"\")),\"\")","v":""},"No Entry",0]
[null,null,null,null,null,null,null,null,null,null,null,null,"",{"$f":"IF(D4412=\"Cash and Deposits\",IF(E4412=\"\",\"BANK NAME REQUIRED\",IF(ISERROR(VLOOKUP(E4412,'Reference Data'!C:C,1,FALSE)),\"PLEASE SELECT A BANK FROM DEFINED LIST PROVIDED\",\"\")),\"\")","v":""},"No Entry",0]
[null,null,null,null,null,null,null,null,null,null,null,null,"",{"$f":"IF(D4413=\"Cash and Deposits\",IF(E4413=\"\",\"BANK NAME REQUIRED\",IF(ISERROR(VLOOKUP(E4413,'Reference Data'!C:C,1,FALSE)),\"PLEASE SELECT A BANK FROM DEFINED LIST PROVIDED\",\"\")),\"\")","v":""},"No Entry",0]
[null,null,null,null,null,null,null,null,null,null,null,null,"",{"$f":"IF(D4414=\"Cash and Deposits\",IF(E4414=\"\",\"BANK NAME REQUIRED\",IF(ISERROR(VLOOKUP(E4414,'Reference Data'!C:C,1,FALSE)),\"PLEASE SELECT A BANK FROM DEFINED LIST PROVIDED\",\"\")),\"\")","v":""},"No Entry",0]
[null,null,null,null,null,null,null,null,null,null,null,null,"",{"$f":"IF(D4415=\"Cash and Deposits\",IF(E4415=\"\",\"BANK NAME REQUIRED\",IF(ISERROR(VLOOKUP(E4415,'Reference Data'!C:C,1,FALSE)),\"PLEASE SELECT A BANK FROM DEFINED LIST PROVIDED\",\"\")),\"\")","v":""},"No Entry",0]
[null,null,null,null,null,null,null,null,null,null,null,null,"",{"$f":"IF(D4416=\"Cash and Deposits\",IF(E4416=\"\",\"BANK NAME REQUIRED\",IF(ISERROR(VLOOKUP(E4416,'Reference Data'!C:C,1,FALSE)),\"PLEASE SELECT A BANK FROM DEFINED LIST PROVIDED\",\"\")),\"\")","v":""},"No Entry",0]
[null,null,null,null,null,null,null,null,null,null,null,null,"",{"$f":"IF(D4417=\"Cash and Deposits\",IF(E4417=\"\",\"BANK NAME REQUIRED\",IF(ISERROR(VLOOKUP(E4417,'Reference Data'!C:C,1,FALSE)),\"PLEASE SELECT A BANK FROM DEFINED LIST PROVIDED\",\"\")),\"\")","v":""},"No Entry",0]
[null,null,null,null,null,null,null,null,null,null,null,null,"",{"$f":"IF(D4418=\"Cash and Deposits\",IF(E4418=\"\",\"BANK NAME REQUIRED\",IF(ISERROR(VLOOKUP(E4418,'Reference Data'!C:C,1,FALSE)),\"PLEASE SELECT A BANK FROM DEFINED LIST PROVIDED\",\"\")),\"\")","v":""},"No Entry",0]
[null,null,null,null,null,null,null,null,null,null,null,null,"",{"$f":"IF(D4419=\"Cash and Deposits\",IF(E4419=\"\",\"BANK NAME REQUIRED\",IF(ISERROR(VLOOKUP(E4419,'Reference Data'!C:C,1,FALSE)),\"PLEASE SELECT A BANK FROM DEFINED LIST PROVIDED\",\"\")),\"\")","v":""},"No Entry",0]
[null,null,null,null,null,null,null,null,null,null,null,null,"",{"$f":"IF(D4420=\"Cash and Deposits\",IF(E4420=\"\",\"BANK NAME REQUIRED\",IF(ISERROR(VLOOKUP(E4420,'Reference Data'!C:C,1,FALSE)),\"PLEASE SELECT A BANK FROM DEFINED LIST PROVIDED\",\"\")),\"\")","v":""},"No Entry",0]
[null,null,null,null,null,null,null,null,null,null,null,null,{"$f":"IF(K4421<>0,IF(B4421=\"\",\"ID CODE REQUIRED\",\"\"),\"\")","v":""},{"$f":"IF(D4421=\"Cash and Deposits\",IF(E4421=\"\",\"BANK NAME REQUIRED\",IF(ISERROR(VLOOKUP(E4421,'Reference Data'!C:C,1,FALSE)),\"PLEASE SELECT A BANK FROM DEFINED LIST PROVIDED\",\"\")),\"\")","v":""},{"$f":"IF(K4421=0,\"No Entry\",\"\")","v":"No Entry"},{"$f":"IF(K4421<>0,IF(A4421=\"\",1,0),0)","v":0}]
[null,null,null,null,null,null,null,null,null,null,null,null,"",{"$f":"IF(D4422=\"Cash and Deposits\",IF(E4422=\"\",\"BANK NAME REQUIRED\",IF(ISERROR(VLOOKUP(E4422,'Reference Data'!C:C,1,FALSE)),\"PLEASE SELECT A BANK FROM DEFINED LIST PROVIDED\",\"\")),\"\")","v":""},"No Entry",0]
[null,null,null,null,null,null,null,null,null,null,null,null,"",{"$f":"IF(D4423=\"Cash and Deposits\",IF(E4423=\"\",\"BANK NAME REQUIRED\",IF(ISERROR(VLOOKUP(E4423,'Reference Data'!C:C,1,FALSE)),\"PLEASE SELECT A BANK FROM DEFINED LIST PROVIDED\",\"\")),\"\")","v":""},"No Entry",0]
[null,null,null,null,null,null,null,null,null,null,null,null,"",{"$f":"IF(D4424=\"Cash and Deposits\",IF(E4424=\"\",\"BANK NAME REQUIRED\",IF(ISERROR(VLOOKUP(E4424,'Reference Data'!C:C,1,FALSE)),\"PLEASE SELECT A BANK FROM DEFINED LIST PROVIDED\",\"\")),\"\")","v":""},"No Entry",0]
[null,null,null,null,null,null,null,null,null,null,null,null,"",{"$f":"IF(D4425=\"Cash and Deposits\",IF(E4425=\"\",\"BANK NAME REQUIRED\",IF(ISERROR(VLOOKUP(E4425,'Reference Data'!C:C,1,FALSE)),\"PLEASE SELECT A BANK FROM DEFINED LIST PROVIDED\",\"\")),\"\")","v":""},"No Entry",0]
[null,null,null,null,null,null,null,null,null,null,null,null,"",{"$f":"IF(D4426=\"Cash and Deposits\",IF(E4426=\"\",\"BANK NAME REQUIRED\",IF(ISERROR(VLOOKUP(E4426,'Reference Data'!C:C,1,FALSE)),\"PLEASE SELECT A BANK FROM DEFINED LIST PROVIDED\",\"\")),\"\")","v":""},"No Entry",0]
[null,null,null,null,null,null,null,null,null,null,null,null,"",{"$f":"IF(D4427=\"Cash and Deposits\",IF(E4427=\"\",\"BANK NAME REQUIRED\",IF(ISERROR(VLOOKUP(E4427,'Reference Data'!C:C,1,FALSE)),\"PLEASE SELECT A BANK FROM DEFINED LIST PROVIDED\",\"\")),\"\")","v":""},"No Entry",0]
[null,null,null,null,null,null,null,null,null,null,null,null,"",{"$f":"IF(D4428=\"Cash and Deposits\",IF(E4428=\"\",\"BANK NAME REQUIRED\",IF(ISERROR(VLOOKUP(E4428,'Reference Data'!C:C,1,FALSE)),\"PLEASE SELECT A BANK FROM DEFINED LIST PROVIDED\",\"\")),\"\")","v":""},"No Entry",0]
[null,null,null,null,null,null,null,null,null,null,null,null,"",{"$f":"IF(D4429=\"Cash and Deposits\",IF(E4429=\"\",\"BANK NAME REQUIRED\",IF(ISERROR(VLOOKUP(E4429,'Reference Data'!C:C,1,FALSE)),\"PLEASE SELECT A BANK FROM DEFINED LIST PROVIDED\",\"\")),\"\")","v":""},"No Entry",0]
[null,null,null,null,null,null,null,null,null,null,null,null,"",{"$f":"IF(D4430=\"Cash and Deposits\",IF(E4430=\"\",\"BANK NAME REQUIRED\",IF(ISERROR(VLOOKUP(E4430,'Reference Data'!C:C,1,FALSE)),\"PLEASE SELECT A BANK FROM DEFINED LIST PROVIDED\",\"\")),\"\")","v":""},"No Entry",0]
[null,null,null,null,null,null,null,null,null,null,null,null,"",{"$f":"IF(D4431=\"Cash and Deposits\",IF(E4431=\"\",\"BANK NAME REQUIRED\",IF(ISERROR(VLOOKUP(E4431,'Reference Data'!C:C,1,FALSE)),\"PLEASE SELECT A BANK FROM DEFINED LIST PROVIDED\",\"\")),\"\")","v":""},"No Entry",0]
[null,null,null,null,null,null,null,null,null,null,null,null,"",{"$f":"IF(D4432=\"Cash and Deposits\",IF(E4432=\"\",\"BANK NAME REQUIRED\",IF(ISERROR(VLOOKUP(E4432,'Reference Data'!C:C,1,FALSE)),\"PLEASE SELECT A BANK FROM DEFINED LIST PROVIDED\",\"\")),\"\")","v":""},"No Entry",0]
[null,null,null,null,null,null,null,null,null,null,null,null,"",{"$f":"IF(D4433=\"Cash and Deposits\",IF(E4433=\"\",\"BANK NAME REQUIRED\",IF(ISERROR(VLOOKUP(E4433,'Reference Data'!C:C,1,FALSE)),\"PLEASE SELECT A BANK FROM DEFINED LIST PROVIDED\",\"\")),\"\")","v":""},"No Entry",0]
[null,null,null,null,null,null,null,null,null,null,null,null,"",{"$f":"IF(D4434=\"Cash and Deposits\",IF(E4434=\"\",\"BANK NAME REQUIRED\",IF(ISERROR(VLOOKUP(E4434,'Reference Data'!C:C,1,FALSE)),\"PLEASE SELECT A BANK FROM DEFINED LIST PROVIDED\",\"\")),\"\")","v":""},"No Entry",0]
[null,null,null,null,null,null,null,null,null,null,null,null,"",{"$f":"IF(D4435=\"Cash and Deposits\",IF(E4435=\"\",\"BANK NAME REQUIRED\",IF(ISERROR(VLOOKUP(E4435,'Reference Data'!C:C,1,FALSE)),\"PLEASE SELECT A BANK FROM DEFINED LIST PROVIDED\",\"\")),\"\")","v":""},"No Entry",0]
[null,null,null,null,null,null,null,null,null,null,null,null,"",{"$f":"IF(D4436=\"Cash and Deposits\",IF(E4436=\"\",\"BANK NAME REQUIRED\",IF(ISERROR(VLOOKUP(E4436,'Reference Data'!C:C,1,FALSE)),\"PLEASE SELECT A BANK FROM DEFINED LIST PROVIDED\",\"\")),\"\")","v":""},"No Entry",0]
[null,null,null,null,null,null,null,null,null,null,null,null,"",{"$f":"IF(D4437=\"Cash and Deposits\",IF(E4437=\"\",\"BANK NAME REQUIRED\",IF(ISERROR(VLOOKUP(E4437,'Reference Data'!C:C,1,FALSE)),\"PLEASE SELECT A BANK FROM DEFINED LIST PROVIDED\",\"\")),\"\")","v":""},"No Entry",0]
[null,null,null,null,null,null,null,null,null,null,null,null,"",{"$f":"IF(D4438=\"Cash and Deposits\",IF(E4438=\"\",\"BANK NAME REQUIRED\",IF(ISERROR(VLOOKUP(E4438,'Reference Data'!C:C,1,FALSE)),\"PLEASE SELECT A BANK FROM DEFINED LIST PROVIDED\",\"\")),\"\")","v":""},"No Entry",0]
[null,null,null,null,null,null,null,null,null,null,null,null,"",{"$f":"IF(D4439=\"Cash and Deposits\",IF(E4439=\"\",\"BANK NAME REQUIRED\",IF(ISERROR(VLOOKUP(E4439,'Reference Data'!C:C,1,FALSE)),\"PLEASE SELECT A BANK FROM DEFINED LIST PROVIDED\",\"\")),\"\")","v":""},"No Entry",0]
[null,null,null,null,null,null,null,null,null,null,null,null,"",{"$f":"IF(D4440=\"Cash and Deposits\",IF(E4440=\"\",\"BANK NAME REQUIRED\",IF(ISERROR(VLOOKUP(E4440,'Reference Data'!C:C,1,FALSE)),\"PLEASE SELECT A BANK FROM DEFINED LIST PROVIDED\",\"\")),\"\")","v":""},"No Entry",0]
[null,null,null,null,null,null,null,null,null,null,null,null,"",{"$f":"IF(D4441=\"Cash and Deposits\",IF(E4441=\"\",\"BANK NAME REQUIRED\",IF(ISERROR(VLOOKUP(E4441,'Reference Data'!C:C,1,FALSE)),\"PLEASE SELECT A BANK FROM DEFINED LIST PROVIDED\",\"\")),\"\")","v":""},"No Entry",0]
[null,null,null,null,null,null,null,null,null,null,null,null,"",{"$f":"IF(D4442=\"Cash and Deposits\",IF(E4442=\"\",\"BANK NAME REQUIRED\",IF(ISERROR(VLOOKUP(E4442,'Reference Data'!C:C,1,FALSE)),\"PLEASE SELECT A BANK FROM DEFINED LIST PROVIDED\",\"\")),\"\")","v":""},"No Entry",0]
[null,null,null,null,null,null,null,null,null,null,null,null,"",{"$f":"IF(D4443=\"Cash and Deposits\",IF(E4443=\"\",\"BANK NAME REQUIRED\",IF(ISERROR(VLOOKUP(E4443,'Reference Data'!C:C,1,FALSE)),\"PLEASE SELECT A BANK FROM DEFINED LIST PROVIDED\",\"\")),\"\")","v":""},"No Entry",0]
[null,null,null,null,null,null,null,null,null,null,null,null,"",{"$f":"IF(D4444=\"Cash and Deposits\",IF(E4444=\"\",\"BANK NAME REQUIRED\",IF(ISERROR(VLOOKUP(E4444,'Reference Data'!C:C,1,FALSE)),\"PLEASE SELECT A BANK FROM DEFINED LIST PROVIDED\",\"\")),\"\")","v":""},"No Entry",0]
[null,null,null,null,null,null,null,null,null,null,null,null,"",{"$f":"IF(D4445=\"Cash and Deposits\",IF(E4445=\"\",\"BANK NAME REQUIRED\",IF(ISERROR(VLOOKUP(E4445,'Reference Data'!C:C,1,FALSE)),\"PLEASE SELECT A BANK FROM DEFINED LIST PROVIDED\",\"\")),\"\")","v":""},"No Entry",0]
[null,null,null,null,null,null,null,null,null,null,null,null,"",{"$f":"IF(D4446=\"Cash and Deposits\",IF(E4446=\"\",\"BANK NAME REQUIRED\",IF(ISERROR(VLOOKUP(E4446,'Reference Data'!C:C,1,FALSE)),\"PLEASE SELECT A BANK FROM DEFINED LIST PROVIDED\",\"\")),\"\")","v":""},"No Entry",0]
[null,null,null,null,null,null,null,null,null,null,null,null,"",{"$f":"IF(D4447=\"Cash and Deposits\",IF(E4447=\"\",\"BANK NAME REQUIRED\",IF(ISERROR(VLOOKUP(E4447,'Reference Data'!C:C,1,FALSE)),\"PLEASE SELECT A BANK FROM DEFINED LIST PROVIDED\",\"\")),\"\")","v":""},"No Entry",0]
[null,null,null,null,null,null,null,null,null,null,null,null,"",{"$f":"IF(D4448=\"Cash and Deposits\",IF(E4448=\"\",\"BANK NAME REQUIRED\",IF(ISERROR(VLOOKUP(E4448,'Reference Data'!C:C,1,FALSE)),\"PLEASE SELECT A BANK FROM DEFINED LIST PROVIDED\",\"\")),\"\")","v":""},"No Entry",0]
[null,null,null,null,null,null,null,null,null,null,null,null,"",{"$f":"IF(D4449=\"Cash and Deposits\",IF(E4449=\"\",\"BANK NAME REQUIRED\",IF(ISERROR(VLOOKUP(E4449,'Reference Data'!C:C,1,FALSE)),\"PLEASE SELECT A BANK FROM DEFINED LIST PROVIDED\",\"\")),\"\")","v":""},"No Entry",0]
[null,null,null,null,null,null,null,null,null,null,null,null,"",{"$f":"IF(D4450=\"Cash and Deposits\",IF(E4450=\"\",\"BANK NAME REQUIRED\",IF(ISERROR(VLOOKUP(E4450,'Reference Data'!C:C,1,FALSE)),\"PLEASE SELECT A BANK FROM DEFINED LIST PROVIDED\",\"\")),\"\")","v":""},"No Entry",0]
[null,null,null,null,null,null,null,null,null,null,null,null,"",{"$f":"IF(D4451=\"Cash and Deposits\",IF(E4451=\"\",\"BANK NAME REQUIRED\",IF(ISERROR(VLOOKUP(E4451,'Reference Data'!C:C,1,FALSE)),\"PLEASE SELECT A BANK FROM DEFINED LIST PROVIDED\",\"\")),\"\")","v":""},"No Entry",0]
[null,null,null,null,null,null,null,null,null,null,null,null,"",{"$f":"IF(D4452=\"Cash and Deposits\",IF(E4452=\"\",\"BANK NAME REQUIRED\",IF(ISERROR(VLOOKUP(E4452,'Reference Data'!C:C,1,FALSE)),\"PLEASE SELECT A BANK FROM DEFINED LIST PROVIDED\",\"\")),\"\")","v":""},"No Entry",0]
[null,null,null,null,null,null,null,null,null,null,null,null,"",{"$f":"IF(D4453=\"Cash and Deposits\",IF(E4453=\"\",\"BANK NAME REQUIRED\",IF(ISERROR(VLOOKUP(E4453,'Reference Data'!C:C,1,FALSE)),\"PLEASE SELECT A BANK FROM DEFINED LIST PROVIDED\",\"\")),\"\")","v":""},"No Entry",0]
[null,null,null,null,null,null,null,null,null,null,null,null,"",{"$f":"IF(D4454=\"Cash and Deposits\",IF(E4454=\"\",\"BANK NAME REQUIRED\",IF(ISERROR(VLOOKUP(E4454,'Reference Data'!C:C,1,FALSE)),\"PLEASE SELECT A BANK FROM DEFINED LIST PROVIDED\",\"\")),\"\")","v":""},"No Entry",0]
[null,null,null,null,null,null,null,null,null,null,null,null,"",{"$f":"IF(D4455=\"Cash and Deposits\",IF(E4455=\"\",\"BANK NAME REQUIRED\",IF(ISERROR(VLOOKUP(E4455,'Reference Data'!C:C,1,FALSE)),\"PLEASE SELECT A BANK FROM DEFINED LIST PROVIDED\",\"\")),\"\")","v":""},"No Entry",0]
[null,null,null,null,null,null,null,null,null,null,null,null,"",{"$f":"IF(D4456=\"Cash and Deposits\",IF(E4456=\"\",\"BANK NAME REQUIRED\",IF(ISERROR(VLOOKUP(E4456,'Reference Data'!C:C,1,FALSE)),\"PLEASE SELECT A BANK FROM DEFINED LIST PROVIDED\",\"\")),\"\")","v":""},"No Entry",0]
[null,null,null,null,null,null,null,null,null,null,null,null,"",{"$f":"IF(D4457=\"Cash and Deposits\",IF(E4457=\"\",\"BANK NAME REQUIRED\",IF(ISERROR(VLOOKUP(E4457,'Reference Data'!C:C,1,FALSE)),\"PLEASE SELECT A BANK FROM DEFINED LIST PROVIDED\",\"\")),\"\")","v":""},"No Entry",0]
[null,null,null,null,null,null,null,null,null,null,null,null,"",{"$f":"IF(D4458=\"Cash and Deposits\",IF(E4458=\"\",\"BANK NAME REQUIRED\",IF(ISERROR(VLOOKUP(E4458,'Reference Data'!C:C,1,FALSE)),\"PLEASE SELECT A BANK FROM DEFINED LIST PROVIDED\",\"\")),\"\")","v":""},"No Entry",0]
[null,null,null,null,null,null,null,null,null,null,null,null,"",{"$f":"IF(D4459=\"Cash and Deposits\",IF(E4459=\"\",\"BANK NAME REQUIRED\",IF(ISERROR(VLOOKUP(E4459,'Reference Data'!C:C,1,FALSE)),\"PLEASE SELECT A BANK FROM DEFINED LIST PROVIDED\",\"\")),\"\")","v":""},"No Entry",0]
[null,null,null,null,null,null,null,null,null,null,null,null,"",{"$f":"IF(D4460=\"Cash and Deposits\",IF(E4460=\"\",\"BANK NAME REQUIRED\",IF(ISERROR(VLOOKUP(E4460,'Reference Data'!C:C,1,FALSE)),\"PLEASE SELECT A BANK FROM DEFINED LIST PROVIDED\",\"\")),\"\")","v":""},"No Entry",0]
[null,null,null,null,null,null,null,null,null,null,null,null,"",{"$f":"IF(D4461=\"Cash and Deposits\",IF(E4461=\"\",\"BANK NAME REQUIRED\",IF(ISERROR(VLOOKUP(E4461,'Reference Data'!C:C,1,FALSE)),\"PLEASE SELECT A BANK FROM DEFINED LIST PROVIDED\",\"\")),\"\")","v":""},"No Entry",0]
[null,null,null,null,null,null,null,null,null,null,null,null,"",{"$f":"IF(D4462=\"Cash and Deposits\",IF(E4462=\"\",\"BANK NAME REQUIRED\",IF(ISERROR(VLOOKUP(E4462,'Reference Data'!C:C,1,FALSE)),\"PLEASE SELECT A BANK FROM DEFINED LIST PROVIDED\",\"\")),\"\")","v":""},"No Entry",0]
[null,null,null,null,null,null,null,null,null,null,null,null,"",{"$f":"IF(D4463=\"Cash and Deposits\",IF(E4463=\"\",\"BANK NAME REQUIRED\",IF(ISERROR(VLOOKUP(E4463,'Reference Data'!C:C,1,FALSE)),\"PLEASE SELECT A BANK FROM DEFINED LIST PROVIDED\",\"\")),\"\")","v":""},"No Entry",0]
[null,null,null,null,null,null,null,null,null,null,null,null,"",{"$f":"IF(D4464=\"Cash and Deposits\",IF(E4464=\"\",\"BANK NAME REQUIRED\",IF(ISERROR(VLOOKUP(E4464,'Reference Data'!C:C,1,FALSE)),\"PLEASE SELECT A BANK FROM DEFINED LIST PROVIDED\",\"\")),\"\")","v":""},"No Entry",0]
[null,null,null,null,null,null,null,null,null,null,null,null,"",{"$f":"IF(D4465=\"Cash and Deposits\",IF(E4465=\"\",\"BANK NAME REQUIRED\",IF(ISERROR(VLOOKUP(E4465,'Reference Data'!C:C,1,FALSE)),\"PLEASE SELECT A BANK FROM DEFINED LIST PROVIDED\",\"\")),\"\")","v":""},"No Entry",0]
[null,null,null,null,null,null,null,null,null,null,null,null,"",{"$f":"IF(D4466=\"Cash and Deposits\",IF(E4466=\"\",\"BANK NAME REQUIRED\",IF(ISERROR(VLOOKUP(E4466,'Reference Data'!C:C,1,FALSE)),\"PLEASE SELECT A BANK FROM DEFINED LIST PROVIDED\",\"\")),\"\")","v":""},"No Entry",0]
[null,null,null,null,null,null,null,null,null,null,null,null,"",{"$f":"IF(D4467=\"Cash and Deposits\",IF(E4467=\"\",\"BANK NAME REQUIRED\",IF(ISERROR(VLOOKUP(E4467,'Reference Data'!C:C,1,FALSE)),\"PLEASE SELECT A BANK FROM DEFINED LIST PROVIDED\",\"\")),\"\")","v":""},"No Entry",0]
[null,null,null,null,null,null,null,null,null,null,null,null,"",{"$f":"IF(D4468=\"Cash and Deposits\",IF(E4468=\"\",\"BANK NAME REQUIRED\",IF(ISERROR(VLOOKUP(E4468,'Reference Data'!C:C,1,FALSE)),\"PLEASE SELECT A BANK FROM DEFINED LIST PROVIDED\",\"\")),\"\")","v":""},"No Entry",0]
[null,null,null,null,null,null,null,null,null,null,null,null,"",{"$f":"IF(D4469=\"Cash and Deposits\",IF(E4469=\"\",\"BANK NAME REQUIRED\",IF(ISERROR(VLOOKUP(E4469,'Reference Data'!C:C,1,FALSE)),\"PLEASE SELECT A BANK FROM DEFINED LIST PROVIDED\",\"\")),\"\")","v":""},"No Entry",0]
[null,null,null,null,null,null,null,null,null,null,null,null,"",{"$f":"IF(D4470=\"Cash and Deposits\",IF(E4470=\"\",\"BANK NAME REQUIRED\",IF(ISERROR(VLOOKUP(E4470,'Reference Data'!C:C,1,FALSE)),\"PLEASE SELECT A BANK FROM DEFINED LIST PROVIDED\",\"\")),\"\")","v":""},"No Entry",0]
[null,null,null,null,null,null,null,null,null,null,null,null,"",{"$f":"IF(D4471=\"Cash and Deposits\",IF(E4471=\"\",\"BANK NAME REQUIRED\",IF(ISERROR(VLOOKUP(E4471,'Reference Data'!C:C,1,FALSE)),\"PLEASE SELECT A BANK FROM DEFINED LIST PROVIDED\",\"\")),\"\")","v":""},"No Entry",0]
[null,null,null,null,null,null,null,null,null,null,null,null,"",{"$f":"IF(D4472=\"Cash and Deposits\",IF(E4472=\"\",\"BANK NAME REQUIRED\",IF(ISERROR(VLOOKUP(E4472,'Reference Data'!C:C,1,FALSE)),\"PLEASE SELECT A BANK FROM DEFINED LIST PROVIDED\",\"\")),\"\")","v":""},"No Entry",0]
[null,null,null,null,null,null,null,null,null,null,null,null,"",{"$f":"IF(D4473=\"Cash and Deposits\",IF(E4473=\"\",\"BANK NAME REQUIRED\",IF(ISERROR(VLOOKUP(E4473,'Reference Data'!C:C,1,FALSE)),\"PLEASE SELECT A BANK FROM DEFINED LIST PROVIDED\",\"\")),\"\")","v":""},"No Entry",0]
[null,null,null,null,null,null,null,null,null,null,null,null,"",{"$f":"IF(D4474=\"Cash and Deposits\",IF(E4474=\"\",\"BANK NAME REQUIRED\",IF(ISERROR(VLOOKUP(E4474,'Reference Data'!C:C,1,FALSE)),\"PLEASE SELECT A BANK FROM DEFINED LIST PROVIDED\",\"\")),\"\")","v":""},"No Entry",0]
[null,null,null,null,null,null,null,null,null,null,null,null,"",{"$f":"IF(D4475=\"Cash and Deposits\",IF(E4475=\"\",\"BANK NAME REQUIRED\",IF(ISERROR(VLOOKUP(E4475,'Reference Data'!C:C,1,FALSE)),\"PLEASE SELECT A BANK FROM DEFINED LIST PROVIDED\",\"\")),\"\")","v":""},"No Entry",0]
[null,null,null,null,null,null,null,null,null,null,null,null,"",{"$f":"IF(D4476=\"Cash and Deposits\",IF(E4476=\"\",\"BANK NAME REQUIRED\",IF(ISERROR(VLOOKUP(E4476,'Reference Data'!C:C,1,FALSE)),\"PLEASE SELECT A BANK FROM DEFINED LIST PROVIDED\",\"\")),\"\")","v":""},"No Entry",0]
[null,null,null,null,null,null,null,null,null,null,null,null,"",{"$f":"IF(D4477=\"Cash and Deposits\",IF(E4477=\"\",\"BANK NAME REQUIRED\",IF(ISERROR(VLOOKUP(E4477,'Reference Data'!C:C,1,FALSE)),\"PLEASE SELECT A BANK FROM DEFINED LIST PROVIDED\",\"\")),\"\")","v":""},"No Entry",0]
[null,null,null,null,null,null,null,null,null,null,null,null,"",{"$f":"IF(D4478=\"Cash and Deposits\",IF(E4478=\"\",\"BANK NAME REQUIRED\",IF(ISERROR(VLOOKUP(E4478,'Reference Data'!C:C,1,FALSE)),\"PLEASE SELECT A BANK FROM DEFINED LIST PROVIDED\",\"\")),\"\")","v":""},"No Entry",0]
[null,null,null,null,null,null,null,null,null,null,null,null,"",{"$f":"IF(D4479=\"Cash and Deposits\",IF(E4479=\"\",\"BANK NAME REQUIRED\",IF(ISERROR(VLOOKUP(E4479,'Reference Data'!C:C,1,FALSE)),\"PLEASE SELECT A BANK FROM DEFINED LIST PROVIDED\",\"\")),\"\")","v":""},"No Entry",0]
[null,null,null,null,null,null,null,null,null,null,null,null,"",{"$f":"IF(D4480=\"Cash and Deposits\",IF(E4480=\"\",\"BANK NAME REQUIRED\",IF(ISERROR(VLOOKUP(E4480,'Reference Data'!C:C,1,FALSE)),\"PLEASE SELECT A BANK FROM DEFINED LIST PROVIDED\",\"\")),\"\")","v":""},"No Entry",0]
[null,null,null,null,null,null,null,null,null,null,null,null,"",{"$f":"IF(D4481=\"Cash and Deposits\",IF(E4481=\"\",\"BANK NAME REQUIRED\",IF(ISERROR(VLOOKUP(E4481,'Reference Data'!C:C,1,FALSE)),\"PLEASE SELECT A BANK FROM DEFINED LIST PROVIDED\",\"\")),\"\")","v":""},"No Entry",0]
[null,null,null,null,null,null,null,null,null,null,null,null,"",{"$f":"IF(D4482=\"Cash and Deposits\",IF(E4482=\"\",\"BANK NAME REQUIRED\",IF(ISERROR(VLOOKUP(E4482,'Reference Data'!C:C,1,FALSE)),\"PLEASE SELECT A BANK FROM DEFINED LIST PROVIDED\",\"\")),\"\")","v":""},"No Entry",0]
[null,null,null,null,null,null,null,null,null,null,null,null,"",{"$f":"IF(D4483=\"Cash and Deposits\",IF(E4483=\"\",\"BANK NAME REQUIRED\",IF(ISERROR(VLOOKUP(E4483,'Reference Data'!C:C,1,FALSE)),\"PLEASE SELECT A BANK FROM DEFINED LIST PROVIDED\",\"\")),\"\")","v":""},"No Entry",0]
[null,null,null,null,null,null,null,null,null,null,null,null,"",{"$f":"IF(D4484=\"Cash and Deposits\",IF(E4484=\"\",\"BANK NAME REQUIRED\",IF(ISERROR(VLOOKUP(E4484,'Reference Data'!C:C,1,FALSE)),\"PLEASE SELECT A BANK FROM DEFINED LIST PROVIDED\",\"\")),\"\")","v":""},"No Entry",0]
[null,null,null,null,null,null,null,null,null,null,null,null,{"$f":"IF(K4485<>0,IF(B4485=\"\",\"ID CODE REQUIRED\",\"\"),\"\")","v":""},{"$f":"IF(D4485=\"Cash and Deposits\",IF(E4485=\"\",\"BANK NAME REQUIRED\",IF(ISERROR(VLOOKUP(E4485,'Reference Data'!C:C,1,FALSE)),\"PLEASE SELECT A BANK FROM DEFINED LIST PROVIDED\",\"\")),\"\")","v":""},{"$f":"IF(K4485=0,\"No Entry\",\"\")","v":"No Entry"},{"$f":"IF(K4485<>0,IF(A4485=\"\",1,0),0)","v":0}]
[null,null,null,null,null,null,null,null,null,null,null,null,"",{"$f":"IF(D4486=\"Cash and Deposits\",IF(E4486=\"\",\"BANK NAME REQUIRED\",IF(ISERROR(VLOOKUP(E4486,'Reference Data'!C:C,1,FALSE)),\"PLEASE SELECT A BANK FROM DEFINED LIST PROVIDED\",\"\")),\"\")","v":""},"No Entry",0]
[null,null,null,null,null,null,null,null,null,null,null,null,"",{"$f":"IF(D4487=\"Cash and Deposits\",IF(E4487=\"\",\"BANK NAME REQUIRED\",IF(ISERROR(VLOOKUP(E4487,'Reference Data'!C:C,1,FALSE)),\"PLEASE SELECT A BANK FROM DEFINED LIST PROVIDED\",\"\")),\"\")","v":""},"No Entry",0]
[null,null,null,null,null,null,null,null,null,null,null,null,"",{"$f":"IF(D4488=\"Cash and Deposits\",IF(E4488=\"\",\"BANK NAME REQUIRED\",IF(ISERROR(VLOOKUP(E4488,'Reference Data'!C:C,1,FALSE)),\"PLEASE SELECT A BANK FROM DEFINED LIST PROVIDED\",\"\")),\"\")","v":""},"No Entry",0]
[null,null,null,null,null,null,null,null,null,null,null,null,"",{"$f":"IF(D4489=\"Cash and Deposits\",IF(E4489=\"\",\"BANK NAME REQUIRED\",IF(ISERROR(VLOOKUP(E4489,'Reference Data'!C:C,1,FALSE)),\"PLEASE SELECT A BANK FROM DEFINED LIST PROVIDED\",\"\")),\"\")","v":""},"No Entry",0]
[null,null,null,null,null,null,null,null,null,null,null,null,"",{"$f":"IF(D4490=\"Cash and Deposits\",IF(E4490=\"\",\"BANK NAME REQUIRED\",IF(ISERROR(VLOOKUP(E4490,'Reference Data'!C:C,1,FALSE)),\"PLEASE SELECT A BANK FROM DEFINED LIST PROVIDED\",\"\")),\"\")","v":""},"No Entry",0]
[null,null,null,null,null,null,null,null,null,null,null,null,"",{"$f":"IF(D4491=\"Cash and Deposits\",IF(E4491=\"\",\"BANK NAME REQUIRED\",IF(ISERROR(VLOOKUP(E4491,'Reference Data'!C:C,1,FALSE)),\"PLEASE SELECT A BANK FROM DEFINED LIST PROVIDED\",\"\")),\"\")","v":""},"No Entry",0]
[null,null,null,null,null,null,null,null,null,null,null,null,"",{"$f":"IF(D4492=\"Cash and Deposits\",IF(E4492=\"\",\"BANK NAME REQUIRED\",IF(ISERROR(VLOOKUP(E4492,'Reference Data'!C:C,1,FALSE)),\"PLEASE SELECT A BANK FROM DEFINED LIST PROVIDED\",\"\")),\"\")","v":""},"No Entry",0]
[null,null,null,null,null,null,null,null,null,null,null,null,"",{"$f":"IF(D4493=\"Cash and Deposits\",IF(E4493=\"\",\"BANK NAME REQUIRED\",IF(ISERROR(VLOOKUP(E4493,'Reference Data'!C:C,1,FALSE)),\"PLEASE SELECT A BANK FROM DEFINED LIST PROVIDED\",\"\")),\"\")","v":""},"No Entry",0]
[null,null,null,null,null,null,null,null,null,null,null,null,"",{"$f":"IF(D4494=\"Cash and Deposits\",IF(E4494=\"\",\"BANK NAME REQUIRED\",IF(ISERROR(VLOOKUP(E4494,'Reference Data'!C:C,1,FALSE)),\"PLEASE SELECT A BANK FROM DEFINED LIST PROVIDED\",\"\")),\"\")","v":""},"No Entry",0]
[null,null,null,null,null,null,null,null,null,null,null,null,"",{"$f":"IF(D4495=\"Cash and Deposits\",IF(E4495=\"\",\"BANK NAME REQUIRED\",IF(ISERROR(VLOOKUP(E4495,'Reference Data'!C:C,1,FALSE)),\"PLEASE SELECT A BANK FROM DEFINED LIST PROVIDED\",\"\")),\"\")","v":""},"No Entry",0]
[null,null,null,null,null,null,null,null,null,null,null,null,"",{"$f":"IF(D4496=\"Cash and Deposits\",IF(E4496=\"\",\"BANK NAME REQUIRED\",IF(ISERROR(VLOOKUP(E4496,'Reference Data'!C:C,1,FALSE)),\"PLEASE SELECT A BANK FROM DEFINED LIST PROVIDED\",\"\")),\"\")","v":""},"No Entry",0]
[null,null,null,null,null,null,null,null,null,null,null,null,"",{"$f":"IF(D4497=\"Cash and Deposits\",IF(E4497=\"\",\"BANK NAME REQUIRED\",IF(ISERROR(VLOOKUP(E4497,'Reference Data'!C:C,1,FALSE)),\"PLEASE SELECT A BANK FROM DEFINED LIST PROVIDED\",\"\")),\"\")","v":""},"No Entry",0]
[null,null,null,null,null,null,null,null,null,null,null,null,"",{"$f":"IF(D4498=\"Cash and Deposits\",IF(E4498=\"\",\"BANK NAME REQUIRED\",IF(ISERROR(VLOOKUP(E4498,'Reference Data'!C:C,1,FALSE)),\"PLEASE SELECT A BANK FROM DEFINED LIST PROVIDED\",\"\")),\"\")","v":""},"No Entry",0]
[null,null,null,null,null,null,null,null,null,null,null,null,"",{"$f":"IF(D4499=\"Cash and Deposits\",IF(E4499=\"\",\"BANK NAME REQUIRED\",IF(ISERROR(VLOOKUP(E4499,'Reference Data'!C:C,1,FALSE)),\"PLEASE SELECT A BANK FROM DEFINED LIST PROVIDED\",\"\")),\"\")","v":""},"No Entry",0]
[null,null,null,null,null,null,null,null,null,null,null,null,"",{"$f":"IF(D4500=\"Cash and Deposits\",IF(E4500=\"\",\"BANK NAME REQUIRED\",IF(ISERROR(VLOOKUP(E4500,'Reference Data'!C:C,1,FALSE)),\"PLEASE SELECT A BANK FROM DEFINED LIST PROVIDED\",\"\")),\"\")","v":""},"No Entry",0]
[null,null,null,null,null,null,null,null,null,null,null,null,"",{"$f":"IF(D4501=\"Cash and Deposits\",IF(E4501=\"\",\"BANK NAME REQUIRED\",IF(ISERROR(VLOOKUP(E4501,'Reference Data'!C:C,1,FALSE)),\"PLEASE SELECT A BANK FROM DEFINED LIST PROVIDED\",\"\")),\"\")","v":""},"No Entry",0]
[null,null,null,null,null,null,null,null,null,null,null,null,"",{"$f":"IF(D4502=\"Cash and Deposits\",IF(E4502=\"\",\"BANK NAME REQUIRED\",IF(ISERROR(VLOOKUP(E4502,'Reference Data'!C:C,1,FALSE)),\"PLEASE SELECT A BANK FROM DEFINED LIST PROVIDED\",\"\")),\"\")","v":""},"No Entry",0]
[null,null,null,null,null,null,null,null,null,null,null,null,"",{"$f":"IF(D4503=\"Cash and Deposits\",IF(E4503=\"\",\"BANK NAME REQUIRED\",IF(ISERROR(VLOOKUP(E4503,'Reference Data'!C:C,1,FALSE)),\"PLEASE SELECT A BANK FROM DEFINED LIST PROVIDED\",\"\")),\"\")","v":""},"No Entry",0]
[null,null,null,null,null,null,null,null,null,null,null,null,"",{"$f":"IF(D4504=\"Cash and Deposits\",IF(E4504=\"\",\"BANK NAME REQUIRED\",IF(ISERROR(VLOOKUP(E4504,'Reference Data'!C:C,1,FALSE)),\"PLEASE SELECT A BANK FROM DEFINED LIST PROVIDED\",\"\")),\"\")","v":""},"No Entry",0]
[null,null,null,null,null,null,null,null,null,null,null,null,"",{"$f":"IF(D4505=\"Cash and Deposits\",IF(E4505=\"\",\"BANK NAME REQUIRED\",IF(ISERROR(VLOOKUP(E4505,'Reference Data'!C:C,1,FALSE)),\"PLEASE SELECT A BANK FROM DEFINED LIST PROVIDED\",\"\")),\"\")","v":""},"No Entry",0]
[null,null,null,null,null,null,null,null,null,null,null,null,"",{"$f":"IF(D4506=\"Cash and Deposits\",IF(E4506=\"\",\"BANK NAME REQUIRED\",IF(ISERROR(VLOOKUP(E4506,'Reference Data'!C:C,1,FALSE)),\"PLEASE SELECT A BANK FROM DEFINED LIST PROVIDED\",\"\")),\"\")","v":""},"No Entry",0]
[null,null,null,null,null,null,null,null,null,null,null,null,"",{"$f":"IF(D4507=\"Cash and Deposits\",IF(E4507=\"\",\"BANK NAME REQUIRED\",IF(ISERROR(VLOOKUP(E4507,'Reference Data'!C:C,1,FALSE)),\"PLEASE SELECT A BANK FROM DEFINED LIST PROVIDED\",\"\")),\"\")","v":""},"No Entry",0]
[null,null,null,null,null,null,null,null,null,null,null,null,"",{"$f":"IF(D4508=\"Cash and Deposits\",IF(E4508=\"\",\"BANK NAME REQUIRED\",IF(ISERROR(VLOOKUP(E4508,'Reference Data'!C:C,1,FALSE)),\"PLEASE SELECT A BANK FROM DEFINED LIST PROVIDED\",\"\")),\"\")","v":""},"No Entry",0]
[null,null,null,null,null,null,null,null,null,null,null,null,"",{"$f":"IF(D4509=\"Cash and Deposits\",IF(E4509=\"\",\"BANK NAME REQUIRED\",IF(ISERROR(VLOOKUP(E4509,'Reference Data'!C:C,1,FALSE)),\"PLEASE SELECT A BANK FROM DEFINED LIST PROVIDED\",\"\")),\"\")","v":""},"No Entry",0]
[null,null,null,null,null,null,null,null,null,null,null,null,"",{"$f":"IF(D4510=\"Cash and Deposits\",IF(E4510=\"\",\"BANK NAME REQUIRED\",IF(ISERROR(VLOOKUP(E4510,'Reference Data'!C:C,1,FALSE)),\"PLEASE SELECT A BANK FROM DEFINED LIST PROVIDED\",\"\")),\"\")","v":""},"No Entry",0]
[null,null,null,null,null,null,null,null,null,null,null,null,"",{"$f":"IF(D4511=\"Cash and Deposits\",IF(E4511=\"\",\"BANK NAME REQUIRED\",IF(ISERROR(VLOOKUP(E4511,'Reference Data'!C:C,1,FALSE)),\"PLEASE SELECT A BANK FROM DEFINED LIST PROVIDED\",\"\")),\"\")","v":""},"No Entry",0]
[null,null,null,null,null,null,null,null,null,null,null,null,"",{"$f":"IF(D4512=\"Cash and Deposits\",IF(E4512=\"\",\"BANK NAME REQUIRED\",IF(ISERROR(VLOOKUP(E4512,'Reference Data'!C:C,1,FALSE)),\"PLEASE SELECT A BANK FROM DEFINED LIST PROVIDED\",\"\")),\"\")","v":""},"No Entry",0]
[null,null,null,null,null,null,null,null,null,null,null,null,"",{"$f":"IF(D4513=\"Cash and Deposits\",IF(E4513=\"\",\"BANK NAME REQUIRED\",IF(ISERROR(VLOOKUP(E4513,'Reference Data'!C:C,1,FALSE)),\"PLEASE SELECT A BANK FROM DEFINED LIST PROVIDED\",\"\")),\"\")","v":""},"No Entry",0]
[null,null,null,null,null,null,null,null,null,null,null,null,"",{"$f":"IF(D4514=\"Cash and Deposits\",IF(E4514=\"\",\"BANK NAME REQUIRED\",IF(ISERROR(VLOOKUP(E4514,'Reference Data'!C:C,1,FALSE)),\"PLEASE SELECT A BANK FROM DEFINED LIST PROVIDED\",\"\")),\"\")","v":""},"No Entry",0]
[null,null,null,null,null,null,null,null,null,null,null,null,"",{"$f":"IF(D4515=\"Cash and Deposits\",IF(E4515=\"\",\"BANK NAME REQUIRED\",IF(ISERROR(VLOOKUP(E4515,'Reference Data'!C:C,1,FALSE)),\"PLEASE SELECT A BANK FROM DEFINED LIST PROVIDED\",\"\")),\"\")","v":""},"No Entry",0]
[null,null,null,null,null,null,null,null,null,null,null,null,"",{"$f":"IF(D4516=\"Cash and Deposits\",IF(E4516=\"\",\"BANK NAME REQUIRED\",IF(ISERROR(VLOOKUP(E4516,'Reference Data'!C:C,1,FALSE)),\"PLEASE SELECT A BANK FROM DEFINED LIST PROVIDED\",\"\")),\"\")","v":""},"No Entry",0]
[null,null,null,null,null,null,null,null,null,null,null,null,"",{"$f":"IF(D4517=\"Cash and Deposits\",IF(E4517=\"\",\"BANK NAME REQUIRED\",IF(ISERROR(VLOOKUP(E4517,'Reference Data'!C:C,1,FALSE)),\"PLEASE SELECT A BANK FROM DEFINED LIST PROVIDED\",\"\")),\"\")","v":""},"No Entry",0]
[null,null,null,null,null,null,null,null,null,null,null,null,"",{"$f":"IF(D4518=\"Cash and Deposits\",IF(E4518=\"\",\"BANK NAME REQUIRED\",IF(ISERROR(VLOOKUP(E4518,'Reference Data'!C:C,1,FALSE)),\"PLEASE SELECT A BANK FROM DEFINED LIST PROVIDED\",\"\")),\"\")","v":""},"No Entry",0]
[null,null,null,null,null,null,null,null,null,null,null,null,"",{"$f":"IF(D4519=\"Cash and Deposits\",IF(E4519=\"\",\"BANK NAME REQUIRED\",IF(ISERROR(VLOOKUP(E4519,'Reference Data'!C:C,1,FALSE)),\"PLEASE SELECT A BANK FROM DEFINED LIST PROVIDED\",\"\")),\"\")","v":""},"No Entry",0]
[null,null,null,null,null,null,null,null,null,null,null,null,"",{"$f":"IF(D4520=\"Cash and Deposits\",IF(E4520=\"\",\"BANK NAME REQUIRED\",IF(ISERROR(VLOOKUP(E4520,'Reference Data'!C:C,1,FALSE)),\"PLEASE SELECT A BANK FROM DEFINED LIST PROVIDED\",\"\")),\"\")","v":""},"No Entry",0]
[null,null,null,null,null,null,null,null,null,null,null,null,"",{"$f":"IF(D4521=\"Cash and Deposits\",IF(E4521=\"\",\"BANK NAME REQUIRED\",IF(ISERROR(VLOOKUP(E4521,'Reference Data'!C:C,1,FALSE)),\"PLEASE SELECT A BANK FROM DEFINED LIST PROVIDED\",\"\")),\"\")","v":""},"No Entry",0]
[null,null,null,null,null,null,null,null,null,null,null,null,"",{"$f":"IF(D4522=\"Cash and Deposits\",IF(E4522=\"\",\"BANK NAME REQUIRED\",IF(ISERROR(VLOOKUP(E4522,'Reference Data'!C:C,1,FALSE)),\"PLEASE SELECT A BANK FROM DEFINED LIST PROVIDED\",\"\")),\"\")","v":""},"No Entry",0]
[null,null,null,null,null,null,null,null,null,null,null,null,"",{"$f":"IF(D4523=\"Cash and Deposits\",IF(E4523=\"\",\"BANK NAME REQUIRED\",IF(ISERROR(VLOOKUP(E4523,'Reference Data'!C:C,1,FALSE)),\"PLEASE SELECT A BANK FROM DEFINED LIST PROVIDED\",\"\")),\"\")","v":""},"No Entry",0]
[null,null,null,null,null,null,null,null,null,null,null,null,"",{"$f":"IF(D4524=\"Cash and Deposits\",IF(E4524=\"\",\"BANK NAME REQUIRED\",IF(ISERROR(VLOOKUP(E4524,'Reference Data'!C:C,1,FALSE)),\"PLEASE SELECT A BANK FROM DEFINED LIST PROVIDED\",\"\")),\"\")","v":""},"No Entry",0]
[null,null,null,null,null,null,null,null,null,null,null,null,"",{"$f":"IF(D4525=\"Cash and Deposits\",IF(E4525=\"\",\"BANK NAME REQUIRED\",IF(ISERROR(VLOOKUP(E4525,'Reference Data'!C:C,1,FALSE)),\"PLEASE SELECT A BANK FROM DEFINED LIST PROVIDED\",\"\")),\"\")","v":""},"No Entry",0]
[null,null,null,null,null,null,null,null,null,null,null,null,"",{"$f":"IF(D4526=\"Cash and Deposits\",IF(E4526=\"\",\"BANK NAME REQUIRED\",IF(ISERROR(VLOOKUP(E4526,'Reference Data'!C:C,1,FALSE)),\"PLEASE SELECT A BANK FROM DEFINED LIST PROVIDED\",\"\")),\"\")","v":""},"No Entry",0]
[null,null,null,null,null,null,null,null,null,null,null,null,"",{"$f":"IF(D4527=\"Cash and Deposits\",IF(E4527=\"\",\"BANK NAME REQUIRED\",IF(ISERROR(VLOOKUP(E4527,'Reference Data'!C:C,1,FALSE)),\"PLEASE SELECT A BANK FROM DEFINED LIST PROVIDED\",\"\")),\"\")","v":""},"No Entry",0]
[null,null,null,null,null,null,null,null,null,null,null,null,"",{"$f":"IF(D4528=\"Cash and Deposits\",IF(E4528=\"\",\"BANK NAME REQUIRED\",IF(ISERROR(VLOOKUP(E4528,'Reference Data'!C:C,1,FALSE)),\"PLEASE SELECT A BANK FROM DEFINED LIST PROVIDED\",\"\")),\"\")","v":""},"No Entry",0]
[null,null,null,null,null,null,null,null,null,null,null,null,"",{"$f":"IF(D4529=\"Cash and Deposits\",IF(E4529=\"\",\"BANK NAME REQUIRED\",IF(ISERROR(VLOOKUP(E4529,'Reference Data'!C:C,1,FALSE)),\"PLEASE SELECT A BANK FROM DEFINED LIST PROVIDED\",\"\")),\"\")","v":""},"No Entry",0]
[null,null,null,null,null,null,null,null,null,null,null,null,"",{"$f":"IF(D4530=\"Cash and Deposits\",IF(E4530=\"\",\"BANK NAME REQUIRED\",IF(ISERROR(VLOOKUP(E4530,'Reference Data'!C:C,1,FALSE)),\"PLEASE SELECT A BANK FROM DEFINED LIST PROVIDED\",\"\")),\"\")","v":""},"No Entry",0]
[null,null,null,null,null,null,null,null,null,null,null,null,"",{"$f":"IF(D4531=\"Cash and Deposits\",IF(E4531=\"\",\"BANK NAME REQUIRED\",IF(ISERROR(VLOOKUP(E4531,'Reference Data'!C:C,1,FALSE)),\"PLEASE SELECT A BANK FROM DEFINED LIST PROVIDED\",\"\")),\"\")","v":""},"No Entry",0]
[null,null,null,null,null,null,null,null,null,null,null,null,"",{"$f":"IF(D4532=\"Cash and Deposits\",IF(E4532=\"\",\"BANK NAME REQUIRED\",IF(ISERROR(VLOOKUP(E4532,'Reference Data'!C:C,1,FALSE)),\"PLEASE SELECT A BANK FROM DEFINED LIST PROVIDED\",\"\")),\"\")","v":""},"No Entry",0]
[null,null,null,null,null,null,null,null,null,null,null,null,"",{"$f":"IF(D4533=\"Cash and Deposits\",IF(E4533=\"\",\"BANK NAME REQUIRED\",IF(ISERROR(VLOOKUP(E4533,'Reference Data'!C:C,1,FALSE)),\"PLEASE SELECT A BANK FROM DEFINED LIST PROVIDED\",\"\")),\"\")","v":""},"No Entry",0]
[null,null,null,null,null,null,null,null,null,null,null,null,"",{"$f":"IF(D4534=\"Cash and Deposits\",IF(E4534=\"\",\"BANK NAME REQUIRED\",IF(ISERROR(VLOOKUP(E4534,'Reference Data'!C:C,1,FALSE)),\"PLEASE SELECT A BANK FROM DEFINED LIST PROVIDED\",\"\")),\"\")","v":""},"No Entry",0]
[null,null,null,null,null,null,null,null,null,null,null,null,"",{"$f":"IF(D4535=\"Cash and Deposits\",IF(E4535=\"\",\"BANK NAME REQUIRED\",IF(ISERROR(VLOOKUP(E4535,'Reference Data'!C:C,1,FALSE)),\"PLEASE SELECT A BANK FROM DEFINED LIST PROVIDED\",\"\")),\"\")","v":""},"No Entry",0]
[null,null,null,null,null,null,null,null,null,null,null,null,"",{"$f":"IF(D4536=\"Cash and Deposits\",IF(E4536=\"\",\"BANK NAME REQUIRED\",IF(ISERROR(VLOOKUP(E4536,'Reference Data'!C:C,1,FALSE)),\"PLEASE SELECT A BANK FROM DEFINED LIST PROVIDED\",\"\")),\"\")","v":""},"No Entry",0]
[null,null,null,null,null,null,null,null,null,null,null,null,"",{"$f":"IF(D4537=\"Cash and Deposits\",IF(E4537=\"\",\"BANK NAME REQUIRED\",IF(ISERROR(VLOOKUP(E4537,'Reference Data'!C:C,1,FALSE)),\"PLEASE SELECT A BANK FROM DEFINED LIST PROVIDED\",\"\")),\"\")","v":""},"No Entry",0]
[null,null,null,null,null,null,null,null,null,null,null,null,"",{"$f":"IF(D4538=\"Cash and Deposits\",IF(E4538=\"\",\"BANK NAME REQUIRED\",IF(ISERROR(VLOOKUP(E4538,'Reference Data'!C:C,1,FALSE)),\"PLEASE SELECT A BANK FROM DEFINED LIST PROVIDED\",\"\")),\"\")","v":""},"No Entry",0]
[null,null,null,null,null,null,null,null,null,null,null,null,"",{"$f":"IF(D4539=\"Cash and Deposits\",IF(E4539=\"\",\"BANK NAME REQUIRED\",IF(ISERROR(VLOOKUP(E4539,'Reference Data'!C:C,1,FALSE)),\"PLEASE SELECT A BANK FROM DEFINED LIST PROVIDED\",\"\")),\"\")","v":""},"No Entry",0]
[null,null,null,null,null,null,null,null,null,null,null,null,"",{"$f":"IF(D4540=\"Cash and Deposits\",IF(E4540=\"\",\"BANK NAME REQUIRED\",IF(ISERROR(VLOOKUP(E4540,'Reference Data'!C:C,1,FALSE)),\"PLEASE SELECT A BANK FROM DEFINED LIST PROVIDED\",\"\")),\"\")","v":""},"No Entry",0]
[null,null,null,null,null,null,null,null,null,null,null,null,"",{"$f":"IF(D4541=\"Cash and Deposits\",IF(E4541=\"\",\"BANK NAME REQUIRED\",IF(ISERROR(VLOOKUP(E4541,'Reference Data'!C:C,1,FALSE)),\"PLEASE SELECT A BANK FROM DEFINED LIST PROVIDED\",\"\")),\"\")","v":""},"No Entry",0]
[null,null,null,null,null,null,null,null,null,null,null,null,"",{"$f":"IF(D4542=\"Cash and Deposits\",IF(E4542=\"\",\"BANK NAME REQUIRED\",IF(ISERROR(VLOOKUP(E4542,'Reference Data'!C:C,1,FALSE)),\"PLEASE SELECT A BANK FROM DEFINED LIST PROVIDED\",\"\")),\"\")","v":""},"No Entry",0]
[null,null,null,null,null,null,null,null,null,null,null,null,"",{"$f":"IF(D4543=\"Cash and Deposits\",IF(E4543=\"\",\"BANK NAME REQUIRED\",IF(ISERROR(VLOOKUP(E4543,'Reference Data'!C:C,1,FALSE)),\"PLEASE SELECT A BANK FROM DEFINED LIST PROVIDED\",\"\")),\"\")","v":""},"No Entry",0]
[null,null,null,null,null,null,null,null,null,null,null,null,"",{"$f":"IF(D4544=\"Cash and Deposits\",IF(E4544=\"\",\"BANK NAME REQUIRED\",IF(ISERROR(VLOOKUP(E4544,'Reference Data'!C:C,1,FALSE)),\"PLEASE SELECT A BANK FROM DEFINED LIST PROVIDED\",\"\")),\"\")","v":""},"No Entry",0]
[null,null,null,null,null,null,null,null,null,null,null,null,"",{"$f":"IF(D4545=\"Cash and Deposits\",IF(E4545=\"\",\"BANK NAME REQUIRED\",IF(ISERROR(VLOOKUP(E4545,'Reference Data'!C:C,1,FALSE)),\"PLEASE SELECT A BANK FROM DEFINED LIST PROVIDED\",\"\")),\"\")","v":""},"No Entry",0]
[null,null,null,null,null,null,null,null,null,null,null,null,"",{"$f":"IF(D4546=\"Cash and Deposits\",IF(E4546=\"\",\"BANK NAME REQUIRED\",IF(ISERROR(VLOOKUP(E4546,'Reference Data'!C:C,1,FALSE)),\"PLEASE SELECT A BANK FROM DEFINED LIST PROVIDED\",\"\")),\"\")","v":""},"No Entry",0]
[null,null,null,null,null,null,null,null,null,null,null,null,"",{"$f":"IF(D4547=\"Cash and Deposits\",IF(E4547=\"\",\"BANK NAME REQUIRED\",IF(ISERROR(VLOOKUP(E4547,'Reference Data'!C:C,1,FALSE)),\"PLEASE SELECT A BANK FROM DEFINED LIST PROVIDED\",\"\")),\"\")","v":""},"No Entry",0]
[null,null,null,null,null,null,null,null,null,null,null,null,"",{"$f":"IF(D4548=\"Cash and Deposits\",IF(E4548=\"\",\"BANK NAME REQUIRED\",IF(ISERROR(VLOOKUP(E4548,'Reference Data'!C:C,1,FALSE)),\"PLEASE SELECT A BANK FROM DEFINED LIST PROVIDED\",\"\")),\"\")","v":""},"No Entry",0]
[null,null,null,null,null,null,null,null,null,null,null,null,{"$f":"IF(K4549<>0,IF(B4549=\"\",\"ID CODE REQUIRED\",\"\"),\"\")","v":""},{"$f":"IF(D4549=\"Cash and Deposits\",IF(E4549=\"\",\"BANK NAME REQUIRED\",IF(ISERROR(VLOOKUP(E4549,'Reference Data'!C:C,1,FALSE)),\"PLEASE SELECT A BANK FROM DEFINED LIST PROVIDED\",\"\")),\"\")","v":""},{"$f":"IF(K4549=0,\"No Entry\",\"\")","v":"No Entry"},{"$f":"IF(K4549<>0,IF(A4549=\"\",1,0),0)","v":0}]
[null,null,null,null,null,null,null,null,null,null,null,null,"",{"$f":"IF(D4550=\"Cash and Deposits\",IF(E4550=\"\",\"BANK NAME REQUIRED\",IF(ISERROR(VLOOKUP(E4550,'Reference Data'!C:C,1,FALSE)),\"PLEASE SELECT A BANK FROM DEFINED LIST PROVIDED\",\"\")),\"\")","v":""},"No Entry",0]
[null,null,null,null,null,null,null,null,null,null,null,null,"",{"$f":"IF(D4551=\"Cash and Deposits\",IF(E4551=\"\",\"BANK NAME REQUIRED\",IF(ISERROR(VLOOKUP(E4551,'Reference Data'!C:C,1,FALSE)),\"PLEASE SELECT A BANK FROM DEFINED LIST PROVIDED\",\"\")),\"\")","v":""},"No Entry",0]
[null,null,null,null,null,null,null,null,null,null,null,null,"",{"$f":"IF(D4552=\"Cash and Deposits\",IF(E4552=\"\",\"BANK NAME REQUIRED\",IF(ISERROR(VLOOKUP(E4552,'Reference Data'!C:C,1,FALSE)),\"PLEASE SELECT A BANK FROM DEFINED LIST PROVIDED\",\"\")),\"\")","v":""},"No Entry",0]
[null,null,null,null,null,null,null,null,null,null,null,null,"",{"$f":"IF(D4553=\"Cash and Deposits\",IF(E4553=\"\",\"BANK NAME REQUIRED\",IF(ISERROR(VLOOKUP(E4553,'Reference Data'!C:C,1,FALSE)),\"PLEASE SELECT A BANK FROM DEFINED LIST PROVIDED\",\"\")),\"\")","v":""},"No Entry",0]
[null,null,null,null,null,null,null,null,null,null,null,null,"",{"$f":"IF(D4554=\"Cash and Deposits\",IF(E4554=\"\",\"BANK NAME REQUIRED\",IF(ISERROR(VLOOKUP(E4554,'Reference Data'!C:C,1,FALSE)),\"PLEASE SELECT A BANK FROM DEFINED LIST PROVIDED\",\"\")),\"\")","v":""},"No Entry",0]
[null,null,null,null,null,null,null,null,null,null,null,null,"",{"$f":"IF(D4555=\"Cash and Deposits\",IF(E4555=\"\",\"BANK NAME REQUIRED\",IF(ISERROR(VLOOKUP(E4555,'Reference Data'!C:C,1,FALSE)),\"PLEASE SELECT A BANK FROM DEFINED LIST PROVIDED\",\"\")),\"\")","v":""},"No Entry",0]
[null,null,null,null,null,null,null,null,null,null,null,null,"",{"$f":"IF(D4556=\"Cash and Deposits\",IF(E4556=\"\",\"BANK NAME REQUIRED\",IF(ISERROR(VLOOKUP(E4556,'Reference Data'!C:C,1,FALSE)),\"PLEASE SELECT A BANK FROM DEFINED LIST PROVIDED\",\"\")),\"\")","v":""},"No Entry",0]
[null,null,null,null,null,null,null,null,null,null,null,null,"",{"$f":"IF(D4557=\"Cash and Deposits\",IF(E4557=\"\",\"BANK NAME REQUIRED\",IF(ISERROR(VLOOKUP(E4557,'Reference Data'!C:C,1,FALSE)),\"PLEASE SELECT A BANK FROM DEFINED LIST PROVIDED\",\"\")),\"\")","v":""},"No Entry",0]
[null,null,null,null,null,null,null,null,null,null,null,null,"",{"$f":"IF(D4558=\"Cash and Deposits\",IF(E4558=\"\",\"BANK NAME REQUIRED\",IF(ISERROR(VLOOKUP(E4558,'Reference Data'!C:C,1,FALSE)),\"PLEASE SELECT A BANK FROM DEFINED LIST PROVIDED\",\"\")),\"\")","v":""},"No Entry",0]
[null,null,null,null,null,null,null,null,null,null,null,null,"",{"$f":"IF(D4559=\"Cash and Deposits\",IF(E4559=\"\",\"BANK NAME REQUIRED\",IF(ISERROR(VLOOKUP(E4559,'Reference Data'!C:C,1,FALSE)),\"PLEASE SELECT A BANK FROM DEFINED LIST PROVIDED\",\"\")),\"\")","v":""},"No Entry",0]
[null,null,null,null,null,null,null,null,null,null,null,null,"",{"$f":"IF(D4560=\"Cash and Deposits\",IF(E4560=\"\",\"BANK NAME REQUIRED\",IF(ISERROR(VLOOKUP(E4560,'Reference Data'!C:C,1,FALSE)),\"PLEASE SELECT A BANK FROM DEFINED LIST PROVIDED\",\"\")),\"\")","v":""},"No Entry",0]
[null,null,null,null,null,null,null,null,null,null,null,null,"",{"$f":"IF(D4561=\"Cash and Deposits\",IF(E4561=\"\",\"BANK NAME REQUIRED\",IF(ISERROR(VLOOKUP(E4561,'Reference Data'!C:C,1,FALSE)),\"PLEASE SELECT A BANK FROM DEFINED LIST PROVIDED\",\"\")),\"\")","v":""},"No Entry",0]
[null,null,null,null,null,null,null,null,null,null,null,null,"",{"$f":"IF(D4562=\"Cash and Deposits\",IF(E4562=\"\",\"BANK NAME REQUIRED\",IF(ISERROR(VLOOKUP(E4562,'Reference Data'!C:C,1,FALSE)),\"PLEASE SELECT A BANK FROM DEFINED LIST PROVIDED\",\"\")),\"\")","v":""},"No Entry",0]
[null,null,null,null,null,null,null,null,null,null,null,null,"",{"$f":"IF(D4563=\"Cash and Deposits\",IF(E4563=\"\",\"BANK NAME REQUIRED\",IF(ISERROR(VLOOKUP(E4563,'Reference Data'!C:C,1,FALSE)),\"PLEASE SELECT A BANK FROM DEFINED LIST PROVIDED\",\"\")),\"\")","v":""},"No Entry",0]
[null,null,null,null,null,null,null,null,null,null,null,null,"",{"$f":"IF(D4564=\"Cash and Deposits\",IF(E4564=\"\",\"BANK NAME REQUIRED\",IF(ISERROR(VLOOKUP(E4564,'Reference Data'!C:C,1,FALSE)),\"PLEASE SELECT A BANK FROM DEFINED LIST PROVIDED\",\"\")),\"\")","v":""},"No Entry",0]
[null,null,null,null,null,null,null,null,null,null,null,null,"",{"$f":"IF(D4565=\"Cash and Deposits\",IF(E4565=\"\",\"BANK NAME REQUIRED\",IF(ISERROR(VLOOKUP(E4565,'Reference Data'!C:C,1,FALSE)),\"PLEASE SELECT A BANK FROM DEFINED LIST PROVIDED\",\"\")),\"\")","v":""},"No Entry",0]
[null,null,null,null,null,null,null,null,null,null,null,null,"",{"$f":"IF(D4566=\"Cash and Deposits\",IF(E4566=\"\",\"BANK NAME REQUIRED\",IF(ISERROR(VLOOKUP(E4566,'Reference Data'!C:C,1,FALSE)),\"PLEASE SELECT A BANK FROM DEFINED LIST PROVIDED\",\"\")),\"\")","v":""},"No Entry",0]
[null,null,null,null,null,null,null,null,null,null,null,null,"",{"$f":"IF(D4567=\"Cash and Deposits\",IF(E4567=\"\",\"BANK NAME REQUIRED\",IF(ISERROR(VLOOKUP(E4567,'Reference Data'!C:C,1,FALSE)),\"PLEASE SELECT A BANK FROM DEFINED LIST PROVIDED\",\"\")),\"\")","v":""},"No Entry",0]
[null,null,null,null,null,null,null,null,null,null,null,null,"",{"$f":"IF(D4568=\"Cash and Deposits\",IF(E4568=\"\",\"BANK NAME REQUIRED\",IF(ISERROR(VLOOKUP(E4568,'Reference Data'!C:C,1,FALSE)),\"PLEASE SELECT A BANK FROM DEFINED LIST PROVIDED\",\"\")),\"\")","v":""},"No Entry",0]
[null,null,null,null,null,null,null,null,null,null,null,null,"",{"$f":"IF(D4569=\"Cash and Deposits\",IF(E4569=\"\",\"BANK NAME REQUIRED\",IF(ISERROR(VLOOKUP(E4569,'Reference Data'!C:C,1,FALSE)),\"PLEASE SELECT A BANK FROM DEFINED LIST PROVIDED\",\"\")),\"\")","v":""},"No Entry",0]
[null,null,null,null,null,null,null,null,null,null,null,null,"",{"$f":"IF(D4570=\"Cash and Deposits\",IF(E4570=\"\",\"BANK NAME REQUIRED\",IF(ISERROR(VLOOKUP(E4570,'Reference Data'!C:C,1,FALSE)),\"PLEASE SELECT A BANK FROM DEFINED LIST PROVIDED\",\"\")),\"\")","v":""},"No Entry",0]
[null,null,null,null,null,null,null,null,null,null,null,null,"",{"$f":"IF(D4571=\"Cash and Deposits\",IF(E4571=\"\",\"BANK NAME REQUIRED\",IF(ISERROR(VLOOKUP(E4571,'Reference Data'!C:C,1,FALSE)),\"PLEASE SELECT A BANK FROM DEFINED LIST PROVIDED\",\"\")),\"\")","v":""},"No Entry",0]
[null,null,null,null,null,null,null,null,null,null,null,null,"",{"$f":"IF(D4572=\"Cash and Deposits\",IF(E4572=\"\",\"BANK NAME REQUIRED\",IF(ISERROR(VLOOKUP(E4572,'Reference Data'!C:C,1,FALSE)),\"PLEASE SELECT A BANK FROM DEFINED LIST PROVIDED\",\"\")),\"\")","v":""},"No Entry",0]
[null,null,null,null,null,null,null,null,null,null,null,null,"",{"$f":"IF(D4573=\"Cash and Deposits\",IF(E4573=\"\",\"BANK NAME REQUIRED\",IF(ISERROR(VLOOKUP(E4573,'Reference Data'!C:C,1,FALSE)),\"PLEASE SELECT A BANK FROM DEFINED LIST PROVIDED\",\"\")),\"\")","v":""},"No Entry",0]
[null,null,null,null,null,null,null,null,null,null,null,null,"",{"$f":"IF(D4574=\"Cash and Deposits\",IF(E4574=\"\",\"BANK NAME REQUIRED\",IF(ISERROR(VLOOKUP(E4574,'Reference Data'!C:C,1,FALSE)),\"PLEASE SELECT A BANK FROM DEFINED LIST PROVIDED\",\"\")),\"\")","v":""},"No Entry",0]
[null,null,null,null,null,null,null,null,null,null,null,null,"",{"$f":"IF(D4575=\"Cash and Deposits\",IF(E4575=\"\",\"BANK NAME REQUIRED\",IF(ISERROR(VLOOKUP(E4575,'Reference Data'!C:C,1,FALSE)),\"PLEASE SELECT A BANK FROM DEFINED LIST PROVIDED\",\"\")),\"\")","v":""},"No Entry",0]
[null,null,null,null,null,null,null,null,null,null,null,null,"",{"$f":"IF(D4576=\"Cash and Deposits\",IF(E4576=\"\",\"BANK NAME REQUIRED\",IF(ISERROR(VLOOKUP(E4576,'Reference Data'!C:C,1,FALSE)),\"PLEASE SELECT A BANK FROM DEFINED LIST PROVIDED\",\"\")),\"\")","v":""},"No Entry",0]
[null,null,null,null,null,null,null,null,null,null,null,null,"",{"$f":"IF(D4577=\"Cash and Deposits\",IF(E4577=\"\",\"BANK NAME REQUIRED\",IF(ISERROR(VLOOKUP(E4577,'Reference Data'!C:C,1,FALSE)),\"PLEASE SELECT A BANK FROM DEFINED LIST PROVIDED\",\"\")),\"\")","v":""},"No Entry",0]
[null,null,null,null,null,null,null,null,null,null,null,null,"",{"$f":"IF(D4578=\"Cash and Deposits\",IF(E4578=\"\",\"BANK NAME REQUIRED\",IF(ISERROR(VLOOKUP(E4578,'Reference Data'!C:C,1,FALSE)),\"PLEASE SELECT A BANK FROM DEFINED LIST PROVIDED\",\"\")),\"\")","v":""},"No Entry",0]
[null,null,null,null,null,null,null,null,null,null,null,null,"",{"$f":"IF(D4579=\"Cash and Deposits\",IF(E4579=\"\",\"BANK NAME REQUIRED\",IF(ISERROR(VLOOKUP(E4579,'Reference Data'!C:C,1,FALSE)),\"PLEASE SELECT A BANK FROM DEFINED LIST PROVIDED\",\"\")),\"\")","v":""},"No Entry",0]
[null,null,null,null,null,null,null,null,null,null,null,null,"",{"$f":"IF(D4580=\"Cash and Deposits\",IF(E4580=\"\",\"BANK NAME REQUIRED\",IF(ISERROR(VLOOKUP(E4580,'Reference Data'!C:C,1,FALSE)),\"PLEASE SELECT A BANK FROM DEFINED LIST PROVIDED\",\"\")),\"\")","v":""},"No Entry",0]
[null,null,null,null,null,null,null,null,null,null,null,null,"",{"$f":"IF(D4581=\"Cash and Deposits\",IF(E4581=\"\",\"BANK NAME REQUIRED\",IF(ISERROR(VLOOKUP(E4581,'Reference Data'!C:C,1,FALSE)),\"PLEASE SELECT A BANK FROM DEFINED LIST PROVIDED\",\"\")),\"\")","v":""},"No Entry",0]
[null,null,null,null,null,null,null,null,null,null,null,null,"",{"$f":"IF(D4582=\"Cash and Deposits\",IF(E4582=\"\",\"BANK NAME REQUIRED\",IF(ISERROR(VLOOKUP(E4582,'Reference Data'!C:C,1,FALSE)),\"PLEASE SELECT A BANK FROM DEFINED LIST PROVIDED\",\"\")),\"\")","v":""},"No Entry",0]
[null,null,null,null,null,null,null,null,null,null,null,null,"",{"$f":"IF(D4583=\"Cash and Deposits\",IF(E4583=\"\",\"BANK NAME REQUIRED\",IF(ISERROR(VLOOKUP(E4583,'Reference Data'!C:C,1,FALSE)),\"PLEASE SELECT A BANK FROM DEFINED LIST PROVIDED\",\"\")),\"\")","v":""},"No Entry",0]
[null,null,null,null,null,null,null,null,null,null,null,null,"",{"$f":"IF(D4584=\"Cash and Deposits\",IF(E4584=\"\",\"BANK NAME REQUIRED\",IF(ISERROR(VLOOKUP(E4584,'Reference Data'!C:C,1,FALSE)),\"PLEASE SELECT A BANK FROM DEFINED LIST PROVIDED\",\"\")),\"\")","v":""},"No Entry",0]
[null,null,null,null,null,null,null,null,null,null,null,null,"",{"$f":"IF(D4585=\"Cash and Deposits\",IF(E4585=\"\",\"BANK NAME REQUIRED\",IF(ISERROR(VLOOKUP(E4585,'Reference Data'!C:C,1,FALSE)),\"PLEASE SELECT A BANK FROM DEFINED LIST PROVIDED\",\"\")),\"\")","v":""},"No Entry",0]
[null,null,null,null,null,null,null,null,null,null,null,null,"",{"$f":"IF(D4586=\"Cash and Deposits\",IF(E4586=\"\",\"BANK NAME REQUIRED\",IF(ISERROR(VLOOKUP(E4586,'Reference Data'!C:C,1,FALSE)),\"PLEASE SELECT A BANK FROM DEFINED LIST PROVIDED\",\"\")),\"\")","v":""},"No Entry",0]
[null,null,null,null,null,null,null,null,null,null,null,null,"",{"$f":"IF(D4587=\"Cash and Deposits\",IF(E4587=\"\",\"BANK NAME REQUIRED\",IF(ISERROR(VLOOKUP(E4587,'Reference Data'!C:C,1,FALSE)),\"PLEASE SELECT A BANK FROM DEFINED LIST PROVIDED\",\"\")),\"\")","v":""},"No Entry",0]
[null,null,null,null,null,null,null,null,null,null,null,null,"",{"$f":"IF(D4588=\"Cash and Deposits\",IF(E4588=\"\",\"BANK NAME REQUIRED\",IF(ISERROR(VLOOKUP(E4588,'Reference Data'!C:C,1,FALSE)),\"PLEASE SELECT A BANK FROM DEFINED LIST PROVIDED\",\"\")),\"\")","v":""},"No Entry",0]
[null,null,null,null,null,null,null,null,null,null,null,null,"",{"$f":"IF(D4589=\"Cash and Deposits\",IF(E4589=\"\",\"BANK NAME REQUIRED\",IF(ISERROR(VLOOKUP(E4589,'Reference Data'!C:C,1,FALSE)),\"PLEASE SELECT A BANK FROM DEFINED LIST PROVIDED\",\"\")),\"\")","v":""},"No Entry",0]
[null,null,null,null,null,null,null,null,null,null,null,null,"",{"$f":"IF(D4590=\"Cash and Deposits\",IF(E4590=\"\",\"BANK NAME REQUIRED\",IF(ISERROR(VLOOKUP(E4590,'Reference Data'!C:C,1,FALSE)),\"PLEASE SELECT A BANK FROM DEFINED LIST PROVIDED\",\"\")),\"\")","v":""},"No Entry",0]
[null,null,null,null,null,null,null,null,null,null,null,null,"",{"$f":"IF(D4591=\"Cash and Deposits\",IF(E4591=\"\",\"BANK NAME REQUIRED\",IF(ISERROR(VLOOKUP(E4591,'Reference Data'!C:C,1,FALSE)),\"PLEASE SELECT A BANK FROM DEFINED LIST PROVIDED\",\"\")),\"\")","v":""},"No Entry",0]
[null,null,null,null,null,null,null,null,null,null,null,null,"",{"$f":"IF(D4592=\"Cash and Deposits\",IF(E4592=\"\",\"BANK NAME REQUIRED\",IF(ISERROR(VLOOKUP(E4592,'Reference Data'!C:C,1,FALSE)),\"PLEASE SELECT A BANK FROM DEFINED LIST PROVIDED\",\"\")),\"\")","v":""},"No Entry",0]
[null,null,null,null,null,null,null,null,null,null,null,null,"",{"$f":"IF(D4593=\"Cash and Deposits\",IF(E4593=\"\",\"BANK NAME REQUIRED\",IF(ISERROR(VLOOKUP(E4593,'Reference Data'!C:C,1,FALSE)),\"PLEASE SELECT A BANK FROM DEFINED LIST PROVIDED\",\"\")),\"\")","v":""},"No Entry",0]
[null,null,null,null,null,null,null,null,null,null,null,null,"",{"$f":"IF(D4594=\"Cash and Deposits\",IF(E4594=\"\",\"BANK NAME REQUIRED\",IF(ISERROR(VLOOKUP(E4594,'Reference Data'!C:C,1,FALSE)),\"PLEASE SELECT A BANK FROM DEFINED LIST PROVIDED\",\"\")),\"\")","v":""},"No Entry",0]
[null,null,null,null,null,null,null,null,null,null,null,null,"",{"$f":"IF(D4595=\"Cash and Deposits\",IF(E4595=\"\",\"BANK NAME REQUIRED\",IF(ISERROR(VLOOKUP(E4595,'Reference Data'!C:C,1,FALSE)),\"PLEASE SELECT A BANK FROM DEFINED LIST PROVIDED\",\"\")),\"\")","v":""},"No Entry",0]
[null,null,null,null,null,null,null,null,null,null,null,null,"",{"$f":"IF(D4596=\"Cash and Deposits\",IF(E4596=\"\",\"BANK NAME REQUIRED\",IF(ISERROR(VLOOKUP(E4596,'Reference Data'!C:C,1,FALSE)),\"PLEASE SELECT A BANK FROM DEFINED LIST PROVIDED\",\"\")),\"\")","v":""},"No Entry",0]
[null,null,null,null,null,null,null,null,null,null,null,null,"",{"$f":"IF(D4597=\"Cash and Deposits\",IF(E4597=\"\",\"BANK NAME REQUIRED\",IF(ISERROR(VLOOKUP(E4597,'Reference Data'!C:C,1,FALSE)),\"PLEASE SELECT A BANK FROM DEFINED LIST PROVIDED\",\"\")),\"\")","v":""},"No Entry",0]
[null,null,null,null,null,null,null,null,null,null,null,null,"",{"$f":"IF(D4598=\"Cash and Deposits\",IF(E4598=\"\",\"BANK NAME REQUIRED\",IF(ISERROR(VLOOKUP(E4598,'Reference Data'!C:C,1,FALSE)),\"PLEASE SELECT A BANK FROM DEFINED LIST PROVIDED\",\"\")),\"\")","v":""},"No Entry",0]
[null,null,null,null,null,null,null,null,null,null,null,null,"",{"$f":"IF(D4599=\"Cash and Deposits\",IF(E4599=\"\",\"BANK NAME REQUIRED\",IF(ISERROR(VLOOKUP(E4599,'Reference Data'!C:C,1,FALSE)),\"PLEASE SELECT A BANK FROM DEFINED LIST PROVIDED\",\"\")),\"\")","v":""},"No Entry",0]
[null,null,null,null,null,null,null,null,null,null,null,null,"",{"$f":"IF(D4600=\"Cash and Deposits\",IF(E4600=\"\",\"BANK NAME REQUIRED\",IF(ISERROR(VLOOKUP(E4600,'Reference Data'!C:C,1,FALSE)),\"PLEASE SELECT A BANK FROM DEFINED LIST PROVIDED\",\"\")),\"\")","v":""},"No Entry",0]
[null,null,null,null,null,null,null,null,null,null,null,null,"",{"$f":"IF(D4601=\"Cash and Deposits\",IF(E4601=\"\",\"BANK NAME REQUIRED\",IF(ISERROR(VLOOKUP(E4601,'Reference Data'!C:C,1,FALSE)),\"PLEASE SELECT A BANK FROM DEFINED LIST PROVIDED\",\"\")),\"\")","v":""},"No Entry",0]
[null,null,null,null,null,null,null,null,null,null,null,null,"",{"$f":"IF(D4602=\"Cash and Deposits\",IF(E4602=\"\",\"BANK NAME REQUIRED\",IF(ISERROR(VLOOKUP(E4602,'Reference Data'!C:C,1,FALSE)),\"PLEASE SELECT A BANK FROM DEFINED LIST PROVIDED\",\"\")),\"\")","v":""},"No Entry",0]
[null,null,null,null,null,null,null,null,null,null,null,null,"",{"$f":"IF(D4603=\"Cash and Deposits\",IF(E4603=\"\",\"BANK NAME REQUIRED\",IF(ISERROR(VLOOKUP(E4603,'Reference Data'!C:C,1,FALSE)),\"PLEASE SELECT A BANK FROM DEFINED LIST PROVIDED\",\"\")),\"\")","v":""},"No Entry",0]
[null,null,null,null,null,null,null,null,null,null,null,null,"",{"$f":"IF(D4604=\"Cash and Deposits\",IF(E4604=\"\",\"BANK NAME REQUIRED\",IF(ISERROR(VLOOKUP(E4604,'Reference Data'!C:C,1,FALSE)),\"PLEASE SELECT A BANK FROM DEFINED LIST PROVIDED\",\"\")),\"\")","v":""},"No Entry",0]
[null,null,null,null,null,null,null,null,null,null,null,null,"",{"$f":"IF(D4605=\"Cash and Deposits\",IF(E4605=\"\",\"BANK NAME REQUIRED\",IF(ISERROR(VLOOKUP(E4605,'Reference Data'!C:C,1,FALSE)),\"PLEASE SELECT A BANK FROM DEFINED LIST PROVIDED\",\"\")),\"\")","v":""},"No Entry",0]
[null,null,null,null,null,null,null,null,null,null,null,null,"",{"$f":"IF(D4606=\"Cash and Deposits\",IF(E4606=\"\",\"BANK NAME REQUIRED\",IF(ISERROR(VLOOKUP(E4606,'Reference Data'!C:C,1,FALSE)),\"PLEASE SELECT A BANK FROM DEFINED LIST PROVIDED\",\"\")),\"\")","v":""},"No Entry",0]
[null,null,null,null,null,null,null,null,null,null,null,null,"",{"$f":"IF(D4607=\"Cash and Deposits\",IF(E4607=\"\",\"BANK NAME REQUIRED\",IF(ISERROR(VLOOKUP(E4607,'Reference Data'!C:C,1,FALSE)),\"PLEASE SELECT A BANK FROM DEFINED LIST PROVIDED\",\"\")),\"\")","v":""},"No Entry",0]
[null,null,null,null,null,null,null,null,null,null,null,null,"",{"$f":"IF(D4608=\"Cash and Deposits\",IF(E4608=\"\",\"BANK NAME REQUIRED\",IF(ISERROR(VLOOKUP(E4608,'Reference Data'!C:C,1,FALSE)),\"PLEASE SELECT A BANK FROM DEFINED LIST PROVIDED\",\"\")),\"\")","v":""},"No Entry",0]
[null,null,null,null,null,null,null,null,null,null,null,null,"",{"$f":"IF(D4609=\"Cash and Deposits\",IF(E4609=\"\",\"BANK NAME REQUIRED\",IF(ISERROR(VLOOKUP(E4609,'Reference Data'!C:C,1,FALSE)),\"PLEASE SELECT A BANK FROM DEFINED LIST PROVIDED\",\"\")),\"\")","v":""},"No Entry",0]
[null,null,null,null,null,null,null,null,null,null,null,null,"",{"$f":"IF(D4610=\"Cash and Deposits\",IF(E4610=\"\",\"BANK NAME REQUIRED\",IF(ISERROR(VLOOKUP(E4610,'Reference Data'!C:C,1,FALSE)),\"PLEASE SELECT A BANK FROM DEFINED LIST PROVIDED\",\"\")),\"\")","v":""},"No Entry",0]
[null,null,null,null,null,null,null,null,null,null,null,null,"",{"$f":"IF(D4611=\"Cash and Deposits\",IF(E4611=\"\",\"BANK NAME REQUIRED\",IF(ISERROR(VLOOKUP(E4611,'Reference Data'!C:C,1,FALSE)),\"PLEASE SELECT A BANK FROM DEFINED LIST PROVIDED\",\"\")),\"\")","v":""},"No Entry",0]
[null,null,null,null,null,null,null,null,null,null,null,null,"",{"$f":"IF(D4612=\"Cash and Deposits\",IF(E4612=\"\",\"BANK NAME REQUIRED\",IF(ISERROR(VLOOKUP(E4612,'Reference Data'!C:C,1,FALSE)),\"PLEASE SELECT A BANK FROM DEFINED LIST PROVIDED\",\"\")),\"\")","v":""},"No Entry",0]
[null,null,null,null,null,null,null,null,null,null,null,null,{"$f":"IF(K4613<>0,IF(B4613=\"\",\"ID CODE REQUIRED\",\"\"),\"\")","v":""},{"$f":"IF(D4613=\"Cash and Deposits\",IF(E4613=\"\",\"BANK NAME REQUIRED\",IF(ISERROR(VLOOKUP(E4613,'Reference Data'!C:C,1,FALSE)),\"PLEASE SELECT A BANK FROM DEFINED LIST PROVIDED\",\"\")),\"\")","v":""},{"$f":"IF(K4613=0,\"No Entry\",\"\")","v":"No Entry"},{"$f":"IF(K4613<>0,IF(A4613=\"\",1,0),0)","v":0}]
[null,null,null,null,null,null,null,null,null,null,null,null,"",{"$f":"IF(D4614=\"Cash and Deposits\",IF(E4614=\"\",\"BANK NAME REQUIRED\",IF(ISERROR(VLOOKUP(E4614,'Reference Data'!C:C,1,FALSE)),\"PLEASE SELECT A BANK FROM DEFINED LIST PROVIDED\",\"\")),\"\")","v":""},"No Entry",0]
[null,null,null,null,null,null,null,null,null,null,null,null,"",{"$f":"IF(D4615=\"Cash and Deposits\",IF(E4615=\"\",\"BANK NAME REQUIRED\",IF(ISERROR(VLOOKUP(E4615,'Reference Data'!C:C,1,FALSE)),\"PLEASE SELECT A BANK FROM DEFINED LIST PROVIDED\",\"\")),\"\")","v":""},"No Entry",0]
[null,null,null,null,null,null,null,null,null,null,null,null,"",{"$f":"IF(D4616=\"Cash and Deposits\",IF(E4616=\"\",\"BANK NAME REQUIRED\",IF(ISERROR(VLOOKUP(E4616,'Reference Data'!C:C,1,FALSE)),\"PLEASE SELECT A BANK FROM DEFINED LIST PROVIDED\",\"\")),\"\")","v":""},"No Entry",0]
[null,null,null,null,null,null,null,null,null,null,null,null,"",{"$f":"IF(D4617=\"Cash and Deposits\",IF(E4617=\"\",\"BANK NAME REQUIRED\",IF(ISERROR(VLOOKUP(E4617,'Reference Data'!C:C,1,FALSE)),\"PLEASE SELECT A BANK FROM DEFINED LIST PROVIDED\",\"\")),\"\")","v":""},"No Entry",0]
[null,null,null,null,null,null,null,null,null,null,null,null,"",{"$f":"IF(D4618=\"Cash and Deposits\",IF(E4618=\"\",\"BANK NAME REQUIRED\",IF(ISERROR(VLOOKUP(E4618,'Reference Data'!C:C,1,FALSE)),\"PLEASE SELECT A BANK FROM DEFINED LIST PROVIDED\",\"\")),\"\")","v":""},"No Entry",0]
[null,null,null,null,null,null,null,null,null,null,null,null,"",{"$f":"IF(D4619=\"Cash and Deposits\",IF(E4619=\"\",\"BANK NAME REQUIRED\",IF(ISERROR(VLOOKUP(E4619,'Reference Data'!C:C,1,FALSE)),\"PLEASE SELECT A BANK FROM DEFINED LIST PROVIDED\",\"\")),\"\")","v":""},"No Entry",0]
[null,null,null,null,null,null,null,null,null,null,null,null,"",{"$f":"IF(D4620=\"Cash and Deposits\",IF(E4620=\"\",\"BANK NAME REQUIRED\",IF(ISERROR(VLOOKUP(E4620,'Reference Data'!C:C,1,FALSE)),\"PLEASE SELECT A BANK FROM DEFINED LIST PROVIDED\",\"\")),\"\")","v":""},"No Entry",0]
[null,null,null,null,null,null,null,null,null,null,null,null,"",{"$f":"IF(D4621=\"Cash and Deposits\",IF(E4621=\"\",\"BANK NAME REQUIRED\",IF(ISERROR(VLOOKUP(E4621,'Reference Data'!C:C,1,FALSE)),\"PLEASE SELECT A BANK FROM DEFINED LIST PROVIDED\",\"\")),\"\")","v":""},"No Entry",0]
[null,null,null,null,null,null,null,null,null,null,null,null,"",{"$f":"IF(D4622=\"Cash and Deposits\",IF(E4622=\"\",\"BANK NAME REQUIRED\",IF(ISERROR(VLOOKUP(E4622,'Reference Data'!C:C,1,FALSE)),\"PLEASE SELECT A BANK FROM DEFINED LIST PROVIDED\",\"\")),\"\")","v":""},"No Entry",0]
[null,null,null,null,null,null,null,null,null,null,null,null,"",{"$f":"IF(D4623=\"Cash and Deposits\",IF(E4623=\"\",\"BANK NAME REQUIRED\",IF(ISERROR(VLOOKUP(E4623,'Reference Data'!C:C,1,FALSE)),\"PLEASE SELECT A BANK FROM DEFINED LIST PROVIDED\",\"\")),\"\")","v":""},"No Entry",0]
[null,null,null,null,null,null,null,null,null,null,null,null,"",{"$f":"IF(D4624=\"Cash and Deposits\",IF(E4624=\"\",\"BANK NAME REQUIRED\",IF(ISERROR(VLOOKUP(E4624,'Reference Data'!C:C,1,FALSE)),\"PLEASE SELECT A BANK FROM DEFINED LIST PROVIDED\",\"\")),\"\")","v":""},"No Entry",0]
[null,null,null,null,null,null,null,null,null,null,null,null,"",{"$f":"IF(D4625=\"Cash and Deposits\",IF(E4625=\"\",\"BANK NAME REQUIRED\",IF(ISERROR(VLOOKUP(E4625,'Reference Data'!C:C,1,FALSE)),\"PLEASE SELECT A BANK FROM DEFINED LIST PROVIDED\",\"\")),\"\")","v":""},"No Entry",0]
[null,null,null,null,null,null,null,null,null,null,null,null,"",{"$f":"IF(D4626=\"Cash and Deposits\",IF(E4626=\"\",\"BANK NAME REQUIRED\",IF(ISERROR(VLOOKUP(E4626,'Reference Data'!C:C,1,FALSE)),\"PLEASE SELECT A BANK FROM DEFINED LIST PROVIDED\",\"\")),\"\")","v":""},"No Entry",0]
[null,null,null,null,null,null,null,null,null,null,null,null,"",{"$f":"IF(D4627=\"Cash and Deposits\",IF(E4627=\"\",\"BANK NAME REQUIRED\",IF(ISERROR(VLOOKUP(E4627,'Reference Data'!C:C,1,FALSE)),\"PLEASE SELECT A BANK FROM DEFINED LIST PROVIDED\",\"\")),\"\")","v":""},"No Entry",0]
[null,null,null,null,null,null,null,null,null,null,null,null,"",{"$f":"IF(D4628=\"Cash and Deposits\",IF(E4628=\"\",\"BANK NAME REQUIRED\",IF(ISERROR(VLOOKUP(E4628,'Reference Data'!C:C,1,FALSE)),\"PLEASE SELECT A BANK FROM DEFINED LIST PROVIDED\",\"\")),\"\")","v":""},"No Entry",0]
[null,null,null,null,null,null,null,null,null,null,null,null,"",{"$f":"IF(D4629=\"Cash and Deposits\",IF(E4629=\"\",\"BANK NAME REQUIRED\",IF(ISERROR(VLOOKUP(E4629,'Reference Data'!C:C,1,FALSE)),\"PLEASE SELECT A BANK FROM DEFINED LIST PROVIDED\",\"\")),\"\")","v":""},"No Entry",0]
[null,null,null,null,null,null,null,null,null,null,null,null,"",{"$f":"IF(D4630=\"Cash and Deposits\",IF(E4630=\"\",\"BANK NAME REQUIRED\",IF(ISERROR(VLOOKUP(E4630,'Reference Data'!C:C,1,FALSE)),\"PLEASE SELECT A BANK FROM DEFINED LIST PROVIDED\",\"\")),\"\")","v":""},"No Entry",0]
[null,null,null,null,null,null,null,null,null,null,null,null,"",{"$f":"IF(D4631=\"Cash and Deposits\",IF(E4631=\"\",\"BANK NAME REQUIRED\",IF(ISERROR(VLOOKUP(E4631,'Reference Data'!C:C,1,FALSE)),\"PLEASE SELECT A BANK FROM DEFINED LIST PROVIDED\",\"\")),\"\")","v":""},"No Entry",0]
[null,null,null,null,null,null,null,null,null,null,null,null,"",{"$f":"IF(D4632=\"Cash and Deposits\",IF(E4632=\"\",\"BANK NAME REQUIRED\",IF(ISERROR(VLOOKUP(E4632,'Reference Data'!C:C,1,FALSE)),\"PLEASE SELECT A BANK FROM DEFINED LIST PROVIDED\",\"\")),\"\")","v":""},"No Entry",0]
[null,null,null,null,null,null,null,null,null,null,null,null,"",{"$f":"IF(D4633=\"Cash and Deposits\",IF(E4633=\"\",\"BANK NAME REQUIRED\",IF(ISERROR(VLOOKUP(E4633,'Reference Data'!C:C,1,FALSE)),\"PLEASE SELECT A BANK FROM DEFINED LIST PROVIDED\",\"\")),\"\")","v":""},"No Entry",0]
[null,null,null,null,null,null,null,null,null,null,null,null,"",{"$f":"IF(D4634=\"Cash and Deposits\",IF(E4634=\"\",\"BANK NAME REQUIRED\",IF(ISERROR(VLOOKUP(E4634,'Reference Data'!C:C,1,FALSE)),\"PLEASE SELECT A BANK FROM DEFINED LIST PROVIDED\",\"\")),\"\")","v":""},"No Entry",0]
[null,null,null,null,null,null,null,null,null,null,null,null,"",{"$f":"IF(D4635=\"Cash and Deposits\",IF(E4635=\"\",\"BANK NAME REQUIRED\",IF(ISERROR(VLOOKUP(E4635,'Reference Data'!C:C,1,FALSE)),\"PLEASE SELECT A BANK FROM DEFINED LIST PROVIDED\",\"\")),\"\")","v":""},"No Entry",0]
[null,null,null,null,null,null,null,null,null,null,null,null,"",{"$f":"IF(D4636=\"Cash and Deposits\",IF(E4636=\"\",\"BANK NAME REQUIRED\",IF(ISERROR(VLOOKUP(E4636,'Reference Data'!C:C,1,FALSE)),\"PLEASE SELECT A BANK FROM DEFINED LIST PROVIDED\",\"\")),\"\")","v":""},"No Entry",0]
[null,null,null,null,null,null,null,null,null,null,null,null,"",{"$f":"IF(D4637=\"Cash and Deposits\",IF(E4637=\"\",\"BANK NAME REQUIRED\",IF(ISERROR(VLOOKUP(E4637,'Reference Data'!C:C,1,FALSE)),\"PLEASE SELECT A BANK FROM DEFINED LIST PROVIDED\",\"\")),\"\")","v":""},"No Entry",0]
[null,null,null,null,null,null,null,null,null,null,null,null,"",{"$f":"IF(D4638=\"Cash and Deposits\",IF(E4638=\"\",\"BANK NAME REQUIRED\",IF(ISERROR(VLOOKUP(E4638,'Reference Data'!C:C,1,FALSE)),\"PLEASE SELECT A BANK FROM DEFINED LIST PROVIDED\",\"\")),\"\")","v":""},"No Entry",0]
[null,null,null,null,null,null,null,null,null,null,null,null,"",{"$f":"IF(D4639=\"Cash and Deposits\",IF(E4639=\"\",\"BANK NAME REQUIRED\",IF(ISERROR(VLOOKUP(E4639,'Reference Data'!C:C,1,FALSE)),\"PLEASE SELECT A BANK FROM DEFINED LIST PROVIDED\",\"\")),\"\")","v":""},"No Entry",0]
[null,null,null,null,null,null,null,null,null,null,null,null,"",{"$f":"IF(D4640=\"Cash and Deposits\",IF(E4640=\"\",\"BANK NAME REQUIRED\",IF(ISERROR(VLOOKUP(E4640,'Reference Data'!C:C,1,FALSE)),\"PLEASE SELECT A BANK FROM DEFINED LIST PROVIDED\",\"\")),\"\")","v":""},"No Entry",0]
[null,null,null,null,null,null,null,null,null,null,null,null,"",{"$f":"IF(D4641=\"Cash and Deposits\",IF(E4641=\"\",\"BANK NAME REQUIRED\",IF(ISERROR(VLOOKUP(E4641,'Reference Data'!C:C,1,FALSE)),\"PLEASE SELECT A BANK FROM DEFINED LIST PROVIDED\",\"\")),\"\")","v":""},"No Entry",0]
[null,null,null,null,null,null,null,null,null,null,null,null,"",{"$f":"IF(D4642=\"Cash and Deposits\",IF(E4642=\"\",\"BANK NAME REQUIRED\",IF(ISERROR(VLOOKUP(E4642,'Reference Data'!C:C,1,FALSE)),\"PLEASE SELECT A BANK FROM DEFINED LIST PROVIDED\",\"\")),\"\")","v":""},"No Entry",0]
[null,null,null,null,null,null,null,null,null,null,null,null,"",{"$f":"IF(D4643=\"Cash and Deposits\",IF(E4643=\"\",\"BANK NAME REQUIRED\",IF(ISERROR(VLOOKUP(E4643,'Reference Data'!C:C,1,FALSE)),\"PLEASE SELECT A BANK FROM DEFINED LIST PROVIDED\",\"\")),\"\")","v":""},"No Entry",0]
[null,null,null,null,null,null,null,null,null,null,null,null,"",{"$f":"IF(D4644=\"Cash and Deposits\",IF(E4644=\"\",\"BANK NAME REQUIRED\",IF(ISERROR(VLOOKUP(E4644,'Reference Data'!C:C,1,FALSE)),\"PLEASE SELECT A BANK FROM DEFINED LIST PROVIDED\",\"\")),\"\")","v":""},"No Entry",0]
[null,null,null,null,null,null,null,null,null,null,null,null,"",{"$f":"IF(D4645=\"Cash and Deposits\",IF(E4645=\"\",\"BANK NAME REQUIRED\",IF(ISERROR(VLOOKUP(E4645,'Reference Data'!C:C,1,FALSE)),\"PLEASE SELECT A BANK FROM DEFINED LIST PROVIDED\",\"\")),\"\")","v":""},"No Entry",0]
[null,null,null,null,null,null,null,null,null,null,null,null,"",{"$f":"IF(D4646=\"Cash and Deposits\",IF(E4646=\"\",\"BANK NAME REQUIRED\",IF(ISERROR(VLOOKUP(E4646,'Reference Data'!C:C,1,FALSE)),\"PLEASE SELECT A BANK FROM DEFINED LIST PROVIDED\",\"\")),\"\")","v":""},"No Entry",0]
[null,null,null,null,null,null,null,null,null,null,null,null,"",{"$f":"IF(D4647=\"Cash and Deposits\",IF(E4647=\"\",\"BANK NAME REQUIRED\",IF(ISERROR(VLOOKUP(E4647,'Reference Data'!C:C,1,FALSE)),\"PLEASE SELECT A BANK FROM DEFINED LIST PROVIDED\",\"\")),\"\")","v":""},"No Entry",0]
[null,null,null,null,null,null,null,null,null,null,null,null,"",{"$f":"IF(D4648=\"Cash and Deposits\",IF(E4648=\"\",\"BANK NAME REQUIRED\",IF(ISERROR(VLOOKUP(E4648,'Reference Data'!C:C,1,FALSE)),\"PLEASE SELECT A BANK FROM DEFINED LIST PROVIDED\",\"\")),\"\")","v":""},"No Entry",0]
[null,null,null,null,null,null,null,null,null,null,null,null,"",{"$f":"IF(D4649=\"Cash and Deposits\",IF(E4649=\"\",\"BANK NAME REQUIRED\",IF(ISERROR(VLOOKUP(E4649,'Reference Data'!C:C,1,FALSE)),\"PLEASE SELECT A BANK FROM DEFINED LIST PROVIDED\",\"\")),\"\")","v":""},"No Entry",0]
[null,null,null,null,null,null,null,null,null,null,null,null,"",{"$f":"IF(D4650=\"Cash and Deposits\",IF(E4650=\"\",\"BANK NAME REQUIRED\",IF(ISERROR(VLOOKUP(E4650,'Reference Data'!C:C,1,FALSE)),\"PLEASE SELECT A BANK FROM DEFINED LIST PROVIDED\",\"\")),\"\")","v":""},"No Entry",0]
[null,null,null,null,null,null,null,null,null,null,null,null,"",{"$f":"IF(D4651=\"Cash and Deposits\",IF(E4651=\"\",\"BANK NAME REQUIRED\",IF(ISERROR(VLOOKUP(E4651,'Reference Data'!C:C,1,FALSE)),\"PLEASE SELECT A BANK FROM DEFINED LIST PROVIDED\",\"\")),\"\")","v":""},"No Entry",0]
[null,null,null,null,null,null,null,null,null,null,null,null,"",{"$f":"IF(D4652=\"Cash and Deposits\",IF(E4652=\"\",\"BANK NAME REQUIRED\",IF(ISERROR(VLOOKUP(E4652,'Reference Data'!C:C,1,FALSE)),\"PLEASE SELECT A BANK FROM DEFINED LIST PROVIDED\",\"\")),\"\")","v":""},"No Entry",0]
[null,null,null,null,null,null,null,null,null,null,null,null,"",{"$f":"IF(D4653=\"Cash and Deposits\",IF(E4653=\"\",\"BANK NAME REQUIRED\",IF(ISERROR(VLOOKUP(E4653,'Reference Data'!C:C,1,FALSE)),\"PLEASE SELECT A BANK FROM DEFINED LIST PROVIDED\",\"\")),\"\")","v":""},"No Entry",0]
[null,null,null,null,null,null,null,null,null,null,null,null,"",{"$f":"IF(D4654=\"Cash and Deposits\",IF(E4654=\"\",\"BANK NAME REQUIRED\",IF(ISERROR(VLOOKUP(E4654,'Reference Data'!C:C,1,FALSE)),\"PLEASE SELECT A BANK FROM DEFINED LIST PROVIDED\",\"\")),\"\")","v":""},"No Entry",0]
[null,null,null,null,null,null,null,null,null,null,null,null,"",{"$f":"IF(D4655=\"Cash and Deposits\",IF(E4655=\"\",\"BANK NAME REQUIRED\",IF(ISERROR(VLOOKUP(E4655,'Reference Data'!C:C,1,FALSE)),\"PLEASE SELECT A BANK FROM DEFINED LIST PROVIDED\",\"\")),\"\")","v":""},"No Entry",0]
[null,null,null,null,null,null,null,null,null,null,null,null,"",{"$f":"IF(D4656=\"Cash and Deposits\",IF(E4656=\"\",\"BANK NAME REQUIRED\",IF(ISERROR(VLOOKUP(E4656,'Reference Data'!C:C,1,FALSE)),\"PLEASE SELECT A BANK FROM DEFINED LIST PROVIDED\",\"\")),\"\")","v":""},"No Entry",0]
[null,null,null,null,null,null,null,null,null,null,null,null,"",{"$f":"IF(D4657=\"Cash and Deposits\",IF(E4657=\"\",\"BANK NAME REQUIRED\",IF(ISERROR(VLOOKUP(E4657,'Reference Data'!C:C,1,FALSE)),\"PLEASE SELECT A BANK FROM DEFINED LIST PROVIDED\",\"\")),\"\")","v":""},"No Entry",0]
[null,null,null,null,null,null,null,null,null,null,null,null,"",{"$f":"IF(D4658=\"Cash and Deposits\",IF(E4658=\"\",\"BANK NAME REQUIRED\",IF(ISERROR(VLOOKUP(E4658,'Reference Data'!C:C,1,FALSE)),\"PLEASE SELECT A BANK FROM DEFINED LIST PROVIDED\",\"\")),\"\")","v":""},"No Entry",0]
[null,null,null,null,null,null,null,null,null,null,null,null,"",{"$f":"IF(D4659=\"Cash and Deposits\",IF(E4659=\"\",\"BANK NAME REQUIRED\",IF(ISERROR(VLOOKUP(E4659,'Reference Data'!C:C,1,FALSE)),\"PLEASE SELECT A BANK FROM DEFINED LIST PROVIDED\",\"\")),\"\")","v":""},"No Entry",0]
[null,null,null,null,null,null,null,null,null,null,null,null,"",{"$f":"IF(D4660=\"Cash and Deposits\",IF(E4660=\"\",\"BANK NAME REQUIRED\",IF(ISERROR(VLOOKUP(E4660,'Reference Data'!C:C,1,FALSE)),\"PLEASE SELECT A BANK FROM DEFINED LIST PROVIDED\",\"\")),\"\")","v":""},"No Entry",0]
[null,null,null,null,null,null,null,null,null,null,null,null,"",{"$f":"IF(D4661=\"Cash and Deposits\",IF(E4661=\"\",\"BANK NAME REQUIRED\",IF(ISERROR(VLOOKUP(E4661,'Reference Data'!C:C,1,FALSE)),\"PLEASE SELECT A BANK FROM DEFINED LIST PROVIDED\",\"\")),\"\")","v":""},"No Entry",0]
[null,null,null,null,null,null,null,null,null,null,null,null,"",{"$f":"IF(D4662=\"Cash and Deposits\",IF(E4662=\"\",\"BANK NAME REQUIRED\",IF(ISERROR(VLOOKUP(E4662,'Reference Data'!C:C,1,FALSE)),\"PLEASE SELECT A BANK FROM DEFINED LIST PROVIDED\",\"\")),\"\")","v":""},"No Entry",0]
[null,null,null,null,null,null,null,null,null,null,null,null,"",{"$f":"IF(D4663=\"Cash and Deposits\",IF(E4663=\"\",\"BANK NAME REQUIRED\",IF(ISERROR(VLOOKUP(E4663,'Reference Data'!C:C,1,FALSE)),\"PLEASE SELECT A BANK FROM DEFINED LIST PROVIDED\",\"\")),\"\")","v":""},"No Entry",0]
[null,null,null,null,null,null,null,null,null,null,null,null,"",{"$f":"IF(D4664=\"Cash and Deposits\",IF(E4664=\"\",\"BANK NAME REQUIRED\",IF(ISERROR(VLOOKUP(E4664,'Reference Data'!C:C,1,FALSE)),\"PLEASE SELECT A BANK FROM DEFINED LIST PROVIDED\",\"\")),\"\")","v":""},"No Entry",0]
[null,null,null,null,null,null,null,null,null,null,null,null,"",{"$f":"IF(D4665=\"Cash and Deposits\",IF(E4665=\"\",\"BANK NAME REQUIRED\",IF(ISERROR(VLOOKUP(E4665,'Reference Data'!C:C,1,FALSE)),\"PLEASE SELECT A BANK FROM DEFINED LIST PROVIDED\",\"\")),\"\")","v":""},"No Entry",0]
[null,null,null,null,null,null,null,null,null,null,null,null,"",{"$f":"IF(D4666=\"Cash and Deposits\",IF(E4666=\"\",\"BANK NAME REQUIRED\",IF(ISERROR(VLOOKUP(E4666,'Reference Data'!C:C,1,FALSE)),\"PLEASE SELECT A BANK FROM DEFINED LIST PROVIDED\",\"\")),\"\")","v":""},"No Entry",0]
[null,null,null,null,null,null,null,null,null,null,null,null,"",{"$f":"IF(D4667=\"Cash and Deposits\",IF(E4667=\"\",\"BANK NAME REQUIRED\",IF(ISERROR(VLOOKUP(E4667,'Reference Data'!C:C,1,FALSE)),\"PLEASE SELECT A BANK FROM DEFINED LIST PROVIDED\",\"\")),\"\")","v":""},"No Entry",0]
[null,null,null,null,null,null,null,null,null,null,null,null,"",{"$f":"IF(D4668=\"Cash and Deposits\",IF(E4668=\"\",\"BANK NAME REQUIRED\",IF(ISERROR(VLOOKUP(E4668,'Reference Data'!C:C,1,FALSE)),\"PLEASE SELECT A BANK FROM DEFINED LIST PROVIDED\",\"\")),\"\")","v":""},"No Entry",0]
[null,null,null,null,null,null,null,null,null,null,null,null,"",{"$f":"IF(D4669=\"Cash and Deposits\",IF(E4669=\"\",\"BANK NAME REQUIRED\",IF(ISERROR(VLOOKUP(E4669,'Reference Data'!C:C,1,FALSE)),\"PLEASE SELECT A BANK FROM DEFINED LIST PROVIDED\",\"\")),\"\")","v":""},"No Entry",0]
[null,null,null,null,null,null,null,null,null,null,null,null,"",{"$f":"IF(D4670=\"Cash and Deposits\",IF(E4670=\"\",\"BANK NAME REQUIRED\",IF(ISERROR(VLOOKUP(E4670,'Reference Data'!C:C,1,FALSE)),\"PLEASE SELECT A BANK FROM DEFINED LIST PROVIDED\",\"\")),\"\")","v":""},"No Entry",0]
[null,null,null,null,null,null,null,null,null,null,null,null,"",{"$f":"IF(D4671=\"Cash and Deposits\",IF(E4671=\"\",\"BANK NAME REQUIRED\",IF(ISERROR(VLOOKUP(E4671,'Reference Data'!C:C,1,FALSE)),\"PLEASE SELECT A BANK FROM DEFINED LIST PROVIDED\",\"\")),\"\")","v":""},"No Entry",0]
[null,null,null,null,null,null,null,null,null,null,null,null,"",{"$f":"IF(D4672=\"Cash and Deposits\",IF(E4672=\"\",\"BANK NAME REQUIRED\",IF(ISERROR(VLOOKUP(E4672,'Reference Data'!C:C,1,FALSE)),\"PLEASE SELECT A BANK FROM DEFINED LIST PROVIDED\",\"\")),\"\")","v":""},"No Entry",0]
[null,null,null,null,null,null,null,null,null,null,null,null,"",{"$f":"IF(D4673=\"Cash and Deposits\",IF(E4673=\"\",\"BANK NAME REQUIRED\",IF(ISERROR(VLOOKUP(E4673,'Reference Data'!C:C,1,FALSE)),\"PLEASE SELECT A BANK FROM DEFINED LIST PROVIDED\",\"\")),\"\")","v":""},"No Entry",0]
[null,null,null,null,null,null,null,null,null,null,null,null,"",{"$f":"IF(D4674=\"Cash and Deposits\",IF(E4674=\"\",\"BANK NAME REQUIRED\",IF(ISERROR(VLOOKUP(E4674,'Reference Data'!C:C,1,FALSE)),\"PLEASE SELECT A BANK FROM DEFINED LIST PROVIDED\",\"\")),\"\")","v":""},"No Entry",0]
[null,null,null,null,null,null,null,null,null,null,null,null,"",{"$f":"IF(D4675=\"Cash and Deposits\",IF(E4675=\"\",\"BANK NAME REQUIRED\",IF(ISERROR(VLOOKUP(E4675,'Reference Data'!C:C,1,FALSE)),\"PLEASE SELECT A BANK FROM DEFINED LIST PROVIDED\",\"\")),\"\")","v":""},"No Entry",0]
[null,null,null,null,null,null,null,null,null,null,null,null,"",{"$f":"IF(D4676=\"Cash and Deposits\",IF(E4676=\"\",\"BANK NAME REQUIRED\",IF(ISERROR(VLOOKUP(E4676,'Reference Data'!C:C,1,FALSE)),\"PLEASE SELECT A BANK FROM DEFINED LIST PROVIDED\",\"\")),\"\")","v":""},"No Entry",0]
[null,null,null,null,null,null,null,null,null,null,null,null,{"$f":"IF(K4677<>0,IF(B4677=\"\",\"ID CODE REQUIRED\",\"\"),\"\")","v":""},{"$f":"IF(D4677=\"Cash and Deposits\",IF(E4677=\"\",\"BANK NAME REQUIRED\",IF(ISERROR(VLOOKUP(E4677,'Reference Data'!C:C,1,FALSE)),\"PLEASE SELECT A BANK FROM DEFINED LIST PROVIDED\",\"\")),\"\")","v":""},{"$f":"IF(K4677=0,\"No Entry\",\"\")","v":"No Entry"},{"$f":"IF(K4677<>0,IF(A4677=\"\",1,0),0)","v":0}]
[null,null,null,null,null,null,null,null,null,null,null,null,"",{"$f":"IF(D4678=\"Cash and Deposits\",IF(E4678=\"\",\"BANK NAME REQUIRED\",IF(ISERROR(VLOOKUP(E4678,'Reference Data'!C:C,1,FALSE)),\"PLEASE SELECT A BANK FROM DEFINED LIST PROVIDED\",\"\")),\"\")","v":""},"No Entry",0]
[null,null,null,null,null,null,null,null,null,null,null,null,"",{"$f":"IF(D4679=\"Cash and Deposits\",IF(E4679=\"\",\"BANK NAME REQUIRED\",IF(ISERROR(VLOOKUP(E4679,'Reference Data'!C:C,1,FALSE)),\"PLEASE SELECT A BANK FROM DEFINED LIST PROVIDED\",\"\")),\"\")","v":""},"No Entry",0]
[null,null,null,null,null,null,null,null,null,null,null,null,"",{"$f":"IF(D4680=\"Cash and Deposits\",IF(E4680=\"\",\"BANK NAME REQUIRED\",IF(ISERROR(VLOOKUP(E4680,'Reference Data'!C:C,1,FALSE)),\"PLEASE SELECT A BANK FROM DEFINED LIST PROVIDED\",\"\")),\"\")","v":""},"No Entry",0]
[null,null,null,null,null,null,null,null,null,null,null,null,"",{"$f":"IF(D4681=\"Cash and Deposits\",IF(E4681=\"\",\"BANK NAME REQUIRED\",IF(ISERROR(VLOOKUP(E4681,'Reference Data'!C:C,1,FALSE)),\"PLEASE SELECT A BANK FROM DEFINED LIST PROVIDED\",\"\")),\"\")","v":""},"No Entry",0]
[null,null,null,null,null,null,null,null,null,null,null,null,"",{"$f":"IF(D4682=\"Cash and Deposits\",IF(E4682=\"\",\"BANK NAME REQUIRED\",IF(ISERROR(VLOOKUP(E4682,'Reference Data'!C:C,1,FALSE)),\"PLEASE SELECT A BANK FROM DEFINED LIST PROVIDED\",\"\")),\"\")","v":""},"No Entry",0]
[null,null,null,null,null,null,null,null,null,null,null,null,"",{"$f":"IF(D4683=\"Cash and Deposits\",IF(E4683=\"\",\"BANK NAME REQUIRED\",IF(ISERROR(VLOOKUP(E4683,'Reference Data'!C:C,1,FALSE)),\"PLEASE SELECT A BANK FROM DEFINED LIST PROVIDED\",\"\")),\"\")","v":""},"No Entry",0]
[null,null,null,null,null,null,null,null,null,null,null,null,"",{"$f":"IF(D4684=\"Cash and Deposits\",IF(E4684=\"\",\"BANK NAME REQUIRED\",IF(ISERROR(VLOOKUP(E4684,'Reference Data'!C:C,1,FALSE)),\"PLEASE SELECT A BANK FROM DEFINED LIST PROVIDED\",\"\")),\"\")","v":""},"No Entry",0]
[null,null,null,null,null,null,null,null,null,null,null,null,"",{"$f":"IF(D4685=\"Cash and Deposits\",IF(E4685=\"\",\"BANK NAME REQUIRED\",IF(ISERROR(VLOOKUP(E4685,'Reference Data'!C:C,1,FALSE)),\"PLEASE SELECT A BANK FROM DEFINED LIST PROVIDED\",\"\")),\"\")","v":""},"No Entry",0]
[null,null,null,null,null,null,null,null,null,null,null,null,"",{"$f":"IF(D4686=\"Cash and Deposits\",IF(E4686=\"\",\"BANK NAME REQUIRED\",IF(ISERROR(VLOOKUP(E4686,'Reference Data'!C:C,1,FALSE)),\"PLEASE SELECT A BANK FROM DEFINED LIST PROVIDED\",\"\")),\"\")","v":""},"No Entry",0]
[null,null,null,null,null,null,null,null,null,null,null,null,"",{"$f":"IF(D4687=\"Cash and Deposits\",IF(E4687=\"\",\"BANK NAME REQUIRED\",IF(ISERROR(VLOOKUP(E4687,'Reference Data'!C:C,1,FALSE)),\"PLEASE SELECT A BANK FROM DEFINED LIST PROVIDED\",\"\")),\"\")","v":""},"No Entry",0]
[null,null,null,null,null,null,null,null,null,null,null,null,"",{"$f":"IF(D4688=\"Cash and Deposits\",IF(E4688=\"\",\"BANK NAME REQUIRED\",IF(ISERROR(VLOOKUP(E4688,'Reference Data'!C:C,1,FALSE)),\"PLEASE SELECT A BANK FROM DEFINED LIST PROVIDED\",\"\")),\"\")","v":""},"No Entry",0]
[null,null,null,null,null,null,null,null,null,null,null,null,"",{"$f":"IF(D4689=\"Cash and Deposits\",IF(E4689=\"\",\"BANK NAME REQUIRED\",IF(ISERROR(VLOOKUP(E4689,'Reference Data'!C:C,1,FALSE)),\"PLEASE SELECT A BANK FROM DEFINED LIST PROVIDED\",\"\")),\"\")","v":""},"No Entry",0]
[null,null,null,null,null,null,null,null,null,null,null,null,"",{"$f":"IF(D4690=\"Cash and Deposits\",IF(E4690=\"\",\"BANK NAME REQUIRED\",IF(ISERROR(VLOOKUP(E4690,'Reference Data'!C:C,1,FALSE)),\"PLEASE SELECT A BANK FROM DEFINED LIST PROVIDED\",\"\")),\"\")","v":""},"No Entry",0]
[null,null,null,null,null,null,null,null,null,null,null,null,"",{"$f":"IF(D4691=\"Cash and Deposits\",IF(E4691=\"\",\"BANK NAME REQUIRED\",IF(ISERROR(VLOOKUP(E4691,'Reference Data'!C:C,1,FALSE)),\"PLEASE SELECT A BANK FROM DEFINED LIST PROVIDED\",\"\")),\"\")","v":""},"No Entry",0]
[null,null,null,null,null,null,null,null,null,null,null,null,"",{"$f":"IF(D4692=\"Cash and Deposits\",IF(E4692=\"\",\"BANK NAME REQUIRED\",IF(ISERROR(VLOOKUP(E4692,'Reference Data'!C:C,1,FALSE)),\"PLEASE SELECT A BANK FROM DEFINED LIST PROVIDED\",\"\")),\"\")","v":""},"No Entry",0]
[null,null,null,null,null,null,null,null,null,null,null,null,"",{"$f":"IF(D4693=\"Cash and Deposits\",IF(E4693=\"\",\"BANK NAME REQUIRED\",IF(ISERROR(VLOOKUP(E4693,'Reference Data'!C:C,1,FALSE)),\"PLEASE SELECT A BANK FROM DEFINED LIST PROVIDED\",\"\")),\"\")","v":""},"No Entry",0]
[null,null,null,null,null,null,null,null,null,null,null,null,"",{"$f":"IF(D4694=\"Cash and Deposits\",IF(E4694=\"\",\"BANK NAME REQUIRED\",IF(ISERROR(VLOOKUP(E4694,'Reference Data'!C:C,1,FALSE)),\"PLEASE SELECT A BANK FROM DEFINED LIST PROVIDED\",\"\")),\"\")","v":""},"No Entry",0]
[null,null,null,null,null,null,null,null,null,null,null,null,"",{"$f":"IF(D4695=\"Cash and Deposits\",IF(E4695=\"\",\"BANK NAME REQUIRED\",IF(ISERROR(VLOOKUP(E4695,'Reference Data'!C:C,1,FALSE)),\"PLEASE SELECT A BANK FROM DEFINED LIST PROVIDED\",\"\")),\"\")","v":""},"No Entry",0]
[null,null,null,null,null,null,null,null,null,null,null,null,"",{"$f":"IF(D4696=\"Cash and Deposits\",IF(E4696=\"\",\"BANK NAME REQUIRED\",IF(ISERROR(VLOOKUP(E4696,'Reference Data'!C:C,1,FALSE)),\"PLEASE SELECT A BANK FROM DEFINED LIST PROVIDED\",\"\")),\"\")","v":""},"No Entry",0]
[null,null,null,null,null,null,null,null,null,null,null,null,"",{"$f":"IF(D4697=\"Cash and Deposits\",IF(E4697=\"\",\"BANK NAME REQUIRED\",IF(ISERROR(VLOOKUP(E4697,'Reference Data'!C:C,1,FALSE)),\"PLEASE SELECT A BANK FROM DEFINED LIST PROVIDED\",\"\")),\"\")","v":""},"No Entry",0]
[null,null,null,null,null,null,null,null,null,null,null,null,"",{"$f":"IF(D4698=\"Cash and Deposits\",IF(E4698=\"\",\"BANK NAME REQUIRED\",IF(ISERROR(VLOOKUP(E4698,'Reference Data'!C:C,1,FALSE)),\"PLEASE SELECT A BANK FROM DEFINED LIST PROVIDED\",\"\")),\"\")","v":""},"No Entry",0]
[null,null,null,null,null,null,null,null,null,null,null,null,"",{"$f":"IF(D4699=\"Cash and Deposits\",IF(E4699=\"\",\"BANK NAME REQUIRED\",IF(ISERROR(VLOOKUP(E4699,'Reference Data'!C:C,1,FALSE)),\"PLEASE SELECT A BANK FROM DEFINED LIST PROVIDED\",\"\")),\"\")","v":""},"No Entry",0]
[null,null,null,null,null,null,null,null,null,null,null,null,"",{"$f":"IF(D4700=\"Cash and Deposits\",IF(E4700=\"\",\"BANK NAME REQUIRED\",IF(ISERROR(VLOOKUP(E4700,'Reference Data'!C:C,1,FALSE)),\"PLEASE SELECT A BANK FROM DEFINED LIST PROVIDED\",\"\")),\"\")","v":""},"No Entry",0]
[null,null,null,null,null,null,null,null,null,null,null,null,"",{"$f":"IF(D4701=\"Cash and Deposits\",IF(E4701=\"\",\"BANK NAME REQUIRED\",IF(ISERROR(VLOOKUP(E4701,'Reference Data'!C:C,1,FALSE)),\"PLEASE SELECT A BANK FROM DEFINED LIST PROVIDED\",\"\")),\"\")","v":""},"No Entry",0]
[null,null,null,null,null,null,null,null,null,null,null,null,"",{"$f":"IF(D4702=\"Cash and Deposits\",IF(E4702=\"\",\"BANK NAME REQUIRED\",IF(ISERROR(VLOOKUP(E4702,'Reference Data'!C:C,1,FALSE)),\"PLEASE SELECT A BANK FROM DEFINED LIST PROVIDED\",\"\")),\"\")","v":""},"No Entry",0]
[null,null,null,null,null,null,null,null,null,null,null,null,"",{"$f":"IF(D4703=\"Cash and Deposits\",IF(E4703=\"\",\"BANK NAME REQUIRED\",IF(ISERROR(VLOOKUP(E4703,'Reference Data'!C:C,1,FALSE)),\"PLEASE SELECT A BANK FROM DEFINED LIST PROVIDED\",\"\")),\"\")","v":""},"No Entry",0]
[null,null,null,null,null,null,null,null,null,null,null,null,"",{"$f":"IF(D4704=\"Cash and Deposits\",IF(E4704=\"\",\"BANK NAME REQUIRED\",IF(ISERROR(VLOOKUP(E4704,'Reference Data'!C:C,1,FALSE)),\"PLEASE SELECT A BANK FROM DEFINED LIST PROVIDED\",\"\")),\"\")","v":""},"No Entry",0]
[null,null,null,null,null,null,null,null,null,null,null,null,"",{"$f":"IF(D4705=\"Cash and Deposits\",IF(E4705=\"\",\"BANK NAME REQUIRED\",IF(ISERROR(VLOOKUP(E4705,'Reference Data'!C:C,1,FALSE)),\"PLEASE SELECT A BANK FROM DEFINED LIST PROVIDED\",\"\")),\"\")","v":""},"No Entry",0]
[null,null,null,null,null,null,null,null,null,null,null,null,"",{"$f":"IF(D4706=\"Cash and Deposits\",IF(E4706=\"\",\"BANK NAME REQUIRED\",IF(ISERROR(VLOOKUP(E4706,'Reference Data'!C:C,1,FALSE)),\"PLEASE SELECT A BANK FROM DEFINED LIST PROVIDED\",\"\")),\"\")","v":""},"No Entry",0]
[null,null,null,null,null,null,null,null,null,null,null,null,"",{"$f":"IF(D4707=\"Cash and Deposits\",IF(E4707=\"\",\"BANK NAME REQUIRED\",IF(ISERROR(VLOOKUP(E4707,'Reference Data'!C:C,1,FALSE)),\"PLEASE SELECT A BANK FROM DEFINED LIST PROVIDED\",\"\")),\"\")","v":""},"No Entry",0]
[null,null,null,null,null,null,null,null,null,null,null,null,"",{"$f":"IF(D4708=\"Cash and Deposits\",IF(E4708=\"\",\"BANK NAME REQUIRED\",IF(ISERROR(VLOOKUP(E4708,'Reference Data'!C:C,1,FALSE)),\"PLEASE SELECT A BANK FROM DEFINED LIST PROVIDED\",\"\")),\"\")","v":""},"No Entry",0]
[null,null,null,null,null,null,null,null,null,null,null,null,"",{"$f":"IF(D4709=\"Cash and Deposits\",IF(E4709=\"\",\"BANK NAME REQUIRED\",IF(ISERROR(VLOOKUP(E4709,'Reference Data'!C:C,1,FALSE)),\"PLEASE SELECT A BANK FROM DEFINED LIST PROVIDED\",\"\")),\"\")","v":""},"No Entry",0]
[null,null,null,null,null,null,null,null,null,null,null,null,"",{"$f":"IF(D4710=\"Cash and Deposits\",IF(E4710=\"\",\"BANK NAME REQUIRED\",IF(ISERROR(VLOOKUP(E4710,'Reference Data'!C:C,1,FALSE)),\"PLEASE SELECT A BANK FROM DEFINED LIST PROVIDED\",\"\")),\"\")","v":""},"No Entry",0]
[null,null,null,null,null,null,null,null,null,null,null,null,"",{"$f":"IF(D4711=\"Cash and Deposits\",IF(E4711=\"\",\"BANK NAME REQUIRED\",IF(ISERROR(VLOOKUP(E4711,'Reference Data'!C:C,1,FALSE)),\"PLEASE SELECT A BANK FROM DEFINED LIST PROVIDED\",\"\")),\"\")","v":""},"No Entry",0]
[null,null,null,null,null,null,null,null,null,null,null,null,"",{"$f":"IF(D4712=\"Cash and Deposits\",IF(E4712=\"\",\"BANK NAME REQUIRED\",IF(ISERROR(VLOOKUP(E4712,'Reference Data'!C:C,1,FALSE)),\"PLEASE SELECT A BANK FROM DEFINED LIST PROVIDED\",\"\")),\"\")","v":""},"No Entry",0]
[null,null,null,null,null,null,null,null,null,null,null,null,"",{"$f":"IF(D4713=\"Cash and Deposits\",IF(E4713=\"\",\"BANK NAME REQUIRED\",IF(ISERROR(VLOOKUP(E4713,'Reference Data'!C:C,1,FALSE)),\"PLEASE SELECT A BANK FROM DEFINED LIST PROVIDED\",\"\")),\"\")","v":""},"No Entry",0]
[null,null,null,null,null,null,null,null,null,null,null,null,"",{"$f":"IF(D4714=\"Cash and Deposits\",IF(E4714=\"\",\"BANK NAME REQUIRED\",IF(ISERROR(VLOOKUP(E4714,'Reference Data'!C:C,1,FALSE)),\"PLEASE SELECT A BANK FROM DEFINED LIST PROVIDED\",\"\")),\"\")","v":""},"No Entry",0]
[null,null,null,null,null,null,null,null,null,null,null,null,"",{"$f":"IF(D4715=\"Cash and Deposits\",IF(E4715=\"\",\"BANK NAME REQUIRED\",IF(ISERROR(VLOOKUP(E4715,'Reference Data'!C:C,1,FALSE)),\"PLEASE SELECT A BANK FROM DEFINED LIST PROVIDED\",\"\")),\"\")","v":""},"No Entry",0]
[null,null,null,null,null,null,null,null,null,null,null,null,"",{"$f":"IF(D4716=\"Cash and Deposits\",IF(E4716=\"\",\"BANK NAME REQUIRED\",IF(ISERROR(VLOOKUP(E4716,'Reference Data'!C:C,1,FALSE)),\"PLEASE SELECT A BANK FROM DEFINED LIST PROVIDED\",\"\")),\"\")","v":""},"No Entry",0]
[null,null,null,null,null,null,null,null,null,null,null,null,"",{"$f":"IF(D4717=\"Cash and Deposits\",IF(E4717=\"\",\"BANK NAME REQUIRED\",IF(ISERROR(VLOOKUP(E4717,'Reference Data'!C:C,1,FALSE)),\"PLEASE SELECT A BANK FROM DEFINED LIST PROVIDED\",\"\")),\"\")","v":""},"No Entry",0]
[null,null,null,null,null,null,null,null,null,null,null,null,"",{"$f":"IF(D4718=\"Cash and Deposits\",IF(E4718=\"\",\"BANK NAME REQUIRED\",IF(ISERROR(VLOOKUP(E4718,'Reference Data'!C:C,1,FALSE)),\"PLEASE SELECT A BANK FROM DEFINED LIST PROVIDED\",\"\")),\"\")","v":""},"No Entry",0]
[null,null,null,null,null,null,null,null,null,null,null,null,"",{"$f":"IF(D4719=\"Cash and Deposits\",IF(E4719=\"\",\"BANK NAME REQUIRED\",IF(ISERROR(VLOOKUP(E4719,'Reference Data'!C:C,1,FALSE)),\"PLEASE SELECT A BANK FROM DEFINED LIST PROVIDED\",\"\")),\"\")","v":""},"No Entry",0]
[null,null,null,null,null,null,null,null,null,null,null,null,"",{"$f":"IF(D4720=\"Cash and Deposits\",IF(E4720=\"\",\"BANK NAME REQUIRED\",IF(ISERROR(VLOOKUP(E4720,'Reference Data'!C:C,1,FALSE)),\"PLEASE SELECT A BANK FROM DEFINED LIST PROVIDED\",\"\")),\"\")","v":""},"No Entry",0]
[null,null,null,null,null,null,null,null,null,null,null,null,"",{"$f":"IF(D4721=\"Cash and Deposits\",IF(E4721=\"\",\"BANK NAME REQUIRED\",IF(ISERROR(VLOOKUP(E4721,'Reference Data'!C:C,1,FALSE)),\"PLEASE SELECT A BANK FROM DEFINED LIST PROVIDED\",\"\")),\"\")","v":""},"No Entry",0]
[null,null,null,null,null,null,null,null,null,null,null,null,"",{"$f":"IF(D4722=\"Cash and Deposits\",IF(E4722=\"\",\"BANK NAME REQUIRED\",IF(ISERROR(VLOOKUP(E4722,'Reference Data'!C:C,1,FALSE)),\"PLEASE SELECT A BANK FROM DEFINED LIST PROVIDED\",\"\")),\"\")","v":""},"No Entry",0]
[null,null,null,null,null,null,null,null,null,null,null,null,"",{"$f":"IF(D4723=\"Cash and Deposits\",IF(E4723=\"\",\"BANK NAME REQUIRED\",IF(ISERROR(VLOOKUP(E4723,'Reference Data'!C:C,1,FALSE)),\"PLEASE SELECT A BANK FROM DEFINED LIST PROVIDED\",\"\")),\"\")","v":""},"No Entry",0]
[null,null,null,null,null,null,null,null,null,null,null,null,"",{"$f":"IF(D4724=\"Cash and Deposits\",IF(E4724=\"\",\"BANK NAME REQUIRED\",IF(ISERROR(VLOOKUP(E4724,'Reference Data'!C:C,1,FALSE)),\"PLEASE SELECT A BANK FROM DEFINED LIST PROVIDED\",\"\")),\"\")","v":""},"No Entry",0]
[null,null,null,null,null,null,null,null,null,null,null,null,"",{"$f":"IF(D4725=\"Cash and Deposits\",IF(E4725=\"\",\"BANK NAME REQUIRED\",IF(ISERROR(VLOOKUP(E4725,'Reference Data'!C:C,1,FALSE)),\"PLEASE SELECT A BANK FROM DEFINED LIST PROVIDED\",\"\")),\"\")","v":""},"No Entry",0]
[null,null,null,null,null,null,null,null,null,null,null,null,"",{"$f":"IF(D4726=\"Cash and Deposits\",IF(E4726=\"\",\"BANK NAME REQUIRED\",IF(ISERROR(VLOOKUP(E4726,'Reference Data'!C:C,1,FALSE)),\"PLEASE SELECT A BANK FROM DEFINED LIST PROVIDED\",\"\")),\"\")","v":""},"No Entry",0]
[null,null,null,null,null,null,null,null,null,null,null,null,"",{"$f":"IF(D4727=\"Cash and Deposits\",IF(E4727=\"\",\"BANK NAME REQUIRED\",IF(ISERROR(VLOOKUP(E4727,'Reference Data'!C:C,1,FALSE)),\"PLEASE SELECT A BANK FROM DEFINED LIST PROVIDED\",\"\")),\"\")","v":""},"No Entry",0]
[null,null,null,null,null,null,null,null,null,null,null,null,"",{"$f":"IF(D4728=\"Cash and Deposits\",IF(E4728=\"\",\"BANK NAME REQUIRED\",IF(ISERROR(VLOOKUP(E4728,'Reference Data'!C:C,1,FALSE)),\"PLEASE SELECT A BANK FROM DEFINED LIST PROVIDED\",\"\")),\"\")","v":""},"No Entry",0]
[null,null,null,null,null,null,null,null,null,null,null,null,"",{"$f":"IF(D4729=\"Cash and Deposits\",IF(E4729=\"\",\"BANK NAME REQUIRED\",IF(ISERROR(VLOOKUP(E4729,'Reference Data'!C:C,1,FALSE)),\"PLEASE SELECT A BANK FROM DEFINED LIST PROVIDED\",\"\")),\"\")","v":""},"No Entry",0]
[null,null,null,null,null,null,null,null,null,null,null,null,"",{"$f":"IF(D4730=\"Cash and Deposits\",IF(E4730=\"\",\"BANK NAME REQUIRED\",IF(ISERROR(VLOOKUP(E4730,'Reference Data'!C:C,1,FALSE)),\"PLEASE SELECT A BANK FROM DEFINED LIST PROVIDED\",\"\")),\"\")","v":""},"No Entry",0]
[null,null,null,null,null,null,null,null,null,null,null,null,"",{"$f":"IF(D4731=\"Cash and Deposits\",IF(E4731=\"\",\"BANK NAME REQUIRED\",IF(ISERROR(VLOOKUP(E4731,'Reference Data'!C:C,1,FALSE)),\"PLEASE SELECT A BANK FROM DEFINED LIST PROVIDED\",\"\")),\"\")","v":""},"No Entry",0]
[null,null,null,null,null,null,null,null,null,null,null,null,"",{"$f":"IF(D4732=\"Cash and Deposits\",IF(E4732=\"\",\"BANK NAME REQUIRED\",IF(ISERROR(VLOOKUP(E4732,'Reference Data'!C:C,1,FALSE)),\"PLEASE SELECT A BANK FROM DEFINED LIST PROVIDED\",\"\")),\"\")","v":""},"No Entry",0]
[null,null,null,null,null,null,null,null,null,null,null,null,"",{"$f":"IF(D4733=\"Cash and Deposits\",IF(E4733=\"\",\"BANK NAME REQUIRED\",IF(ISERROR(VLOOKUP(E4733,'Reference Data'!C:C,1,FALSE)),\"PLEASE SELECT A BANK FROM DEFINED LIST PROVIDED\",\"\")),\"\")","v":""},"No Entry",0]
[null,null,null,null,null,null,null,null,null,null,null,null,"",{"$f":"IF(D4734=\"Cash and Deposits\",IF(E4734=\"\",\"BANK NAME REQUIRED\",IF(ISERROR(VLOOKUP(E4734,'Reference Data'!C:C,1,FALSE)),\"PLEASE SELECT A BANK FROM DEFINED LIST PROVIDED\",\"\")),\"\")","v":""},"No Entry",0]
[null,null,null,null,null,null,null,null,null,null,null,null,"",{"$f":"IF(D4735=\"Cash and Deposits\",IF(E4735=\"\",\"BANK NAME REQUIRED\",IF(ISERROR(VLOOKUP(E4735,'Reference Data'!C:C,1,FALSE)),\"PLEASE SELECT A BANK FROM DEFINED LIST PROVIDED\",\"\")),\"\")","v":""},"No Entry",0]
[null,null,null,null,null,null,null,null,null,null,null,null,"",{"$f":"IF(D4736=\"Cash and Deposits\",IF(E4736=\"\",\"BANK NAME REQUIRED\",IF(ISERROR(VLOOKUP(E4736,'Reference Data'!C:C,1,FALSE)),\"PLEASE SELECT A BANK FROM DEFINED LIST PROVIDED\",\"\")),\"\")","v":""},"No Entry",0]
[null,null,null,null,null,null,null,null,null,null,null,null,"",{"$f":"IF(D4737=\"Cash and Deposits\",IF(E4737=\"\",\"BANK NAME REQUIRED\",IF(ISERROR(VLOOKUP(E4737,'Reference Data'!C:C,1,FALSE)),\"PLEASE SELECT A BANK FROM DEFINED LIST PROVIDED\",\"\")),\"\")","v":""},"No Entry",0]
[null,null,null,null,null,null,null,null,null,null,null,null,"",{"$f":"IF(D4738=\"Cash and Deposits\",IF(E4738=\"\",\"BANK NAME REQUIRED\",IF(ISERROR(VLOOKUP(E4738,'Reference Data'!C:C,1,FALSE)),\"PLEASE SELECT A BANK FROM DEFINED LIST PROVIDED\",\"\")),\"\")","v":""},"No Entry",0]
[null,null,null,null,null,null,null,null,null,null,null,null,"",{"$f":"IF(D4739=\"Cash and Deposits\",IF(E4739=\"\",\"BANK NAME REQUIRED\",IF(ISERROR(VLOOKUP(E4739,'Reference Data'!C:C,1,FALSE)),\"PLEASE SELECT A BANK FROM DEFINED LIST PROVIDED\",\"\")),\"\")","v":""},"No Entry",0]
[null,null,null,null,null,null,null,null,null,null,null,null,"",{"$f":"IF(D4740=\"Cash and Deposits\",IF(E4740=\"\",\"BANK NAME REQUIRED\",IF(ISERROR(VLOOKUP(E4740,'Reference Data'!C:C,1,FALSE)),\"PLEASE SELECT A BANK FROM DEFINED LIST PROVIDED\",\"\")),\"\")","v":""},"No Entry",0]
[null,null,null,null,null,null,null,null,null,null,null,null,{"$f":"IF(K4741<>0,IF(B4741=\"\",\"ID CODE REQUIRED\",\"\"),\"\")","v":""},{"$f":"IF(D4741=\"Cash and Deposits\",IF(E4741=\"\",\"BANK NAME REQUIRED\",IF(ISERROR(VLOOKUP(E4741,'Reference Data'!C:C,1,FALSE)),\"PLEASE SELECT A BANK FROM DEFINED LIST PROVIDED\",\"\")),\"\")","v":""},{"$f":"IF(K4741=0,\"No Entry\",\"\")","v":"No Entry"},{"$f":"IF(K4741<>0,IF(A4741=\"\",1,0),0)","v":0}]
[null,null,null,null,null,null,null,null,null,null,null,null,"",{"$f":"IF(D4742=\"Cash and Deposits\",IF(E4742=\"\",\"BANK NAME REQUIRED\",IF(ISERROR(VLOOKUP(E4742,'Reference Data'!C:C,1,FALSE)),\"PLEASE SELECT A BANK FROM DEFINED LIST PROVIDED\",\"\")),\"\")","v":""},"No Entry",0]
[null,null,null,null,null,null,null,null,null,null,null,null,"",{"$f":"IF(D4743=\"Cash and Deposits\",IF(E4743=\"\",\"BANK NAME REQUIRED\",IF(ISERROR(VLOOKUP(E4743,'Reference Data'!C:C,1,FALSE)),\"PLEASE SELECT A BANK FROM DEFINED LIST PROVIDED\",\"\")),\"\")","v":""},"No Entry",0]
[null,null,null,null,null,null,null,null,null,null,null,null,"",{"$f":"IF(D4744=\"Cash and Deposits\",IF(E4744=\"\",\"BANK NAME REQUIRED\",IF(ISERROR(VLOOKUP(E4744,'Reference Data'!C:C,1,FALSE)),\"PLEASE SELECT A BANK FROM DEFINED LIST PROVIDED\",\"\")),\"\")","v":""},"No Entry",0]
[null,null,null,null,null,null,null,null,null,null,null,null,"",{"$f":"IF(D4745=\"Cash and Deposits\",IF(E4745=\"\",\"BANK NAME REQUIRED\",IF(ISERROR(VLOOKUP(E4745,'Reference Data'!C:C,1,FALSE)),\"PLEASE SELECT A BANK FROM DEFINED LIST PROVIDED\",\"\")),\"\")","v":""},"No Entry",0]
[null,null,null,null,null,null,null,null,null,null,null,null,"",{"$f":"IF(D4746=\"Cash and Deposits\",IF(E4746=\"\",\"BANK NAME REQUIRED\",IF(ISERROR(VLOOKUP(E4746,'Reference Data'!C:C,1,FALSE)),\"PLEASE SELECT A BANK FROM DEFINED LIST PROVIDED\",\"\")),\"\")","v":""},"No Entry",0]
[null,null,null,null,null,null,null,null,null,null,null,null,"",{"$f":"IF(D4747=\"Cash and Deposits\",IF(E4747=\"\",\"BANK NAME REQUIRED\",IF(ISERROR(VLOOKUP(E4747,'Reference Data'!C:C,1,FALSE)),\"PLEASE SELECT A BANK FROM DEFINED LIST PROVIDED\",\"\")),\"\")","v":""},"No Entry",0]
[null,null,null,null,null,null,null,null,null,null,null,null,"",{"$f":"IF(D4748=\"Cash and Deposits\",IF(E4748=\"\",\"BANK NAME REQUIRED\",IF(ISERROR(VLOOKUP(E4748,'Reference Data'!C:C,1,FALSE)),\"PLEASE SELECT A BANK FROM DEFINED LIST PROVIDED\",\"\")),\"\")","v":""},"No Entry",0]
[null,null,null,null,null,null,null,null,null,null,null,null,"",{"$f":"IF(D4749=\"Cash and Deposits\",IF(E4749=\"\",\"BANK NAME REQUIRED\",IF(ISERROR(VLOOKUP(E4749,'Reference Data'!C:C,1,FALSE)),\"PLEASE SELECT A BANK FROM DEFINED LIST PROVIDED\",\"\")),\"\")","v":""},"No Entry",0]
[null,null,null,null,null,null,null,null,null,null,null,null,"",{"$f":"IF(D4750=\"Cash and Deposits\",IF(E4750=\"\",\"BANK NAME REQUIRED\",IF(ISERROR(VLOOKUP(E4750,'Reference Data'!C:C,1,FALSE)),\"PLEASE SELECT A BANK FROM DEFINED LIST PROVIDED\",\"\")),\"\")","v":""},"No Entry",0]
[null,null,null,null,null,null,null,null,null,null,null,null,"",{"$f":"IF(D4751=\"Cash and Deposits\",IF(E4751=\"\",\"BANK NAME REQUIRED\",IF(ISERROR(VLOOKUP(E4751,'Reference Data'!C:C,1,FALSE)),\"PLEASE SELECT A BANK FROM DEFINED LIST PROVIDED\",\"\")),\"\")","v":""},"No Entry",0]
[null,null,null,null,null,null,null,null,null,null,null,null,"",{"$f":"IF(D4752=\"Cash and Deposits\",IF(E4752=\"\",\"BANK NAME REQUIRED\",IF(ISERROR(VLOOKUP(E4752,'Reference Data'!C:C,1,FALSE)),\"PLEASE SELECT A BANK FROM DEFINED LIST PROVIDED\",\"\")),\"\")","v":""},"No Entry",0]
[null,null,null,null,null,null,null,null,null,null,null,null,"",{"$f":"IF(D4753=\"Cash and Deposits\",IF(E4753=\"\",\"BANK NAME REQUIRED\",IF(ISERROR(VLOOKUP(E4753,'Reference Data'!C:C,1,FALSE)),\"PLEASE SELECT A BANK FROM DEFINED LIST PROVIDED\",\"\")),\"\")","v":""},"No Entry",0]
[null,null,null,null,null,null,null,null,null,null,null,null,"",{"$f":"IF(D4754=\"Cash and Deposits\",IF(E4754=\"\",\"BANK NAME REQUIRED\",IF(ISERROR(VLOOKUP(E4754,'Reference Data'!C:C,1,FALSE)),\"PLEASE SELECT A BANK FROM DEFINED LIST PROVIDED\",\"\")),\"\")","v":""},"No Entry",0]
[null,null,null,null,null,null,null,null,null,null,null,null,"",{"$f":"IF(D4755=\"Cash and Deposits\",IF(E4755=\"\",\"BANK NAME REQUIRED\",IF(ISERROR(VLOOKUP(E4755,'Reference Data'!C:C,1,FALSE)),\"PLEASE SELECT A BANK FROM DEFINED LIST PROVIDED\",\"\")),\"\")","v":""},"No Entry",0]
[null,null,null,null,null,null,null,null,null,null,null,null,"",{"$f":"IF(D4756=\"Cash and Deposits\",IF(E4756=\"\",\"BANK NAME REQUIRED\",IF(ISERROR(VLOOKUP(E4756,'Reference Data'!C:C,1,FALSE)),\"PLEASE SELECT A BANK FROM DEFINED LIST PROVIDED\",\"\")),\"\")","v":""},"No Entry",0]
[null,null,null,null,null,null,null,null,null,null,null,null,"",{"$f":"IF(D4757=\"Cash and Deposits\",IF(E4757=\"\",\"BANK NAME REQUIRED\",IF(ISERROR(VLOOKUP(E4757,'Reference Data'!C:C,1,FALSE)),\"PLEASE SELECT A BANK FROM DEFINED LIST PROVIDED\",\"\")),\"\")","v":""},"No Entry",0]
[null,null,null,null,null,null,null,null,null,null,null,null,"",{"$f":"IF(D4758=\"Cash and Deposits\",IF(E4758=\"\",\"BANK NAME REQUIRED\",IF(ISERROR(VLOOKUP(E4758,'Reference Data'!C:C,1,FALSE)),\"PLEASE SELECT A BANK FROM DEFINED LIST PROVIDED\",\"\")),\"\")","v":""},"No Entry",0]
[null,null,null,null,null,null,null,null,null,null,null,null,"",{"$f":"IF(D4759=\"Cash and Deposits\",IF(E4759=\"\",\"BANK NAME REQUIRED\",IF(ISERROR(VLOOKUP(E4759,'Reference Data'!C:C,1,FALSE)),\"PLEASE SELECT A BANK FROM DEFINED LIST PROVIDED\",\"\")),\"\")","v":""},"No Entry",0]
[null,null,null,null,null,null,null,null,null,null,null,null,"",{"$f":"IF(D4760=\"Cash and Deposits\",IF(E4760=\"\",\"BANK NAME REQUIRED\",IF(ISERROR(VLOOKUP(E4760,'Reference Data'!C:C,1,FALSE)),\"PLEASE SELECT A BANK FROM DEFINED LIST PROVIDED\",\"\")),\"\")","v":""},"No Entry",0]
[null,null,null,null,null,null,null,null,null,null,null,null,"",{"$f":"IF(D4761=\"Cash and Deposits\",IF(E4761=\"\",\"BANK NAME REQUIRED\",IF(ISERROR(VLOOKUP(E4761,'Reference Data'!C:C,1,FALSE)),\"PLEASE SELECT A BANK FROM DEFINED LIST PROVIDED\",\"\")),\"\")","v":""},"No Entry",0]
[null,null,null,null,null,null,null,null,null,null,null,null,"",{"$f":"IF(D4762=\"Cash and Deposits\",IF(E4762=\"\",\"BANK NAME REQUIRED\",IF(ISERROR(VLOOKUP(E4762,'Reference Data'!C:C,1,FALSE)),\"PLEASE SELECT A BANK FROM DEFINED LIST PROVIDED\",\"\")),\"\")","v":""},"No Entry",0]
[null,null,null,null,null,null,null,null,null,null,null,null,"",{"$f":"IF(D4763=\"Cash and Deposits\",IF(E4763=\"\",\"BANK NAME REQUIRED\",IF(ISERROR(VLOOKUP(E4763,'Reference Data'!C:C,1,FALSE)),\"PLEASE SELECT A BANK FROM DEFINED LIST PROVIDED\",\"\")),\"\")","v":""},"No Entry",0]
[null,null,null,null,null,null,null,null,null,null,null,null,"",{"$f":"IF(D4764=\"Cash and Deposits\",IF(E4764=\"\",\"BANK NAME REQUIRED\",IF(ISERROR(VLOOKUP(E4764,'Reference Data'!C:C,1,FALSE)),\"PLEASE SELECT A BANK FROM DEFINED LIST PROVIDED\",\"\")),\"\")","v":""},"No Entry",0]
[null,null,null,null,null,null,null,null,null,null,null,null,"",{"$f":"IF(D4765=\"Cash and Deposits\",IF(E4765=\"\",\"BANK NAME REQUIRED\",IF(ISERROR(VLOOKUP(E4765,'Reference Data'!C:C,1,FALSE)),\"PLEASE SELECT A BANK FROM DEFINED LIST PROVIDED\",\"\")),\"\")","v":""},"No Entry",0]
[null,null,null,null,null,null,null,null,null,null,null,null,"",{"$f":"IF(D4766=\"Cash and Deposits\",IF(E4766=\"\",\"BANK NAME REQUIRED\",IF(ISERROR(VLOOKUP(E4766,'Reference Data'!C:C,1,FALSE)),\"PLEASE SELECT A BANK FROM DEFINED LIST PROVIDED\",\"\")),\"\")","v":""},"No Entry",0]
[null,null,null,null,null,null,null,null,null,null,null,null,"",{"$f":"IF(D4767=\"Cash and Deposits\",IF(E4767=\"\",\"BANK NAME REQUIRED\",IF(ISERROR(VLOOKUP(E4767,'Reference Data'!C:C,1,FALSE)),\"PLEASE SELECT A BANK FROM DEFINED LIST PROVIDED\",\"\")),\"\")","v":""},"No Entry",0]
[null,null,null,null,null,null,null,null,null,null,null,null,"",{"$f":"IF(D4768=\"Cash and Deposits\",IF(E4768=\"\",\"BANK NAME REQUIRED\",IF(ISERROR(VLOOKUP(E4768,'Reference Data'!C:C,1,FALSE)),\"PLEASE SELECT A BANK FROM DEFINED LIST PROVIDED\",\"\")),\"\")","v":""},"No Entry",0]
[null,null,null,null,null,null,null,null,null,null,null,null,"",{"$f":"IF(D4769=\"Cash and Deposits\",IF(E4769=\"\",\"BANK NAME REQUIRED\",IF(ISERROR(VLOOKUP(E4769,'Reference Data'!C:C,1,FALSE)),\"PLEASE SELECT A BANK FROM DEFINED LIST PROVIDED\",\"\")),\"\")","v":""},"No Entry",0]
[null,null,null,null,null,null,null,null,null,null,null,null,"",{"$f":"IF(D4770=\"Cash and Deposits\",IF(E4770=\"\",\"BANK NAME REQUIRED\",IF(ISERROR(VLOOKUP(E4770,'Reference Data'!C:C,1,FALSE)),\"PLEASE SELECT A BANK FROM DEFINED LIST PROVIDED\",\"\")),\"\")","v":""},"No Entry",0]
[null,null,null,null,null,null,null,null,null,null,null,null,"",{"$f":"IF(D4771=\"Cash and Deposits\",IF(E4771=\"\",\"BANK NAME REQUIRED\",IF(ISERROR(VLOOKUP(E4771,'Reference Data'!C:C,1,FALSE)),\"PLEASE SELECT A BANK FROM DEFINED LIST PROVIDED\",\"\")),\"\")","v":""},"No Entry",0]
[null,null,null,null,null,null,null,null,null,null,null,null,"",{"$f":"IF(D4772=\"Cash and Deposits\",IF(E4772=\"\",\"BANK NAME REQUIRED\",IF(ISERROR(VLOOKUP(E4772,'Reference Data'!C:C,1,FALSE)),\"PLEASE SELECT A BANK FROM DEFINED LIST PROVIDED\",\"\")),\"\")","v":""},"No Entry",0]
[null,null,null,null,null,null,null,null,null,null,null,null,"",{"$f":"IF(D4773=\"Cash and Deposits\",IF(E4773=\"\",\"BANK NAME REQUIRED\",IF(ISERROR(VLOOKUP(E4773,'Reference Data'!C:C,1,FALSE)),\"PLEASE SELECT A BANK FROM DEFINED LIST PROVIDED\",\"\")),\"\")","v":""},"No Entry",0]
[null,null,null,null,null,null,null,null,null,null,null,null,"",{"$f":"IF(D4774=\"Cash and Deposits\",IF(E4774=\"\",\"BANK NAME REQUIRED\",IF(ISERROR(VLOOKUP(E4774,'Reference Data'!C:C,1,FALSE)),\"PLEASE SELECT A BANK FROM DEFINED LIST PROVIDED\",\"\")),\"\")","v":""},"No Entry",0]
[null,null,null,null,null,null,null,null,null,null,null,null,"",{"$f":"IF(D4775=\"Cash and Deposits\",IF(E4775=\"\",\"BANK NAME REQUIRED\",IF(ISERROR(VLOOKUP(E4775,'Reference Data'!C:C,1,FALSE)),\"PLEASE SELECT A BANK FROM DEFINED LIST PROVIDED\",\"\")),\"\")","v":""},"No Entry",0]
[null,null,null,null,null,null,null,null,null,null,null,null,"",{"$f":"IF(D4776=\"Cash and Deposits\",IF(E4776=\"\",\"BANK NAME REQUIRED\",IF(ISERROR(VLOOKUP(E4776,'Reference Data'!C:C,1,FALSE)),\"PLEASE SELECT A BANK FROM DEFINED LIST PROVIDED\",\"\")),\"\")","v":""},"No Entry",0]
[null,null,null,null,null,null,null,null,null,null,null,null,"",{"$f":"IF(D4777=\"Cash and Deposits\",IF(E4777=\"\",\"BANK NAME REQUIRED\",IF(ISERROR(VLOOKUP(E4777,'Reference Data'!C:C,1,FALSE)),\"PLEASE SELECT A BANK FROM DEFINED LIST PROVIDED\",\"\")),\"\")","v":""},"No Entry",0]
[null,null,null,null,null,null,null,null,null,null,null,null,"",{"$f":"IF(D4778=\"Cash and Deposits\",IF(E4778=\"\",\"BANK NAME REQUIRED\",IF(ISERROR(VLOOKUP(E4778,'Reference Data'!C:C,1,FALSE)),\"PLEASE SELECT A BANK FROM DEFINED LIST PROVIDED\",\"\")),\"\")","v":""},"No Entry",0]
[null,null,null,null,null,null,null,null,null,null,null,null,"",{"$f":"IF(D4779=\"Cash and Deposits\",IF(E4779=\"\",\"BANK NAME REQUIRED\",IF(ISERROR(VLOOKUP(E4779,'Reference Data'!C:C,1,FALSE)),\"PLEASE SELECT A BANK FROM DEFINED LIST PROVIDED\",\"\")),\"\")","v":""},"No Entry",0]
[null,null,null,null,null,null,null,null,null,null,null,null,"",{"$f":"IF(D4780=\"Cash and Deposits\",IF(E4780=\"\",\"BANK NAME REQUIRED\",IF(ISERROR(VLOOKUP(E4780,'Reference Data'!C:C,1,FALSE)),\"PLEASE SELECT A BANK FROM DEFINED LIST PROVIDED\",\"\")),\"\")","v":""},"No Entry",0]
[null,null,null,null,null,null,null,null,null,null,null,null,"",{"$f":"IF(D4781=\"Cash and Deposits\",IF(E4781=\"\",\"BANK NAME REQUIRED\",IF(ISERROR(VLOOKUP(E4781,'Reference Data'!C:C,1,FALSE)),\"PLEASE SELECT A BANK FROM DEFINED LIST PROVIDED\",\"\")),\"\")","v":""},"No Entry",0]
[null,null,null,null,null,null,null,null,null,null,null,null,"",{"$f":"IF(D4782=\"Cash and Deposits\",IF(E4782=\"\",\"BANK NAME REQUIRED\",IF(ISERROR(VLOOKUP(E4782,'Reference Data'!C:C,1,FALSE)),\"PLEASE SELECT A BANK FROM DEFINED LIST PROVIDED\",\"\")),\"\")","v":""},"No Entry",0]
[null,null,null,null,null,null,null,null,null,null,null,null,"",{"$f":"IF(D4783=\"Cash and Deposits\",IF(E4783=\"\",\"BANK NAME REQUIRED\",IF(ISERROR(VLOOKUP(E4783,'Reference Data'!C:C,1,FALSE)),\"PLEASE SELECT A BANK FROM DEFINED LIST PROVIDED\",\"\")),\"\")","v":""},"No Entry",0]
[null,null,null,null,null,null,null,null,null,null,null,null,"",{"$f":"IF(D4784=\"Cash and Deposits\",IF(E4784=\"\",\"BANK NAME REQUIRED\",IF(ISERROR(VLOOKUP(E4784,'Reference Data'!C:C,1,FALSE)),\"PLEASE SELECT A BANK FROM DEFINED LIST PROVIDED\",\"\")),\"\")","v":""},"No Entry",0]
[null,null,null,null,null,null,null,null,null,null,null,null,"",{"$f":"IF(D4785=\"Cash and Deposits\",IF(E4785=\"\",\"BANK NAME REQUIRED\",IF(ISERROR(VLOOKUP(E4785,'Reference Data'!C:C,1,FALSE)),\"PLEASE SELECT A BANK FROM DEFINED LIST PROVIDED\",\"\")),\"\")","v":""},"No Entry",0]
[null,null,null,null,null,null,null,null,null,null,null,null,"",{"$f":"IF(D4786=\"Cash and Deposits\",IF(E4786=\"\",\"BANK NAME REQUIRED\",IF(ISERROR(VLOOKUP(E4786,'Reference Data'!C:C,1,FALSE)),\"PLEASE SELECT A BANK FROM DEFINED LIST PROVIDED\",\"\")),\"\")","v":""},"No Entry",0]
[null,null,null,null,null,null,null,null,null,null,null,null,"",{"$f":"IF(D4787=\"Cash and Deposits\",IF(E4787=\"\",\"BANK NAME REQUIRED\",IF(ISERROR(VLOOKUP(E4787,'Reference Data'!C:C,1,FALSE)),\"PLEASE SELECT A BANK FROM DEFINED LIST PROVIDED\",\"\")),\"\")","v":""},"No Entry",0]
[null,null,null,null,null,null,null,null,null,null,null,null,"",{"$f":"IF(D4788=\"Cash and Deposits\",IF(E4788=\"\",\"BANK NAME REQUIRED\",IF(ISERROR(VLOOKUP(E4788,'Reference Data'!C:C,1,FALSE)),\"PLEASE SELECT A BANK FROM DEFINED LIST PROVIDED\",\"\")),\"\")","v":""},"No Entry",0]
[null,null,null,null,null,null,null,null,null,null,null,null,"",{"$f":"IF(D4789=\"Cash and Deposits\",IF(E4789=\"\",\"BANK NAME REQUIRED\",IF(ISERROR(VLOOKUP(E4789,'Reference Data'!C:C,1,FALSE)),\"PLEASE SELECT A BANK FROM DEFINED LIST PROVIDED\",\"\")),\"\")","v":""},"No Entry",0]
[null,null,null,null,null,null,null,null,null,null,null,null,"",{"$f":"IF(D4790=\"Cash and Deposits\",IF(E4790=\"\",\"BANK NAME REQUIRED\",IF(ISERROR(VLOOKUP(E4790,'Reference Data'!C:C,1,FALSE)),\"PLEASE SELECT A BANK FROM DEFINED LIST PROVIDED\",\"\")),\"\")","v":""},"No Entry",0]
[null,null,null,null,null,null,null,null,null,null,null,null,"",{"$f":"IF(D4791=\"Cash and Deposits\",IF(E4791=\"\",\"BANK NAME REQUIRED\",IF(ISERROR(VLOOKUP(E4791,'Reference Data'!C:C,1,FALSE)),\"PLEASE SELECT A BANK FROM DEFINED LIST PROVIDED\",\"\")),\"\")","v":""},"No Entry",0]
[null,null,null,null,null,null,null,null,null,null,null,null,"",{"$f":"IF(D4792=\"Cash and Deposits\",IF(E4792=\"\",\"BANK NAME REQUIRED\",IF(ISERROR(VLOOKUP(E4792,'Reference Data'!C:C,1,FALSE)),\"PLEASE SELECT A BANK FROM DEFINED LIST PROVIDED\",\"\")),\"\")","v":""},"No Entry",0]
[null,null,null,null,null,null,null,null,null,null,null,null,"",{"$f":"IF(D4793=\"Cash and Deposits\",IF(E4793=\"\",\"BANK NAME REQUIRED\",IF(ISERROR(VLOOKUP(E4793,'Reference Data'!C:C,1,FALSE)),\"PLEASE SELECT A BANK FROM DEFINED LIST PROVIDED\",\"\")),\"\")","v":""},"No Entry",0]
[null,null,null,null,null,null,null,null,null,null,null,null,"",{"$f":"IF(D4794=\"Cash and Deposits\",IF(E4794=\"\",\"BANK NAME REQUIRED\",IF(ISERROR(VLOOKUP(E4794,'Reference Data'!C:C,1,FALSE)),\"PLEASE SELECT A BANK FROM DEFINED LIST PROVIDED\",\"\")),\"\")","v":""},"No Entry",0]
[null,null,null,null,null,null,null,null,null,null,null,null,"",{"$f":"IF(D4795=\"Cash and Deposits\",IF(E4795=\"\",\"BANK NAME REQUIRED\",IF(ISERROR(VLOOKUP(E4795,'Reference Data'!C:C,1,FALSE)),\"PLEASE SELECT A BANK FROM DEFINED LIST PROVIDED\",\"\")),\"\")","v":""},"No Entry",0]
[null,null,null,null,null,null,null,null,null,null,null,null,"",{"$f":"IF(D4796=\"Cash and Deposits\",IF(E4796=\"\",\"BANK NAME REQUIRED\",IF(ISERROR(VLOOKUP(E4796,'Reference Data'!C:C,1,FALSE)),\"PLEASE SELECT A BANK FROM DEFINED LIST PROVIDED\",\"\")),\"\")","v":""},"No Entry",0]
[null,null,null,null,null,null,null,null,null,null,null,null,"",{"$f":"IF(D4797=\"Cash and Deposits\",IF(E4797=\"\",\"BANK NAME REQUIRED\",IF(ISERROR(VLOOKUP(E4797,'Reference Data'!C:C,1,FALSE)),\"PLEASE SELECT A BANK FROM DEFINED LIST PROVIDED\",\"\")),\"\")","v":""},"No Entry",0]
[null,null,null,null,null,null,null,null,null,null,null,null,"",{"$f":"IF(D4798=\"Cash and Deposits\",IF(E4798=\"\",\"BANK NAME REQUIRED\",IF(ISERROR(VLOOKUP(E4798,'Reference Data'!C:C,1,FALSE)),\"PLEASE SELECT A BANK FROM DEFINED LIST PROVIDED\",\"\")),\"\")","v":""},"No Entry",0]
[null,null,null,null,null,null,null,null,null,null,null,null,"",{"$f":"IF(D4799=\"Cash and Deposits\",IF(E4799=\"\",\"BANK NAME REQUIRED\",IF(ISERROR(VLOOKUP(E4799,'Reference Data'!C:C,1,FALSE)),\"PLEASE SELECT A BANK FROM DEFINED LIST PROVIDED\",\"\")),\"\")","v":""},"No Entry",0]
[null,null,null,null,null,null,null,null,null,null,null,null,"",{"$f":"IF(D4800=\"Cash and Deposits\",IF(E4800=\"\",\"BANK NAME REQUIRED\",IF(ISERROR(VLOOKUP(E4800,'Reference Data'!C:C,1,FALSE)),\"PLEASE SELECT A BANK FROM DEFINED LIST PROVIDED\",\"\")),\"\")","v":""},"No Entry",0]
[null,null,null,null,null,null,null,null,null,null,null,null,"",{"$f":"IF(D4801=\"Cash and Deposits\",IF(E4801=\"\",\"BANK NAME REQUIRED\",IF(ISERROR(VLOOKUP(E4801,'Reference Data'!C:C,1,FALSE)),\"PLEASE SELECT A BANK FROM DEFINED LIST PROVIDED\",\"\")),\"\")","v":""},"No Entry",0]
[null,null,null,null,null,null,null,null,null,null,null,null,"",{"$f":"IF(D4802=\"Cash and Deposits\",IF(E4802=\"\",\"BANK NAME REQUIRED\",IF(ISERROR(VLOOKUP(E4802,'Reference Data'!C:C,1,FALSE)),\"PLEASE SELECT A BANK FROM DEFINED LIST PROVIDED\",\"\")),\"\")","v":""},"No Entry",0]
[null,null,null,null,null,null,null,null,null,null,null,null,"",{"$f":"IF(D4803=\"Cash and Deposits\",IF(E4803=\"\",\"BANK NAME REQUIRED\",IF(ISERROR(VLOOKUP(E4803,'Reference Data'!C:C,1,FALSE)),\"PLEASE SELECT A BANK FROM DEFINED LIST PROVIDED\",\"\")),\"\")","v":""},"No Entry",0]
[null,null,null,null,null,null,null,null,null,null,null,null,"",{"$f":"IF(D4804=\"Cash and Deposits\",IF(E4804=\"\",\"BANK NAME REQUIRED\",IF(ISERROR(VLOOKUP(E4804,'Reference Data'!C:C,1,FALSE)),\"PLEASE SELECT A BANK FROM DEFINED LIST PROVIDED\",\"\")),\"\")","v":""},"No Entry",0]
[null,null,null,null,null,null,null,null,null,null,null,null,{"$f":"IF(K4805<>0,IF(B4805=\"\",\"ID CODE REQUIRED\",\"\"),\"\")","v":""},{"$f":"IF(D4805=\"Cash and Deposits\",IF(E4805=\"\",\"BANK NAME REQUIRED\",IF(ISERROR(VLOOKUP(E4805,'Reference Data'!C:C,1,FALSE)),\"PLEASE SELECT A BANK FROM DEFINED LIST PROVIDED\",\"\")),\"\")","v":""},{"$f":"IF(K4805=0,\"No Entry\",\"\")","v":"No Entry"},{"$f":"IF(K4805<>0,IF(A4805=\"\",1,0),0)","v":0}]
[null,null,null,null,null,null,null,null,null,null,null,null,"",{"$f":"IF(D4806=\"Cash and Deposits\",IF(E4806=\"\",\"BANK NAME REQUIRED\",IF(ISERROR(VLOOKUP(E4806,'Reference Data'!C:C,1,FALSE)),\"PLEASE SELECT A BANK FROM DEFINED LIST PROVIDED\",\"\")),\"\")","v":""},"No Entry",0]
[null,null,null,null,null,null,null,null,null,null,null,null,"",{"$f":"IF(D4807=\"Cash and Deposits\",IF(E4807=\"\",\"BANK NAME REQUIRED\",IF(ISERROR(VLOOKUP(E4807,'Reference Data'!C:C,1,FALSE)),\"PLEASE SELECT A BANK FROM DEFINED LIST PROVIDED\",\"\")),\"\")","v":""},"No Entry",0]
[null,null,null,null,null,null,null,null,null,null,null,null,"",{"$f":"IF(D4808=\"Cash and Deposits\",IF(E4808=\"\",\"BANK NAME REQUIRED\",IF(ISERROR(VLOOKUP(E4808,'Reference Data'!C:C,1,FALSE)),\"PLEASE SELECT A BANK FROM DEFINED LIST PROVIDED\",\"\")),\"\")","v":""},"No Entry",0]
[null,null,null,null,null,null,null,null,null,null,null,null,"",{"$f":"IF(D4809=\"Cash and Deposits\",IF(E4809=\"\",\"BANK NAME REQUIRED\",IF(ISERROR(VLOOKUP(E4809,'Reference Data'!C:C,1,FALSE)),\"PLEASE SELECT A BANK FROM DEFINED LIST PROVIDED\",\"\")),\"\")","v":""},"No Entry",0]
[null,null,null,null,null,null,null,null,null,null,null,null,"",{"$f":"IF(D4810=\"Cash and Deposits\",IF(E4810=\"\",\"BANK NAME REQUIRED\",IF(ISERROR(VLOOKUP(E4810,'Reference Data'!C:C,1,FALSE)),\"PLEASE SELECT A BANK FROM DEFINED LIST PROVIDED\",\"\")),\"\")","v":""},"No Entry",0]
[null,null,null,null,null,null,null,null,null,null,null,null,"",{"$f":"IF(D4811=\"Cash and Deposits\",IF(E4811=\"\",\"BANK NAME REQUIRED\",IF(ISERROR(VLOOKUP(E4811,'Reference Data'!C:C,1,FALSE)),\"PLEASE SELECT A BANK FROM DEFINED LIST PROVIDED\",\"\")),\"\")","v":""},"No Entry",0]
[null,null,null,null,null,null,null,null,null,null,null,null,"",{"$f":"IF(D4812=\"Cash and Deposits\",IF(E4812=\"\",\"BANK NAME REQUIRED\",IF(ISERROR(VLOOKUP(E4812,'Reference Data'!C:C,1,FALSE)),\"PLEASE SELECT A BANK FROM DEFINED LIST PROVIDED\",\"\")),\"\")","v":""},"No Entry",0]
[null,null,null,null,null,null,null,null,null,null,null,null,"",{"$f":"IF(D4813=\"Cash and Deposits\",IF(E4813=\"\",\"BANK NAME REQUIRED\",IF(ISERROR(VLOOKUP(E4813,'Reference Data'!C:C,1,FALSE)),\"PLEASE SELECT A BANK FROM DEFINED LIST PROVIDED\",\"\")),\"\")","v":""},"No Entry",0]
[null,null,null,null,null,null,null,null,null,null,null,null,"",{"$f":"IF(D4814=\"Cash and Deposits\",IF(E4814=\"\",\"BANK NAME REQUIRED\",IF(ISERROR(VLOOKUP(E4814,'Reference Data'!C:C,1,FALSE)),\"PLEASE SELECT A BANK FROM DEFINED LIST PROVIDED\",\"\")),\"\")","v":""},"No Entry",0]
[null,null,null,null,null,null,null,null,null,null,null,null,"",{"$f":"IF(D4815=\"Cash and Deposits\",IF(E4815=\"\",\"BANK NAME REQUIRED\",IF(ISERROR(VLOOKUP(E4815,'Reference Data'!C:C,1,FALSE)),\"PLEASE SELECT A BANK FROM DEFINED LIST PROVIDED\",\"\")),\"\")","v":""},"No Entry",0]
[null,null,null,null,null,null,null,null,null,null,null,null,"",{"$f":"IF(D4816=\"Cash and Deposits\",IF(E4816=\"\",\"BANK NAME REQUIRED\",IF(ISERROR(VLOOKUP(E4816,'Reference Data'!C:C,1,FALSE)),\"PLEASE SELECT A BANK FROM DEFINED LIST PROVIDED\",\"\")),\"\")","v":""},"No Entry",0]
[null,null,null,null,null,null,null,null,null,null,null,null,"",{"$f":"IF(D4817=\"Cash and Deposits\",IF(E4817=\"\",\"BANK NAME REQUIRED\",IF(ISERROR(VLOOKUP(E4817,'Reference Data'!C:C,1,FALSE)),\"PLEASE SELECT A BANK FROM DEFINED LIST PROVIDED\",\"\")),\"\")","v":""},"No Entry",0]
[null,null,null,null,null,null,null,null,null,null,null,null,"",{"$f":"IF(D4818=\"Cash and Deposits\",IF(E4818=\"\",\"BANK NAME REQUIRED\",IF(ISERROR(VLOOKUP(E4818,'Reference Data'!C:C,1,FALSE)),\"PLEASE SELECT A BANK FROM DEFINED LIST PROVIDED\",\"\")),\"\")","v":""},"No Entry",0]
[null,null,null,null,null,null,null,null,null,null,null,null,"",{"$f":"IF(D4819=\"Cash and Deposits\",IF(E4819=\"\",\"BANK NAME REQUIRED\",IF(ISERROR(VLOOKUP(E4819,'Reference Data'!C:C,1,FALSE)),\"PLEASE SELECT A BANK FROM DEFINED LIST PROVIDED\",\"\")),\"\")","v":""},"No Entry",0]
[null,null,null,null,null,null,null,null,null,null,null,null,"",{"$f":"IF(D4820=\"Cash and Deposits\",IF(E4820=\"\",\"BANK NAME REQUIRED\",IF(ISERROR(VLOOKUP(E4820,'Reference Data'!C:C,1,FALSE)),\"PLEASE SELECT A BANK FROM DEFINED LIST PROVIDED\",\"\")),\"\")","v":""},"No Entry",0]
[null,null,null,null,null,null,null,null,null,null,null,null,"",{"$f":"IF(D4821=\"Cash and Deposits\",IF(E4821=\"\",\"BANK NAME REQUIRED\",IF(ISERROR(VLOOKUP(E4821,'Reference Data'!C:C,1,FALSE)),\"PLEASE SELECT A BANK FROM DEFINED LIST PROVIDED\",\"\")),\"\")","v":""},"No Entry",0]
[null,null,null,null,null,null,null,null,null,null,null,null,"",{"$f":"IF(D4822=\"Cash and Deposits\",IF(E4822=\"\",\"BANK NAME REQUIRED\",IF(ISERROR(VLOOKUP(E4822,'Reference Data'!C:C,1,FALSE)),\"PLEASE SELECT A BANK FROM DEFINED LIST PROVIDED\",\"\")),\"\")","v":""},"No Entry",0]
[null,null,null,null,null,null,null,null,null,null,null,null,"",{"$f":"IF(D4823=\"Cash and Deposits\",IF(E4823=\"\",\"BANK NAME REQUIRED\",IF(ISERROR(VLOOKUP(E4823,'Reference Data'!C:C,1,FALSE)),\"PLEASE SELECT A BANK FROM DEFINED LIST PROVIDED\",\"\")),\"\")","v":""},"No Entry",0]
[null,null,null,null,null,null,null,null,null,null,null,null,"",{"$f":"IF(D4824=\"Cash and Deposits\",IF(E4824=\"\",\"BANK NAME REQUIRED\",IF(ISERROR(VLOOKUP(E4824,'Reference Data'!C:C,1,FALSE)),\"PLEASE SELECT A BANK FROM DEFINED LIST PROVIDED\",\"\")),\"\")","v":""},"No Entry",0]
[null,null,null,null,null,null,null,null,null,null,null,null,"",{"$f":"IF(D4825=\"Cash and Deposits\",IF(E4825=\"\",\"BANK NAME REQUIRED\",IF(ISERROR(VLOOKUP(E4825,'Reference Data'!C:C,1,FALSE)),\"PLEASE SELECT A BANK FROM DEFINED LIST PROVIDED\",\"\")),\"\")","v":""},"No Entry",0]
[null,null,null,null,null,null,null,null,null,null,null,null,"",{"$f":"IF(D4826=\"Cash and Deposits\",IF(E4826=\"\",\"BANK NAME REQUIRED\",IF(ISERROR(VLOOKUP(E4826,'Reference Data'!C:C,1,FALSE)),\"PLEASE SELECT A BANK FROM DEFINED LIST PROVIDED\",\"\")),\"\")","v":""},"No Entry",0]
[null,null,null,null,null,null,null,null,null,null,null,null,"",{"$f":"IF(D4827=\"Cash and Deposits\",IF(E4827=\"\",\"BANK NAME REQUIRED\",IF(ISERROR(VLOOKUP(E4827,'Reference Data'!C:C,1,FALSE)),\"PLEASE SELECT A BANK FROM DEFINED LIST PROVIDED\",\"\")),\"\")","v":""},"No Entry",0]
[null,null,null,null,null,null,null,null,null,null,null,null,"",{"$f":"IF(D4828=\"Cash and Deposits\",IF(E4828=\"\",\"BANK NAME REQUIRED\",IF(ISERROR(VLOOKUP(E4828,'Reference Data'!C:C,1,FALSE)),\"PLEASE SELECT A BANK FROM DEFINED LIST PROVIDED\",\"\")),\"\")","v":""},"No Entry",0]
[null,null,null,null,null,null,null,null,null,null,null,null,"",{"$f":"IF(D4829=\"Cash and Deposits\",IF(E4829=\"\",\"BANK NAME REQUIRED\",IF(ISERROR(VLOOKUP(E4829,'Reference Data'!C:C,1,FALSE)),\"PLEASE SELECT A BANK FROM DEFINED LIST PROVIDED\",\"\")),\"\")","v":""},"No Entry",0]
[null,null,null,null,null,null,null,null,null,null,null,null,"",{"$f":"IF(D4830=\"Cash and Deposits\",IF(E4830=\"\",\"BANK NAME REQUIRED\",IF(ISERROR(VLOOKUP(E4830,'Reference Data'!C:C,1,FALSE)),\"PLEASE SELECT A BANK FROM DEFINED LIST PROVIDED\",\"\")),\"\")","v":""},"No Entry",0]
[null,null,null,null,null,null,null,null,null,null,null,null,"",{"$f":"IF(D4831=\"Cash and Deposits\",IF(E4831=\"\",\"BANK NAME REQUIRED\",IF(ISERROR(VLOOKUP(E4831,'Reference Data'!C:C,1,FALSE)),\"PLEASE SELECT A BANK FROM DEFINED LIST PROVIDED\",\"\")),\"\")","v":""},"No Entry",0]
[null,null,null,null,null,null,null,null,null,null,null,null,"",{"$f":"IF(D4832=\"Cash and Deposits\",IF(E4832=\"\",\"BANK NAME REQUIRED\",IF(ISERROR(VLOOKUP(E4832,'Reference Data'!C:C,1,FALSE)),\"PLEASE SELECT A BANK FROM DEFINED LIST PROVIDED\",\"\")),\"\")","v":""},"No Entry",0]
[null,null,null,null,null,null,null,null,null,null,null,null,"",{"$f":"IF(D4833=\"Cash and Deposits\",IF(E4833=\"\",\"BANK NAME REQUIRED\",IF(ISERROR(VLOOKUP(E4833,'Reference Data'!C:C,1,FALSE)),\"PLEASE SELECT A BANK FROM DEFINED LIST PROVIDED\",\"\")),\"\")","v":""},"No Entry",0]
[null,null,null,null,null,null,null,null,null,null,null,null,"",{"$f":"IF(D4834=\"Cash and Deposits\",IF(E4834=\"\",\"BANK NAME REQUIRED\",IF(ISERROR(VLOOKUP(E4834,'Reference Data'!C:C,1,FALSE)),\"PLEASE SELECT A BANK FROM DEFINED LIST PROVIDED\",\"\")),\"\")","v":""},"No Entry",0]
[null,null,null,null,null,null,null,null,null,null,null,null,"",{"$f":"IF(D4835=\"Cash and Deposits\",IF(E4835=\"\",\"BANK NAME REQUIRED\",IF(ISERROR(VLOOKUP(E4835,'Reference Data'!C:C,1,FALSE)),\"PLEASE SELECT A BANK FROM DEFINED LIST PROVIDED\",\"\")),\"\")","v":""},"No Entry",0]
[null,null,null,null,null,null,null,null,null,null,null,null,"",{"$f":"IF(D4836=\"Cash and Deposits\",IF(E4836=\"\",\"BANK NAME REQUIRED\",IF(ISERROR(VLOOKUP(E4836,'Reference Data'!C:C,1,FALSE)),\"PLEASE SELECT A BANK FROM DEFINED LIST PROVIDED\",\"\")),\"\")","v":""},"No Entry",0]
[null,null,null,null,null,null,null,null,null,null,null,null,"",{"$f":"IF(D4837=\"Cash and Deposits\",IF(E4837=\"\",\"BANK NAME REQUIRED\",IF(ISERROR(VLOOKUP(E4837,'Reference Data'!C:C,1,FALSE)),\"PLEASE SELECT A BANK FROM DEFINED LIST PROVIDED\",\"\")),\"\")","v":""},"No Entry",0]
[null,null,null,null,null,null,null,null,null,null,null,null,"",{"$f":"IF(D4838=\"Cash and Deposits\",IF(E4838=\"\",\"BANK NAME REQUIRED\",IF(ISERROR(VLOOKUP(E4838,'Reference Data'!C:C,1,FALSE)),\"PLEASE SELECT A BANK FROM DEFINED LIST PROVIDED\",\"\")),\"\")","v":""},"No Entry",0]
[null,null,null,null,null,null,null,null,null,null,null,null,"",{"$f":"IF(D4839=\"Cash and Deposits\",IF(E4839=\"\",\"BANK NAME REQUIRED\",IF(ISERROR(VLOOKUP(E4839,'Reference Data'!C:C,1,FALSE)),\"PLEASE SELECT A BANK FROM DEFINED LIST PROVIDED\",\"\")),\"\")","v":""},"No Entry",0]
[null,null,null,null,null,null,null,null,null,null,null,null,"",{"$f":"IF(D4840=\"Cash and Deposits\",IF(E4840=\"\",\"BANK NAME REQUIRED\",IF(ISERROR(VLOOKUP(E4840,'Reference Data'!C:C,1,FALSE)),\"PLEASE SELECT A BANK FROM DEFINED LIST PROVIDED\",\"\")),\"\")","v":""},"No Entry",0]
[null,null,null,null,null,null,null,null,null,null,null,null,"",{"$f":"IF(D4841=\"Cash and Deposits\",IF(E4841=\"\",\"BANK NAME REQUIRED\",IF(ISERROR(VLOOKUP(E4841,'Reference Data'!C:C,1,FALSE)),\"PLEASE SELECT A BANK FROM DEFINED LIST PROVIDED\",\"\")),\"\")","v":""},"No Entry",0]
[null,null,null,null,null,null,null,null,null,null,null,null,"",{"$f":"IF(D4842=\"Cash and Deposits\",IF(E4842=\"\",\"BANK NAME REQUIRED\",IF(ISERROR(VLOOKUP(E4842,'Reference Data'!C:C,1,FALSE)),\"PLEASE SELECT A BANK FROM DEFINED LIST PROVIDED\",\"\")),\"\")","v":""},"No Entry",0]
[null,null,null,null,null,null,null,null,null,null,null,null,"",{"$f":"IF(D4843=\"Cash and Deposits\",IF(E4843=\"\",\"BANK NAME REQUIRED\",IF(ISERROR(VLOOKUP(E4843,'Reference Data'!C:C,1,FALSE)),\"PLEASE SELECT A BANK FROM DEFINED LIST PROVIDED\",\"\")),\"\")","v":""},"No Entry",0]
[null,null,null,null,null,null,null,null,null,null,null,null,"",{"$f":"IF(D4844=\"Cash and Deposits\",IF(E4844=\"\",\"BANK NAME REQUIRED\",IF(ISERROR(VLOOKUP(E4844,'Reference Data'!C:C,1,FALSE)),\"PLEASE SELECT A BANK FROM DEFINED LIST PROVIDED\",\"\")),\"\")","v":""},"No Entry",0]
[null,null,null,null,null,null,null,null,null,null,null,null,"",{"$f":"IF(D4845=\"Cash and Deposits\",IF(E4845=\"\",\"BANK NAME REQUIRED\",IF(ISERROR(VLOOKUP(E4845,'Reference Data'!C:C,1,FALSE)),\"PLEASE SELECT A BANK FROM DEFINED LIST PROVIDED\",\"\")),\"\")","v":""},"No Entry",0]
[null,null,null,null,null,null,null,null,null,null,null,null,"",{"$f":"IF(D4846=\"Cash and Deposits\",IF(E4846=\"\",\"BANK NAME REQUIRED\",IF(ISERROR(VLOOKUP(E4846,'Reference Data'!C:C,1,FALSE)),\"PLEASE SELECT A BANK FROM DEFINED LIST PROVIDED\",\"\")),\"\")","v":""},"No Entry",0]
[null,null,null,null,null,null,null,null,null,null,null,null,"",{"$f":"IF(D4847=\"Cash and Deposits\",IF(E4847=\"\",\"BANK NAME REQUIRED\",IF(ISERROR(VLOOKUP(E4847,'Reference Data'!C:C,1,FALSE)),\"PLEASE SELECT A BANK FROM DEFINED LIST PROVIDED\",\"\")),\"\")","v":""},"No Entry",0]
[null,null,null,null,null,null,null,null,null,null,null,null,"",{"$f":"IF(D4848=\"Cash and Deposits\",IF(E4848=\"\",\"BANK NAME REQUIRED\",IF(ISERROR(VLOOKUP(E4848,'Reference Data'!C:C,1,FALSE)),\"PLEASE SELECT A BANK FROM DEFINED LIST PROVIDED\",\"\")),\"\")","v":""},"No Entry",0]
[null,null,null,null,null,null,null,null,null,null,null,null,"",{"$f":"IF(D4849=\"Cash and Deposits\",IF(E4849=\"\",\"BANK NAME REQUIRED\",IF(ISERROR(VLOOKUP(E4849,'Reference Data'!C:C,1,FALSE)),\"PLEASE SELECT A BANK FROM DEFINED LIST PROVIDED\",\"\")),\"\")","v":""},"No Entry",0]
[null,null,null,null,null,null,null,null,null,null,null,null,"",{"$f":"IF(D4850=\"Cash and Deposits\",IF(E4850=\"\",\"BANK NAME REQUIRED\",IF(ISERROR(VLOOKUP(E4850,'Reference Data'!C:C,1,FALSE)),\"PLEASE SELECT A BANK FROM DEFINED LIST PROVIDED\",\"\")),\"\")","v":""},"No Entry",0]
[null,null,null,null,null,null,null,null,null,null,null,null,"",{"$f":"IF(D4851=\"Cash and Deposits\",IF(E4851=\"\",\"BANK NAME REQUIRED\",IF(ISERROR(VLOOKUP(E4851,'Reference Data'!C:C,1,FALSE)),\"PLEASE SELECT A BANK FROM DEFINED LIST PROVIDED\",\"\")),\"\")","v":""},"No Entry",0]
[null,null,null,null,null,null,null,null,null,null,null,null,"",{"$f":"IF(D4852=\"Cash and Deposits\",IF(E4852=\"\",\"BANK NAME REQUIRED\",IF(ISERROR(VLOOKUP(E4852,'Reference Data'!C:C,1,FALSE)),\"PLEASE SELECT A BANK FROM DEFINED LIST PROVIDED\",\"\")),\"\")","v":""},"No Entry",0]
[null,null,null,null,null,null,null,null,null,null,null,null,"",{"$f":"IF(D4853=\"Cash and Deposits\",IF(E4853=\"\",\"BANK NAME REQUIRED\",IF(ISERROR(VLOOKUP(E4853,'Reference Data'!C:C,1,FALSE)),\"PLEASE SELECT A BANK FROM DEFINED LIST PROVIDED\",\"\")),\"\")","v":""},"No Entry",0]
[null,null,null,null,null,null,null,null,null,null,null,null,"",{"$f":"IF(D4854=\"Cash and Deposits\",IF(E4854=\"\",\"BANK NAME REQUIRED\",IF(ISERROR(VLOOKUP(E4854,'Reference Data'!C:C,1,FALSE)),\"PLEASE SELECT A BANK FROM DEFINED LIST PROVIDED\",\"\")),\"\")","v":""},"No Entry",0]
[null,null,null,null,null,null,null,null,null,null,null,null,"",{"$f":"IF(D4855=\"Cash and Deposits\",IF(E4855=\"\",\"BANK NAME REQUIRED\",IF(ISERROR(VLOOKUP(E4855,'Reference Data'!C:C,1,FALSE)),\"PLEASE SELECT A BANK FROM DEFINED LIST PROVIDED\",\"\")),\"\")","v":""},"No Entry",0]
[null,null,null,null,null,null,null,null,null,null,null,null,"",{"$f":"IF(D4856=\"Cash and Deposits\",IF(E4856=\"\",\"BANK NAME REQUIRED\",IF(ISERROR(VLOOKUP(E4856,'Reference Data'!C:C,1,FALSE)),\"PLEASE SELECT A BANK FROM DEFINED LIST PROVIDED\",\"\")),\"\")","v":""},"No Entry",0]
[null,null,null,null,null,null,null,null,null,null,null,null,"",{"$f":"IF(D4857=\"Cash and Deposits\",IF(E4857=\"\",\"BANK NAME REQUIRED\",IF(ISERROR(VLOOKUP(E4857,'Reference Data'!C:C,1,FALSE)),\"PLEASE SELECT A BANK FROM DEFINED LIST PROVIDED\",\"\")),\"\")","v":""},"No Entry",0]
[null,null,null,null,null,null,null,null,null,null,null,null,"",{"$f":"IF(D4858=\"Cash and Deposits\",IF(E4858=\"\",\"BANK NAME REQUIRED\",IF(ISERROR(VLOOKUP(E4858,'Reference Data'!C:C,1,FALSE)),\"PLEASE SELECT A BANK FROM DEFINED LIST PROVIDED\",\"\")),\"\")","v":""},"No Entry",0]
[null,null,null,null,null,null,null,null,null,null,null,null,"",{"$f":"IF(D4859=\"Cash and Deposits\",IF(E4859=\"\",\"BANK NAME REQUIRED\",IF(ISERROR(VLOOKUP(E4859,'Reference Data'!C:C,1,FALSE)),\"PLEASE SELECT A BANK FROM DEFINED LIST PROVIDED\",\"\")),\"\")","v":""},"No Entry",0]
[null,null,null,null,null,null,null,null,null,null,null,null,"",{"$f":"IF(D4860=\"Cash and Deposits\",IF(E4860=\"\",\"BANK NAME REQUIRED\",IF(ISERROR(VLOOKUP(E4860,'Reference Data'!C:C,1,FALSE)),\"PLEASE SELECT A BANK FROM DEFINED LIST PROVIDED\",\"\")),\"\")","v":""},"No Entry",0]
[null,null,null,null,null,null,null,null,null,null,null,null,"",{"$f":"IF(D4861=\"Cash and Deposits\",IF(E4861=\"\",\"BANK NAME REQUIRED\",IF(ISERROR(VLOOKUP(E4861,'Reference Data'!C:C,1,FALSE)),\"PLEASE SELECT A BANK FROM DEFINED LIST PROVIDED\",\"\")),\"\")","v":""},"No Entry",0]
[null,null,null,null,null,null,null,null,null,null,null,null,"",{"$f":"IF(D4862=\"Cash and Deposits\",IF(E4862=\"\",\"BANK NAME REQUIRED\",IF(ISERROR(VLOOKUP(E4862,'Reference Data'!C:C,1,FALSE)),\"PLEASE SELECT A BANK FROM DEFINED LIST PROVIDED\",\"\")),\"\")","v":""},"No Entry",0]
[null,null,null,null,null,null,null,null,null,null,null,null,"",{"$f":"IF(D4863=\"Cash and Deposits\",IF(E4863=\"\",\"BANK NAME REQUIRED\",IF(ISERROR(VLOOKUP(E4863,'Reference Data'!C:C,1,FALSE)),\"PLEASE SELECT A BANK FROM DEFINED LIST PROVIDED\",\"\")),\"\")","v":""},"No Entry",0]
[null,null,null,null,null,null,null,null,null,null,null,null,"",{"$f":"IF(D4864=\"Cash and Deposits\",IF(E4864=\"\",\"BANK NAME REQUIRED\",IF(ISERROR(VLOOKUP(E4864,'Reference Data'!C:C,1,FALSE)),\"PLEASE SELECT A BANK FROM DEFINED LIST PROVIDED\",\"\")),\"\")","v":""},"No Entry",0]
[null,null,null,null,null,null,null,null,null,null,null,null,"",{"$f":"IF(D4865=\"Cash and Deposits\",IF(E4865=\"\",\"BANK NAME REQUIRED\",IF(ISERROR(VLOOKUP(E4865,'Reference Data'!C:C,1,FALSE)),\"PLEASE SELECT A BANK FROM DEFINED LIST PROVIDED\",\"\")),\"\")","v":""},"No Entry",0]
[null,null,null,null,null,null,null,null,null,null,null,null,"",{"$f":"IF(D4866=\"Cash and Deposits\",IF(E4866=\"\",\"BANK NAME REQUIRED\",IF(ISERROR(VLOOKUP(E4866,'Reference Data'!C:C,1,FALSE)),\"PLEASE SELECT A BANK FROM DEFINED LIST PROVIDED\",\"\")),\"\")","v":""},"No Entry",0]
[null,null,null,null,null,null,null,null,null,null,null,null,"",{"$f":"IF(D4867=\"Cash and Deposits\",IF(E4867=\"\",\"BANK NAME REQUIRED\",IF(ISERROR(VLOOKUP(E4867,'Reference Data'!C:C,1,FALSE)),\"PLEASE SELECT A BANK FROM DEFINED LIST PROVIDED\",\"\")),\"\")","v":""},"No Entry",0]
[null,null,null,null,null,null,null,null,null,null,null,null,"",{"$f":"IF(D4868=\"Cash and Deposits\",IF(E4868=\"\",\"BANK NAME REQUIRED\",IF(ISERROR(VLOOKUP(E4868,'Reference Data'!C:C,1,FALSE)),\"PLEASE SELECT A BANK FROM DEFINED LIST PROVIDED\",\"\")),\"\")","v":""},"No Entry",0]
[null,null,null,null,null,null,null,null,null,null,null,null,{"$f":"IF(K4869<>0,IF(B4869=\"\",\"ID CODE REQUIRED\",\"\"),\"\")","v":""},{"$f":"IF(D4869=\"Cash and Deposits\",IF(E4869=\"\",\"BANK NAME REQUIRED\",IF(ISERROR(VLOOKUP(E4869,'Reference Data'!C:C,1,FALSE)),\"PLEASE SELECT A BANK FROM DEFINED LIST PROVIDED\",\"\")),\"\")","v":""},{"$f":"IF(K4869=0,\"No Entry\",\"\")","v":"No Entry"},{"$f":"IF(K4869<>0,IF(A4869=\"\",1,0),0)","v":0}]
[null,null,null,null,null,null,null,null,null,null,null,null,"",{"$f":"IF(D4870=\"Cash and Deposits\",IF(E4870=\"\",\"BANK NAME REQUIRED\",IF(ISERROR(VLOOKUP(E4870,'Reference Data'!C:C,1,FALSE)),\"PLEASE SELECT A BANK FROM DEFINED LIST PROVIDED\",\"\")),\"\")","v":""},"No Entry",0]
[null,null,null,null,null,null,null,null,null,null,null,null,"",{"$f":"IF(D4871=\"Cash and Deposits\",IF(E4871=\"\",\"BANK NAME REQUIRED\",IF(ISERROR(VLOOKUP(E4871,'Reference Data'!C:C,1,FALSE)),\"PLEASE SELECT A BANK FROM DEFINED LIST PROVIDED\",\"\")),\"\")","v":""},"No Entry",0]
[null,null,null,null,null,null,null,null,null,null,null,null,"",{"$f":"IF(D4872=\"Cash and Deposits\",IF(E4872=\"\",\"BANK NAME REQUIRED\",IF(ISERROR(VLOOKUP(E4872,'Reference Data'!C:C,1,FALSE)),\"PLEASE SELECT A BANK FROM DEFINED LIST PROVIDED\",\"\")),\"\")","v":""},"No Entry",0]
[null,null,null,null,null,null,null,null,null,null,null,null,"",{"$f":"IF(D4873=\"Cash and Deposits\",IF(E4873=\"\",\"BANK NAME REQUIRED\",IF(ISERROR(VLOOKUP(E4873,'Reference Data'!C:C,1,FALSE)),\"PLEASE SELECT A BANK FROM DEFINED LIST PROVIDED\",\"\")),\"\")","v":""},"No Entry",0]
[null,null,null,null,null,null,null,null,null,null,null,null,"",{"$f":"IF(D4874=\"Cash and Deposits\",IF(E4874=\"\",\"BANK NAME REQUIRED\",IF(ISERROR(VLOOKUP(E4874,'Reference Data'!C:C,1,FALSE)),\"PLEASE SELECT A BANK FROM DEFINED LIST PROVIDED\",\"\")),\"\")","v":""},"No Entry",0]
[null,null,null,null,null,null,null,null,null,null,null,null,"",{"$f":"IF(D4875=\"Cash and Deposits\",IF(E4875=\"\",\"BANK NAME REQUIRED\",IF(ISERROR(VLOOKUP(E4875,'Reference Data'!C:C,1,FALSE)),\"PLEASE SELECT A BANK FROM DEFINED LIST PROVIDED\",\"\")),\"\")","v":""},"No Entry",0]
[null,null,null,null,null,null,null,null,null,null,null,null,"",{"$f":"IF(D4876=\"Cash and Deposits\",IF(E4876=\"\",\"BANK NAME REQUIRED\",IF(ISERROR(VLOOKUP(E4876,'Reference Data'!C:C,1,FALSE)),\"PLEASE SELECT A BANK FROM DEFINED LIST PROVIDED\",\"\")),\"\")","v":""},"No Entry",0]
[null,null,null,null,null,null,null,null,null,null,null,null,"",{"$f":"IF(D4877=\"Cash and Deposits\",IF(E4877=\"\",\"BANK NAME REQUIRED\",IF(ISERROR(VLOOKUP(E4877,'Reference Data'!C:C,1,FALSE)),\"PLEASE SELECT A BANK FROM DEFINED LIST PROVIDED\",\"\")),\"\")","v":""},"No Entry",0]
[null,null,null,null,null,null,null,null,null,null,null,null,"",{"$f":"IF(D4878=\"Cash and Deposits\",IF(E4878=\"\",\"BANK NAME REQUIRED\",IF(ISERROR(VLOOKUP(E4878,'Reference Data'!C:C,1,FALSE)),\"PLEASE SELECT A BANK FROM DEFINED LIST PROVIDED\",\"\")),\"\")","v":""},"No Entry",0]
[null,null,null,null,null,null,null,null,null,null,null,null,"",{"$f":"IF(D4879=\"Cash and Deposits\",IF(E4879=\"\",\"BANK NAME REQUIRED\",IF(ISERROR(VLOOKUP(E4879,'Reference Data'!C:C,1,FALSE)),\"PLEASE SELECT A BANK FROM DEFINED LIST PROVIDED\",\"\")),\"\")","v":""},"No Entry",0]
[null,null,null,null,null,null,null,null,null,null,null,null,"",{"$f":"IF(D4880=\"Cash and Deposits\",IF(E4880=\"\",\"BANK NAME REQUIRED\",IF(ISERROR(VLOOKUP(E4880,'Reference Data'!C:C,1,FALSE)),\"PLEASE SELECT A BANK FROM DEFINED LIST PROVIDED\",\"\")),\"\")","v":""},"No Entry",0]
[null,null,null,null,null,null,null,null,null,null,null,null,"",{"$f":"IF(D4881=\"Cash and Deposits\",IF(E4881=\"\",\"BANK NAME REQUIRED\",IF(ISERROR(VLOOKUP(E4881,'Reference Data'!C:C,1,FALSE)),\"PLEASE SELECT A BANK FROM DEFINED LIST PROVIDED\",\"\")),\"\")","v":""},"No Entry",0]
[null,null,null,null,null,null,null,null,null,null,null,null,"",{"$f":"IF(D4882=\"Cash and Deposits\",IF(E4882=\"\",\"BANK NAME REQUIRED\",IF(ISERROR(VLOOKUP(E4882,'Reference Data'!C:C,1,FALSE)),\"PLEASE SELECT A BANK FROM DEFINED LIST PROVIDED\",\"\")),\"\")","v":""},"No Entry",0]
[null,null,null,null,null,null,null,null,null,null,null,null,"",{"$f":"IF(D4883=\"Cash and Deposits\",IF(E4883=\"\",\"BANK NAME REQUIRED\",IF(ISERROR(VLOOKUP(E4883,'Reference Data'!C:C,1,FALSE)),\"PLEASE SELECT A BANK FROM DEFINED LIST PROVIDED\",\"\")),\"\")","v":""},"No Entry",0]
[null,null,null,null,null,null,null,null,null,null,null,null,"",{"$f":"IF(D4884=\"Cash and Deposits\",IF(E4884=\"\",\"BANK NAME REQUIRED\",IF(ISERROR(VLOOKUP(E4884,'Reference Data'!C:C,1,FALSE)),\"PLEASE SELECT A BANK FROM DEFINED LIST PROVIDED\",\"\")),\"\")","v":""},"No Entry",0]
[null,null,null,null,null,null,null,null,null,null,null,null,"",{"$f":"IF(D4885=\"Cash and Deposits\",IF(E4885=\"\",\"BANK NAME REQUIRED\",IF(ISERROR(VLOOKUP(E4885,'Reference Data'!C:C,1,FALSE)),\"PLEASE SELECT A BANK FROM DEFINED LIST PROVIDED\",\"\")),\"\")","v":""},"No Entry",0]
[null,null,null,null,null,null,null,null,null,null,null,null,"",{"$f":"IF(D4886=\"Cash and Deposits\",IF(E4886=\"\",\"BANK NAME REQUIRED\",IF(ISERROR(VLOOKUP(E4886,'Reference Data'!C:C,1,FALSE)),\"PLEASE SELECT A BANK FROM DEFINED LIST PROVIDED\",\"\")),\"\")","v":""},"No Entry",0]
[null,null,null,null,null,null,null,null,null,null,null,null,"",{"$f":"IF(D4887=\"Cash and Deposits\",IF(E4887=\"\",\"BANK NAME REQUIRED\",IF(ISERROR(VLOOKUP(E4887,'Reference Data'!C:C,1,FALSE)),\"PLEASE SELECT A BANK FROM DEFINED LIST PROVIDED\",\"\")),\"\")","v":""},"No Entry",0]
[null,null,null,null,null,null,null,null,null,null,null,null,"",{"$f":"IF(D4888=\"Cash and Deposits\",IF(E4888=\"\",\"BANK NAME REQUIRED\",IF(ISERROR(VLOOKUP(E4888,'Reference Data'!C:C,1,FALSE)),\"PLEASE SELECT A BANK FROM DEFINED LIST PROVIDED\",\"\")),\"\")","v":""},"No Entry",0]
[null,null,null,null,null,null,null,null,null,null,null,null,"",{"$f":"IF(D4889=\"Cash and Deposits\",IF(E4889=\"\",\"BANK NAME REQUIRED\",IF(ISERROR(VLOOKUP(E4889,'Reference Data'!C:C,1,FALSE)),\"PLEASE SELECT A BANK FROM DEFINED LIST PROVIDED\",\"\")),\"\")","v":""},"No Entry",0]
[null,null,null,null,null,null,null,null,null,null,null,null,"",{"$f":"IF(D4890=\"Cash and Deposits\",IF(E4890=\"\",\"BANK NAME REQUIRED\",IF(ISERROR(VLOOKUP(E4890,'Reference Data'!C:C,1,FALSE)),\"PLEASE SELECT A BANK FROM DEFINED LIST PROVIDED\",\"\")),\"\")","v":""},"No Entry",0]
[null,null,null,null,null,null,null,null,null,null,null,null,"",{"$f":"IF(D4891=\"Cash and Deposits\",IF(E4891=\"\",\"BANK NAME REQUIRED\",IF(ISERROR(VLOOKUP(E4891,'Reference Data'!C:C,1,FALSE)),\"PLEASE SELECT A BANK FROM DEFINED LIST PROVIDED\",\"\")),\"\")","v":""},"No Entry",0]
[null,null,null,null,null,null,null,null,null,null,null,null,"",{"$f":"IF(D4892=\"Cash and Deposits\",IF(E4892=\"\",\"BANK NAME REQUIRED\",IF(ISERROR(VLOOKUP(E4892,'Reference Data'!C:C,1,FALSE)),\"PLEASE SELECT A BANK FROM DEFINED LIST PROVIDED\",\"\")),\"\")","v":""},"No Entry",0]
[null,null,null,null,null,null,null,null,null,null,null,null,"",{"$f":"IF(D4893=\"Cash and Deposits\",IF(E4893=\"\",\"BANK NAME REQUIRED\",IF(ISERROR(VLOOKUP(E4893,'Reference Data'!C:C,1,FALSE)),\"PLEASE SELECT A BANK FROM DEFINED LIST PROVIDED\",\"\")),\"\")","v":""},"No Entry",0]
[null,null,null,null,null,null,null,null,null,null,null,null,"",{"$f":"IF(D4894=\"Cash and Deposits\",IF(E4894=\"\",\"BANK NAME REQUIRED\",IF(ISERROR(VLOOKUP(E4894,'Reference Data'!C:C,1,FALSE)),\"PLEASE SELECT A BANK FROM DEFINED LIST PROVIDED\",\"\")),\"\")","v":""},"No Entry",0]
[null,null,null,null,null,null,null,null,null,null,null,null,"",{"$f":"IF(D4895=\"Cash and Deposits\",IF(E4895=\"\",\"BANK NAME REQUIRED\",IF(ISERROR(VLOOKUP(E4895,'Reference Data'!C:C,1,FALSE)),\"PLEASE SELECT A BANK FROM DEFINED LIST PROVIDED\",\"\")),\"\")","v":""},"No Entry",0]
[null,null,null,null,null,null,null,null,null,null,null,null,"",{"$f":"IF(D4896=\"Cash and Deposits\",IF(E4896=\"\",\"BANK NAME REQUIRED\",IF(ISERROR(VLOOKUP(E4896,'Reference Data'!C:C,1,FALSE)),\"PLEASE SELECT A BANK FROM DEFINED LIST PROVIDED\",\"\")),\"\")","v":""},"No Entry",0]
[null,null,null,null,null,null,null,null,null,null,null,null,"",{"$f":"IF(D4897=\"Cash and Deposits\",IF(E4897=\"\",\"BANK NAME REQUIRED\",IF(ISERROR(VLOOKUP(E4897,'Reference Data'!C:C,1,FALSE)),\"PLEASE SELECT A BANK FROM DEFINED LIST PROVIDED\",\"\")),\"\")","v":""},"No Entry",0]
[null,null,null,null,null,null,null,null,null,null,null,null,"",{"$f":"IF(D4898=\"Cash and Deposits\",IF(E4898=\"\",\"BANK NAME REQUIRED\",IF(ISERROR(VLOOKUP(E4898,'Reference Data'!C:C,1,FALSE)),\"PLEASE SELECT A BANK FROM DEFINED LIST PROVIDED\",\"\")),\"\")","v":""},"No Entry",0]
[null,null,null,null,null,null,null,null,null,null,null,null,"",{"$f":"IF(D4899=\"Cash and Deposits\",IF(E4899=\"\",\"BANK NAME REQUIRED\",IF(ISERROR(VLOOKUP(E4899,'Reference Data'!C:C,1,FALSE)),\"PLEASE SELECT A BANK FROM DEFINED LIST PROVIDED\",\"\")),\"\")","v":""},"No Entry",0]
[null,null,null,null,null,null,null,null,null,null,null,null,"",{"$f":"IF(D4900=\"Cash and Deposits\",IF(E4900=\"\",\"BANK NAME REQUIRED\",IF(ISERROR(VLOOKUP(E4900,'Reference Data'!C:C,1,FALSE)),\"PLEASE SELECT A BANK FROM DEFINED LIST PROVIDED\",\"\")),\"\")","v":""},"No Entry",0]
[null,null,null,null,null,null,null,null,null,null,null,null,"",{"$f":"IF(D4901=\"Cash and Deposits\",IF(E4901=\"\",\"BANK NAME REQUIRED\",IF(ISERROR(VLOOKUP(E4901,'Reference Data'!C:C,1,FALSE)),\"PLEASE SELECT A BANK FROM DEFINED LIST PROVIDED\",\"\")),\"\")","v":""},"No Entry",0]
[null,null,null,null,null,null,null,null,null,null,null,null,"",{"$f":"IF(D4902=\"Cash and Deposits\",IF(E4902=\"\",\"BANK NAME REQUIRED\",IF(ISERROR(VLOOKUP(E4902,'Reference Data'!C:C,1,FALSE)),\"PLEASE SELECT A BANK FROM DEFINED LIST PROVIDED\",\"\")),\"\")","v":""},"No Entry",0]
[null,null,null,null,null,null,null,null,null,null,null,null,"",{"$f":"IF(D4903=\"Cash and Deposits\",IF(E4903=\"\",\"BANK NAME REQUIRED\",IF(ISERROR(VLOOKUP(E4903,'Reference Data'!C:C,1,FALSE)),\"PLEASE SELECT A BANK FROM DEFINED LIST PROVIDED\",\"\")),\"\")","v":""},"No Entry",0]
[null,null,null,null,null,null,null,null,null,null,null,null,"",{"$f":"IF(D4904=\"Cash and Deposits\",IF(E4904=\"\",\"BANK NAME REQUIRED\",IF(ISERROR(VLOOKUP(E4904,'Reference Data'!C:C,1,FALSE)),\"PLEASE SELECT A BANK FROM DEFINED LIST PROVIDED\",\"\")),\"\")","v":""},"No Entry",0]
[null,null,null,null,null,null,null,null,null,null,null,null,"",{"$f":"IF(D4905=\"Cash and Deposits\",IF(E4905=\"\",\"BANK NAME REQUIRED\",IF(ISERROR(VLOOKUP(E4905,'Reference Data'!C:C,1,FALSE)),\"PLEASE SELECT A BANK FROM DEFINED LIST PROVIDED\",\"\")),\"\")","v":""},"No Entry",0]
[null,null,null,null,null,null,null,null,null,null,null,null,"",{"$f":"IF(D4906=\"Cash and Deposits\",IF(E4906=\"\",\"BANK NAME REQUIRED\",IF(ISERROR(VLOOKUP(E4906,'Reference Data'!C:C,1,FALSE)),\"PLEASE SELECT A BANK FROM DEFINED LIST PROVIDED\",\"\")),\"\")","v":""},"No Entry",0]
[null,null,null,null,null,null,null,null,null,null,null,null,"",{"$f":"IF(D4907=\"Cash and Deposits\",IF(E4907=\"\",\"BANK NAME REQUIRED\",IF(ISERROR(VLOOKUP(E4907,'Reference Data'!C:C,1,FALSE)),\"PLEASE SELECT A BANK FROM DEFINED LIST PROVIDED\",\"\")),\"\")","v":""},"No Entry",0]
[null,null,null,null,null,null,null,null,null,null,null,null,"",{"$f":"IF(D4908=\"Cash and Deposits\",IF(E4908=\"\",\"BANK NAME REQUIRED\",IF(ISERROR(VLOOKUP(E4908,'Reference Data'!C:C,1,FALSE)),\"PLEASE SELECT A BANK FROM DEFINED LIST PROVIDED\",\"\")),\"\")","v":""},"No Entry",0]
[null,null,null,null,null,null,null,null,null,null,null,null,"",{"$f":"IF(D4909=\"Cash and Deposits\",IF(E4909=\"\",\"BANK NAME REQUIRED\",IF(ISERROR(VLOOKUP(E4909,'Reference Data'!C:C,1,FALSE)),\"PLEASE SELECT A BANK FROM DEFINED LIST PROVIDED\",\"\")),\"\")","v":""},"No Entry",0]
[null,null,null,null,null,null,null,null,null,null,null,null,"",{"$f":"IF(D4910=\"Cash and Deposits\",IF(E4910=\"\",\"BANK NAME REQUIRED\",IF(ISERROR(VLOOKUP(E4910,'Reference Data'!C:C,1,FALSE)),\"PLEASE SELECT A BANK FROM DEFINED LIST PROVIDED\",\"\")),\"\")","v":""},"No Entry",0]
[null,null,null,null,null,null,null,null,null,null,null,null,"",{"$f":"IF(D4911=\"Cash and Deposits\",IF(E4911=\"\",\"BANK NAME REQUIRED\",IF(ISERROR(VLOOKUP(E4911,'Reference Data'!C:C,1,FALSE)),\"PLEASE SELECT A BANK FROM DEFINED LIST PROVIDED\",\"\")),\"\")","v":""},"No Entry",0]
[null,null,null,null,null,null,null,null,null,null,null,null,"",{"$f":"IF(D4912=\"Cash and Deposits\",IF(E4912=\"\",\"BANK NAME REQUIRED\",IF(ISERROR(VLOOKUP(E4912,'Reference Data'!C:C,1,FALSE)),\"PLEASE SELECT A BANK FROM DEFINED LIST PROVIDED\",\"\")),\"\")","v":""},"No Entry",0]
[null,null,null,null,null,null,null,null,null,null,null,null,"",{"$f":"IF(D4913=\"Cash and Deposits\",IF(E4913=\"\",\"BANK NAME REQUIRED\",IF(ISERROR(VLOOKUP(E4913,'Reference Data'!C:C,1,FALSE)),\"PLEASE SELECT A BANK FROM DEFINED LIST PROVIDED\",\"\")),\"\")","v":""},"No Entry",0]
[null,null,null,null,null,null,null,null,null,null,null,null,"",{"$f":"IF(D4914=\"Cash and Deposits\",IF(E4914=\"\",\"BANK NAME REQUIRED\",IF(ISERROR(VLOOKUP(E4914,'Reference Data'!C:C,1,FALSE)),\"PLEASE SELECT A BANK FROM DEFINED LIST PROVIDED\",\"\")),\"\")","v":""},"No Entry",0]
[null,null,null,null,null,null,null,null,null,null,null,null,"",{"$f":"IF(D4915=\"Cash and Deposits\",IF(E4915=\"\",\"BANK NAME REQUIRED\",IF(ISERROR(VLOOKUP(E4915,'Reference Data'!C:C,1,FALSE)),\"PLEASE SELECT A BANK FROM DEFINED LIST PROVIDED\",\"\")),\"\")","v":""},"No Entry",0]
[null,null,null,null,null,null,null,null,null,null,null,null,"",{"$f":"IF(D4916=\"Cash and Deposits\",IF(E4916=\"\",\"BANK NAME REQUIRED\",IF(ISERROR(VLOOKUP(E4916,'Reference Data'!C:C,1,FALSE)),\"PLEASE SELECT A BANK FROM DEFINED LIST PROVIDED\",\"\")),\"\")","v":""},"No Entry",0]
[null,null,null,null,null,null,null,null,null,null,null,null,"",{"$f":"IF(D4917=\"Cash and Deposits\",IF(E4917=\"\",\"BANK NAME REQUIRED\",IF(ISERROR(VLOOKUP(E4917,'Reference Data'!C:C,1,FALSE)),\"PLEASE SELECT A BANK FROM DEFINED LIST PROVIDED\",\"\")),\"\")","v":""},"No Entry",0]
[null,null,null,null,null,null,null,null,null,null,null,null,"",{"$f":"IF(D4918=\"Cash and Deposits\",IF(E4918=\"\",\"BANK NAME REQUIRED\",IF(ISERROR(VLOOKUP(E4918,'Reference Data'!C:C,1,FALSE)),\"PLEASE SELECT A BANK FROM DEFINED LIST PROVIDED\",\"\")),\"\")","v":""},"No Entry",0]
[null,null,null,null,null,null,null,null,null,null,null,null,"",{"$f":"IF(D4919=\"Cash and Deposits\",IF(E4919=\"\",\"BANK NAME REQUIRED\",IF(ISERROR(VLOOKUP(E4919,'Reference Data'!C:C,1,FALSE)),\"PLEASE SELECT A BANK FROM DEFINED LIST PROVIDED\",\"\")),\"\")","v":""},"No Entry",0]
[null,null,null,null,null,null,null,null,null,null,null,null,"",{"$f":"IF(D4920=\"Cash and Deposits\",IF(E4920=\"\",\"BANK NAME REQUIRED\",IF(ISERROR(VLOOKUP(E4920,'Reference Data'!C:C,1,FALSE)),\"PLEASE SELECT A BANK FROM DEFINED LIST PROVIDED\",\"\")),\"\")","v":""},"No Entry",0]
[null,null,null,null,null,null,null,null,null,null,null,null,"",{"$f":"IF(D4921=\"Cash and Deposits\",IF(E4921=\"\",\"BANK NAME REQUIRED\",IF(ISERROR(VLOOKUP(E4921,'Reference Data'!C:C,1,FALSE)),\"PLEASE SELECT A BANK FROM DEFINED LIST PROVIDED\",\"\")),\"\")","v":""},"No Entry",0]
[null,null,null,null,null,null,null,null,null,null,null,null,"",{"$f":"IF(D4922=\"Cash and Deposits\",IF(E4922=\"\",\"BANK NAME REQUIRED\",IF(ISERROR(VLOOKUP(E4922,'Reference Data'!C:C,1,FALSE)),\"PLEASE SELECT A BANK FROM DEFINED LIST PROVIDED\",\"\")),\"\")","v":""},"No Entry",0]
[null,null,null,null,null,null,null,null,null,null,null,null,"",{"$f":"IF(D4923=\"Cash and Deposits\",IF(E4923=\"\",\"BANK NAME REQUIRED\",IF(ISERROR(VLOOKUP(E4923,'Reference Data'!C:C,1,FALSE)),\"PLEASE SELECT A BANK FROM DEFINED LIST PROVIDED\",\"\")),\"\")","v":""},"No Entry",0]
[null,null,null,null,null,null,null,null,null,null,null,null,"",{"$f":"IF(D4924=\"Cash and Deposits\",IF(E4924=\"\",\"BANK NAME REQUIRED\",IF(ISERROR(VLOOKUP(E4924,'Reference Data'!C:C,1,FALSE)),\"PLEASE SELECT A BANK FROM DEFINED LIST PROVIDED\",\"\")),\"\")","v":""},"No Entry",0]
[null,null,null,null,null,null,null,null,null,null,null,null,"",{"$f":"IF(D4925=\"Cash and Deposits\",IF(E4925=\"\",\"BANK NAME REQUIRED\",IF(ISERROR(VLOOKUP(E4925,'Reference Data'!C:C,1,FALSE)),\"PLEASE SELECT A BANK FROM DEFINED LIST PROVIDED\",\"\")),\"\")","v":""},"No Entry",0]
[null,null,null,null,null,null,null,null,null,null,null,null,"",{"$f":"IF(D4926=\"Cash and Deposits\",IF(E4926=\"\",\"BANK NAME REQUIRED\",IF(ISERROR(VLOOKUP(E4926,'Reference Data'!C:C,1,FALSE)),\"PLEASE SELECT A BANK FROM DEFINED LIST PROVIDED\",\"\")),\"\")","v":""},"No Entry",0]
[null,null,null,null,null,null,null,null,null,null,null,null,"",{"$f":"IF(D4927=\"Cash and Deposits\",IF(E4927=\"\",\"BANK NAME REQUIRED\",IF(ISERROR(VLOOKUP(E4927,'Reference Data'!C:C,1,FALSE)),\"PLEASE SELECT A BANK FROM DEFINED LIST PROVIDED\",\"\")),\"\")","v":""},"No Entry",0]
[null,null,null,null,null,null,null,null,null,null,null,null,"",{"$f":"IF(D4928=\"Cash and Deposits\",IF(E4928=\"\",\"BANK NAME REQUIRED\",IF(ISERROR(VLOOKUP(E4928,'Reference Data'!C:C,1,FALSE)),\"PLEASE SELECT A BANK FROM DEFINED LIST PROVIDED\",\"\")),\"\")","v":""},"No Entry",0]
[null,null,null,null,null,null,null,null,null,null,null,null,"",{"$f":"IF(D4929=\"Cash and Deposits\",IF(E4929=\"\",\"BANK NAME REQUIRED\",IF(ISERROR(VLOOKUP(E4929,'Reference Data'!C:C,1,FALSE)),\"PLEASE SELECT A BANK FROM DEFINED LIST PROVIDED\",\"\")),\"\")","v":""},"No Entry",0]
[null,null,null,null,null,null,null,null,null,null,null,null,"",{"$f":"IF(D4930=\"Cash and Deposits\",IF(E4930=\"\",\"BANK NAME REQUIRED\",IF(ISERROR(VLOOKUP(E4930,'Reference Data'!C:C,1,FALSE)),\"PLEASE SELECT A BANK FROM DEFINED LIST PROVIDED\",\"\")),\"\")","v":""},"No Entry",0]
[null,null,null,null,null,null,null,null,null,null,null,null,"",{"$f":"IF(D4931=\"Cash and Deposits\",IF(E4931=\"\",\"BANK NAME REQUIRED\",IF(ISERROR(VLOOKUP(E4931,'Reference Data'!C:C,1,FALSE)),\"PLEASE SELECT A BANK FROM DEFINED LIST PROVIDED\",\"\")),\"\")","v":""},"No Entry",0]
[null,null,null,null,null,null,null,null,null,null,null,null,"",{"$f":"IF(D4932=\"Cash and Deposits\",IF(E4932=\"\",\"BANK NAME REQUIRED\",IF(ISERROR(VLOOKUP(E4932,'Reference Data'!C:C,1,FALSE)),\"PLEASE SELECT A BANK FROM DEFINED LIST PROVIDED\",\"\")),\"\")","v":""},"No Entry",0]
[null,null,null,null,null,null,null,null,null,null,null,null,{"$f":"IF(K4933<>0,IF(B4933=\"\",\"ID CODE REQUIRED\",\"\"),\"\")","v":""},{"$f":"IF(D4933=\"Cash and Deposits\",IF(E4933=\"\",\"BANK NAME REQUIRED\",IF(ISERROR(VLOOKUP(E4933,'Reference Data'!C:C,1,FALSE)),\"PLEASE SELECT A BANK FROM DEFINED LIST PROVIDED\",\"\")),\"\")","v":""},{"$f":"IF(K4933=0,\"No Entry\",\"\")","v":"No Entry"},{"$f":"IF(K4933<>0,IF(A4933=\"\",1,0),0)","v":0}]
[null,null,null,null,null,null,null,null,null,null,null,null,"",{"$f":"IF(D4934=\"Cash and Deposits\",IF(E4934=\"\",\"BANK NAME REQUIRED\",IF(ISERROR(VLOOKUP(E4934,'Reference Data'!C:C,1,FALSE)),\"PLEASE SELECT A BANK FROM DEFINED LIST PROVIDED\",\"\")),\"\")","v":""},"No Entry",0]
[null,null,null,null,null,null,null,null,null,null,null,null,"",{"$f":"IF(D4935=\"Cash and Deposits\",IF(E4935=\"\",\"BANK NAME REQUIRED\",IF(ISERROR(VLOOKUP(E4935,'Reference Data'!C:C,1,FALSE)),\"PLEASE SELECT A BANK FROM DEFINED LIST PROVIDED\",\"\")),\"\")","v":""},"No Entry",0]
[null,null,null,null,null,null,null,null,null,null,null,null,"",{"$f":"IF(D4936=\"Cash and Deposits\",IF(E4936=\"\",\"BANK NAME REQUIRED\",IF(ISERROR(VLOOKUP(E4936,'Reference Data'!C:C,1,FALSE)),\"PLEASE SELECT A BANK FROM DEFINED LIST PROVIDED\",\"\")),\"\")","v":""},"No Entry",0]
[null,null,null,null,null,null,null,null,null,null,null,null,"",{"$f":"IF(D4937=\"Cash and Deposits\",IF(E4937=\"\",\"BANK NAME REQUIRED\",IF(ISERROR(VLOOKUP(E4937,'Reference Data'!C:C,1,FALSE)),\"PLEASE SELECT A BANK FROM DEFINED LIST PROVIDED\",\"\")),\"\")","v":""},"No Entry",0]
[null,null,null,null,null,null,null,null,null,null,null,null,"",{"$f":"IF(D4938=\"Cash and Deposits\",IF(E4938=\"\",\"BANK NAME REQUIRED\",IF(ISERROR(VLOOKUP(E4938,'Reference Data'!C:C,1,FALSE)),\"PLEASE SELECT A BANK FROM DEFINED LIST PROVIDED\",\"\")),\"\")","v":""},"No Entry",0]
[null,null,null,null,null,null,null,null,null,null,null,null,"",{"$f":"IF(D4939=\"Cash and Deposits\",IF(E4939=\"\",\"BANK NAME REQUIRED\",IF(ISERROR(VLOOKUP(E4939,'Reference Data'!C:C,1,FALSE)),\"PLEASE SELECT A BANK FROM DEFINED LIST PROVIDED\",\"\")),\"\")","v":""},"No Entry",0]
[null,null,null,null,null,null,null,null,null,null,null,null,"",{"$f":"IF(D4940=\"Cash and Deposits\",IF(E4940=\"\",\"BANK NAME REQUIRED\",IF(ISERROR(VLOOKUP(E4940,'Reference Data'!C:C,1,FALSE)),\"PLEASE SELECT A BANK FROM DEFINED LIST PROVIDED\",\"\")),\"\")","v":""},"No Entry",0]
[null,null,null,null,null,null,null,null,null,null,null,null,"",{"$f":"IF(D4941=\"Cash and Deposits\",IF(E4941=\"\",\"BANK NAME REQUIRED\",IF(ISERROR(VLOOKUP(E4941,'Reference Data'!C:C,1,FALSE)),\"PLEASE SELECT A BANK FROM DEFINED LIST PROVIDED\",\"\")),\"\")","v":""},"No Entry",0]
[null,null,null,null,null,null,null,null,null,null,null,null,"",{"$f":"IF(D4942=\"Cash and Deposits\",IF(E4942=\"\",\"BANK NAME REQUIRED\",IF(ISERROR(VLOOKUP(E4942,'Reference Data'!C:C,1,FALSE)),\"PLEASE SELECT A BANK FROM DEFINED LIST PROVIDED\",\"\")),\"\")","v":""},"No Entry",0]
[null,null,null,null,null,null,null,null,null,null,null,null,"",{"$f":"IF(D4943=\"Cash and Deposits\",IF(E4943=\"\",\"BANK NAME REQUIRED\",IF(ISERROR(VLOOKUP(E4943,'Reference Data'!C:C,1,FALSE)),\"PLEASE SELECT A BANK FROM DEFINED LIST PROVIDED\",\"\")),\"\")","v":""},"No Entry",0]
[null,null,null,null,null,null,null,null,null,null,null,null,"",{"$f":"IF(D4944=\"Cash and Deposits\",IF(E4944=\"\",\"BANK NAME REQUIRED\",IF(ISERROR(VLOOKUP(E4944,'Reference Data'!C:C,1,FALSE)),\"PLEASE SELECT A BANK FROM DEFINED LIST PROVIDED\",\"\")),\"\")","v":""},"No Entry",0]
[null,null,null,null,null,null,null,null,null,null,null,null,"",{"$f":"IF(D4945=\"Cash and Deposits\",IF(E4945=\"\",\"BANK NAME REQUIRED\",IF(ISERROR(VLOOKUP(E4945,'Reference Data'!C:C,1,FALSE)),\"PLEASE SELECT A BANK FROM DEFINED LIST PROVIDED\",\"\")),\"\")","v":""},"No Entry",0]
[null,null,null,null,null,null,null,null,null,null,null,null,"",{"$f":"IF(D4946=\"Cash and Deposits\",IF(E4946=\"\",\"BANK NAME REQUIRED\",IF(ISERROR(VLOOKUP(E4946,'Reference Data'!C:C,1,FALSE)),\"PLEASE SELECT A BANK FROM DEFINED LIST PROVIDED\",\"\")),\"\")","v":""},"No Entry",0]
[null,null,null,null,null,null,null,null,null,null,null,null,"",{"$f":"IF(D4947=\"Cash and Deposits\",IF(E4947=\"\",\"BANK NAME REQUIRED\",IF(ISERROR(VLOOKUP(E4947,'Reference Data'!C:C,1,FALSE)),\"PLEASE SELECT A BANK FROM DEFINED LIST PROVIDED\",\"\")),\"\")","v":""},"No Entry",0]
[null,null,null,null,null,null,null,null,null,null,null,null,"",{"$f":"IF(D4948=\"Cash and Deposits\",IF(E4948=\"\",\"BANK NAME REQUIRED\",IF(ISERROR(VLOOKUP(E4948,'Reference Data'!C:C,1,FALSE)),\"PLEASE SELECT A BANK FROM DEFINED LIST PROVIDED\",\"\")),\"\")","v":""},"No Entry",0]
[null,null,null,null,null,null,null,null,null,null,null,null,"",{"$f":"IF(D4949=\"Cash and Deposits\",IF(E4949=\"\",\"BANK NAME REQUIRED\",IF(ISERROR(VLOOKUP(E4949,'Reference Data'!C:C,1,FALSE)),\"PLEASE SELECT A BANK FROM DEFINED LIST PROVIDED\",\"\")),\"\")","v":""},"No Entry",0]
[null,null,null,null,null,null,null,null,null,null,null,null,"",{"$f":"IF(D4950=\"Cash and Deposits\",IF(E4950=\"\",\"BANK NAME REQUIRED\",IF(ISERROR(VLOOKUP(E4950,'Reference Data'!C:C,1,FALSE)),\"PLEASE SELECT A BANK FROM DEFINED LIST PROVIDED\",\"\")),\"\")","v":""},"No Entry",0]
[null,null,null,null,null,null,null,null,null,null,null,null,"",{"$f":"IF(D4951=\"Cash and Deposits\",IF(E4951=\"\",\"BANK NAME REQUIRED\",IF(ISERROR(VLOOKUP(E4951,'Reference Data'!C:C,1,FALSE)),\"PLEASE SELECT A BANK FROM DEFINED LIST PROVIDED\",\"\")),\"\")","v":""},"No Entry",0]
[null,null,null,null,null,null,null,null,null,null,null,null,"",{"$f":"IF(D4952=\"Cash and Deposits\",IF(E4952=\"\",\"BANK NAME REQUIRED\",IF(ISERROR(VLOOKUP(E4952,'Reference Data'!C:C,1,FALSE)),\"PLEASE SELECT A BANK FROM DEFINED LIST PROVIDED\",\"\")),\"\")","v":""},"No Entry",0]
[null,null,null,null,null,null,null,null,null,null,null,null,"",{"$f":"IF(D4953=\"Cash and Deposits\",IF(E4953=\"\",\"BANK NAME REQUIRED\",IF(ISERROR(VLOOKUP(E4953,'Reference Data'!C:C,1,FALSE)),\"PLEASE SELECT A BANK FROM DEFINED LIST PROVIDED\",\"\")),\"\")","v":""},"No Entry",0]
[null,null,null,null,null,null,null,null,null,null,null,null,"",{"$f":"IF(D4954=\"Cash and Deposits\",IF(E4954=\"\",\"BANK NAME REQUIRED\",IF(ISERROR(VLOOKUP(E4954,'Reference Data'!C:C,1,FALSE)),\"PLEASE SELECT A BANK FROM DEFINED LIST PROVIDED\",\"\")),\"\")","v":""},"No Entry",0]
[null,null,null,null,null,null,null,null,null,null,null,null,"",{"$f":"IF(D4955=\"Cash and Deposits\",IF(E4955=\"\",\"BANK NAME REQUIRED\",IF(ISERROR(VLOOKUP(E4955,'Reference Data'!C:C,1,FALSE)),\"PLEASE SELECT A BANK FROM DEFINED LIST PROVIDED\",\"\")),\"\")","v":""},"No Entry",0]
[null,null,null,null,null,null,null,null,null,null,null,null,"",{"$f":"IF(D4956=\"Cash and Deposits\",IF(E4956=\"\",\"BANK NAME REQUIRED\",IF(ISERROR(VLOOKUP(E4956,'Reference Data'!C:C,1,FALSE)),\"PLEASE SELECT A BANK FROM DEFINED LIST PROVIDED\",\"\")),\"\")","v":""},"No Entry",0]
[null,null,null,null,null,null,null,null,null,null,null,null,"",{"$f":"IF(D4957=\"Cash and Deposits\",IF(E4957=\"\",\"BANK NAME REQUIRED\",IF(ISERROR(VLOOKUP(E4957,'Reference Data'!C:C,1,FALSE)),\"PLEASE SELECT A BANK FROM DEFINED LIST PROVIDED\",\"\")),\"\")","v":""},"No Entry",0]
[null,null,null,null,null,null,null,null,null,null,null,null,"",{"$f":"IF(D4958=\"Cash and Deposits\",IF(E4958=\"\",\"BANK NAME REQUIRED\",IF(ISERROR(VLOOKUP(E4958,'Reference Data'!C:C,1,FALSE)),\"PLEASE SELECT A BANK FROM DEFINED LIST PROVIDED\",\"\")),\"\")","v":""},"No Entry",0]
[null,null,null,null,null,null,null,null,null,null,null,null,"",{"$f":"IF(D4959=\"Cash and Deposits\",IF(E4959=\"\",\"BANK NAME REQUIRED\",IF(ISERROR(VLOOKUP(E4959,'Reference Data'!C:C,1,FALSE)),\"PLEASE SELECT A BANK FROM DEFINED LIST PROVIDED\",\"\")),\"\")","v":""},"No Entry",0]
[null,null,null,null,null,null,null,null,null,null,null,null,{"$f":"IF(K4960<>0,IF(B4960=\"\",\"ID CODE REQUIRED\",\"\"),\"\")","v":""},{"$f":"IF(D4960=\"Cash and Deposits\",IF(E4960=\"\",\"BANK NAME REQUIRED\",IF(ISERROR(VLOOKUP(E4960,'Reference Data'!C:C,1,FALSE)),\"PLEASE SELECT A BANK FROM DEFINED LIST PROVIDED\",\"\")),\"\")","v":""},{"$f":"IF(K4960=0,\"No Entry\",\"\")","v":"No Entry"},{"$f":"IF(K4960<>0,IF(A4960=\"\",1,0),0)","v":0}]
[null,null,null,null,null,null,null,null,null,null,null,null,"",{"$f":"IF(D4961=\"Cash and Deposits\",IF(E4961=\"\",\"BANK NAME REQUIRED\",IF(ISERROR(VLOOKUP(E4961,'Reference Data'!C:C,1,FALSE)),\"PLEASE SELECT A BANK FROM DEFINED LIST PROVIDED\",\"\")),\"\")","v":""},"No Entry",0]
[null,null,null,null,null,null,null,null,null,null,null,null,"",{"$f":"IF(D4962=\"Cash and Deposits\",IF(E4962=\"\",\"BANK NAME REQUIRED\",IF(ISERROR(VLOOKUP(E4962,'Reference Data'!C:C,1,FALSE)),\"PLEASE SELECT A BANK FROM DEFINED LIST PROVIDED\",\"\")),\"\")","v":""},"No Entry",0]
[null,null,null,null,null,null,null,null,null,null,null,null,"",{"$f":"IF(D4963=\"Cash and Deposits\",IF(E4963=\"\",\"BANK NAME REQUIRED\",IF(ISERROR(VLOOKUP(E4963,'Reference Data'!C:C,1,FALSE)),\"PLEASE SELECT A BANK FROM DEFINED LIST PROVIDED\",\"\")),\"\")","v":""},"No Entry",0]
[null,null,null,null,null,null,null,null,null,null,null,null,"",{"$f":"IF(D4964=\"Cash and Deposits\",IF(E4964=\"\",\"BANK NAME REQUIRED\",IF(ISERROR(VLOOKUP(E4964,'Reference Data'!C:C,1,FALSE)),\"PLEASE SELECT A BANK FROM DEFINED LIST PROVIDED\",\"\")),\"\")","v":""},"No Entry",0]
[null,null,null,null,null,null,null,null,null,null,null,null,"",{"$f":"IF(D4965=\"Cash and Deposits\",IF(E4965=\"\",\"BANK NAME REQUIRED\",IF(ISERROR(VLOOKUP(E4965,'Reference Data'!C:C,1,FALSE)),\"PLEASE SELECT A BANK FROM DEFINED LIST PROVIDED\",\"\")),\"\")","v":""},"No Entry",0]
[null,null,null,null,null,null,null,null,null,null,null,null,"",{"$f":"IF(D4966=\"Cash and Deposits\",IF(E4966=\"\",\"BANK NAME REQUIRED\",IF(ISERROR(VLOOKUP(E4966,'Reference Data'!C:C,1,FALSE)),\"PLEASE SELECT A BANK FROM DEFINED LIST PROVIDED\",\"\")),\"\")","v":""},"No Entry",0]
[null,null,null,null,null,null,null,null,null,null,null,null,"",{"$f":"IF(D4967=\"Cash and Deposits\",IF(E4967=\"\",\"BANK NAME REQUIRED\",IF(ISERROR(VLOOKUP(E4967,'Reference Data'!C:C,1,FALSE)),\"PLEASE SELECT A BANK FROM DEFINED LIST PROVIDED\",\"\")),\"\")","v":""},"No Entry",0]
[null,null,null,null,null,null,null,null,null,null,null,null,"",{"$f":"IF(D4968=\"Cash and Deposits\",IF(E4968=\"\",\"BANK NAME REQUIRED\",IF(ISERROR(VLOOKUP(E4968,'Reference Data'!C:C,1,FALSE)),\"PLEASE SELECT A BANK FROM DEFINED LIST PROVIDED\",\"\")),\"\")","v":""},"No Entry",0]
[null,null,null,null,null,null,null,null,null,null,null,null,"",{"$f":"IF(D4969=\"Cash and Deposits\",IF(E4969=\"\",\"BANK NAME REQUIRED\",IF(ISERROR(VLOOKUP(E4969,'Reference Data'!C:C,1,FALSE)),\"PLEASE SELECT A BANK FROM DEFINED LIST PROVIDED\",\"\")),\"\")","v":""},"No Entry",0]
[null,null,null,null,null,null,null,null,null,null,null,null,"",{"$f":"IF(D4970=\"Cash and Deposits\",IF(E4970=\"\",\"BANK NAME REQUIRED\",IF(ISERROR(VLOOKUP(E4970,'Reference Data'!C:C,1,FALSE)),\"PLEASE SELECT A BANK FROM DEFINED LIST PROVIDED\",\"\")),\"\")","v":""},"No Entry",0]
[null,null,null,null,null,null,null,null,null,null,null,null,"",{"$f":"IF(D4971=\"Cash and Deposits\",IF(E4971=\"\",\"BANK NAME REQUIRED\",IF(ISERROR(VLOOKUP(E4971,'Reference Data'!C:C,1,FALSE)),\"PLEASE SELECT A BANK FROM DEFINED LIST PROVIDED\",\"\")),\"\")","v":""},"No Entry",0]
[null,null,null,null,null,null,null,null,null,null,null,null,"",{"$f":"IF(D4972=\"Cash and Deposits\",IF(E4972=\"\",\"BANK NAME REQUIRED\",IF(ISERROR(VLOOKUP(E4972,'Reference Data'!C:C,1,FALSE)),\"PLEASE SELECT A BANK FROM DEFINED LIST PROVIDED\",\"\")),\"\")","v":""},"No Entry",0]
[null,null,null,null,null,null,null,null,null,null,null,null,"",{"$f":"IF(D4973=\"Cash and Deposits\",IF(E4973=\"\",\"BANK NAME REQUIRED\",IF(ISERROR(VLOOKUP(E4973,'Reference Data'!C:C,1,FALSE)),\"PLEASE SELECT A BANK FROM DEFINED LIST PROVIDED\",\"\")),\"\")","v":""},"No Entry",0]

{"sheet":"Hedging","index":3,"n_rows":100,"n_cols":15,"rows_kept":100,"cut":false,"hidden":false,"merged":[]}
["LIM Asset Data Collection: Hedging"]
[]
["Syndicate:",{"$f":"Summary!E6","v":"XXXX"}]
[]
[]
["Hedge Type","ID Code","ID Code type","Currency (ISO code)","Asset or liability underlying the derivative","Use of derivative (MI/MA/EPM)","Notional amount","Long or short position \n(L/S)","Trigger value","Maturity date","Duration","Mark to Market Value (GBP) as at 30.09.2012","Description (Where Hedge Type = \"Other\")"]
[null,null,null,null,null,null,null,null,null,null,null,null,null,null,{"$f":"IF(G7=0,\"No Entry\",\"\")","v":"No Entry"}]
[null,null,null,null,null,null,null,null,null,null,null,null,null,null,{"$f":"IF(G8=0,\"No Entry\",\"\")","v":"No Entry"}]
[null,null,null,null,null,null,null,null,null,null,null,null,null,null,"No Entry"]
[null,null,null,null,null,null,null,null,null,null,null,null,null,null,"No Entry"]
[null,null,null,null,null,null,null,null,null,null,null,null,null,null,"No Entry"]
[null,null,null,null,null,null,null,null,null,null,null,null,null,null,"No Entry"]
[null,null,null,null,null,null,null,null,null,null,null,null,null,null,"No Entry"]
[null,null,null,null,null,null,null,null,null,null,null,null,null,null,"No Entry"]
[null,null,null,null,null,null,null,null,null,null,null,null,null,null,"No Entry"]
[null,null,null,null,null,null,null,null,null,null,null,null,null,null,"No Entry"]
[null,null,null,null,null,null,null,null,null,null,null,null,null,null,"No Entry"]
[null,null,null,null,null,null,null,null,null,null,null,null,null,null,"No Entry"]
[null,null,null,null,null,null,null,null,null,null,null,null,null,null,"No Entry"]
[null,null,null,null,null,null,null,null,null,null,null,null,null,null,"No Entry"]
[null,null,null,null,null,null,null,null,null,null,null,null,null,null,"No Entry"]
[null,null,null,null,null,null,null,null,null,null,null,null,null,null,"No Entry"]
[null,null,null,null,null,null,null,null,null,null,null,null,null,null,"No Entry"]
[null,null,null,null,null,null,null,null,null,null,null,null,null,null,"No Entry"]
[null,null,null,null,null,null,null,null,null,null,null,null,null,null,"No Entry"]
[null,null,null,null,null,null,null,null,null,null,null,null,null,null,"No Entry"]
[null,null,null,null,null,null,null,null,null,null,null,null,null,null,"No Entry"]
[null,null,null,null,null,null,null,null,null,null,null,null,null,null,"No Entry"]
[null,null,null,null,null,null,null,null,null,null,null,null,null,null,"No Entry"]
[null,null,null,null,null,null,null,null,null,null,null,null,null,null,"No Entry"]
[null,null,null,null,null,null,null,null,null,null,null,null,null,null,"No Entry"]
[null,null,null,null,null,null,null,null,null,null,null,null,null,null,"No Entry"]
[null,null,null,null,null,null,null,null,null,null,null,null,null,null,"No Entry"]
[null,null,null,null,null,null,null,null,null,null,null,null,null,null,"No Entry"]
[null,null,null,null,null,null,null,null,null,null,null,null,null,null,"No Entry"]
[null,null,null,null,null,null,null,null,null,null,null,null,null,null,"No Entry"]
[null,null,null,null,null,null,null,null,null,null,null,null,null,null,"No Entry"]
[null,null,null,null,null,null,null,null,null,null,null,null,null,null,"No Entry"]
[null,null,null,null,null,null,null,null,null,null,null,null,null,null,"No Entry"]
[null,null,null,null,null,null,null,null,null,null,null,null,null,null,"No Entry"]
[null,null,null,null,null,null,null,null,null,null,null,null,null,null,"No Entry"]
[null,null,null,null,null,null,null,null,null,null,null,null,null,null,"No Entry"]
[null,null,null,null,null,null,null,null,null,null,null,null,null,null,"No Entry"]
[null,null,null,null,null,null,null,null,null,null,null,null,null,null,"No Entry"]
[null,null,null,null,null,null,null,null,null,null,null,null,null,null,"No Entry"]
[null,null,null,null,null,null,null,null,null,null,null,null,null,null,"No Entry"]
[null,null,null,null,null,null,null,null,null,null,null,null,null,null,"No Entry"]
[null,null,null,null,null,null,null,null,null,null,null,null,null,null,"No Entry"]
[null,null,null,null,null,null,null,null,null,null,null,null,null,null,"No Entry"]
[null,null,null,null,null,null,null,null,null,null,null,null,null,null,"No Entry"]
[null,null,null,null,null,null,null,null,null,null,null,null,null,null,"No Entry"]
[null,null,null,null,null,null,null,null,null,null,null,null,null,null,"No Entry"]
[null,null,null,null,null,null,null,null,null,null,null,null,null,null,"No Entry"]
[null,null,null,null,null,null,null,null,null,null,null,null,null,null,"No Entry"]
[null,null,null,null,null,null,null,null,null,null,null,null,null,null,"No Entry"]
[null,null,null,null,null,null,null,null,null,null,null,null,null,null,"No Entry"]
[null,null,null,null,null,null,null,null,null,null,null,null,null,null,"No Entry"]
[null,null,null,null,null,null,null,null,null,null,null,null,null,null,"No Entry"]
[null,null,null,null,null,null,null,null,null,null,null,null,null,null,"No Entry"]
[null,null,null,null,null,null,null,null,null,null,null,null,null,null,"No Entry"]
[null,null,null,null,null,null,null,null,null,null,null,null,null,null,{"$f":"IF(G61=0,\"No Entry\",\"\")","v":"No Entry"}]
[null,null,null,null,null,null,null,null,null,null,null,null,null,null,"No Entry"]
[null,null,null,null,null,null,null,null,null,null,null,null,null,null,"No Entry"]
[null,null,null,null,null,null,null,null,null,null,null,null,null,null,"No Entry"]
[null,null,null,null,null,null,null,null,null,null,null,null,null,null,"No Entry"]
[null,null,null,null,null,null,null,null,null,null,null,null,null,null,"No Entry"]
[null,null,null,null,null,null,null,null,null,null,null,null,null,null,"No Entry"]
[null,null,null,null,null,null,null,null,null,null,null,null,null,null,"No Entry"]
[null,null,null,null,null,null,null,null,null,null,null,null,null,null,"No Entry"]
[null,null,null,null,null,null,null,null,null,null,null,null,null,null,"No Entry"]
[null,null,null,null,null,null,null,null,null,null,null,null,null,null,"No Entry"]
[null,null,null,null,null,null,null,null,null,null,null,null,null,null,"No Entry"]
[null,null,null,null,null,null,null,null,null,null,null,null,null,null,"No Entry"]
[null,null,null,null,null,null,null,null,null,null,null,null,null,null,"No Entry"]
[null,null,null,null,null,null,null,null,null,null,null,null,null,null,"No Entry"]
[null,null,null,null,null,null,null,null,null,null,null,null,null,null,"No Entry"]
[null,null,null,null,null,null,null,null,null,null,null,null,null,null,"No Entry"]
[null,null,null,null,null,null,null,null,null,null,null,null,null,null,"No Entry"]
[null,null,null,null,null,null,null,null,null,null,null,null,null,null,"No Entry"]
[null,null,null,null,null,null,null,null,null,null,null,null,null,null,"No Entry"]
[null,null,null,null,null,null,null,null,null,null,null,null,null,null,"No Entry"]
[null,null,null,null,null,null,null,null,null,null,null,null,null,null,"No Entry"]
[null,null,null,null,null,null,null,null,null,null,null,null,null,null,"No Entry"]
[null,null,null,null,null,null,null,null,null,null,null,null,null,null,"No Entry"]
[null,null,null,null,null,null,null,null,null,null,null,null,null,null,"No Entry"]
[null,null,null,null,null,null,null,null,null,null,null,null,null,null,"No Entry"]
[null,null,null,null,null,null,null,null,null,null,null,null,null,null,"No Entry"]
[null,null,null,null,null,null,null,null,null,null,null,null,null,null,"No Entry"]
[null,null,null,null,null,null,null,null,null,null,null,null,null,null,"No Entry"]
[null,null,null,null,null,null,null,null,null,null,null,null,null,null,"No Entry"]
[null,null,null,null,null,null,null,null,null,null,null,null,null,null,"No Entry"]
[null,null,null,null,null,null,null,null,null,null,null,null,null,null,"No Entry"]
[null,null,null,null,null,null,null,null,null,null,null,null,null,null,"No Entry"]
[null,null,null,null,null,null,null,null,null,null,null,null,null,null,"No Entry"]
[null,null,null,null,null,null,null,null,null,null,null,null,null,null,"No Entry"]
[null,null,null,null,null,null,null,null,null,null,null,null,null,null,"No Entry"]
[null,null,null,null,null,null,null,null,null,null,null,null,null,null,"No Entry"]
[null,null,null,null,null,null,null,null,null,null,null,null,null,null,"No Entry"]
[null,null,null,null,null,null,null,null,null,null,null,null,null,null,"No Entry"]
[null,null,null,null,null,null,null,null,null,null,null,null,null,null,"No Entry"]

{"sheet":"Other Derivatives & Comments","index":4,"n_rows":5,"n_cols":6,"rows_kept":5,"cut":false,"hidden":false,"merged":[]}
["LIM Asset Data Collection: Comments"]
[]
["Derivatives as at 30 September 2012",null,null,null,null,""]
[]
["Please provide details of any derivative positions outstanding at 30 September 2012 (in addition to those included on the FX Hedging and Duration Hedging tabs), including amounts of exposures to underlying financial instruments and purpose (risk reduction or efficient portfolio management)."]

{"sheet":"Reference Data","index":5,"n_rows":48,"n_cols":7,"rows_kept":48,"cut":false,"hidden":true,"merged":[]}
["LIM Asset Data Collection: Reference Data"]
[]
["ID Code Type","Asset Class","Cash and Deposits","External Rating","Currency","Hedge Type","Use of derivative (MI/MA/EPM)"]
["ISIN","Government Bonds","Australia and New Zealand Banking Group Limited","AAA",{"$f":"IF(Summary!A67=0,\"\",Summary!A67)","v":"GBP"},"Bond Future","MI"]
["Cusip","Corporate Bonds","Bank of America","AA",{"$f":"IF(Summary!A68=0,\"\",Summary!A68)","v":"AUD"},"Bond Option","MA"]
["Sedol","Equity","Bank of Ireland","A",{"$f":"IF(Summary!A69=0,\"\",Summary!A69)","v":"CAD"},"FX Forward"]
["Bloomberg","Structured Notes","Bank of Montreal","BBB",{"$f":"IF(Summary!A70=0,\"\",Summary!A70)","v":"CHF"},"FX Option"]
["Other","Collateralised Securities","Bank of Nova Scotia","BB",{"$f":"IF(Summary!A71=0,\"\",Summary!A71)","v":"DKK"},"Other"]
[null,"Cash and Deposits","Bank of Tokyo","B",{"$f":"IF(Summary!A72=0,\"\",Summary!A72)","v":"EUR"}]
[null,"Mortgages and Loans","Barclays Group","CCC or lower",{"$f":"IF(Summary!A73=0,\"\",Summary!A73)","v":"HKD"}]
[null,"Property","BNP Paribas S.A.","N/A",{"$f":"IF(Summary!A74=0,\"\",Summary!A74)","v":"JPY"}]
[null,"Derivatives","Citigroup","NR",{"$f":"IF(Summary!A75=0,\"\",Summary!A75)","v":"NOK"}]
[null,"Other","Commerzbank",null,{"$f":"IF(Summary!A76=0,\"\",Summary!A76)","v":"NZD"}]
[null,null,"Commonwealth Bank Group",null,{"$f":"IF(Summary!A77=0,\"\",Summary!A77)","v":"PGK"}]
[null,null,"Credit Agricole Group",null,{"$f":"IF(Summary!A78=0,\"\",Summary!A78)","v":"SGD"}]
[null,null,"Credit Suisse Group",null,{"$f":"IF(Summary!A79=0,\"\",Summary!A79)","v":"SKK"}]
[null,null,"Deutsche Bank Group",null,{"$f":"IF(Summary!A80=0,\"\",Summary!A80)","v":"TTD"}]
[null,null,"DNB Group",null,{"$f":"IF(Summary!A81=0,\"\",Summary!A81)","v":"USD"}]
[null,null,"Goldman Sachs Group Inc",null,{"$f":"IF(Summary!A82=0,\"\",Summary!A82)","v":"XCD"}]
[null,null,"HSBC Holdings PLC",null,{"$f":"IF(Summary!A83=0,\"\",Summary!A83)","v":"ZAR"}]
[null,null,"ING Group",null,{"$f":"IF(Summary!A84=0,\"\",Summary!A84)","v":""}]
[null,null,"JP Morgan",null,{"$f":"IF(Summary!A85=0,\"\",Summary!A85)","v":""}]
[null,null,"KBC Group N.V.",null,{"$f":"IF(Summary!A86=0,\"\",Summary!A86)","v":""}]
[null,null,"KFW",null,{"$f":"IF(Summary!A87=0,\"\",Summary!A87)","v":""}]
[null,null,"Landesbank",null,{"$f":"IF(Summary!A88=0,\"\",Summary!A88)","v":""}]
[null,null,"Lloyds Banking Group",null,{"$f":"IF(Summary!A89=0,\"\",Summary!A89)","v":""}]
[null,null,"Mitsubishi UFJ Financial Group"]
[null,null,"Morgan Stanley"]
[null,null,"National Australia Bank Group"]
[null,null,"Nordea Group"]
[null,null,"Northern Trust Corporation"]
[null,null,"Other"]
[null,null,"Rabobank Group"]
[null,null,"Royal Bank of Canada"]
[null,null,"Royal Bank of Scotland"]
[null,null,"Scotiabank Group"]
[null,null,"Skandinaviska Enskilda Bank"]
[null,null,"Societe Generale Group"]
[null,null,"Standard Chartered"]
[null,null,"State Street"]
[null,null,"Sumitomo Mitsui Financial Group Inc"]
[null,null,"Svenska Handelsbanken Group"]
[null,null,"The Bank of New York Mellon"]
[null,null,"The Santander Group"]
[null,null,"The Westpac Group"]
[null,null,"Toronto Dominion Bank Group"]
[null,null,"UBS Group"]
[null,null,"Wells Fargo"]

{"sheet":"LTIM","index":6,"n_rows":1,"n_cols":1,"rows_kept":1,"cut":false,"hidden":false,"merged":[]}
["Lloyd's Internal Model: Lloyd's Asset Database Imports"]